{"text_format":"1","workbook":"xlsx","n_sheets":8,"sheets":["Instruction","Sheet1","Charts","Sleep","Data","ChartsData 1D","ChartsData 2hD","Udregning"],"not_rendered":{"charts":5,"images":0,"macros":1,"external_links":0,"defined_names":3,"comments":1,"pivot_tables":0},"unopened":[],"bounds":{"document_bytes":16777216,"sheet_cells":100000,"rows_first":2000,"rows_last":500,"rows_between":2000,"halvings":0,"cell_chars":16384,"cell_head_chars":4096},"cells_cut":0,"cells_raw":0,"read":"whole","date_system":"1900"}

{"sheet":"Instruction","index":0,"n_rows":14,"n_cols":2,"rows_kept":14,"cut":false,"hidden":false,"merged":[]}
[]
[null,"Under preparation"]
[]
[]
[]
[null,"Please do the following to get the data into the Excel."]
[]
[null,"1. Copy the amazfish.kexi file to the computer."]
[null,"2. Open the database with the KEXI program."]
[null,"3. Right click on the database and choose Export."]
[null,"4. Click Copy."]
[null,"5. Open the Excel and paste the data in cell A1, sheet Data"]
[null,"6. Open Sheet Charts where you can change the year, month and date."]
[null,"7. For Sleep charts see Sheet Sleep. Data goes from 12 midday to 12 midday next day."]

{"sheet":"Sheet1","index":1,"n_rows":10,"n_cols":3,"rows_kept":10,"cut":false,"hidden":true,"merged":[]}
[]
[]
[null,"https://arndalspa.dk/sadan-fordeles-din-sovn-mellem-let-dyb-og-rem-sovn/"]
[null,"https://www.thinglink.com/scene/630389257747300354?buttonSource=viewLimits"]
[]
[]
[null,"105,106,123","Start sleep"]
[null,"108,124","Stop sleep"]
[null,"80-99","Half sleeping or half awake - depending on heart rate like \"255-62-255-60\""]
[null,"112,122","Sleep"]

{"sheet":"Charts","index":2,"n_rows":6,"n_cols":15,"rows_kept":6,"cut":false,"hidden":false,"merged":[[1,1,1,2],[1,4,1,5],[1,7,1,8],[1,13,1,14],[1,10,1,11]]}
[]
[null,"Date",null,null,"Heartrate",null,null,"Raw Intensity",null,null,"Raw Intensity",null,null,"Step"]
[null,"Year:",2021,null,14,{"$f":"'ChartsData 1D'!F1445","v":0},null,"Max.",{"$f":"'ChartsData 1D'!H1445","v":0},null,{"$f":"C5&\"-\"&C4","v":"23-3"},{"$f":"'ChartsData 1D'!H1444","v":0},null,{"$f":"C5&\"-\"&C4","v":"23-3"},{"$f":"'ChartsData 1D'!G1444","v":0}]
[null,"Month:",3,null,"Min.",{"$f":"'ChartsData 1D'!F1446","v":0},null,"Min.",{"$f":"'ChartsData 1D'!H1446","v":0},null,"Year",{"$f":"'ChartsData 1D'!H1449","v":0},null,"Year",{"$f":"'ChartsData 1D'!G1449","v":0}]
[null,"Day:",23,null,"Average",{"$f":"'ChartsData 1D'!F1447","v":{"$error":"#DIV/0!"}},null,"Average",{"$f":"'ChartsData 1D'!H1447","v":0},null,"Average (all data) Pr. day",{"$f":"L4/Data!M1","v":0},null,"Average (all data) Pr. day",{"$f":"O4/Data!M1","v":0}]
[null,null,null,null,null,null,null,null,null,null,"Average (all data) Registered",{"$f":"L4/(COUNTA(Data!A2:A27041)/'ChartsData 1D'!E1448)","v":{"$error":"#DIV/0!"}},null,"Average (all data) registered",{"$f":"O4/(COUNTA(Data!A2:A527041)/'ChartsData 1D'!E1448)","v":{"$error":"#DIV/0!"}}]

{"sheet":"Sleep","index":3,"n_rows":39,"n_cols":25,"rows_kept":39,"cut":false,"hidden":false,"merged":[]}
[null,null,null,23,null,null,null,null,null,null,null,null,null,null,null,null,{"$f":"\"From \" & CHOOSE(WEEKDAY(DATE(Charts!C3,Charts!C4,Charts!C5)),\"Sunday\",\"Monday\",\"Tuesday\",\"Wedensday\",\"Thursday\",\"Friday\",\"Saturday\") & \" \" & Charts!C5 &\" - \" &CHOOSE(WEEKDAY(DATE(Charts!C3,Charts!C4,Charts!C5)+1),\"Sunday\",\"Monday\",\"Tuesday\",\"Wedensday\",\"Thursday\",\"Friday\",\"Saturday\") & \" \" &DAY(DATE(Charts!C3,Charts!C4,Charts!C5)+1)","v":"From Tuesday 23 - Wedensday 24"}]
[]
[]
[]
[]
[]
[]
[]
[]
[]
[]
[]
[]
[]
[]
[]
[]
[]
[]
[]
[]
[]
[]
[]
[]
[]
[]
[]
[]
[]
[]
[]
[]
[null,null,"Time period:",null,12,":",0,"to",11,":",59,null,null,null,null,null,"Time period:",null,21,0,0,"to",7,":",0]
[]
[null,{"$f":"'ChartsData 2hD'!N2","v":"Deep Sleep"},{"$f":"'ChartsData 2hD'!N1447","v":0},"Houre",null,null,null,null,null,null,null,null,null,null,null,{"$f":"'ChartsData 2hD'!N2","v":"Deep Sleep"},{"$f":"'ChartsData 2hD'!N1452","v":0},"Houre"]
[null,{"$f":"'ChartsData 2hD'!L2&\"                             \"&'ChartsData 2hD'!M2","v":"Restless-Sleep                             Light Sleep"},{"$f":"'ChartsData 2hD'!L1447+'ChartsData 2hD'!M1447","v":0},"Houre",null,null,null,null,null,null,null,null,null,null,null,{"$f":"'ChartsData 2hD'!L2&\"                             \"&'ChartsData 2hD'!M2","v":"Restless-Sleep                             Light Sleep"},{"$f":"'ChartsData 2hD'!L1452+'ChartsData 2hD'!M1452","v":0},"Houre"]
[null,{"$f":"'ChartsData 2hD'!L2&\"                                   \" &'ChartsData 2hD'!M2&\"                                   \" &'ChartsData 2hD'!N2","v":"Restless-Sleep                                   Light Sleep                                   Deep Sleep"},{"$f":"'ChartsData 2hD'!N1447+'ChartsData 2hD'!L1447+'ChartsData 2hD'!M1447","v":0},"Houre",null,null,null,null,null,null,null,null,null,null,null,{"$f":"'ChartsData 2hD'!L2&\"                                   \" &'ChartsData 2hD'!M2&\"                                   \" &'ChartsData 2hD'!N2","v":"Restless-Sleep                                   Light Sleep                                   Deep Sleep"},{"$f":"'ChartsData 2hD'!N1452+'ChartsData 2hD'!L1452+'ChartsData 2hD'!M1452","v":0},"Houre"]
[null,{"$f":"'ChartsData 2hD'!K2&\"                                                \"&'ChartsData 2hD'!L2&\"                                   \" &'ChartsData 2hD'!M2&\"                                   \" &'ChartsData 2hD'!N2","v":"Rest                                                Restless-Sleep                                   Light Sleep                                   Deep Sleep"},{"$f":"'ChartsData 2hD'!N1447+'ChartsData 2hD'!L1447+'ChartsData 2hD'!M1447+'ChartsData 2hD'!K1447","v":0},"Houre",null,null,null,null,null,null,null,null,null,null,null,{"$f":"'ChartsData 2hD'!K2&\"                                                \"&'ChartsData 2hD'!L2&\"                                   \" &'ChartsData 2hD'!M2&\"                                   \" &'ChartsData 2hD'!N2","v":"Rest                                                Restless-Sleep                                   Light Sleep                                   Deep Sleep"},{"$f":"'ChartsData 2hD'!N1452+'ChartsData 2hD'!L1452+'ChartsData 2hD'!M1452+'ChartsData 2hD'!K1452","v":0},"Houre"]

{"sheet":"Data","index":4,"n_rows":527040,"n_cols":13,"rows_kept":4500,"cut":true,"hidden":false,"merged":[],"bounds":{"rows_first":2000,"rows_last":500,"rows_between":2000,"halvings":0}}
[null,null,null,null,null,null,null,null,null,null,null,"Numbers of days",{"$f":"MAX(L:L)","v":1}]
[null,null,null,null,null,null,null,null,null,null,null,1]
[null,null,null,null,null,null,null,null,null,null,null,{"$f":"IF(INT(C3)<>INT(C2),L2+1,L2)","v":1}]
[null,null,null,null,null,null,null,null,null,null,null,1]
[null,null,null,null,null,null,null,null,null,null,null,1]
[null,null,null,null,null,null,null,null,null,null,null,1]
[null,null,null,null,null,null,null,null,null,null,null,1]
[null,null,null,null,null,null,null,null,null,null,null,1]
[null,null,null,null,null,null,null,null,null,null,null,1]
[null,null,null,null,null,null,null,null,null,null,null,1]
[null,null,null,null,null,null,null,null,null,null,null,1]
[null,null,null,null,null,null,null,null,null,null,null,1]
[null,null,null,null,null,null,null,null,null,null,null,1]
[null,null,null,null,null,null,null,null,null,null,null,1]
[null,null,null,null,null,null,null,null,null,null,null,1]
[null,null,null,null,null,null,null,null,null,null,null,1]
[null,null,null,null,null,null,null,null,null,null,null,1]
[null,null,null,null,null,null,null,null,null,null,null,1]
[null,null,null,null,null,null,null,null,null,null,null,1]
[null,null,null,null,null,null,null,null,null,null,null,1]
[null,null,null,null,null,null,null,null,null,null,null,1]
[null,null,null,null,null,null,null,null,null,null,null,1]
[null,null,null,null,null,null,null,null,null,null,null,1]
[null,null,null,null,null,null,null,null,null,null,null,1]
[null,null,null,null,null,null,null,null,null,null,null,1]
[null,null,null,null,null,null,null,null,null,null,null,1]
[null,null,null,null,null,null,null,null,null,null,null,1]
[null,null,null,null,null,null,null,null,null,null,null,1]
[null,null,null,null,null,null,null,null,null,null,null,1]
[null,null,null,null,null,null,null,null,null,null,null,1]
[null,null,null,null,null,null,null,null,null,null,null,1]
[null,null,null,null,null,null,null,null,null,null,null,1]
[null,null,null,null,null,null,null,null,null,null,null,1]
[null,null,null,null,null,null,null,null,null,null,null,1]
[null,null,null,null,null,null,null,null,null,null,null,1]
[null,null,null,null,null,null,null,null,null,null,null,1]
[null,null,null,null,null,null,null,null,null,null,null,1]
[null,null,null,null,null,null,null,null,null,null,null,1]
[null,null,null,null,null,null,null,null,null,null,null,1]
[null,null,null,null,null,null,null,null,null,null,null,1]
[null,null,null,null,null,null,null,null,null,null,null,1]
[null,null,null,null,null,null,null,null,null,null,null,1]
[null,null,null,null,null,null,null,null,null,null,null,1]
[null,null,null,null,null,null,null,null,null,null,null,1]
[null,null,null,null,null,null,null,null,null,null,null,1]
[null,null,null,null,null,null,null,null,null,null,null,1]
[null,null,null,null,null,null,null,null,null,null,null,1]
[null,null,null,null,null,null,null,null,null,null,null,1]
[null,null,null,null,null,null,null,null,null,null,null,1]
[null,null,null,null,null,null,null,null,null,null,null,1]
[null,null,null,null,null,null,null,null,null,null,null,1]
[null,null,null,null,null,null,null,null,null,null,null,1]
[null,null,null,null,null,null,null,null,null,null,null,1]
[null,null,null,null,null,null,null,null,null,null,null,1]
[null,null,null,null,null,null,null,null,null,null,null,1]
[null,null,null,null,null,null,null,null,null,null,null,1]
[null,null,null,null,null,null,null,null,null,null,null,1]
[null,null,null,null,null,null,null,null,null,null,null,1]
[null,null,null,null,null,null,null,null,null,null,null,1]
[null,null,null,null,null,null,null,null,null,null,null,1]
[null,null,null,null,null,null,null,null,null,null,null,1]
[null,null,null,null,null,null,null,null,null,null,null,1]
[null,null,null,null,null,null,null,null,null,null,null,1]
[null,null,null,null,null,null,null,null,null,null,null,1]
[null,null,null,null,null,null,null,null,null,null,null,1]
[null,null,null,null,null,null,null,null,null,null,null,1]
[null,null,null,null,null,null,null,null,null,null,null,{"$f":"IF(INT(C67)<>INT(C66),L66+1,L66)","v":1}]
[null,null,null,null,null,null,null,null,null,null,null,1]
[null,null,null,null,null,null,null,null,null,null,null,1]
[null,null,null,null,null,null,null,null,null,null,null,1]
[null,null,null,null,null,null,null,null,null,null,null,1]
[null,null,null,null,null,null,null,null,null,null,null,1]
[null,null,null,null,null,null,null,null,null,null,null,1]
[null,null,null,null,null,null,null,null,null,null,null,1]
[null,null,null,null,null,null,null,null,null,null,null,1]
[null,null,null,null,null,null,null,null,null,null,null,1]
[null,null,null,null,null,null,null,null,null,null,null,1]
[null,null,null,null,null,null,null,null,null,null,null,1]
[null,null,null,null,null,null,null,null,null,null,null,1]
[null,null,null,null,null,null,null,null,null,null,null,1]
[null,null,null,null,null,null,null,null,null,null,null,1]
[null,null,null,null,null,null,null,null,null,null,null,1]
[null,null,null,null,null,null,null,null,null,null,null,1]
[null,null,null,null,null,null,null,null,null,null,null,1]
[null,null,null,null,null,null,null,null,null,null,null,1]
[null,null,null,null,null,null,null,null,null,null,null,1]
[null,null,null,null,null,null,null,null,null,null,null,1]
[null,null,null,null,null,null,null,null,null,null,null,1]
[null,null,null,null,null,null,null,null,null,null,null,1]
[null,null,null,null,null,null,null,null,null,null,null,1]
[null,null,null,null,null,null,null,null,null,null,null,1]
[null,null,null,null,null,null,null,null,null,null,null,1]
[null,null,null,null,null,null,null,null,null,null,null,1]
[null,null,null,null,null,null,null,null,null,null,null,1]
[null,null,null,null,null,null,null,null,null,null,null,1]
[null,null,null,null,null,null,null,null,null,null,null,1]
[null,null,null,null,null,null,null,null,null,null,null,1]
[null,null,null,null,null,null,null,null,null,null,null,1]
[null,null,null,null,null,null,null,null,null,null,null,1]
[null,null,null,null,null,null,null,null,null,null,null,1]
[null,null,null,null,null,null,null,null,null,null,null,1]
[null,null,null,null,null,null,null,null,null,null,null,1]
[null,null,null,null,null,null,null,null,null,null,null,1]
[null,null,null,null,null,null,null,null,null,null,null,1]
[null,null,null,null,null,null,null,null,null,null,null,1]
[null,null,null,null,null,null,null,null,null,null,null,1]
[null,null,null,null,null,null,null,null,null,null,null,1]
[null,null,null,null,null,null,null,null,null,null,null,1]
[null,null,null,null,null,null,null,null,null,null,null,1]
[null,null,null,null,null,null,null,null,null,null,null,1]
[null,null,null,null,null,null,null,null,null,null,null,1]
[null,null,null,null,null,null,null,null,null,null,null,1]
[null,null,null,null,null,null,null,null,null,null,null,1]
[null,null,null,null,null,null,null,null,null,null,null,1]
[null,null,null,null,null,null,null,null,null,null,null,1]
[null,null,null,null,null,null,null,null,null,null,null,1]
[null,null,null,null,null,null,null,null,null,null,null,1]
[null,null,null,null,null,null,null,null,null,null,null,1]
[null,null,null,null,null,null,null,null,null,null,null,1]
[null,null,null,null,null,null,null,null,null,null,null,1]
[null,null,null,null,null,null,null,null,null,null,null,1]
[null,null,null,null,null,null,null,null,null,null,null,1]
[null,null,null,null,null,null,null,null,null,null,null,1]
[null,null,null,null,null,null,null,null,null,null,null,1]
[null,null,null,null,null,null,null,null,null,null,null,1]
[null,null,null,null,null,null,null,null,null,null,null,1]
[null,null,null,null,null,null,null,null,null,null,null,1]
[null,null,null,null,null,null,null,null,null,null,null,1]
[null,null,null,null,null,null,null,null,null,null,null,1]
[null,null,null,null,null,null,null,null,null,null,null,1]
[null,null,null,null,null,null,null,null,null,null,null,{"$f":"IF(INT(C131)<>INT(C130),L130+1,L130)","v":1}]
[null,null,null,null,null,null,null,null,null,null,null,1]
[null,null,null,null,null,null,null,null,null,null,null,1]
[null,null,null,null,null,null,null,null,null,null,null,1]
[null,null,null,null,null,null,null,null,null,null,null,1]
[null,null,null,null,null,null,null,null,null,null,null,1]
[null,null,null,null,null,null,null,null,null,null,null,1]
[null,null,null,null,null,null,null,null,null,null,null,1]
[null,null,null,null,null,null,null,null,null,null,null,1]
[null,null,null,null,null,null,null,null,null,null,null,1]
[null,null,null,null,null,null,null,null,null,null,null,1]
[null,null,null,null,null,null,null,null,null,null,null,1]
[null,null,null,null,null,null,null,null,null,null,null,1]
[null,null,null,null,null,null,null,null,null,null,null,1]
[null,null,null,null,null,null,null,null,null,null,null,1]
[null,null,null,null,null,null,null,null,null,null,null,1]
[null,null,null,null,null,null,null,null,null,null,null,1]
[null,null,null,null,null,null,null,null,null,null,null,1]
[null,null,null,null,null,null,null,null,null,null,null,1]
[null,null,null,null,null,null,null,null,null,null,null,1]
[null,null,null,null,null,null,null,null,null,null,null,1]
[null,null,null,null,null,null,null,null,null,null,null,1]
[null,null,null,null,null,null,null,null,null,null,null,1]
[null,null,null,null,null,null,null,null,null,null,null,1]
[null,null,null,null,null,null,null,null,null,null,null,1]
[null,null,null,null,null,null,null,null,null,null,null,1]
[null,null,null,null,null,null,null,null,null,null,null,1]
[null,null,null,null,null,null,null,null,null,null,null,1]
[null,null,null,null,null,null,null,null,null,null,null,1]
[null,null,null,null,null,null,null,null,null,null,null,1]
[null,null,null,null,null,null,null,null,null,null,null,1]
[null,null,null,null,null,null,null,null,null,null,null,1]
[null,null,null,null,null,null,null,null,null,null,null,1]
[null,null,null,null,null,null,null,null,null,null,null,1]
[null,null,null,null,null,null,null,null,null,null,null,1]
[null,null,null,null,null,null,null,null,null,null,null,1]
[null,null,null,null,null,null,null,null,null,null,null,1]
[null,null,null,null,null,null,null,null,null,null,null,1]
[null,null,null,null,null,null,null,null,null,null,null,1]
[null,null,null,null,null,null,null,null,null,null,null,1]
[null,null,null,null,null,null,null,null,null,null,null,1]
[null,null,null,null,null,null,null,null,null,null,null,1]
[null,null,null,null,null,null,null,null,null,null,null,1]
[null,null,null,null,null,null,null,null,null,null,null,1]
[null,null,null,null,null,null,null,null,null,null,null,1]
[null,null,null,null,null,null,null,null,null,null,null,1]
[null,null,null,null,null,null,null,null,null,null,null,1]
[null,null,null,null,null,null,null,null,null,null,null,1]
[null,null,null,null,null,null,null,null,null,null,null,1]
[null,null,null,null,null,null,null,null,null,null,null,1]
[null,null,null,null,null,null,null,null,null,null,null,1]
[null,null,null,null,null,null,null,null,null,null,null,1]
[null,null,null,null,null,null,null,null,null,null,null,1]
[null,null,null,null,null,null,null,null,null,null,null,1]
[null,null,null,null,null,null,null,null,null,null,null,1]
[null,null,null,null,null,null,null,null,null,null,null,1]
[null,null,null,null,null,null,null,null,null,null,null,1]
[null,null,null,null,null,null,null,null,null,null,null,1]
[null,null,null,null,null,null,null,null,null,null,null,1]
[null,null,null,null,null,null,null,null,null,null,null,1]
[null,null,null,null,null,null,null,null,null,null,null,1]
[null,null,null,null,null,null,null,null,null,null,null,1]
[null,null,null,null,null,null,null,null,null,null,null,1]
[null,null,null,null,null,null,null,null,null,null,null,1]
[null,null,null,null,null,null,null,null,null,null,null,{"$f":"IF(INT(C195)<>INT(C194),L194+1,L194)","v":1}]
[null,null,null,null,null,null,null,null,null,null,null,1]
[null,null,null,null,null,null,null,null,null,null,null,1]
[null,null,null,null,null,null,null,null,null,null,null,1]
[null,null,null,null,null,null,null,null,null,null,null,1]
[null,null,null,null,null,null,null,null,null,null,null,1]
[null,null,null,null,null,null,null,null,null,null,null,1]
[null,null,null,null,null,null,null,null,null,null,null,1]
[null,null,null,null,null,null,null,null,null,null,null,1]
[null,null,null,null,null,null,null,null,null,null,null,1]
[null,null,null,null,null,null,null,null,null,null,null,1]
[null,null,null,null,null,null,null,null,null,null,null,1]
[null,null,null,null,null,null,null,null,null,null,null,1]
[null,null,null,null,null,null,null,null,null,null,null,1]
[null,null,null,null,null,null,null,null,null,null,null,1]
[null,null,null,null,null,null,null,null,null,null,null,1]
[null,null,null,null,null,null,null,null,null,null,null,1]
[null,null,null,null,null,null,null,null,null,null,null,1]
[null,null,null,null,null,null,null,null,null,null,null,1]
[null,null,null,null,null,null,null,null,null,null,null,1]
[null,null,null,null,null,null,null,null,null,null,null,1]
[null,null,null,null,null,null,null,null,null,null,null,1]
[null,null,null,null,null,null,null,null,null,null,null,1]
[null,null,null,null,null,null,null,null,null,null,null,1]
[null,null,null,null,null,null,null,null,null,null,null,1]
[null,null,null,null,null,null,null,null,null,null,null,1]
[null,null,null,null,null,null,null,null,null,null,null,1]
[null,null,null,null,null,null,null,null,null,null,null,1]
[null,null,null,null,null,null,null,null,null,null,null,1]
[null,null,null,null,null,null,null,null,null,null,null,1]
[null,null,null,null,null,null,null,null,null,null,null,1]
[null,null,null,null,null,null,null,null,null,null,null,1]
[null,null,null,null,null,null,null,null,null,null,null,1]
[null,null,null,null,null,null,null,null,null,null,null,1]
[null,null,null,null,null,null,null,null,null,null,null,1]
[null,null,null,null,null,null,null,null,null,null,null,1]
[null,null,null,null,null,null,null,null,null,null,null,1]
[null,null,null,null,null,null,null,null,null,null,null,1]
[null,null,null,null,null,null,null,null,null,null,null,1]
[null,null,null,null,null,null,null,null,null,null,null,1]
[null,null,null,null,null,null,null,null,null,null,null,1]
[null,null,null,null,null,null,null,null,null,null,null,1]
[null,null,null,null,null,null,null,null,null,null,null,1]
[null,null,null,null,null,null,null,null,null,null,null,1]
[null,null,null,null,null,null,null,null,null,null,null,1]
[null,null,null,null,null,null,null,null,null,null,null,1]
[null,null,null,null,null,null,null,null,null,null,null,1]
[null,null,null,null,null,null,null,null,null,null,null,1]
[null,null,null,null,null,null,null,null,null,null,null,1]
[null,null,null,null,null,null,null,null,null,null,null,1]
[null,null,null,null,null,null,null,null,null,null,null,1]
[null,null,null,null,null,null,null,null,null,null,null,1]
[null,null,null,null,null,null,null,null,null,null,null,1]
[null,null,null,null,null,null,null,null,null,null,null,1]
[null,null,null,null,null,null,null,null,null,null,null,1]
[null,null,null,null,null,null,null,null,null,null,null,1]
[null,null,null,null,null,null,null,null,null,null,null,1]
[null,null,null,null,null,null,null,null,null,null,null,1]
[null,null,null,null,null,null,null,null,null,null,null,1]
[null,null,null,null,null,null,null,null,null,null,null,1]
[null,null,null,null,null,null,null,null,null,null,null,1]
[null,null,null,null,null,null,null,null,null,null,null,1]
[null,null,null,null,null,null,null,null,null,null,null,1]
[null,null,null,null,null,null,null,null,null,null,null,1]
[null,null,null,null,null,null,null,null,null,null,null,{"$f":"IF(INT(C259)<>INT(C258),L258+1,L258)","v":1}]
[null,null,null,null,null,null,null,null,null,null,null,1]
[null,null,null,null,null,null,null,null,null,null,null,1]
[null,null,null,null,null,null,null,null,null,null,null,1]
[null,null,null,null,null,null,null,null,null,null,null,1]
[null,null,null,null,null,null,null,null,null,null,null,1]
[null,null,null,null,null,null,null,null,null,null,null,1]
[null,null,null,null,null,null,null,null,null,null,null,1]
[null,null,null,null,null,null,null,null,null,null,null,1]
[null,null,null,null,null,null,null,null,null,null,null,1]
[null,null,null,null,null,null,null,null,null,null,null,1]
[null,null,null,null,null,null,null,null,null,null,null,1]
[null,null,null,null,null,null,null,null,null,null,null,1]
[null,null,null,null,null,null,null,null,null,null,null,1]
[null,null,null,null,null,null,null,null,null,null,null,1]
[null,null,null,null,null,null,null,null,null,null,null,1]
[null,null,null,null,null,null,null,null,null,null,null,1]
[null,null,null,null,null,null,null,null,null,null,null,1]
[null,null,null,null,null,null,null,null,null,null,null,1]
[null,null,null,null,null,null,null,null,null,null,null,1]
[null,null,null,null,null,null,null,null,null,null,null,1]
[null,null,null,null,null,null,null,null,null,null,null,1]
[null,null,null,null,null,null,null,null,null,null,null,1]
[null,null,null,null,null,null,null,null,null,null,null,1]
[null,null,null,null,null,null,null,null,null,null,null,1]
[null,null,null,null,null,null,null,null,null,null,null,1]
[null,null,null,null,null,null,null,null,null,null,null,1]
[null,null,null,null,null,null,null,null,null,null,null,1]
[null,null,null,null,null,null,null,null,null,null,null,1]
[null,null,null,null,null,null,null,null,null,null,null,1]
[null,null,null,null,null,null,null,null,null,null,null,1]
[null,null,null,null,null,null,null,null,null,null,null,1]
[null,null,null,null,null,null,null,null,null,null,null,1]
[null,null,null,null,null,null,null,null,null,null,null,1]
[null,null,null,null,null,null,null,null,null,null,null,1]
[null,null,null,null,null,null,null,null,null,null,null,1]
[null,null,null,null,null,null,null,null,null,null,null,1]
[null,null,null,null,null,null,null,null,null,null,null,1]
[null,null,null,null,null,null,null,null,null,null,null,1]
[null,null,null,null,null,null,null,null,null,null,null,1]
[null,null,null,null,null,null,null,null,null,null,null,1]
[null,null,null,null,null,null,null,null,null,null,null,1]
[null,null,null,null,null,null,null,null,null,null,null,1]
[null,null,null,null,null,null,null,null,null,null,null,1]
[null,null,null,null,null,null,null,null,null,null,null,1]
[null,null,null,null,null,null,null,null,null,null,null,1]
[null,null,null,null,null,null,null,null,null,null,null,1]
[null,null,null,null,null,null,null,null,null,null,null,1]
[null,null,null,null,null,null,null,null,null,null,null,1]
[null,null,null,null,null,null,null,null,null,null,null,1]
[null,null,null,null,null,null,null,null,null,null,null,1]
[null,null,null,null,null,null,null,null,null,null,null,1]
[null,null,null,null,null,null,null,null,null,null,null,1]
[null,null,null,null,null,null,null,null,null,null,null,1]
[null,null,null,null,null,null,null,null,null,null,null,1]
[null,null,null,null,null,null,null,null,null,null,null,1]
[null,null,null,null,null,null,null,null,null,null,null,1]
[null,null,null,null,null,null,null,null,null,null,null,1]
[null,null,null,null,null,null,null,null,null,null,null,1]
[null,null,null,null,null,null,null,null,null,null,null,1]
[null,null,null,null,null,null,null,null,null,null,null,1]
[null,null,null,null,null,null,null,null,null,null,null,1]
[null,null,null,null,null,null,null,null,null,null,null,1]
[null,null,null,null,null,null,null,null,null,null,null,1]
[null,null,null,null,null,null,null,null,null,null,null,{"$f":"IF(INT(C323)<>INT(C322),L322+1,L322)","v":1}]
[null,null,null,null,null,null,null,null,null,null,null,1]
[null,null,null,null,null,null,null,null,null,null,null,1]
[null,null,null,null,null,null,null,null,null,null,null,1]
[null,null,null,null,null,null,null,null,null,null,null,1]
[null,null,null,null,null,null,null,null,null,null,null,1]
[null,null,null,null,null,null,null,null,null,null,null,1]
[null,null,null,null,null,null,null,null,null,null,null,1]
[null,null,null,null,null,null,null,null,null,null,null,1]
[null,null,null,null,null,null,null,null,null,null,null,1]
[null,null,null,null,null,null,null,null,null,null,null,1]
[null,null,null,null,null,null,null,null,null,null,null,1]
[null,null,null,null,null,null,null,null,null,null,null,1]
[null,null,null,null,null,null,null,null,null,null,null,1]
[null,null,null,null,null,null,null,null,null,null,null,1]
[null,null,null,null,null,null,null,null,null,null,null,1]
[null,null,null,null,null,null,null,null,null,null,null,1]
[null,null,null,null,null,null,null,null,null,null,null,1]
[null,null,null,null,null,null,null,null,null,null,null,1]
[null,null,null,null,null,null,null,null,null,null,null,1]
[null,null,null,null,null,null,null,null,null,null,null,1]
[null,null,null,null,null,null,null,null,null,null,null,1]
[null,null,null,null,null,null,null,null,null,null,null,1]
[null,null,null,null,null,null,null,null,null,null,null,1]
[null,null,null,null,null,null,null,null,null,null,null,1]
[null,null,null,null,null,null,null,null,null,null,null,1]
[null,null,null,null,null,null,null,null,null,null,null,1]
[null,null,null,null,null,null,null,null,null,null,null,1]
[null,null,null,null,null,null,null,null,null,null,null,1]
[null,null,null,null,null,null,null,null,null,null,null,1]
[null,null,null,null,null,null,null,null,null,null,null,1]
[null,null,null,null,null,null,null,null,null,null,null,1]
[null,null,null,null,null,null,null,null,null,null,null,1]
[null,null,null,null,null,null,null,null,null,null,null,1]
[null,null,null,null,null,null,null,null,null,null,null,1]
[null,null,null,null,null,null,null,null,null,null,null,1]
[null,null,null,null,null,null,null,null,null,null,null,1]
[null,null,null,null,null,null,null,null,null,null,null,1]
[null,null,null,null,null,null,null,null,null,null,null,1]
[null,null,null,null,null,null,null,null,null,null,null,1]
[null,null,null,null,null,null,null,null,null,null,null,1]
[null,null,null,null,null,null,null,null,null,null,null,1]
[null,null,null,null,null,null,null,null,null,null,null,1]
[null,null,null,null,null,null,null,null,null,null,null,1]
[null,null,null,null,null,null,null,null,null,null,null,1]
[null,null,null,null,null,null,null,null,null,null,null,1]
[null,null,null,null,null,null,null,null,null,null,null,1]
[null,null,null,null,null,null,null,null,null,null,null,1]
[null,null,null,null,null,null,null,null,null,null,null,1]
[null,null,null,null,null,null,null,null,null,null,null,1]
[null,null,null,null,null,null,null,null,null,null,null,1]
[null,null,null,null,null,null,null,null,null,null,null,1]
[null,null,null,null,null,null,null,null,null,null,null,1]
[null,null,null,null,null,null,null,null,null,null,null,1]
[null,null,null,null,null,null,null,null,null,null,null,1]
[null,null,null,null,null,null,null,null,null,null,null,1]
[null,null,null,null,null,null,null,null,null,null,null,1]
[null,null,null,null,null,null,null,null,null,null,null,1]
[null,null,null,null,null,null,null,null,null,null,null,1]
[null,null,null,null,null,null,null,null,null,null,null,1]
[null,null,null,null,null,null,null,null,null,null,null,1]
[null,null,null,null,null,null,null,null,null,null,null,1]
[null,null,null,null,null,null,null,null,null,null,null,1]
[null,null,null,null,null,null,null,null,null,null,null,1]
[null,null,null,null,null,null,null,null,null,null,null,{"$f":"IF(INT(C387)<>INT(C386),L386+1,L386)","v":1}]
[null,null,null,null,null,null,null,null,null,null,null,1]
[null,null,null,null,null,null,null,null,null,null,null,1]
[null,null,null,null,null,null,null,null,null,null,null,1]
[null,null,null,null,null,null,null,null,null,null,null,1]
[null,null,null,null,null,null,null,null,null,null,null,1]
[null,null,null,null,null,null,null,null,null,null,null,1]
[null,null,null,null,null,null,null,null,null,null,null,1]
[null,null,null,null,null,null,null,null,null,null,null,1]
[null,null,null,null,null,null,null,null,null,null,null,1]
[null,null,null,null,null,null,null,null,null,null,null,1]
[null,null,null,null,null,null,null,null,null,null,null,1]
[null,null,null,null,null,null,null,null,null,null,null,1]
[null,null,null,null,null,null,null,null,null,null,null,1]
[null,null,null,null,null,null,null,null,null,null,null,1]
[null,null,null,null,null,null,null,null,null,null,null,1]
[null,null,null,null,null,null,null,null,null,null,null,1]
[null,null,null,null,null,null,null,null,null,null,null,1]
[null,null,null,null,null,null,null,null,null,null,null,1]
[null,null,null,null,null,null,null,null,null,null,null,1]
[null,null,null,null,null,null,null,null,null,null,null,1]
[null,null,null,null,null,null,null,null,null,null,null,1]
[null,null,null,null,null,null,null,null,null,null,null,1]
[null,null,null,null,null,null,null,null,null,null,null,1]
[null,null,null,null,null,null,null,null,null,null,null,1]
[null,null,null,null,null,null,null,null,null,null,null,1]
[null,null,null,null,null,null,null,null,null,null,null,1]
[null,null,null,null,null,null,null,null,null,null,null,1]
[null,null,null,null,null,null,null,null,null,null,null,1]
[null,null,null,null,null,null,null,null,null,null,null,1]
[null,null,null,null,null,null,null,null,null,null,null,1]
[null,null,null,null,null,null,null,null,null,null,null,1]
[null,null,null,null,null,null,null,null,null,null,null,1]
[null,null,null,null,null,null,null,null,null,null,null,1]
[null,null,null,null,null,null,null,null,null,null,null,1]
[null,null,null,null,null,null,null,null,null,null,null,1]
[null,null,null,null,null,null,null,null,null,null,null,1]
[null,null,null,null,null,null,null,null,null,null,null,1]
[null,null,null,null,null,null,null,null,null,null,null,1]
[null,null,null,null,null,null,null,null,null,null,null,1]
[null,null,null,null,null,null,null,null,null,null,null,1]
[null,null,null,null,null,null,null,null,null,null,null,1]
[null,null,null,null,null,null,null,null,null,null,null,1]
[null,null,null,null,null,null,null,null,null,null,null,1]
[null,null,null,null,null,null,null,null,null,null,null,1]
[null,null,null,null,null,null,null,null,null,null,null,1]
[null,null,null,null,null,null,null,null,null,null,null,1]
[null,null,null,null,null,null,null,null,null,null,null,1]
[null,null,null,null,null,null,null,null,null,null,null,1]
[null,null,null,null,null,null,null,null,null,null,null,1]
[null,null,null,null,null,null,null,null,null,null,null,1]
[null,null,null,null,null,null,null,null,null,null,null,1]
[null,null,null,null,null,null,null,null,null,null,null,1]
[null,null,null,null,null,null,null,null,null,null,null,1]
[null,null,null,null,null,null,null,null,null,null,null,1]
[null,null,null,null,null,null,null,null,null,null,null,1]
[null,null,null,null,null,null,null,null,null,null,null,1]
[null,null,null,null,null,null,null,null,null,null,null,1]
[null,null,null,null,null,null,null,null,null,null,null,1]
[null,null,null,null,null,null,null,null,null,null,null,1]
[null,null,null,null,null,null,null,null,null,null,null,1]
[null,null,null,null,null,null,null,null,null,null,null,1]
[null,null,null,null,null,null,null,null,null,null,null,1]
[null,null,null,null,null,null,null,null,null,null,null,1]
[null,null,null,null,null,null,null,null,null,null,null,{"$f":"IF(INT(C451)<>INT(C450),L450+1,L450)","v":1}]
[null,null,null,null,null,null,null,null,null,null,null,1]
[null,null,null,null,null,null,null,null,null,null,null,1]
[null,null,null,null,null,null,null,null,null,null,null,1]
[null,null,null,null,null,null,null,null,null,null,null,1]
[null,null,null,null,null,null,null,null,null,null,null,1]
[null,null,null,null,null,null,null,null,null,null,null,1]
[null,null,null,null,null,null,null,null,null,null,null,1]
[null,null,null,null,null,null,null,null,null,null,null,1]
[null,null,null,null,null,null,null,null,null,null,null,1]
[null,null,null,null,null,null,null,null,null,null,null,1]
[null,null,null,null,null,null,null,null,null,null,null,1]
[null,null,null,null,null,null,null,null,null,null,null,1]
[null,null,null,null,null,null,null,null,null,null,null,1]
[null,null,null,null,null,null,null,null,null,null,null,1]
[null,null,null,null,null,null,null,null,null,null,null,1]
[null,null,null,null,null,null,null,null,null,null,null,1]
[null,null,null,null,null,null,null,null,null,null,null,1]
[null,null,null,null,null,null,null,null,null,null,null,1]
[null,null,null,null,null,null,null,null,null,null,null,1]
[null,null,null,null,null,null,null,null,null,null,null,1]
[null,null,null,null,null,null,null,null,null,null,null,1]
[null,null,null,null,null,null,null,null,null,null,null,1]
[null,null,null,null,null,null,null,null,null,null,null,1]
[null,null,null,null,null,null,null,null,null,null,null,1]
[null,null,null,null,null,null,null,null,null,null,null,1]
[null,null,null,null,null,null,null,null,null,null,null,1]
[null,null,null,null,null,null,null,null,null,null,null,1]
[null,null,null,null,null,null,null,null,null,null,null,1]
[null,null,null,null,null,null,null,null,null,null,null,1]
[null,null,null,null,null,null,null,null,null,null,null,1]
[null,null,null,null,null,null,null,null,null,null,null,1]
[null,null,null,null,null,null,null,null,null,null,null,1]
[null,null,null,null,null,null,null,null,null,null,null,1]
[null,null,null,null,null,null,null,null,null,null,null,1]
[null,null,null,null,null,null,null,null,null,null,null,1]
[null,null,null,null,null,null,null,null,null,null,null,1]
[null,null,null,null,null,null,null,null,null,null,null,1]
[null,null,null,null,null,null,null,null,null,null,null,1]
[null,null,null,null,null,null,null,null,null,null,null,1]
[null,null,null,null,null,null,null,null,null,null,null,1]
[null,null,null,null,null,null,null,null,null,null,null,1]
[null,null,null,null,null,null,null,null,null,null,null,1]
[null,null,null,null,null,null,null,null,null,null,null,1]
[null,null,null,null,null,null,null,null,null,null,null,1]
[null,null,null,null,null,null,null,null,null,null,null,1]
[null,null,null,null,null,null,null,null,null,null,null,1]
[null,null,null,null,null,null,null,null,null,null,null,1]
[null,null,null,null,null,null,null,null,null,null,null,1]
[null,null,null,null,null,null,null,null,null,null,null,1]
[null,null,null,null,null,null,null,null,null,null,null,1]
[null,null,null,null,null,null,null,null,null,null,null,1]
[null,null,null,null,null,null,null,null,null,null,null,1]
[null,null,null,null,null,null,null,null,null,null,null,1]
[null,null,null,null,null,null,null,null,null,null,null,1]
[null,null,null,null,null,null,null,null,null,null,null,1]
[null,null,null,null,null,null,null,null,null,null,null,1]
[null,null,null,null,null,null,null,null,null,null,null,1]
[null,null,null,null,null,null,null,null,null,null,null,1]
[null,null,null,null,null,null,null,null,null,null,null,1]
[null,null,null,null,null,null,null,null,null,null,null,1]
[null,null,null,null,null,null,null,null,null,null,null,1]
[null,null,null,null,null,null,null,null,null,null,null,1]
[null,null,null,null,null,null,null,null,null,null,null,1]
[null,null,null,null,null,null,null,null,null,null,null,{"$f":"IF(INT(C515)<>INT(C514),L514+1,L514)","v":1}]
[null,null,null,null,null,null,null,null,null,null,null,1]
[null,null,null,null,null,null,null,null,null,null,null,1]
[null,null,null,null,null,null,null,null,null,null,null,1]
[null,null,null,null,null,null,null,null,null,null,null,1]
[null,null,null,null,null,null,null,null,null,null,null,1]
[null,null,null,null,null,null,null,null,null,null,null,1]
[null,null,null,null,null,null,null,null,null,null,null,1]
[null,null,null,null,null,null,null,null,null,null,null,1]
[null,null,null,null,null,null,null,null,null,null,null,1]
[null,null,null,null,null,null,null,null,null,null,null,1]
[null,null,null,null,null,null,null,null,null,null,null,1]
[null,null,null,null,null,null,null,null,null,null,null,1]
[null,null,null,null,null,null,null,null,null,null,null,1]
[null,null,null,null,null,null,null,null,null,null,null,1]
[null,null,null,null,null,null,null,null,null,null,null,1]
[null,null,null,null,null,null,null,null,null,null,null,1]
[null,null,null,null,null,null,null,null,null,null,null,1]
[null,null,null,null,null,null,null,null,null,null,null,1]
[null,null,null,null,null,null,null,null,null,null,null,1]
[null,null,null,null,null,null,null,null,null,null,null,1]
[null,null,null,null,null,null,null,null,null,null,null,1]
[null,null,null,null,null,null,null,null,null,null,null,1]
[null,null,null,null,null,null,null,null,null,null,null,1]
[null,null,null,null,null,null,null,null,null,null,null,1]
[null,null,null,null,null,null,null,null,null,null,null,1]
[null,null,null,null,null,null,null,null,null,null,null,1]
[null,null,null,null,null,null,null,null,null,null,null,1]
[null,null,null,null,null,null,null,null,null,null,null,1]
[null,null,null,null,null,null,null,null,null,null,null,1]
[null,null,null,null,null,null,null,null,null,null,null,1]
[null,null,null,null,null,null,null,null,null,null,null,1]
[null,null,null,null,null,null,null,null,null,null,null,1]
[null,null,null,null,null,null,null,null,null,null,null,1]
[null,null,null,null,null,null,null,null,null,null,null,1]
[null,null,null,null,null,null,null,null,null,null,null,1]
[null,null,null,null,null,null,null,null,null,null,null,1]
[null,null,null,null,null,null,null,null,null,null,null,1]
[null,null,null,null,null,null,null,null,null,null,null,1]
[null,null,null,null,null,null,null,null,null,null,null,1]
[null,null,null,null,null,null,null,null,null,null,null,1]
[null,null,null,null,null,null,null,null,null,null,null,1]
[null,null,null,null,null,null,null,null,null,null,null,1]
[null,null,null,null,null,null,null,null,null,null,null,1]
[null,null,null,null,null,null,null,null,null,null,null,1]
[null,null,null,null,null,null,null,null,null,null,null,1]
[null,null,null,null,null,null,null,null,null,null,null,1]
[null,null,null,null,null,null,null,null,null,null,null,1]
[null,null,null,null,null,null,null,null,null,null,null,1]
[null,null,null,null,null,null,null,null,null,null,null,1]
[null,null,null,null,null,null,null,null,null,null,null,1]
[null,null,null,null,null,null,null,null,null,null,null,1]
[null,null,null,null,null,null,null,null,null,null,null,1]
[null,null,null,null,null,null,null,null,null,null,null,1]
[null,null,null,null,null,null,null,null,null,null,null,1]
[null,null,null,null,null,null,null,null,null,null,null,1]
[null,null,null,null,null,null,null,null,null,null,null,1]
[null,null,null,null,null,null,null,null,null,null,null,1]
[null,null,null,null,null,null,null,null,null,null,null,1]
[null,null,null,null,null,null,null,null,null,null,null,1]
[null,null,null,null,null,null,null,null,null,null,null,1]
[null,null,null,null,null,null,null,null,null,null,null,1]
[null,null,null,null,null,null,null,null,null,null,null,1]
[null,null,null,null,null,null,null,null,null,null,null,1]
[null,null,null,null,null,null,null,null,null,null,null,{"$f":"IF(INT(C579)<>INT(C578),L578+1,L578)","v":1}]
[null,null,null,null,null,null,null,null,null,null,null,1]
[null,null,null,null,null,null,null,null,null,null,null,1]
[null,null,null,null,null,null,null,null,null,null,null,1]
[null,null,null,null,null,null,null,null,null,null,null,1]
[null,null,null,null,null,null,null,null,null,null,null,1]
[null,null,null,null,null,null,null,null,null,null,null,1]
[null,null,null,null,null,null,null,null,null,null,null,1]
[null,null,null,null,null,null,null,null,null,null,null,1]
[null,null,null,null,null,null,null,null,null,null,null,1]
[null,null,null,null,null,null,null,null,null,null,null,1]
[null,null,null,null,null,null,null,null,null,null,null,1]
[null,null,null,null,null,null,null,null,null,null,null,1]
[null,null,null,null,null,null,null,null,null,null,null,1]
[null,null,null,null,null,null,null,null,null,null,null,1]
[null,null,null,null,null,null,null,null,null,null,null,1]
[null,null,null,null,null,null,null,null,null,null,null,1]
[null,null,null,null,null,null,null,null,null,null,null,1]
[null,null,null,null,null,null,null,null,null,null,null,1]
[null,null,null,null,null,null,null,null,null,null,null,1]
[null,null,null,null,null,null,null,null,null,null,null,1]
[null,null,null,null,null,null,null,null,null,null,null,1]
[null,null,null,null,null,null,null,null,null,null,null,1]
[null,null,null,null,null,null,null,null,null,null,null,1]
[null,null,null,null,null,null,null,null,null,null,null,1]
[null,null,null,null,null,null,null,null,null,null,null,1]
[null,null,null,null,null,null,null,null,null,null,null,1]
[null,null,null,null,null,null,null,null,null,null,null,1]
[null,null,null,null,null,null,null,null,null,null,null,1]
[null,null,null,null,null,null,null,null,null,null,null,1]
[null,null,null,null,null,null,null,null,null,null,null,1]
[null,null,null,null,null,null,null,null,null,null,null,1]
[null,null,null,null,null,null,null,null,null,null,null,1]
[null,null,null,null,null,null,null,null,null,null,null,1]
[null,null,null,null,null,null,null,null,null,null,null,1]
[null,null,null,null,null,null,null,null,null,null,null,1]
[null,null,null,null,null,null,null,null,null,null,null,1]
[null,null,null,null,null,null,null,null,null,null,null,1]
[null,null,null,null,null,null,null,null,null,null,null,1]
[null,null,null,null,null,null,null,null,null,null,null,1]
[null,null,null,null,null,null,null,null,null,null,null,1]
[null,null,null,null,null,null,null,null,null,null,null,1]
[null,null,null,null,null,null,null,null,null,null,null,1]
[null,null,null,null,null,null,null,null,null,null,null,1]
[null,null,null,null,null,null,null,null,null,null,null,1]
[null,null,null,null,null,null,null,null,null,null,null,1]
[null,null,null,null,null,null,null,null,null,null,null,1]
[null,null,null,null,null,null,null,null,null,null,null,1]
[null,null,null,null,null,null,null,null,null,null,null,1]
[null,null,null,null,null,null,null,null,null,null,null,1]
[null,null,null,null,null,null,null,null,null,null,null,1]
[null,null,null,null,null,null,null,null,null,null,null,1]
[null,null,null,null,null,null,null,null,null,null,null,1]
[null,null,null,null,null,null,null,null,null,null,null,1]
[null,null,null,null,null,null,null,null,null,null,null,1]
[null,null,null,null,null,null,null,null,null,null,null,1]
[null,null,null,null,null,null,null,null,null,null,null,1]
[null,null,null,null,null,null,null,null,null,null,null,1]
[null,null,null,null,null,null,null,null,null,null,null,1]
[null,null,null,null,null,null,null,null,null,null,null,1]
[null,null,null,null,null,null,null,null,null,null,null,1]
[null,null,null,null,null,null,null,null,null,null,null,1]
[null,null,null,null,null,null,null,null,null,null,null,1]
[null,null,null,null,null,null,null,null,null,null,null,1]
[null,null,null,null,null,null,null,null,null,null,null,{"$f":"IF(INT(C643)<>INT(C642),L642+1,L642)","v":1}]
[null,null,null,null,null,null,null,null,null,null,null,1]
[null,null,null,null,null,null,null,null,null,null,null,1]
[null,null,null,null,null,null,null,null,null,null,null,1]
[null,null,null,null,null,null,null,null,null,null,null,1]
[null,null,null,null,null,null,null,null,null,null,null,1]
[null,null,null,null,null,null,null,null,null,null,null,1]
[null,null,null,null,null,null,null,null,null,null,null,1]
[null,null,null,null,null,null,null,null,null,null,null,1]
[null,null,null,null,null,null,null,null,null,null,null,1]
[null,null,null,null,null,null,null,null,null,null,null,1]
[null,null,null,null,null,null,null,null,null,null,null,1]
[null,null,null,null,null,null,null,null,null,null,null,1]
[null,null,null,null,null,null,null,null,null,null,null,1]
[null,null,null,null,null,null,null,null,null,null,null,1]
[null,null,null,null,null,null,null,null,null,null,null,1]
[null,null,null,null,null,null,null,null,null,null,null,1]
[null,null,null,null,null,null,null,null,null,null,null,1]
[null,null,null,null,null,null,null,null,null,null,null,1]
[null,null,null,null,null,null,null,null,null,null,null,1]
[null,null,null,null,null,null,null,null,null,null,null,1]
[null,null,null,null,null,null,null,null,null,null,null,1]
[null,null,null,null,null,null,null,null,null,null,null,1]
[null,null,null,null,null,null,null,null,null,null,null,1]
[null,null,null,null,null,null,null,null,null,null,null,1]
[null,null,null,null,null,null,null,null,null,null,null,1]
[null,null,null,null,null,null,null,null,null,null,null,1]
[null,null,null,null,null,null,null,null,null,null,null,1]
[null,null,null,null,null,null,null,null,null,null,null,1]
[null,null,null,null,null,null,null,null,null,null,null,1]
[null,null,null,null,null,null,null,null,null,null,null,1]
[null,null,null,null,null,null,null,null,null,null,null,1]
[null,null,null,null,null,null,null,null,null,null,null,1]
[null,null,null,null,null,null,null,null,null,null,null,1]
[null,null,null,null,null,null,null,null,null,null,null,1]
[null,null,null,null,null,null,null,null,null,null,null,1]
[null,null,null,null,null,null,null,null,null,null,null,1]
[null,null,null,null,null,null,null,null,null,null,null,1]
[null,null,null,null,null,null,null,null,null,null,null,1]
[null,null,null,null,null,null,null,null,null,null,null,1]
[null,null,null,null,null,null,null,null,null,null,null,1]
[null,null,null,null,null,null,null,null,null,null,null,1]
[null,null,null,null,null,null,null,null,null,null,null,1]
[null,null,null,null,null,null,null,null,null,null,null,1]
[null,null,null,null,null,null,null,null,null,null,null,1]
[null,null,null,null,null,null,null,null,null,null,null,1]
[null,null,null,null,null,null,null,null,null,null,null,1]
[null,null,null,null,null,null,null,null,null,null,null,1]
[null,null,null,null,null,null,null,null,null,null,null,1]
[null,null,null,null,null,null,null,null,null,null,null,1]
[null,null,null,null,null,null,null,null,null,null,null,1]
[null,null,null,null,null,null,null,null,null,null,null,1]
[null,null,null,null,null,null,null,null,null,null,null,1]
[null,null,null,null,null,null,null,null,null,null,null,1]
[null,null,null,null,null,null,null,null,null,null,null,1]
[null,null,null,null,null,null,null,null,null,null,null,1]
[null,null,null,null,null,null,null,null,null,null,null,1]
[null,null,null,null,null,null,null,null,null,null,null,1]
[null,null,null,null,null,null,null,null,null,null,null,1]
[null,null,null,null,null,null,null,null,null,null,null,1]
[null,null,null,null,null,null,null,null,null,null,null,1]
[null,null,null,null,null,null,null,null,null,null,null,1]
[null,null,null,null,null,null,null,null,null,null,null,1]
[null,null,null,null,null,null,null,null,null,null,null,1]
[null,null,null,null,null,null,null,null,null,null,null,{"$f":"IF(INT(C707)<>INT(C706),L706+1,L706)","v":1}]
[null,null,null,null,null,null,null,null,null,null,null,1]
[null,null,null,null,null,null,null,null,null,null,null,1]
[null,null,null,null,null,null,null,null,null,null,null,1]
[null,null,null,null,null,null,null,null,null,null,null,1]
[null,null,null,null,null,null,null,null,null,null,null,1]
[null,null,null,null,null,null,null,null,null,null,null,1]
[null,null,null,null,null,null,null,null,null,null,null,1]
[null,null,null,null,null,null,null,null,null,null,null,1]
[null,null,null,null,null,null,null,null,null,null,null,1]
[null,null,null,null,null,null,null,null,null,null,null,1]
[null,null,null,null,null,null,null,null,null,null,null,1]
[null,null,null,null,null,null,null,null,null,null,null,1]
[null,null,null,null,null,null,null,null,null,null,null,1]
[null,null,null,null,null,null,null,null,null,null,null,1]
[null,null,null,null,null,null,null,null,null,null,null,1]
[null,null,null,null,null,null,null,null,null,null,null,1]
[null,null,null,null,null,null,null,null,null,null,null,1]
[null,null,null,null,null,null,null,null,null,null,null,1]
[null,null,null,null,null,null,null,null,null,null,null,1]
[null,null,null,null,null,null,null,null,null,null,null,1]
[null,null,null,null,null,null,null,null,null,null,null,1]
[null,null,null,null,null,null,null,null,null,null,null,1]
[null,null,null,null,null,null,null,null,null,null,null,1]
[null,null,null,null,null,null,null,null,null,null,null,1]
[null,null,null,null,null,null,null,null,null,null,null,1]
[null,null,null,null,null,null,null,null,null,null,null,1]
[null,null,null,null,null,null,null,null,null,null,null,1]
[null,null,null,null,null,null,null,null,null,null,null,1]
[null,null,null,null,null,null,null,null,null,null,null,1]
[null,null,null,null,null,null,null,null,null,null,null,1]
[null,null,null,null,null,null,null,null,null,null,null,1]
[null,null,null,null,null,null,null,null,null,null,null,1]
[null,null,null,null,null,null,null,null,null,null,null,1]
[null,null,null,null,null,null,null,null,null,null,null,1]
[null,null,null,null,null,null,null,null,null,null,null,1]
[null,null,null,null,null,null,null,null,null,null,null,1]
[null,null,null,null,null,null,null,null,null,null,null,1]
[null,null,null,null,null,null,null,null,null,null,null,1]
[null,null,null,null,null,null,null,null,null,null,null,1]
[null,null,null,null,null,null,null,null,null,null,null,1]
[null,null,null,null,null,null,null,null,null,null,null,1]
[null,null,null,null,null,null,null,null,null,null,null,1]
[null,null,null,null,null,null,null,null,null,null,null,1]
[null,null,null,null,null,null,null,null,null,null,null,1]
[null,null,null,null,null,null,null,null,null,null,null,1]
[null,null,null,null,null,null,null,null,null,null,null,1]
[null,null,null,null,null,null,null,null,null,null,null,1]
[null,null,null,null,null,null,null,null,null,null,null,1]
[null,null,null,null,null,null,null,null,null,null,null,1]
[null,null,null,null,null,null,null,null,null,null,null,1]
[null,null,null,null,null,null,null,null,null,null,null,1]
[null,null,null,null,null,null,null,null,null,null,null,1]
[null,null,null,null,null,null,null,null,null,null,null,1]
[null,null,null,null,null,null,null,null,null,null,null,1]
[null,null,null,null,null,null,null,null,null,null,null,1]
[null,null,null,null,null,null,null,null,null,null,null,1]
[null,null,null,null,null,null,null,null,null,null,null,1]
[null,null,null,null,null,null,null,null,null,null,null,1]
[null,null,null,null,null,null,null,null,null,null,null,1]
[null,null,null,null,null,null,null,null,null,null,null,1]
[null,null,null,null,null,null,null,null,null,null,null,1]
[null,null,null,null,null,null,null,null,null,null,null,1]
[null,null,null,null,null,null,null,null,null,null,null,1]
[null,null,null,null,null,null,null,null,null,null,null,{"$f":"IF(INT(C771)<>INT(C770),L770+1,L770)","v":1}]
[null,null,null,null,null,null,null,null,null,null,null,1]
[null,null,null,null,null,null,null,null,null,null,null,1]
[null,null,null,null,null,null,null,null,null,null,null,1]
[null,null,null,null,null,null,null,null,null,null,null,1]
[null,null,null,null,null,null,null,null,null,null,null,1]
[null,null,null,null,null,null,null,null,null,null,null,1]
[null,null,null,null,null,null,null,null,null,null,null,1]
[null,null,null,null,null,null,null,null,null,null,null,1]
[null,null,null,null,null,null,null,null,null,null,null,1]
[null,null,null,null,null,null,null,null,null,null,null,1]
[null,null,null,null,null,null,null,null,null,null,null,1]
[null,null,null,null,null,null,null,null,null,null,null,1]
[null,null,null,null,null,null,null,null,null,null,null,1]
[null,null,null,null,null,null,null,null,null,null,null,1]
[null,null,null,null,null,null,null,null,null,null,null,1]
[null,null,null,null,null,null,null,null,null,null,null,1]
[null,null,null,null,null,null,null,null,null,null,null,1]
[null,null,null,null,null,null,null,null,null,null,null,1]
[null,null,null,null,null,null,null,null,null,null,null,1]
[null,null,null,null,null,null,null,null,null,null,null,1]
[null,null,null,null,null,null,null,null,null,null,null,1]
[null,null,null,null,null,null,null,null,null,null,null,1]
[null,null,null,null,null,null,null,null,null,null,null,1]
[null,null,null,null,null,null,null,null,null,null,null,1]
[null,null,null,null,null,null,null,null,null,null,null,1]
[null,null,null,null,null,null,null,null,null,null,null,1]
[null,null,null,null,null,null,null,null,null,null,null,1]
[null,null,null,null,null,null,null,null,null,null,null,1]
[null,null,null,null,null,null,null,null,null,null,null,1]
[null,null,null,null,null,null,null,null,null,null,null,1]
[null,null,null,null,null,null,null,null,null,null,null,1]
[null,null,null,null,null,null,null,null,null,null,null,1]
[null,null,null,null,null,null,null,null,null,null,null,1]
[null,null,null,null,null,null,null,null,null,null,null,1]
[null,null,null,null,null,null,null,null,null,null,null,1]
[null,null,null,null,null,null,null,null,null,null,null,1]
[null,null,null,null,null,null,null,null,null,null,null,1]
[null,null,null,null,null,null,null,null,null,null,null,1]
[null,null,null,null,null,null,null,null,null,null,null,1]
[null,null,null,null,null,null,null,null,null,null,null,1]
[null,null,null,null,null,null,null,null,null,null,null,1]
[null,null,null,null,null,null,null,null,null,null,null,1]
[null,null,null,null,null,null,null,null,null,null,null,1]
[null,null,null,null,null,null,null,null,null,null,null,1]
[null,null,null,null,null,null,null,null,null,null,null,1]
[null,null,null,null,null,null,null,null,null,null,null,1]
[null,null,null,null,null,null,null,null,null,null,null,1]
[null,null,null,null,null,null,null,null,null,null,null,1]
[null,null,null,null,null,null,null,null,null,null,null,1]
[null,null,null,null,null,null,null,null,null,null,null,1]
[null,null,null,null,null,null,null,null,null,null,null,1]
[null,null,null,null,null,null,null,null,null,null,null,1]
[null,null,null,null,null,null,null,null,null,null,null,1]
[null,null,null,null,null,null,null,null,null,null,null,1]
[null,null,null,null,null,null,null,null,null,null,null,1]
[null,null,null,null,null,null,null,null,null,null,null,1]
[null,null,null,null,null,null,null,null,null,null,null,1]
[null,null,null,null,null,null,null,null,null,null,null,1]
[null,null,null,null,null,null,null,null,null,null,null,1]
[null,null,null,null,null,null,null,null,null,null,null,1]
[null,null,null,null,null,null,null,null,null,null,null,1]
[null,null,null,null,null,null,null,null,null,null,null,1]
[null,null,null,null,null,null,null,null,null,null,null,1]
[null,null,null,null,null,null,null,null,null,null,null,{"$f":"IF(INT(C835)<>INT(C834),L834+1,L834)","v":1}]
[null,null,null,null,null,null,null,null,null,null,null,1]
[null,null,null,null,null,null,null,null,null,null,null,1]
[null,null,null,null,null,null,null,null,null,null,null,1]
[null,null,null,null,null,null,null,null,null,null,null,1]
[null,null,null,null,null,null,null,null,null,null,null,1]
[null,null,null,null,null,null,null,null,null,null,null,1]
[null,null,null,null,null,null,null,null,null,null,null,1]
[null,null,null,null,null,null,null,null,null,null,null,1]
[null,null,null,null,null,null,null,null,null,null,null,1]
[null,null,null,null,null,null,null,null,null,null,null,1]
[null,null,null,null,null,null,null,null,null,null,null,1]
[null,null,null,null,null,null,null,null,null,null,null,1]
[null,null,null,null,null,null,null,null,null,null,null,1]
[null,null,null,null,null,null,null,null,null,null,null,1]
[null,null,null,null,null,null,null,null,null,null,null,1]
[null,null,null,null,null,null,null,null,null,null,null,1]
[null,null,null,null,null,null,null,null,null,null,null,1]
[null,null,null,null,null,null,null,null,null,null,null,1]
[null,null,null,null,null,null,null,null,null,null,null,1]
[null,null,null,null,null,null,null,null,null,null,null,1]
[null,null,null,null,null,null,null,null,null,null,null,1]
[null,null,null,null,null,null,null,null,null,null,null,1]
[null,null,null,null,null,null,null,null,null,null,null,1]
[null,null,null,null,null,null,null,null,null,null,null,1]
[null,null,null,null,null,null,null,null,null,null,null,1]
[null,null,null,null,null,null,null,null,null,null,null,1]
[null,null,null,null,null,null,null,null,null,null,null,1]
[null,null,null,null,null,null,null,null,null,null,null,1]
[null,null,null,null,null,null,null,null,null,null,null,1]
[null,null,null,null,null,null,null,null,null,null,null,1]
[null,null,null,null,null,null,null,null,null,null,null,1]
[null,null,null,null,null,null,null,null,null,null,null,1]
[null,null,null,null,null,null,null,null,null,null,null,1]
[null,null,null,null,null,null,null,null,null,null,null,1]
[null,null,null,null,null,null,null,null,null,null,null,1]
[null,null,null,null,null,null,null,null,null,null,null,1]
[null,null,null,null,null,null,null,null,null,null,null,1]
[null,null,null,null,null,null,null,null,null,null,null,1]
[null,null,null,null,null,null,null,null,null,null,null,1]
[null,null,null,null,null,null,null,null,null,null,null,1]
[null,null,null,null,null,null,null,null,null,null,null,1]
[null,null,null,null,null,null,null,null,null,null,null,1]
[null,null,null,null,null,null,null,null,null,null,null,1]
[null,null,null,null,null,null,null,null,null,null,null,1]
[null,null,null,null,null,null,null,null,null,null,null,1]
[null,null,null,null,null,null,null,null,null,null,null,1]
[null,null,null,null,null,null,null,null,null,null,null,1]
[null,null,null,null,null,null,null,null,null,null,null,1]
[null,null,null,null,null,null,null,null,null,null,null,1]
[null,null,null,null,null,null,null,null,null,null,null,1]
[null,null,null,null,null,null,null,null,null,null,null,1]
[null,null,null,null,null,null,null,null,null,null,null,1]
[null,null,null,null,null,null,null,null,null,null,null,1]
[null,null,null,null,null,null,null,null,null,null,null,1]
[null,null,null,null,null,null,null,null,null,null,null,1]
[null,null,null,null,null,null,null,null,null,null,null,1]
[null,null,null,null,null,null,null,null,null,null,null,1]
[null,null,null,null,null,null,null,null,null,null,null,1]
[null,null,null,null,null,null,null,null,null,null,null,1]
[null,null,null,null,null,null,null,null,null,null,null,1]
[null,null,null,null,null,null,null,null,null,null,null,1]
[null,null,null,null,null,null,null,null,null,null,null,1]
[null,null,null,null,null,null,null,null,null,null,null,1]
[null,null,null,null,null,null,null,null,null,null,null,{"$f":"IF(INT(C899)<>INT(C898),L898+1,L898)","v":1}]
[null,null,null,null,null,null,null,null,null,null,null,1]
[null,null,null,null,null,null,null,null,null,null,null,1]
[null,null,null,null,null,null,null,null,null,null,null,1]
[null,null,null,null,null,null,null,null,null,null,null,1]
[null,null,null,null,null,null,null,null,null,null,null,1]
[null,null,null,null,null,null,null,null,null,null,null,1]
[null,null,null,null,null,null,null,null,null,null,null,1]
[null,null,null,null,null,null,null,null,null,null,null,1]
[null,null,null,null,null,null,null,null,null,null,null,1]
[null,null,null,null,null,null,null,null,null,null,null,1]
[null,null,null,null,null,null,null,null,null,null,null,1]
[null,null,null,null,null,null,null,null,null,null,null,1]
[null,null,null,null,null,null,null,null,null,null,null,1]
[null,null,null,null,null,null,null,null,null,null,null,1]
[null,null,null,null,null,null,null,null,null,null,null,1]
[null,null,null,null,null,null,null,null,null,null,null,1]
[null,null,null,null,null,null,null,null,null,null,null,1]
[null,null,null,null,null,null,null,null,null,null,null,1]
[null,null,null,null,null,null,null,null,null,null,null,1]
[null,null,null,null,null,null,null,null,null,null,null,1]
[null,null,null,null,null,null,null,null,null,null,null,1]
[null,null,null,null,null,null,null,null,null,null,null,1]
[null,null,null,null,null,null,null,null,null,null,null,1]
[null,null,null,null,null,null,null,null,null,null,null,1]
[null,null,null,null,null,null,null,null,null,null,null,1]
[null,null,null,null,null,null,null,null,null,null,null,1]
[null,null,null,null,null,null,null,null,null,null,null,1]
[null,null,null,null,null,null,null,null,null,null,null,1]
[null,null,null,null,null,null,null,null,null,null,null,1]
[null,null,null,null,null,null,null,null,null,null,null,1]
[null,null,null,null,null,null,null,null,null,null,null,1]
[null,null,null,null,null,null,null,null,null,null,null,1]
[null,null,null,null,null,null,null,null,null,null,null,1]
[null,null,null,null,null,null,null,null,null,null,null,1]
[null,null,null,null,null,null,null,null,null,null,null,1]
[null,null,null,null,null,null,null,null,null,null,null,1]
[null,null,null,null,null,null,null,null,null,null,null,1]
[null,null,null,null,null,null,null,null,null,null,null,1]
[null,null,null,null,null,null,null,null,null,null,null,1]
[null,null,null,null,null,null,null,null,null,null,null,1]
[null,null,null,null,null,null,null,null,null,null,null,1]
[null,null,null,null,null,null,null,null,null,null,null,1]
[null,null,null,null,null,null,null,null,null,null,null,1]
[null,null,null,null,null,null,null,null,null,null,null,1]
[null,null,null,null,null,null,null,null,null,null,null,1]
[null,null,null,null,null,null,null,null,null,null,null,1]
[null,null,null,null,null,null,null,null,null,null,null,1]
[null,null,null,null,null,null,null,null,null,null,null,1]
[null,null,null,null,null,null,null,null,null,null,null,1]
[null,null,null,null,null,null,null,null,null,null,null,1]
[null,null,null,null,null,null,null,null,null,null,null,1]
[null,null,null,null,null,null,null,null,null,null,null,1]
[null,null,null,null,null,null,null,null,null,null,null,1]
[null,null,null,null,null,null,null,null,null,null,null,1]
[null,null,null,null,null,null,null,null,null,null,null,1]
[null,null,null,null,null,null,null,null,null,null,null,1]
[null,null,null,null,null,null,null,null,null,null,null,1]
[null,null,null,null,null,null,null,null,null,null,null,1]
[null,null,null,null,null,null,null,null,null,null,null,1]
[null,null,null,null,null,null,null,null,null,null,null,1]
[null,null,null,null,null,null,null,null,null,null,null,1]
[null,null,null,null,null,null,null,null,null,null,null,1]
[null,null,null,null,null,null,null,null,null,null,null,1]
[null,null,null,null,null,null,null,null,null,null,null,{"$f":"IF(INT(C963)<>INT(C962),L962+1,L962)","v":1}]
[null,null,null,null,null,null,null,null,null,null,null,1]
[null,null,null,null,null,null,null,null,null,null,null,1]
[null,null,null,null,null,null,null,null,null,null,null,1]
[null,null,null,null,null,null,null,null,null,null,null,1]
[null,null,null,null,null,null,null,null,null,null,null,1]
[null,null,null,null,null,null,null,null,null,null,null,1]
[null,null,null,null,null,null,null,null,null,null,null,1]
[null,null,null,null,null,null,null,null,null,null,null,1]
[null,null,null,null,null,null,null,null,null,null,null,1]
[null,null,null,null,null,null,null,null,null,null,null,1]
[null,null,null,null,null,null,null,null,null,null,null,1]
[null,null,null,null,null,null,null,null,null,null,null,1]
[null,null,null,null,null,null,null,null,null,null,null,1]
[null,null,null,null,null,null,null,null,null,null,null,1]
[null,null,null,null,null,null,null,null,null,null,null,1]
[null,null,null,null,null,null,null,null,null,null,null,1]
[null,null,null,null,null,null,null,null,null,null,null,1]
[null,null,null,null,null,null,null,null,null,null,null,1]
[null,null,null,null,null,null,null,null,null,null,null,1]
[null,null,null,null,null,null,null,null,null,null,null,1]
[null,null,null,null,null,null,null,null,null,null,null,1]
[null,null,null,null,null,null,null,null,null,null,null,1]
[null,null,null,null,null,null,null,null,null,null,null,1]
[null,null,null,null,null,null,null,null,null,null,null,1]
[null,null,null,null,null,null,null,null,null,null,null,1]
[null,null,null,null,null,null,null,null,null,null,null,1]
[null,null,null,null,null,null,null,null,null,null,null,1]
[null,null,null,null,null,null,null,null,null,null,null,1]
[null,null,null,null,null,null,null,null,null,null,null,1]
[null,null,null,null,null,null,null,null,null,null,null,1]
[null,null,null,null,null,null,null,null,null,null,null,1]
[null,null,null,null,null,null,null,null,null,null,null,1]
[null,null,null,null,null,null,null,null,null,null,null,1]
[null,null,null,null,null,null,null,null,null,null,null,1]
[null,null,null,null,null,null,null,null,null,null,null,1]
[null,null,null,null,null,null,null,null,null,null,null,1]
[null,null,null,null,null,null,null,null,null,null,null,1]
[null,null,null,null,null,null,null,null,null,null,null,1]
[null,null,null,null,null,null,null,null,null,null,null,1]
[null,null,null,null,null,null,null,null,null,null,null,1]
[null,null,null,null,null,null,null,null,null,null,null,1]
[null,null,null,null,null,null,null,null,null,null,null,1]
[null,null,null,null,null,null,null,null,null,null,null,1]
[null,null,null,null,null,null,null,null,null,null,null,1]
[null,null,null,null,null,null,null,null,null,null,null,1]
[null,null,null,null,null,null,null,null,null,null,null,1]
[null,null,null,null,null,null,null,null,null,null,null,1]
[null,null,null,null,null,null,null,null,null,null,null,1]
[null,null,null,null,null,null,null,null,null,null,null,1]
[null,null,null,null,null,null,null,null,null,null,null,1]
[null,null,null,null,null,null,null,null,null,null,null,1]
[null,null,null,null,null,null,null,null,null,null,null,1]
[null,null,null,null,null,null,null,null,null,null,null,1]
[null,null,null,null,null,null,null,null,null,null,null,1]
[null,null,null,null,null,null,null,null,null,null,null,1]
[null,null,null,null,null,null,null,null,null,null,null,1]
[null,null,null,null,null,null,null,null,null,null,null,1]
[null,null,null,null,null,null,null,null,null,null,null,1]
[null,null,null,null,null,null,null,null,null,null,null,1]
[null,null,null,null,null,null,null,null,null,null,null,1]
[null,null,null,null,null,null,null,null,null,null,null,1]
[null,null,null,null,null,null,null,null,null,null,null,1]
[null,null,null,null,null,null,null,null,null,null,null,1]
[null,null,null,null,null,null,null,null,null,null,null,{"$f":"IF(INT(C1027)<>INT(C1026),L1026+1,L1026)","v":1}]
[null,null,null,null,null,null,null,null,null,null,null,1]
[null,null,null,null,null,null,null,null,null,null,null,1]
[null,null,null,null,null,null,null,null,null,null,null,1]
[null,null,null,null,null,null,null,null,null,null,null,1]
[null,null,null,null,null,null,null,null,null,null,null,1]
[null,null,null,null,null,null,null,null,null,null,null,1]
[null,null,null,null,null,null,null,null,null,null,null,1]
[null,null,null,null,null,null,null,null,null,null,null,1]
[null,null,null,null,null,null,null,null,null,null,null,1]
[null,null,null,null,null,null,null,null,null,null,null,1]
[null,null,null,null,null,null,null,null,null,null,null,1]
[null,null,null,null,null,null,null,null,null,null,null,1]
[null,null,null,null,null,null,null,null,null,null,null,1]
[null,null,null,null,null,null,null,null,null,null,null,1]
[null,null,null,null,null,null,null,null,null,null,null,1]
[null,null,null,null,null,null,null,null,null,null,null,1]
[null,null,null,null,null,null,null,null,null,null,null,1]
[null,null,null,null,null,null,null,null,null,null,null,1]
[null,null,null,null,null,null,null,null,null,null,null,1]
[null,null,null,null,null,null,null,null,null,null,null,1]
[null,null,null,null,null,null,null,null,null,null,null,1]
[null,null,null,null,null,null,null,null,null,null,null,1]
[null,null,null,null,null,null,null,null,null,null,null,1]
[null,null,null,null,null,null,null,null,null,null,null,1]
[null,null,null,null,null,null,null,null,null,null,null,1]
[null,null,null,null,null,null,null,null,null,null,null,1]
[null,null,null,null,null,null,null,null,null,null,null,1]
[null,null,null,null,null,null,null,null,null,null,null,1]
[null,null,null,null,null,null,null,null,null,null,null,1]
[null,null,null,null,null,null,null,null,null,null,null,1]
[null,null,null,null,null,null,null,null,null,null,null,1]
[null,null,null,null,null,null,null,null,null,null,null,1]
[null,null,null,null,null,null,null,null,null,null,null,1]
[null,null,null,null,null,null,null,null,null,null,null,1]
[null,null,null,null,null,null,null,null,null,null,null,1]
[null,null,null,null,null,null,null,null,null,null,null,1]
[null,null,null,null,null,null,null,null,null,null,null,1]
[null,null,null,null,null,null,null,null,null,null,null,1]
[null,null,null,null,null,null,null,null,null,null,null,1]
[null,null,null,null,null,null,null,null,null,null,null,1]
[null,null,null,null,null,null,null,null,null,null,null,1]
[null,null,null,null,null,null,null,null,null,null,null,1]
[null,null,null,null,null,null,null,null,null,null,null,1]
[null,null,null,null,null,null,null,null,null,null,null,1]
[null,null,null,null,null,null,null,null,null,null,null,1]
[null,null,null,null,null,null,null,null,null,null,null,1]
[null,null,null,null,null,null,null,null,null,null,null,1]
[null,null,null,null,null,null,null,null,null,null,null,1]
[null,null,null,null,null,null,null,null,null,null,null,1]
[null,null,null,null,null,null,null,null,null,null,null,1]
[null,null,null,null,null,null,null,null,null,null,null,1]
[null,null,null,null,null,null,null,null,null,null,null,1]
[null,null,null,null,null,null,null,null,null,null,null,1]
[null,null,null,null,null,null,null,null,null,null,null,1]
[null,null,null,null,null,null,null,null,null,null,null,1]
[null,null,null,null,null,null,null,null,null,null,null,1]
[null,null,null,null,null,null,null,null,null,null,null,1]
[null,null,null,null,null,null,null,null,null,null,null,1]
[null,null,null,null,null,null,null,null,null,null,null,1]
[null,null,null,null,null,null,null,null,null,null,null,1]
[null,null,null,null,null,null,null,null,null,null,null,1]
[null,null,null,null,null,null,null,null,null,null,null,1]
[null,null,null,null,null,null,null,null,null,null,null,1]
[null,null,null,null,null,null,null,null,null,null,null,{"$f":"IF(INT(C1091)<>INT(C1090),L1090+1,L1090)","v":1}]
[null,null,null,null,null,null,null,null,null,null,null,1]
[null,null,null,null,null,null,null,null,null,null,null,1]
[null,null,null,null,null,null,null,null,null,null,null,1]
[null,null,null,null,null,null,null,null,null,null,null,1]
[null,null,null,null,null,null,null,null,null,null,null,1]
[null,null,null,null,null,null,null,null,null,null,null,1]
[null,null,null,null,null,null,null,null,null,null,null,1]
[null,null,null,null,null,null,null,null,null,null,null,1]
[null,null,null,null,null,null,null,null,null,null,null,1]
[null,null,null,null,null,null,null,null,null,null,null,1]
[null,null,null,null,null,null,null,null,null,null,null,1]
[null,null,null,null,null,null,null,null,null,null,null,1]
[null,null,null,null,null,null,null,null,null,null,null,1]
[null,null,null,null,null,null,null,null,null,null,null,1]
[null,null,null,null,null,null,null,null,null,null,null,1]
[null,null,null,null,null,null,null,null,null,null,null,1]
[null,null,null,null,null,null,null,null,null,null,null,1]
[null,null,null,null,null,null,null,null,null,null,null,1]
[null,null,null,null,null,null,null,null,null,null,null,1]
[null,null,null,null,null,null,null,null,null,null,null,1]
[null,null,null,null,null,null,null,null,null,null,null,1]
[null,null,null,null,null,null,null,null,null,null,null,1]
[null,null,null,null,null,null,null,null,null,null,null,1]
[null,null,null,null,null,null,null,null,null,null,null,1]
[null,null,null,null,null,null,null,null,null,null,null,1]
[null,null,null,null,null,null,null,null,null,null,null,1]
[null,null,null,null,null,null,null,null,null,null,null,1]
[null,null,null,null,null,null,null,null,null,null,null,1]
[null,null,null,null,null,null,null,null,null,null,null,1]
[null,null,null,null,null,null,null,null,null,null,null,1]
[null,null,null,null,null,null,null,null,null,null,null,1]
[null,null,null,null,null,null,null,null,null,null,null,1]
[null,null,null,null,null,null,null,null,null,null,null,1]
[null,null,null,null,null,null,null,null,null,null,null,1]
[null,null,null,null,null,null,null,null,null,null,null,1]
[null,null,null,null,null,null,null,null,null,null,null,1]
[null,null,null,null,null,null,null,null,null,null,null,1]
[null,null,null,null,null,null,null,null,null,null,null,1]
[null,null,null,null,null,null,null,null,null,null,null,1]
[null,null,null,null,null,null,null,null,null,null,null,1]
[null,null,null,null,null,null,null,null,null,null,null,1]
[null,null,null,null,null,null,null,null,null,null,null,1]
[null,null,null,null,null,null,null,null,null,null,null,1]
[null,null,null,null,null,null,null,null,null,null,null,1]
[null,null,null,null,null,null,null,null,null,null,null,1]
[null,null,null,null,null,null,null,null,null,null,null,1]
[null,null,null,null,null,null,null,null,null,null,null,1]
[null,null,null,null,null,null,null,null,null,null,null,1]
[null,null,null,null,null,null,null,null,null,null,null,1]
[null,null,null,null,null,null,null,null,null,null,null,1]
[null,null,null,null,null,null,null,null,null,null,null,1]
[null,null,null,null,null,null,null,null,null,null,null,1]
[null,null,null,null,null,null,null,null,null,null,null,1]
[null,null,null,null,null,null,null,null,null,null,null,1]
[null,null,null,null,null,null,null,null,null,null,null,1]
[null,null,null,null,null,null,null,null,null,null,null,1]
[null,null,null,null,null,null,null,null,null,null,null,1]
[null,null,null,null,null,null,null,null,null,null,null,1]
[null,null,null,null,null,null,null,null,null,null,null,1]
[null,null,null,null,null,null,null,null,null,null,null,1]
[null,null,null,null,null,null,null,null,null,null,null,1]
[null,null,null,null,null,null,null,null,null,null,null,1]
[null,null,null,null,null,null,null,null,null,null,null,1]
[null,null,null,null,null,null,null,null,null,null,null,{"$f":"IF(INT(C1155)<>INT(C1154),L1154+1,L1154)","v":1}]
[null,null,null,null,null,null,null,null,null,null,null,1]
[null,null,null,null,null,null,null,null,null,null,null,1]
[null,null,null,null,null,null,null,null,null,null,null,1]
[null,null,null,null,null,null,null,null,null,null,null,1]
[null,null,null,null,null,null,null,null,null,null,null,1]
[null,null,null,null,null,null,null,null,null,null,null,1]
[null,null,null,null,null,null,null,null,null,null,null,1]
[null,null,null,null,null,null,null,null,null,null,null,1]
[null,null,null,null,null,null,null,null,null,null,null,1]
[null,null,null,null,null,null,null,null,null,null,null,1]
[null,null,null,null,null,null,null,null,null,null,null,1]
[null,null,null,null,null,null,null,null,null,null,null,1]
[null,null,null,null,null,null,null,null,null,null,null,1]
[null,null,null,null,null,null,null,null,null,null,null,1]
[null,null,null,null,null,null,null,null,null,null,null,1]
[null,null,null,null,null,null,null,null,null,null,null,1]
[null,null,null,null,null,null,null,null,null,null,null,1]
[null,null,null,null,null,null,null,null,null,null,null,1]
[null,null,null,null,null,null,null,null,null,null,null,1]
[null,null,null,null,null,null,null,null,null,null,null,1]
[null,null,null,null,null,null,null,null,null,null,null,1]
[null,null,null,null,null,null,null,null,null,null,null,1]
[null,null,null,null,null,null,null,null,null,null,null,1]
[null,null,null,null,null,null,null,null,null,null,null,1]
[null,null,null,null,null,null,null,null,null,null,null,1]
[null,null,null,null,null,null,null,null,null,null,null,1]
[null,null,null,null,null,null,null,null,null,null,null,1]
[null,null,null,null,null,null,null,null,null,null,null,1]
[null,null,null,null,null,null,null,null,null,null,null,1]
[null,null,null,null,null,null,null,null,null,null,null,1]
[null,null,null,null,null,null,null,null,null,null,null,1]
[null,null,null,null,null,null,null,null,null,null,null,1]
[null,null,null,null,null,null,null,null,null,null,null,1]
[null,null,null,null,null,null,null,null,null,null,null,1]
[null,null,null,null,null,null,null,null,null,null,null,1]
[null,null,null,null,null,null,null,null,null,null,null,1]
[null,null,null,null,null,null,null,null,null,null,null,1]
[null,null,null,null,null,null,null,null,null,null,null,1]
[null,null,null,null,null,null,null,null,null,null,null,1]
[null,null,null,null,null,null,null,null,null,null,null,1]
[null,null,null,null,null,null,null,null,null,null,null,1]
[null,null,null,null,null,null,null,null,null,null,null,1]
[null,null,null,null,null,null,null,null,null,null,null,1]
[null,null,null,null,null,null,null,null,null,null,null,1]
[null,null,null,null,null,null,null,null,null,null,null,1]
[null,null,null,null,null,null,null,null,null,null,null,1]
[null,null,null,null,null,null,null,null,null,null,null,1]
[null,null,null,null,null,null,null,null,null,null,null,1]
[null,null,null,null,null,null,null,null,null,null,null,1]
[null,null,null,null,null,null,null,null,null,null,null,1]
[null,null,null,null,null,null,null,null,null,null,null,1]
[null,null,null,null,null,null,null,null,null,null,null,1]
[null,null,null,null,null,null,null,null,null,null,null,1]
[null,null,null,null,null,null,null,null,null,null,null,1]
[null,null,null,null,null,null,null,null,null,null,null,1]
[null,null,null,null,null,null,null,null,null,null,null,1]
[null,null,null,null,null,null,null,null,null,null,null,1]
[null,null,null,null,null,null,null,null,null,null,null,1]
[null,null,null,null,null,null,null,null,null,null,null,1]
[null,null,null,null,null,null,null,null,null,null,null,1]
[null,null,null,null,null,null,null,null,null,null,null,1]
[null,null,null,null,null,null,null,null,null,null,null,1]
[null,null,null,null,null,null,null,null,null,null,null,1]
[null,null,null,null,null,null,null,null,null,null,null,{"$f":"IF(INT(C1219)<>INT(C1218),L1218+1,L1218)","v":1}]
[null,null,null,null,null,null,null,null,null,null,null,1]
[null,null,null,null,null,null,null,null,null,null,null,1]
[null,null,null,null,null,null,null,null,null,null,null,1]
[null,null,null,null,null,null,null,null,null,null,null,1]
[null,null,null,null,null,null,null,null,null,null,null,1]
[null,null,null,null,null,null,null,null,null,null,null,1]
[null,null,null,null,null,null,null,null,null,null,null,1]
[null,null,null,null,null,null,null,null,null,null,null,1]
[null,null,null,null,null,null,null,null,null,null,null,1]
[null,null,null,null,null,null,null,null,null,null,null,1]
[null,null,null,null,null,null,null,null,null,null,null,1]
[null,null,null,null,null,null,null,null,null,null,null,1]
[null,null,null,null,null,null,null,null,null,null,null,1]
[null,null,null,null,null,null,null,null,null,null,null,1]
[null,null,null,null,null,null,null,null,null,null,null,1]
[null,null,null,null,null,null,null,null,null,null,null,1]
[null,null,null,null,null,null,null,null,null,null,null,1]
[null,null,null,null,null,null,null,null,null,null,null,1]
[null,null,null,null,null,null,null,null,null,null,null,1]
[null,null,null,null,null,null,null,null,null,null,null,1]
[null,null,null,null,null,null,null,null,null,null,null,1]
[null,null,null,null,null,null,null,null,null,null,null,1]
[null,null,null,null,null,null,null,null,null,null,null,1]
[null,null,null,null,null,null,null,null,null,null,null,1]
[null,null,null,null,null,null,null,null,null,null,null,1]
[null,null,null,null,null,null,null,null,null,null,null,1]
[null,null,null,null,null,null,null,null,null,null,null,1]
[null,null,null,null,null,null,null,null,null,null,null,1]
[null,null,null,null,null,null,null,null,null,null,null,1]
[null,null,null,null,null,null,null,null,null,null,null,1]
[null,null,null,null,null,null,null,null,null,null,null,1]
[null,null,null,null,null,null,null,null,null,null,null,1]
[null,null,null,null,null,null,null,null,null,null,null,1]
[null,null,null,null,null,null,null,null,null,null,null,1]
[null,null,null,null,null,null,null,null,null,null,null,1]
[null,null,null,null,null,null,null,null,null,null,null,1]
[null,null,null,null,null,null,null,null,null,null,null,1]
[null,null,null,null,null,null,null,null,null,null,null,1]
[null,null,null,null,null,null,null,null,null,null,null,1]
[null,null,null,null,null,null,null,null,null,null,null,1]
[null,null,null,null,null,null,null,null,null,null,null,1]
[null,null,null,null,null,null,null,null,null,null,null,1]
[null,null,null,null,null,null,null,null,null,null,null,1]
[null,null,null,null,null,null,null,null,null,null,null,1]
[null,null,null,null,null,null,null,null,null,null,null,1]
[null,null,null,null,null,null,null,null,null,null,null,1]
[null,null,null,null,null,null,null,null,null,null,null,1]
[null,null,null,null,null,null,null,null,null,null,null,1]
[null,null,null,null,null,null,null,null,null,null,null,1]
[null,null,null,null,null,null,null,null,null,null,null,1]
[null,null,null,null,null,null,null,null,null,null,null,1]
[null,null,null,null,null,null,null,null,null,null,null,1]
[null,null,null,null,null,null,null,null,null,null,null,1]
[null,null,null,null,null,null,null,null,null,null,null,1]
[null,null,null,null,null,null,null,null,null,null,null,1]
[null,null,null,null,null,null,null,null,null,null,null,1]
[null,null,null,null,null,null,null,null,null,null,null,1]
[null,null,null,null,null,null,null,null,null,null,null,1]
[null,null,null,null,null,null,null,null,null,null,null,1]
[null,null,null,null,null,null,null,null,null,null,null,1]
[null,null,null,null,null,null,null,null,null,null,null,1]
[null,null,null,null,null,null,null,null,null,null,null,1]
[null,null,null,null,null,null,null,null,null,null,null,1]
[null,null,null,null,null,null,null,null,null,null,null,{"$f":"IF(INT(C1283)<>INT(C1282),L1282+1,L1282)","v":1}]
[null,null,null,null,null,null,null,null,null,null,null,1]
[null,null,null,null,null,null,null,null,null,null,null,1]
[null,null,null,null,null,null,null,null,null,null,null,1]
[null,null,null,null,null,null,null,null,null,null,null,1]
[null,null,null,null,null,null,null,null,null,null,null,1]
[null,null,null,null,null,null,null,null,null,null,null,1]
[null,null,null,null,null,null,null,null,null,null,null,1]
[null,null,null,null,null,null,null,null,null,null,null,1]
[null,null,null,null,null,null,null,null,null,null,null,1]
[null,null,null,null,null,null,null,null,null,null,null,1]
[null,null,null,null,null,null,null,null,null,null,null,1]
[null,null,null,null,null,null,null,null,null,null,null,1]
[null,null,null,null,null,null,null,null,null,null,null,1]
[null,null,null,null,null,null,null,null,null,null,null,1]
[null,null,null,null,null,null,null,null,null,null,null,1]
[null,null,null,null,null,null,null,null,null,null,null,1]
[null,null,null,null,null,null,null,null,null,null,null,1]
[null,null,null,null,null,null,null,null,null,null,null,1]
[null,null,null,null,null,null,null,null,null,null,null,1]
[null,null,null,null,null,null,null,null,null,null,null,1]
[null,null,null,null,null,null,null,null,null,null,null,1]
[null,null,null,null,null,null,null,null,null,null,null,1]
[null,null,null,null,null,null,null,null,null,null,null,1]
[null,null,null,null,null,null,null,null,null,null,null,1]
[null,null,null,null,null,null,null,null,null,null,null,1]
[null,null,null,null,null,null,null,null,null,null,null,1]
[null,null,null,null,null,null,null,null,null,null,null,1]
[null,null,null,null,null,null,null,null,null,null,null,1]
[null,null,null,null,null,null,null,null,null,null,null,1]
[null,null,null,null,null,null,null,null,null,null,null,1]
[null,null,null,null,null,null,null,null,null,null,null,1]
[null,null,null,null,null,null,null,null,null,null,null,1]
[null,null,null,null,null,null,null,null,null,null,null,1]
[null,null,null,null,null,null,null,null,null,null,null,1]
[null,null,null,null,null,null,null,null,null,null,null,1]
[null,null,null,null,null,null,null,null,null,null,null,1]
[null,null,null,null,null,null,null,null,null,null,null,1]
[null,null,null,null,null,null,null,null,null,null,null,1]
[null,null,null,null,null,null,null,null,null,null,null,1]
[null,null,null,null,null,null,null,null,null,null,null,1]
[null,null,null,null,null,null,null,null,null,null,null,1]
[null,null,null,null,null,null,null,null,null,null,null,1]
[null,null,null,null,null,null,null,null,null,null,null,1]
[null,null,null,null,null,null,null,null,null,null,null,1]
[null,null,null,null,null,null,null,null,null,null,null,1]
[null,null,null,null,null,null,null,null,null,null,null,1]
[null,null,null,null,null,null,null,null,null,null,null,1]
[null,null,null,null,null,null,null,null,null,null,null,1]
[null,null,null,null,null,null,null,null,null,null,null,1]
[null,null,null,null,null,null,null,null,null,null,null,1]
[null,null,null,null,null,null,null,null,null,null,null,1]
[null,null,null,null,null,null,null,null,null,null,null,1]
[null,null,null,null,null,null,null,null,null,null,null,1]
[null,null,null,null,null,null,null,null,null,null,null,1]
[null,null,null,null,null,null,null,null,null,null,null,1]
[null,null,null,null,null,null,null,null,null,null,null,1]
[null,null,null,null,null,null,null,null,null,null,null,1]
[null,null,null,null,null,null,null,null,null,null,null,1]
[null,null,null,null,null,null,null,null,null,null,null,1]
[null,null,null,null,null,null,null,null,null,null,null,1]
[null,null,null,null,null,null,null,null,null,null,null,1]
[null,null,null,null,null,null,null,null,null,null,null,1]
[null,null,null,null,null,null,null,null,null,null,null,1]
[null,null,null,null,null,null,null,null,null,null,null,{"$f":"IF(INT(C1347)<>INT(C1346),L1346+1,L1346)","v":1}]
[null,null,null,null,null,null,null,null,null,null,null,1]
[null,null,null,null,null,null,null,null,null,null,null,1]
[null,null,null,null,null,null,null,null,null,null,null,1]
[null,null,null,null,null,null,null,null,null,null,null,1]
[null,null,null,null,null,null,null,null,null,null,null,1]
[null,null,null,null,null,null,null,null,null,null,null,1]
[null,null,null,null,null,null,null,null,null,null,null,1]
[null,null,null,null,null,null,null,null,null,null,null,1]
[null,null,null,null,null,null,null,null,null,null,null,1]
[null,null,null,null,null,null,null,null,null,null,null,1]
[null,null,null,null,null,null,null,null,null,null,null,1]
[null,null,null,null,null,null,null,null,null,null,null,1]
[null,null,null,null,null,null,null,null,null,null,null,1]
[null,null,null,null,null,null,null,null,null,null,null,1]
[null,null,null,null,null,null,null,null,null,null,null,1]
[null,null,null,null,null,null,null,null,null,null,null,1]
[null,null,null,null,null,null,null,null,null,null,null,1]
[null,null,null,null,null,null,null,null,null,null,null,1]
[null,null,null,null,null,null,null,null,null,null,null,1]
[null,null,null,null,null,null,null,null,null,null,null,1]
[null,null,null,null,null,null,null,null,null,null,null,1]
[null,null,null,null,null,null,null,null,null,null,null,1]
[null,null,null,null,null,null,null,null,null,null,null,1]
[null,null,null,null,null,null,null,null,null,null,null,1]
[null,null,null,null,null,null,null,null,null,null,null,1]
[null,null,null,null,null,null,null,null,null,null,null,1]
[null,null,null,null,null,null,null,null,null,null,null,1]
[null,null,null,null,null,null,null,null,null,null,null,1]
[null,null,null,null,null,null,null,null,null,null,null,1]
[null,null,null,null,null,null,null,null,null,null,null,1]
[null,null,null,null,null,null,null,null,null,null,null,1]
[null,null,null,null,null,null,null,null,null,null,null,1]
[null,null,null,null,null,null,null,null,null,null,null,1]
[null,null,null,null,null,null,null,null,null,null,null,1]
[null,null,null,null,null,null,null,null,null,null,null,1]
[null,null,null,null,null,null,null,null,null,null,null,1]
[null,null,null,null,null,null,null,null,null,null,null,1]
[null,null,null,null,null,null,null,null,null,null,null,1]
[null,null,null,null,null,null,null,null,null,null,null,1]
[null,null,null,null,null,null,null,null,null,null,null,1]
[null,null,null,null,null,null,null,null,null,null,null,1]
[null,null,null,null,null,null,null,null,null,null,null,1]
[null,null,null,null,null,null,null,null,null,null,null,1]
[null,null,null,null,null,null,null,null,null,null,null,1]
[null,null,null,null,null,null,null,null,null,null,null,1]
[null,null,null,null,null,null,null,null,null,null,null,1]
[null,null,null,null,null,null,null,null,null,null,null,1]
[null,null,null,null,null,null,null,null,null,null,null,1]
[null,null,null,null,null,null,null,null,null,null,null,1]
[null,null,null,null,null,null,null,null,null,null,null,1]
[null,null,null,null,null,null,null,null,null,null,null,1]
[null,null,null,null,null,null,null,null,null,null,null,1]
[null,null,null,null,null,null,null,null,null,null,null,1]
[null,null,null,null,null,null,null,null,null,null,null,1]
[null,null,null,null,null,null,null,null,null,null,null,1]
[null,null,null,null,null,null,null,null,null,null,null,1]
[null,null,null,null,null,null,null,null,null,null,null,1]
[null,null,null,null,null,null,null,null,null,null,null,1]
[null,null,null,null,null,null,null,null,null,null,null,1]
[null,null,null,null,null,null,null,null,null,null,null,1]
[null,null,null,null,null,null,null,null,null,null,null,1]
[null,null,null,null,null,null,null,null,null,null,null,1]
[null,null,null,null,null,null,null,null,null,null,null,1]
[null,null,null,null,null,null,null,null,null,null,null,{"$f":"IF(INT(C1411)<>INT(C1410),L1410+1,L1410)","v":1}]
[null,null,null,null,null,null,null,null,null,null,null,1]
[null,null,null,null,null,null,null,null,null,null,null,1]
[null,null,null,null,null,null,null,null,null,null,null,1]
[null,null,null,null,null,null,null,null,null,null,null,1]
[null,null,null,null,null,null,null,null,null,null,null,1]
[null,null,null,null,null,null,null,null,null,null,null,1]
[null,null,null,null,null,null,null,null,null,null,null,1]
[null,null,null,null,null,null,null,null,null,null,null,1]
[null,null,null,null,null,null,null,null,null,null,null,1]
[null,null,null,null,null,null,null,null,null,null,null,1]
[null,null,null,null,null,null,null,null,null,null,null,1]
[null,null,null,null,null,null,null,null,null,null,null,1]
[null,null,null,null,null,null,null,null,null,null,null,1]
[null,null,null,null,null,null,null,null,null,null,null,1]
[null,null,null,null,null,null,null,null,null,null,null,1]
[null,null,null,null,null,null,null,null,null,null,null,1]
[null,null,null,null,null,null,null,null,null,null,null,1]
[null,null,null,null,null,null,null,null,null,null,null,1]
[null,null,null,null,null,null,null,null,null,null,null,1]
[null,null,null,null,null,null,null,null,null,null,null,1]
[null,null,null,null,null,null,null,null,null,null,null,1]
[null,null,null,null,null,null,null,null,null,null,null,1]
[null,null,null,null,null,null,null,null,null,null,null,1]
[null,null,null,null,null,null,null,null,null,null,null,1]
[null,null,null,null,null,null,null,null,null,null,null,1]
[null,null,null,null,null,null,null,null,null,null,null,1]
[null,null,null,null,null,null,null,null,null,null,null,1]
[null,null,null,null,null,null,null,null,null,null,null,1]
[null,null,null,null,null,null,null,null,null,null,null,1]
[null,null,null,null,null,null,null,null,null,null,null,1]
[null,null,null,null,null,null,null,null,null,null,null,1]
[null,null,null,null,null,null,null,null,null,null,null,1]
[null,null,null,null,null,null,null,null,null,null,null,1]
[null,null,null,null,null,null,null,null,null,null,null,1]
[null,null,null,null,null,null,null,null,null,null,null,1]
[null,null,null,null,null,null,null,null,null,null,null,1]
[null,null,null,null,null,null,null,null,null,null,null,1]
[null,null,null,null,null,null,null,null,null,null,null,1]
[null,null,null,null,null,null,null,null,null,null,null,1]
[null,null,null,null,null,null,null,null,null,null,null,1]
[null,null,null,null,null,null,null,null,null,null,null,1]
[null,null,null,null,null,null,null,null,null,null,null,1]
[null,null,null,null,null,null,null,null,null,null,null,1]
[null,null,null,null,null,null,null,null,null,null,null,1]
[null,null,null,null,null,null,null,null,null,null,null,1]
[null,null,null,null,null,null,null,null,null,null,null,1]
[null,null,null,null,null,null,null,null,null,null,null,1]
[null,null,null,null,null,null,null,null,null,null,null,1]
[null,null,null,null,null,null,null,null,null,null,null,1]
[null,null,null,null,null,null,null,null,null,null,null,1]
[null,null,null,null,null,null,null,null,null,null,null,1]
[null,null,null,null,null,null,null,null,null,null,null,1]
[null,null,null,null,null,null,null,null,null,null,null,1]
[null,null,null,null,null,null,null,null,null,null,null,1]
[null,null,null,null,null,null,null,null,null,null,null,1]
[null,null,null,null,null,null,null,null,null,null,null,1]
[null,null,null,null,null,null,null,null,null,null,null,1]
[null,null,null,null,null,null,null,null,null,null,null,1]
[null,null,null,null,null,null,null,null,null,null,null,1]
[null,null,null,null,null,null,null,null,null,null,null,1]
[null,null,null,null,null,null,null,null,null,null,null,1]
[null,null,null,null,null,null,null,null,null,null,null,1]
[null,null,null,null,null,null,null,null,null,null,null,1]
[null,null,null,null,null,null,null,null,null,null,null,{"$f":"IF(INT(C1475)<>INT(C1474),L1474+1,L1474)","v":1}]
[null,null,null,null,null,null,null,null,null,null,null,1]
[null,null,null,null,null,null,null,null,null,null,null,1]
[null,null,null,null,null,null,null,null,null,null,null,1]
[null,null,null,null,null,null,null,null,null,null,null,1]
[null,null,null,null,null,null,null,null,null,null,null,1]
[null,null,null,null,null,null,null,null,null,null,null,1]
[null,null,null,null,null,null,null,null,null,null,null,1]
[null,null,null,null,null,null,null,null,null,null,null,1]
[null,null,null,null,null,null,null,null,null,null,null,1]
[null,null,null,null,null,null,null,null,null,null,null,1]
[null,null,null,null,null,null,null,null,null,null,null,1]
[null,null,null,null,null,null,null,null,null,null,null,1]
[null,null,null,null,null,null,null,null,null,null,null,1]
[null,null,null,null,null,null,null,null,null,null,null,1]
[null,null,null,null,null,null,null,null,null,null,null,1]
[null,null,null,null,null,null,null,null,null,null,null,1]
[null,null,null,null,null,null,null,null,null,null,null,1]
[null,null,null,null,null,null,null,null,null,null,null,1]
[null,null,null,null,null,null,null,null,null,null,null,1]
[null,null,null,null,null,null,null,null,null,null,null,1]
[null,null,null,null,null,null,null,null,null,null,null,1]
[null,null,null,null,null,null,null,null,null,null,null,1]
[null,null,null,null,null,null,null,null,null,null,null,1]
[null,null,null,null,null,null,null,null,null,null,null,1]
[null,null,null,null,null,null,null,null,null,null,null,1]
[null,null,null,null,null,null,null,null,null,null,null,1]
[null,null,null,null,null,null,null,null,null,null,null,1]
[null,null,null,null,null,null,null,null,null,null,null,1]
[null,null,null,null,null,null,null,null,null,null,null,1]
[null,null,null,null,null,null,null,null,null,null,null,1]
[null,null,null,null,null,null,null,null,null,null,null,1]
[null,null,null,null,null,null,null,null,null,null,null,1]
[null,null,null,null,null,null,null,null,null,null,null,1]
[null,null,null,null,null,null,null,null,null,null,null,1]
[null,null,null,null,null,null,null,null,null,null,null,1]
[null,null,null,null,null,null,null,null,null,null,null,1]
[null,null,null,null,null,null,null,null,null,null,null,1]
[null,null,null,null,null,null,null,null,null,null,null,1]
[null,null,null,null,null,null,null,null,null,null,null,1]
[null,null,null,null,null,null,null,null,null,null,null,1]
[null,null,null,null,null,null,null,null,null,null,null,1]
[null,null,null,null,null,null,null,null,null,null,null,1]
[null,null,null,null,null,null,null,null,null,null,null,1]
[null,null,null,null,null,null,null,null,null,null,null,1]
[null,null,null,null,null,null,null,null,null,null,null,1]
[null,null,null,null,null,null,null,null,null,null,null,1]
[null,null,null,null,null,null,null,null,null,null,null,1]
[null,null,null,null,null,null,null,null,null,null,null,1]
[null,null,null,null,null,null,null,null,null,null,null,1]
[null,null,null,null,null,null,null,null,null,null,null,1]
[null,null,null,null,null,null,null,null,null,null,null,1]
[null,null,null,null,null,null,null,null,null,null,null,1]
[null,null,null,null,null,null,null,null,null,null,null,1]
[null,null,null,null,null,null,null,null,null,null,null,1]
[null,null,null,null,null,null,null,null,null,null,null,1]
[null,null,null,null,null,null,null,null,null,null,null,1]
[null,null,null,null,null,null,null,null,null,null,null,1]
[null,null,null,null,null,null,null,null,null,null,null,1]
[null,null,null,null,null,null,null,null,null,null,null,1]
[null,null,null,null,null,null,null,null,null,null,null,1]
[null,null,null,null,null,null,null,null,null,null,null,1]
[null,null,null,null,null,null,null,null,null,null,null,1]
[null,null,null,null,null,null,null,null,null,null,null,1]
[null,null,null,null,null,null,null,null,null,null,null,{"$f":"IF(INT(C1539)<>INT(C1538),L1538+1,L1538)","v":1}]
[null,null,null,null,null,null,null,null,null,null,null,1]
[null,null,null,null,null,null,null,null,null,null,null,1]
[null,null,null,null,null,null,null,null,null,null,null,1]
[null,null,null,null,null,null,null,null,null,null,null,1]
[null,null,null,null,null,null,null,null,null,null,null,1]
[null,null,null,null,null,null,null,null,null,null,null,1]
[null,null,null,null,null,null,null,null,null,null,null,1]
[null,null,null,null,null,null,null,null,null,null,null,1]
[null,null,null,null,null,null,null,null,null,null,null,1]
[null,null,null,null,null,null,null,null,null,null,null,1]
[null,null,null,null,null,null,null,null,null,null,null,1]
[null,null,null,null,null,null,null,null,null,null,null,1]
[null,null,null,null,null,null,null,null,null,null,null,1]
[null,null,null,null,null,null,null,null,null,null,null,1]
[null,null,null,null,null,null,null,null,null,null,null,1]
[null,null,null,null,null,null,null,null,null,null,null,1]
[null,null,null,null,null,null,null,null,null,null,null,1]
[null,null,null,null,null,null,null,null,null,null,null,1]
[null,null,null,null,null,null,null,null,null,null,null,1]
[null,null,null,null,null,null,null,null,null,null,null,1]
[null,null,null,null,null,null,null,null,null,null,null,1]
[null,null,null,null,null,null,null,null,null,null,null,1]
[null,null,null,null,null,null,null,null,null,null,null,1]
[null,null,null,null,null,null,null,null,null,null,null,1]
[null,null,null,null,null,null,null,null,null,null,null,1]
[null,null,null,null,null,null,null,null,null,null,null,1]
[null,null,null,null,null,null,null,null,null,null,null,1]
[null,null,null,null,null,null,null,null,null,null,null,1]
[null,null,null,null,null,null,null,null,null,null,null,1]
[null,null,null,null,null,null,null,null,null,null,null,1]
[null,null,null,null,null,null,null,null,null,null,null,1]
[null,null,null,null,null,null,null,null,null,null,null,1]
[null,null,null,null,null,null,null,null,null,null,null,1]
[null,null,null,null,null,null,null,null,null,null,null,1]
[null,null,null,null,null,null,null,null,null,null,null,1]
[null,null,null,null,null,null,null,null,null,null,null,1]
[null,null,null,null,null,null,null,null,null,null,null,1]
[null,null,null,null,null,null,null,null,null,null,null,1]
[null,null,null,null,null,null,null,null,null,null,null,1]
[null,null,null,null,null,null,null,null,null,null,null,1]
[null,null,null,null,null,null,null,null,null,null,null,1]
[null,null,null,null,null,null,null,null,null,null,null,1]
[null,null,null,null,null,null,null,null,null,null,null,1]
[null,null,null,null,null,null,null,null,null,null,null,1]
[null,null,null,null,null,null,null,null,null,null,null,1]
[null,null,null,null,null,null,null,null,null,null,null,1]
[null,null,null,null,null,null,null,null,null,null,null,1]
[null,null,null,null,null,null,null,null,null,null,null,1]
[null,null,null,null,null,null,null,null,null,null,null,1]
[null,null,null,null,null,null,null,null,null,null,null,1]
[null,null,null,null,null,null,null,null,null,null,null,1]
[null,null,null,null,null,null,null,null,null,null,null,1]
[null,null,null,null,null,null,null,null,null,null,null,1]
[null,null,null,null,null,null,null,null,null,null,null,1]
[null,null,null,null,null,null,null,null,null,null,null,1]
[null,null,null,null,null,null,null,null,null,null,null,1]
[null,null,null,null,null,null,null,null,null,null,null,1]
[null,null,null,null,null,null,null,null,null,null,null,1]
[null,null,null,null,null,null,null,null,null,null,null,1]
[null,null,null,null,null,null,null,null,null,null,null,1]
[null,null,null,null,null,null,null,null,null,null,null,1]
[null,null,null,null,null,null,null,null,null,null,null,1]
[null,null,null,null,null,null,null,null,null,null,null,1]
[null,null,null,null,null,null,null,null,null,null,null,{"$f":"IF(INT(C1603)<>INT(C1602),L1602+1,L1602)","v":1}]
[null,null,null,null,null,null,null,null,null,null,null,1]
[null,null,null,null,null,null,null,null,null,null,null,1]
[null,null,null,null,null,null,null,null,null,null,null,1]
[null,null,null,null,null,null,null,null,null,null,null,1]
[null,null,null,null,null,null,null,null,null,null,null,1]
[null,null,null,null,null,null,null,null,null,null,null,1]
[null,null,null,null,null,null,null,null,null,null,null,1]
[null,null,null,null,null,null,null,null,null,null,null,1]
[null,null,null,null,null,null,null,null,null,null,null,1]
[null,null,null,null,null,null,null,null,null,null,null,1]
[null,null,null,null,null,null,null,null,null,null,null,1]
[null,null,null,null,null,null,null,null,null,null,null,1]
[null,null,null,null,null,null,null,null,null,null,null,1]
[null,null,null,null,null,null,null,null,null,null,null,1]
[null,null,null,null,null,null,null,null,null,null,null,1]
[null,null,null,null,null,null,null,null,null,null,null,1]
[null,null,null,null,null,null,null,null,null,null,null,1]
[null,null,null,null,null,null,null,null,null,null,null,1]
[null,null,null,null,null,null,null,null,null,null,null,1]
[null,null,null,null,null,null,null,null,null,null,null,1]
[null,null,null,null,null,null,null,null,null,null,null,1]
[null,null,null,null,null,null,null,null,null,null,null,1]
[null,null,null,null,null,null,null,null,null,null,null,1]
[null,null,null,null,null,null,null,null,null,null,null,1]
[null,null,null,null,null,null,null,null,null,null,null,1]
[null,null,null,null,null,null,null,null,null,null,null,1]
[null,null,null,null,null,null,null,null,null,null,null,1]
[null,null,null,null,null,null,null,null,null,null,null,1]
[null,null,null,null,null,null,null,null,null,null,null,1]
[null,null,null,null,null,null,null,null,null,null,null,1]
[null,null,null,null,null,null,null,null,null,null,null,1]
[null,null,null,null,null,null,null,null,null,null,null,1]
[null,null,null,null,null,null,null,null,null,null,null,1]
[null,null,null,null,null,null,null,null,null,null,null,1]
[null,null,null,null,null,null,null,null,null,null,null,1]
[null,null,null,null,null,null,null,null,null,null,null,1]
[null,null,null,null,null,null,null,null,null,null,null,1]
[null,null,null,null,null,null,null,null,null,null,null,1]
[null,null,null,null,null,null,null,null,null,null,null,1]
[null,null,null,null,null,null,null,null,null,null,null,1]
[null,null,null,null,null,null,null,null,null,null,null,1]
[null,null,null,null,null,null,null,null,null,null,null,1]
[null,null,null,null,null,null,null,null,null,null,null,1]
[null,null,null,null,null,null,null,null,null,null,null,1]
[null,null,null,null,null,null,null,null,null,null,null,1]
[null,null,null,null,null,null,null,null,null,null,null,1]
[null,null,null,null,null,null,null,null,null,null,null,1]
[null,null,null,null,null,null,null,null,null,null,null,1]
[null,null,null,null,null,null,null,null,null,null,null,1]
[null,null,null,null,null,null,null,null,null,null,null,1]
[null,null,null,null,null,null,null,null,null,null,null,1]
[null,null,null,null,null,null,null,null,null,null,null,1]
[null,null,null,null,null,null,null,null,null,null,null,1]
[null,null,null,null,null,null,null,null,null,null,null,1]
[null,null,null,null,null,null,null,null,null,null,null,1]
[null,null,null,null,null,null,null,null,null,null,null,1]
[null,null,null,null,null,null,null,null,null,null,null,1]
[null,null,null,null,null,null,null,null,null,null,null,1]
[null,null,null,null,null,null,null,null,null,null,null,1]
[null,null,null,null,null,null,null,null,null,null,null,1]
[null,null,null,null,null,null,null,null,null,null,null,1]
[null,null,null,null,null,null,null,null,null,null,null,1]
[null,null,null,null,null,null,null,null,null,null,null,1]
[null,null,null,null,null,null,null,null,null,null,null,{"$f":"IF(INT(C1667)<>INT(C1666),L1666+1,L1666)","v":1}]
[null,null,null,null,null,null,null,null,null,null,null,1]
[null,null,null,null,null,null,null,null,null,null,null,1]
[null,null,null,null,null,null,null,null,null,null,null,1]
[null,null,null,null,null,null,null,null,null,null,null,1]
[null,null,null,null,null,null,null,null,null,null,null,1]
[null,null,null,null,null,null,null,null,null,null,null,1]
[null,null,null,null,null,null,null,null,null,null,null,1]
[null,null,null,null,null,null,null,null,null,null,null,1]
[null,null,null,null,null,null,null,null,null,null,null,1]
[null,null,null,null,null,null,null,null,null,null,null,1]
[null,null,null,null,null,null,null,null,null,null,null,1]
[null,null,null,null,null,null,null,null,null,null,null,1]
[null,null,null,null,null,null,null,null,null,null,null,1]
[null,null,null,null,null,null,null,null,null,null,null,1]
[null,null,null,null,null,null,null,null,null,null,null,1]
[null,null,null,null,null,null,null,null,null,null,null,1]
[null,null,null,null,null,null,null,null,null,null,null,1]
[null,null,null,null,null,null,null,null,null,null,null,1]
[null,null,null,null,null,null,null,null,null,null,null,1]
[null,null,null,null,null,null,null,null,null,null,null,1]
[null,null,null,null,null,null,null,null,null,null,null,1]
[null,null,null,null,null,null,null,null,null,null,null,1]
[null,null,null,null,null,null,null,null,null,null,null,1]
[null,null,null,null,null,null,null,null,null,null,null,1]
[null,null,null,null,null,null,null,null,null,null,null,1]
[null,null,null,null,null,null,null,null,null,null,null,1]
[null,null,null,null,null,null,null,null,null,null,null,1]
[null,null,null,null,null,null,null,null,null,null,null,1]
[null,null,null,null,null,null,null,null,null,null,null,1]
[null,null,null,null,null,null,null,null,null,null,null,1]
[null,null,null,null,null,null,null,null,null,null,null,1]
[null,null,null,null,null,null,null,null,null,null,null,1]
[null,null,null,null,null,null,null,null,null,null,null,1]
[null,null,null,null,null,null,null,null,null,null,null,1]
[null,null,null,null,null,null,null,null,null,null,null,1]
[null,null,null,null,null,null,null,null,null,null,null,1]
[null,null,null,null,null,null,null,null,null,null,null,1]
[null,null,null,null,null,null,null,null,null,null,null,1]
[null,null,null,null,null,null,null,null,null,null,null,1]
[null,null,null,null,null,null,null,null,null,null,null,1]
[null,null,null,null,null,null,null,null,null,null,null,1]
[null,null,null,null,null,null,null,null,null,null,null,1]
[null,null,null,null,null,null,null,null,null,null,null,1]
[null,null,null,null,null,null,null,null,null,null,null,1]
[null,null,null,null,null,null,null,null,null,null,null,1]
[null,null,null,null,null,null,null,null,null,null,null,1]
[null,null,null,null,null,null,null,null,null,null,null,1]
[null,null,null,null,null,null,null,null,null,null,null,1]
[null,null,null,null,null,null,null,null,null,null,null,1]
[null,null,null,null,null,null,null,null,null,null,null,1]
[null,null,null,null,null,null,null,null,null,null,null,1]
[null,null,null,null,null,null,null,null,null,null,null,1]
[null,null,null,null,null,null,null,null,null,null,null,1]
[null,null,null,null,null,null,null,null,null,null,null,1]
[null,null,null,null,null,null,null,null,null,null,null,1]
[null,null,null,null,null,null,null,null,null,null,null,1]
[null,null,null,null,null,null,null,null,null,null,null,1]
[null,null,null,null,null,null,null,null,null,null,null,1]
[null,null,null,null,null,null,null,null,null,null,null,1]
[null,null,null,null,null,null,null,null,null,null,null,1]
[null,null,null,null,null,null,null,null,null,null,null,1]
[null,null,null,null,null,null,null,null,null,null,null,1]
[null,null,null,null,null,null,null,null,null,null,null,1]
[null,null,null,null,null,null,null,null,null,null,null,{"$f":"IF(INT(C1731)<>INT(C1730),L1730+1,L1730)","v":1}]
[null,null,null,null,null,null,null,null,null,null,null,1]
[null,null,null,null,null,null,null,null,null,null,null,1]
[null,null,null,null,null,null,null,null,null,null,null,1]
[null,null,null,null,null,null,null,null,null,null,null,1]
[null,null,null,null,null,null,null,null,null,null,null,1]
[null,null,null,null,null,null,null,null,null,null,null,1]
[null,null,null,null,null,null,null,null,null,null,null,1]
[null,null,null,null,null,null,null,null,null,null,null,1]
[null,null,null,null,null,null,null,null,null,null,null,1]
[null,null,null,null,null,null,null,null,null,null,null,1]
[null,null,null,null,null,null,null,null,null,null,null,1]
[null,null,null,null,null,null,null,null,null,null,null,1]
[null,null,null,null,null,null,null,null,null,null,null,1]
[null,null,null,null,null,null,null,null,null,null,null,1]
[null,null,null,null,null,null,null,null,null,null,null,1]
[null,null,null,null,null,null,null,null,null,null,null,1]
[null,null,null,null,null,null,null,null,null,null,null,1]
[null,null,null,null,null,null,null,null,null,null,null,1]
[null,null,null,null,null,null,null,null,null,null,null,1]
[null,null,null,null,null,null,null,null,null,null,null,1]
[null,null,null,null,null,null,null,null,null,null,null,1]
[null,null,null,null,null,null,null,null,null,null,null,1]
[null,null,null,null,null,null,null,null,null,null,null,1]
[null,null,null,null,null,null,null,null,null,null,null,1]
[null,null,null,null,null,null,null,null,null,null,null,1]
[null,null,null,null,null,null,null,null,null,null,null,1]
[null,null,null,null,null,null,null,null,null,null,null,1]
[null,null,null,null,null,null,null,null,null,null,null,1]
[null,null,null,null,null,null,null,null,null,null,null,1]
[null,null,null,null,null,null,null,null,null,null,null,1]
[null,null,null,null,null,null,null,null,null,null,null,1]
[null,null,null,null,null,null,null,null,null,null,null,1]
[null,null,null,null,null,null,null,null,null,null,null,1]
[null,null,null,null,null,null,null,null,null,null,null,1]
[null,null,null,null,null,null,null,null,null,null,null,1]
[null,null,null,null,null,null,null,null,null,null,null,1]
[null,null,null,null,null,null,null,null,null,null,null,1]
[null,null,null,null,null,null,null,null,null,null,null,1]
[null,null,null,null,null,null,null,null,null,null,null,1]
[null,null,null,null,null,null,null,null,null,null,null,1]
[null,null,null,null,null,null,null,null,null,null,null,1]
[null,null,null,null,null,null,null,null,null,null,null,1]
[null,null,null,null,null,null,null,null,null,null,null,1]
[null,null,null,null,null,null,null,null,null,null,null,1]
[null,null,null,null,null,null,null,null,null,null,null,1]
[null,null,null,null,null,null,null,null,null,null,null,1]
[null,null,null,null,null,null,null,null,null,null,null,1]
[null,null,null,null,null,null,null,null,null,null,null,1]
[null,null,null,null,null,null,null,null,null,null,null,1]
[null,null,null,null,null,null,null,null,null,null,null,1]
[null,null,null,null,null,null,null,null,null,null,null,1]
[null,null,null,null,null,null,null,null,null,null,null,1]
[null,null,null,null,null,null,null,null,null,null,null,1]
[null,null,null,null,null,null,null,null,null,null,null,1]
[null,null,null,null,null,null,null,null,null,null,null,1]
[null,null,null,null,null,null,null,null,null,null,null,1]
[null,null,null,null,null,null,null,null,null,null,null,1]
[null,null,null,null,null,null,null,null,null,null,null,1]
[null,null,null,null,null,null,null,null,null,null,null,1]
[null,null,null,null,null,null,null,null,null,null,null,1]
[null,null,null,null,null,null,null,null,null,null,null,1]
[null,null,null,null,null,null,null,null,null,null,null,1]
[null,null,null,null,null,null,null,null,null,null,null,1]
[null,null,null,null,null,null,null,null,null,null,null,{"$f":"IF(INT(C1795)<>INT(C1794),L1794+1,L1794)","v":1}]
[null,null,null,null,null,null,null,null,null,null,null,1]
[null,null,null,null,null,null,null,null,null,null,null,1]
[null,null,null,null,null,null,null,null,null,null,null,1]
[null,null,null,null,null,null,null,null,null,null,null,1]
[null,null,null,null,null,null,null,null,null,null,null,1]
[null,null,null,null,null,null,null,null,null,null,null,1]
[null,null,null,null,null,null,null,null,null,null,null,1]
[null,null,null,null,null,null,null,null,null,null,null,1]
[null,null,null,null,null,null,null,null,null,null,null,1]
[null,null,null,null,null,null,null,null,null,null,null,1]
[null,null,null,null,null,null,null,null,null,null,null,1]
[null,null,null,null,null,null,null,null,null,null,null,1]
[null,null,null,null,null,null,null,null,null,null,null,1]
[null,null,null,null,null,null,null,null,null,null,null,1]
[null,null,null,null,null,null,null,null,null,null,null,1]
[null,null,null,null,null,null,null,null,null,null,null,1]
[null,null,null,null,null,null,null,null,null,null,null,1]
[null,null,null,null,null,null,null,null,null,null,null,1]
[null,null,null,null,null,null,null,null,null,null,null,1]
[null,null,null,null,null,null,null,null,null,null,null,1]
[null,null,null,null,null,null,null,null,null,null,null,1]
[null,null,null,null,null,null,null,null,null,null,null,1]
[null,null,null,null,null,null,null,null,null,null,null,1]
[null,null,null,null,null,null,null,null,null,null,null,1]
[null,null,null,null,null,null,null,null,null,null,null,1]
[null,null,null,null,null,null,null,null,null,null,null,1]
[null,null,null,null,null,null,null,null,null,null,null,1]
[null,null,null,null,null,null,null,null,null,null,null,1]
[null,null,null,null,null,null,null,null,null,null,null,1]
[null,null,null,null,null,null,null,null,null,null,null,1]
[null,null,null,null,null,null,null,null,null,null,null,1]
[null,null,null,null,null,null,null,null,null,null,null,1]
[null,null,null,null,null,null,null,null,null,null,null,1]
[null,null,null,null,null,null,null,null,null,null,null,1]
[null,null,null,null,null,null,null,null,null,null,null,1]
[null,null,null,null,null,null,null,null,null,null,null,1]
[null,null,null,null,null,null,null,null,null,null,null,1]
[null,null,null,null,null,null,null,null,null,null,null,1]
[null,null,null,null,null,null,null,null,null,null,null,1]
[null,null,null,null,null,null,null,null,null,null,null,1]
[null,null,null,null,null,null,null,null,null,null,null,1]
[null,null,null,null,null,null,null,null,null,null,null,1]
[null,null,null,null,null,null,null,null,null,null,null,1]
[null,null,null,null,null,null,null,null,null,null,null,1]
[null,null,null,null,null,null,null,null,null,null,null,1]
[null,null,null,null,null,null,null,null,null,null,null,1]
[null,null,null,null,null,null,null,null,null,null,null,1]
[null,null,null,null,null,null,null,null,null,null,null,1]
[null,null,null,null,null,null,null,null,null,null,null,1]
[null,null,null,null,null,null,null,null,null,null,null,1]
[null,null,null,null,null,null,null,null,null,null,null,1]
[null,null,null,null,null,null,null,null,null,null,null,1]
[null,null,null,null,null,null,null,null,null,null,null,1]
[null,null,null,null,null,null,null,null,null,null,null,1]
[null,null,null,null,null,null,null,null,null,null,null,1]
[null,null,null,null,null,null,null,null,null,null,null,1]
[null,null,null,null,null,null,null,null,null,null,null,1]
[null,null,null,null,null,null,null,null,null,null,null,1]
[null,null,null,null,null,null,null,null,null,null,null,1]
[null,null,null,null,null,null,null,null,null,null,null,1]
[null,null,null,null,null,null,null,null,null,null,null,1]
[null,null,null,null,null,null,null,null,null,null,null,1]
[null,null,null,null,null,null,null,null,null,null,null,1]
[null,null,null,null,null,null,null,null,null,null,null,{"$f":"IF(INT(C1859)<>INT(C1858),L1858+1,L1858)","v":1}]
[null,null,null,null,null,null,null,null,null,null,null,1]
[null,null,null,null,null,null,null,null,null,null,null,1]
[null,null,null,null,null,null,null,null,null,null,null,1]
[null,null,null,null,null,null,null,null,null,null,null,1]
[null,null,null,null,null,null,null,null,null,null,null,1]
[null,null,null,null,null,null,null,null,null,null,null,1]
[null,null,null,null,null,null,null,null,null,null,null,1]
[null,null,null,null,null,null,null,null,null,null,null,1]
[null,null,null,null,null,null,null,null,null,null,null,1]
[null,null,null,null,null,null,null,null,null,null,null,1]
[null,null,null,null,null,null,null,null,null,null,null,1]
[null,null,null,null,null,null,null,null,null,null,null,1]
[null,null,null,null,null,null,null,null,null,null,null,1]
[null,null,null,null,null,null,null,null,null,null,null,1]
[null,null,null,null,null,null,null,null,null,null,null,1]
[null,null,null,null,null,null,null,null,null,null,null,1]
[null,null,null,null,null,null,null,null,null,null,null,1]
[null,null,null,null,null,null,null,null,null,null,null,1]
[null,null,null,null,null,null,null,null,null,null,null,1]
[null,null,null,null,null,null,null,null,null,null,null,1]
[null,null,null,null,null,null,null,null,null,null,null,1]
[null,null,null,null,null,null,null,null,null,null,null,1]
[null,null,null,null,null,null,null,null,null,null,null,1]
[null,null,null,null,null,null,null,null,null,null,null,1]
[null,null,null,null,null,null,null,null,null,null,null,1]
[null,null,null,null,null,null,null,null,null,null,null,1]
[null,null,null,null,null,null,null,null,null,null,null,1]
[null,null,null,null,null,null,null,null,null,null,null,1]
[null,null,null,null,null,null,null,null,null,null,null,1]
[null,null,null,null,null,null,null,null,null,null,null,1]
[null,null,null,null,null,null,null,null,null,null,null,1]
[null,null,null,null,null,null,null,null,null,null,null,1]
[null,null,null,null,null,null,null,null,null,null,null,1]
[null,null,null,null,null,null,null,null,null,null,null,1]
[null,null,null,null,null,null,null,null,null,null,null,1]
[null,null,null,null,null,null,null,null,null,null,null,1]
[null,null,null,null,null,null,null,null,null,null,null,1]
[null,null,null,null,null,null,null,null,null,null,null,1]
[null,null,null,null,null,null,null,null,null,null,null,1]
[null,null,null,null,null,null,null,null,null,null,null,1]
[null,null,null,null,null,null,null,null,null,null,null,1]
[null,null,null,null,null,null,null,null,null,null,null,1]
[null,null,null,null,null,null,null,null,null,null,null,1]
[null,null,null,null,null,null,null,null,null,null,null,1]
[null,null,null,null,null,null,null,null,null,null,null,1]
[null,null,null,null,null,null,null,null,null,null,null,1]
[null,null,null,null,null,null,null,null,null,null,null,1]
[null,null,null,null,null,null,null,null,null,null,null,1]
[null,null,null,null,null,null,null,null,null,null,null,1]
[null,null,null,null,null,null,null,null,null,null,null,1]
[null,null,null,null,null,null,null,null,null,null,null,1]
[null,null,null,null,null,null,null,null,null,null,null,1]
[null,null,null,null,null,null,null,null,null,null,null,1]
[null,null,null,null,null,null,null,null,null,null,null,1]
[null,null,null,null,null,null,null,null,null,null,null,1]
[null,null,null,null,null,null,null,null,null,null,null,1]
[null,null,null,null,null,null,null,null,null,null,null,1]
[null,null,null,null,null,null,null,null,null,null,null,1]
[null,null,null,null,null,null,null,null,null,null,null,1]
[null,null,null,null,null,null,null,null,null,null,null,1]
[null,null,null,null,null,null,null,null,null,null,null,1]
[null,null,null,null,null,null,null,null,null,null,null,1]
[null,null,null,null,null,null,null,null,null,null,null,1]
[null,null,null,null,null,null,null,null,null,null,null,{"$f":"IF(INT(C1923)<>INT(C1922),L1922+1,L1922)","v":1}]
[null,null,null,null,null,null,null,null,null,null,null,1]
[null,null,null,null,null,null,null,null,null,null,null,1]
[null,null,null,null,null,null,null,null,null,null,null,1]
[null,null,null,null,null,null,null,null,null,null,null,1]
[null,null,null,null,null,null,null,null,null,null,null,1]
[null,null,null,null,null,null,null,null,null,null,null,1]
[null,null,null,null,null,null,null,null,null,null,null,1]
[null,null,null,null,null,null,null,null,null,null,null,1]
[null,null,null,null,null,null,null,null,null,null,null,1]
[null,null,null,null,null,null,null,null,null,null,null,1]
[null,null,null,null,null,null,null,null,null,null,null,1]
[null,null,null,null,null,null,null,null,null,null,null,1]
[null,null,null,null,null,null,null,null,null,null,null,1]
[null,null,null,null,null,null,null,null,null,null,null,1]
[null,null,null,null,null,null,null,null,null,null,null,1]
[null,null,null,null,null,null,null,null,null,null,null,1]
[null,null,null,null,null,null,null,null,null,null,null,1]
[null,null,null,null,null,null,null,null,null,null,null,1]
[null,null,null,null,null,null,null,null,null,null,null,1]
[null,null,null,null,null,null,null,null,null,null,null,1]
[null,null,null,null,null,null,null,null,null,null,null,1]
[null,null,null,null,null,null,null,null,null,null,null,1]
[null,null,null,null,null,null,null,null,null,null,null,1]
[null,null,null,null,null,null,null,null,null,null,null,1]
[null,null,null,null,null,null,null,null,null,null,null,1]
[null,null,null,null,null,null,null,null,null,null,null,1]
[null,null,null,null,null,null,null,null,null,null,null,1]
[null,null,null,null,null,null,null,null,null,null,null,1]
[null,null,null,null,null,null,null,null,null,null,null,1]
[null,null,null,null,null,null,null,null,null,null,null,1]
[null,null,null,null,null,null,null,null,null,null,null,1]
[null,null,null,null,null,null,null,null,null,null,null,1]
[null,null,null,null,null,null,null,null,null,null,null,1]
[null,null,null,null,null,null,null,null,null,null,null,1]
[null,null,null,null,null,null,null,null,null,null,null,1]
[null,null,null,null,null,null,null,null,null,null,null,1]
[null,null,null,null,null,null,null,null,null,null,null,1]
[null,null,null,null,null,null,null,null,null,null,null,1]
[null,null,null,null,null,null,null,null,null,null,null,1]
[null,null,null,null,null,null,null,null,null,null,null,1]
[null,null,null,null,null,null,null,null,null,null,null,1]
[null,null,null,null,null,null,null,null,null,null,null,1]
[null,null,null,null,null,null,null,null,null,null,null,1]
[null,null,null,null,null,null,null,null,null,null,null,1]
[null,null,null,null,null,null,null,null,null,null,null,1]
[null,null,null,null,null,null,null,null,null,null,null,1]
[null,null,null,null,null,null,null,null,null,null,null,1]
[null,null,null,null,null,null,null,null,null,null,null,1]
[null,null,null,null,null,null,null,null,null,null,null,1]
[null,null,null,null,null,null,null,null,null,null,null,1]
[null,null,null,null,null,null,null,null,null,null,null,1]
[null,null,null,null,null,null,null,null,null,null,null,1]
[null,null,null,null,null,null,null,null,null,null,null,1]
[null,null,null,null,null,null,null,null,null,null,null,1]
[null,null,null,null,null,null,null,null,null,null,null,1]
[null,null,null,null,null,null,null,null,null,null,null,1]
[null,null,null,null,null,null,null,null,null,null,null,1]
[null,null,null,null,null,null,null,null,null,null,null,1]
[null,null,null,null,null,null,null,null,null,null,null,1]
[null,null,null,null,null,null,null,null,null,null,null,1]
[null,null,null,null,null,null,null,null,null,null,null,1]
[null,null,null,null,null,null,null,null,null,null,null,1]
[null,null,null,null,null,null,null,null,null,null,null,1]
[null,null,null,null,null,null,null,null,null,null,null,{"$f":"IF(INT(C1987)<>INT(C1986),L1986+1,L1986)","v":1}]
[null,null,null,null,null,null,null,null,null,null,null,1]
[null,null,null,null,null,null,null,null,null,null,null,1]
[null,null,null,null,null,null,null,null,null,null,null,1]
[null,null,null,null,null,null,null,null,null,null,null,1]
[null,null,null,null,null,null,null,null,null,null,null,1]
[null,null,null,null,null,null,null,null,null,null,null,1]
[null,null,null,null,null,null,null,null,null,null,null,1]
[null,null,null,null,null,null,null,null,null,null,null,1]
[null,null,null,null,null,null,null,null,null,null,null,1]
[null,null,null,null,null,null,null,null,null,null,null,1]
[null,null,null,null,null,null,null,null,null,null,null,1]
[null,null,null,null,null,null,null,null,null,null,null,1]
[null,null,null,null,null,null,null,null,null,null,null,1]
[null,null,null,null,null,null,null,null,null,null,null,1]
[null,null,null,null,null,null,null,null,null,null,null,1]
[null,null,null,null,null,null,null,null,null,null,null,1]
[null,null,null,null,null,null,null,null,null,null,null,1]
[null,null,null,null,null,null,null,null,null,null,null,1]
[null,null,null,null,null,null,null,null,null,null,null,1]
[null,null,null,null,null,null,null,null,null,null,null,1]
[null,null,null,null,null,null,null,null,null,null,null,1]
[null,null,null,null,null,null,null,null,null,null,null,1]
[null,null,null,null,null,null,null,null,null,null,null,1]
[null,null,null,null,null,null,null,null,null,null,null,1]
[null,null,null,null,null,null,null,null,null,null,null,1]
[null,null,null,null,null,null,null,null,null,null,null,1]
[null,null,null,null,null,null,null,null,null,null,null,1]
[null,null,null,null,null,null,null,null,null,null,null,1]
[null,null,null,null,null,null,null,null,null,null,null,1]
[null,null,null,null,null,null,null,null,null,null,null,1]
[null,null,null,null,null,null,null,null,null,null,null,1]
[null,null,null,null,null,null,null,null,null,null,null,1]
[null,null,null,null,null,null,null,null,null,null,null,1]
[null,null,null,null,null,null,null,null,null,null,null,1]
[null,null,null,null,null,null,null,null,null,null,null,1]
[null,null,null,null,null,null,null,null,null,null,null,1]
[null,null,null,null,null,null,null,null,null,null,null,1]
[null,null,null,null,null,null,null,null,null,null,null,1]
[null,null,null,null,null,null,null,null,null,null,null,1]
[null,null,null,null,null,null,null,null,null,null,null,1]
[null,null,null,null,null,null,null,null,null,null,null,1]
[null,null,null,null,null,null,null,null,null,null,null,1]
[null,null,null,null,null,null,null,null,null,null,null,1]
[null,null,null,null,null,null,null,null,null,null,null,1]
[null,null,null,null,null,null,null,null,null,null,null,1]
[null,null,null,null,null,null,null,null,null,null,null,1]
[null,null,null,null,null,null,null,null,null,null,null,1]
[null,null,null,null,null,null,null,null,null,null,null,1]
[null,null,null,null,null,null,null,null,null,null,null,1]
[null,null,null,null,null,null,null,null,null,null,null,1]
[null,null,null,null,null,null,null,null,null,null,null,1]
[null,null,null,null,null,null,null,null,null,null,null,1]
[null,null,null,null,null,null,null,null,null,null,null,1]
[null,null,null,null,null,null,null,null,null,null,null,1]
[null,null,null,null,null,null,null,null,null,null,null,1]
[null,null,null,null,null,null,null,null,null,null,null,1]
[null,null,null,null,null,null,null,null,null,null,null,1]
[null,null,null,null,null,null,null,null,null,null,null,1]
[null,null,null,null,null,null,null,null,null,null,null,1]
[null,null,null,null,null,null,null,null,null,null,null,1]
[null,null,null,null,null,null,null,null,null,null,null,1]
[null,null,null,null,null,null,null,null,null,null,null,1]
[null,null,null,null,null,null,null,null,null,null,null,1]
[null,null,null,null,null,null,null,null,null,null,null,1]
[null,null,null,null,null,null,null,null,null,null,null,1]
[null,null,null,null,null,null,null,null,null,null,null,1]
[null,null,null,null,null,null,null,null,null,null,null,1]
[null,null,null,null,null,null,null,null,null,null,null,1]
[null,null,null,null,null,null,null,null,null,null,null,1]
[null,null,null,null,null,null,null,null,null,null,null,1]
[null,null,null,null,null,null,null,null,null,null,null,1]
[null,null,null,null,null,null,null,null,null,null,null,1]
[null,null,null,null,null,null,null,null,null,null,null,1]
[null,null,null,null,null,null,null,null,null,null,null,1]
[null,null,null,null,null,null,null,null,null,null,null,1]
[null,null,null,null,null,null,null,null,null,null,null,1]
[null,null,null,null,null,null,null,null,null,null,null,1]
[null,null,null,null,null,null,null,null,null,null,null,1]
[null,null,null,null,null,null,null,null,null,null,null,1]
[null,null,null,null,null,null,null,null,null,null,null,1]
[null,null,null,null,null,null,null,null,null,null,null,1]
[null,null,null,null,null,null,null,null,null,null,null,1]
[null,null,null,null,null,null,null,null,null,null,null,1]
[null,null,null,null,null,null,null,null,null,null,null,1]
[null,null,null,null,null,null,null,null,null,null,null,1]
[null,null,null,null,null,null,null,null,null,null,null,1]
[null,null,null,null,null,null,null,null,null,null,null,1]
[null,null,null,null,null,null,null,null,null,null,null,1]
[null,null,null,null,null,null,null,null,null,null,null,1]
[null,null,null,null,null,null,null,null,null,null,null,1]
[null,null,null,null,null,null,null,null,null,null,null,1]
[null,null,null,null,null,null,null,null,null,null,null,1]
[null,null,null,null,null,null,null,null,null,null,null,1]
[null,null,null,null,null,null,null,null,null,null,null,1]
[null,null,null,null,null,null,null,null,null,null,null,1]
[null,null,null,null,null,null,null,null,null,null,null,1]
[null,null,null,null,null,null,null,null,null,null,null,1]
[null,null,null,null,null,null,null,null,null,null,null,1]
[null,null,null,null,null,null,null,null,null,null,null,1]
[null,null,null,null,null,null,null,null,null,null,null,1]
[null,null,null,null,null,null,null,null,null,null,null,1]
[null,null,null,null,null,null,null,null,null,null,null,1]
[null,null,null,null,null,null,null,null,null,null,null,1]
[null,null,null,null,null,null,null,null,null,null,null,1]
[null,null,null,null,null,null,null,null,null,null,null,1]
[null,null,null,null,null,null,null,null,null,null,null,1]
[null,null,null,null,null,null,null,null,null,null,null,1]
[null,null,null,null,null,null,null,null,null,null,null,1]
[null,null,null,null,null,null,null,null,null,null,null,1]
[null,null,null,null,null,null,null,null,null,null,null,1]
[null,null,null,null,null,null,null,null,null,null,null,1]
[null,null,null,null,null,null,null,null,null,null,null,1]
[null,null,null,null,null,null,null,null,null,null,null,1]
[null,null,null,null,null,null,null,null,null,null,null,1]
[null,null,null,null,null,null,null,null,null,null,null,1]
[null,null,null,null,null,null,null,null,null,null,null,1]
[null,null,null,null,null,null,null,null,null,null,null,1]
[null,null,null,null,null,null,null,null,null,null,null,1]
[null,null,null,null,null,null,null,null,null,null,null,1]
[null,null,null,null,null,null,null,null,null,null,null,1]
[null,null,null,null,null,null,null,null,null,null,null,1]
[null,null,null,null,null,null,null,null,null,null,null,1]
[null,null,null,null,null,null,null,null,null,null,null,1]
[null,null,null,null,null,null,null,null,null,null,null,1]
[null,null,null,null,null,null,null,null,null,null,null,1]
[null,null,null,null,null,null,null,null,null,null,null,1]
[null,null,null,null,null,null,null,null,null,null,null,1]
[null,null,null,null,null,null,null,null,null,null,null,1]
[null,null,null,null,null,null,null,null,null,null,null,1]
[null,null,null,null,null,null,null,null,null,null,null,1]
[null,null,null,null,null,null,null,null,null,null,null,1]
[null,null,null,null,null,null,null,null,null,null,null,1]
[null,null,null,null,null,null,null,null,null,null,null,1]
[null,null,null,null,null,null,null,null,null,null,null,1]
[null,null,null,null,null,null,null,null,null,null,null,1]
[null,null,null,null,null,null,null,null,null,null,null,1]
[null,null,null,null,null,null,null,null,null,null,null,1]
[null,null,null,null,null,null,null,null,null,null,null,1]
[null,null,null,null,null,null,null,null,null,null,null,1]
[null,null,null,null,null,null,null,null,null,null,null,1]
[null,null,null,null,null,null,null,null,null,null,null,1]
[null,null,null,null,null,null,null,null,null,null,null,1]
[null,null,null,null,null,null,null,null,null,null,null,1]
[null,null,null,null,null,null,null,null,null,null,null,1]
[null,null,null,null,null,null,null,null,null,null,null,1]
[null,null,null,null,null,null,null,null,null,null,null,1]
[null,null,null,null,null,null,null,null,null,null,null,1]
[null,null,null,null,null,null,null,null,null,null,null,1]
[null,null,null,null,null,null,null,null,null,null,null,1]
[null,null,null,null,null,null,null,null,null,null,null,{"$f":"IF(INT(C37700)<>INT(C37699),L37699+1,L37699)","v":1}]
[null,null,null,null,null,null,null,null,null,null,null,1]
[null,null,null,null,null,null,null,null,null,null,null,1]
[null,null,null,null,null,null,null,null,null,null,null,{"$f":"IF(INT(C38660)<>INT(C38659),L38659+1,L38659)","v":1}]
[null,null,null,null,null,null,null,null,null,null,null,1]
[null,null,null,null,null,null,null,null,null,null,null,1]
[null,null,null,null,null,null,null,null,null,null,null,1]
[null,null,null,null,null,null,null,null,null,null,null,1]
[null,null,null,null,null,null,null,null,null,null,null,1]
[null,null,null,null,null,null,null,null,null,null,null,1]
[null,null,null,null,null,null,null,null,null,null,null,1]
[null,null,null,null,null,null,null,null,null,null,null,1]
[null,null,null,null,null,null,null,null,null,null,null,1]
[null,null,null,null,null,null,null,null,null,null,null,1]
[null,null,null,null,null,null,null,null,null,null,null,1]
[null,null,null,null,null,null,null,null,null,null,null,1]
[null,null,null,null,null,null,null,null,null,null,null,1]
[null,null,null,null,null,null,null,null,null,null,null,1]
[null,null,null,null,null,null,null,null,null,null,null,1]
[null,null,null,null,null,null,null,null,null,null,null,1]
[null,null,null,null,null,null,null,null,null,null,null,1]
[null,null,null,null,null,null,null,null,null,null,null,1]
[null,null,null,null,null,null,null,null,null,null,null,1]
[null,null,null,null,null,null,null,null,null,null,null,1]
[null,null,null,null,null,null,null,null,null,null,null,1]
[null,null,null,null,null,null,null,null,null,null,null,1]
[null,null,null,null,null,null,null,null,null,null,null,1]
[null,null,null,null,null,null,null,null,null,null,null,1]
[null,null,null,null,null,null,null,null,null,null,null,1]
[null,null,null,null,null,null,null,null,null,null,null,1]
[null,null,null,null,null,null,null,null,null,null,null,1]
[null,null,null,null,null,null,null,null,null,null,null,1]
[null,null,null,null,null,null,null,null,null,null,null,1]
[null,null,null,null,null,null,null,null,null,null,null,1]
[null,null,null,null,null,null,null,null,null,null,null,1]
[null,null,null,null,null,null,null,null,null,null,null,1]
[null,null,null,null,null,null,null,null,null,null,null,1]
[null,null,null,null,null,null,null,null,null,null,null,1]
[null,null,null,null,null,null,null,null,null,null,null,1]
[null,null,null,null,null,null,null,null,null,null,null,1]
[null,null,null,null,null,null,null,null,null,null,null,1]
[null,null,null,null,null,null,null,null,null,null,null,1]
[null,null,null,null,null,null,null,null,null,null,null,1]
[null,null,null,null,null,null,null,null,null,null,null,1]
[null,null,null,null,null,null,null,null,null,null,null,1]
[null,null,null,null,null,null,null,null,null,null,null,1]
[null,null,null,null,null,null,null,null,null,null,null,1]
[null,null,null,null,null,null,null,null,null,null,null,1]
[null,null,null,null,null,null,null,null,null,null,null,1]
[null,null,null,null,null,null,null,null,null,null,null,1]
[null,null,null,null,null,null,null,null,null,null,null,1]
[null,null,null,null,null,null,null,null,null,null,null,1]
[null,null,null,null,null,null,null,null,null,null,null,1]
[null,null,null,null,null,null,null,null,null,null,null,1]
[null,null,null,null,null,null,null,null,null,null,null,1]
[null,null,null,null,null,null,null,null,null,null,null,1]
[null,null,null,null,null,null,null,null,null,null,null,1]
[null,null,null,null,null,null,null,null,null,null,null,1]
[null,null,null,null,null,null,null,null,null,null,null,1]
[null,null,null,null,null,null,null,null,null,null,null,1]
[null,null,null,null,null,null,null,null,null,null,null,1]
[null,null,null,null,null,null,null,null,null,null,null,1]
[null,null,null,null,null,null,null,null,null,null,null,1]
[null,null,null,null,null,null,null,null,null,null,null,1]
[null,null,null,null,null,null,null,null,null,null,null,1]
[null,null,null,null,null,null,null,null,null,null,null,1]
[null,null,null,null,null,null,null,null,null,null,null,1]
[null,null,null,null,null,null,null,null,null,null,null,1]
[null,null,null,null,null,null,null,null,null,null,null,1]
[null,null,null,null,null,null,null,null,null,null,null,1]
[null,null,null,null,null,null,null,null,null,null,null,1]
[null,null,null,null,null,null,null,null,null,null,null,1]
[null,null,null,null,null,null,null,null,null,null,null,1]
[null,null,null,null,null,null,null,null,null,null,null,1]
[null,null,null,null,null,null,null,null,null,null,null,1]
[null,null,null,null,null,null,null,null,null,null,null,1]
[null,null,null,null,null,null,null,null,null,null,null,1]
[null,null,null,null,null,null,null,null,null,null,null,1]
[null,null,null,null,null,null,null,null,null,null,null,1]
[null,null,null,null,null,null,null,null,null,null,null,1]
[null,null,null,null,null,null,null,null,null,null,null,1]
[null,null,null,null,null,null,null,null,null,null,null,1]
[null,null,null,null,null,null,null,null,null,null,null,1]
[null,null,null,null,null,null,null,null,null,null,null,1]
[null,null,null,null,null,null,null,null,null,null,null,1]
[null,null,null,null,null,null,null,null,null,null,null,1]
[null,null,null,null,null,null,null,null,null,null,null,1]
[null,null,null,null,null,null,null,null,null,null,null,1]
[null,null,null,null,null,null,null,null,null,null,null,1]
[null,null,null,null,null,null,null,null,null,null,null,1]
[null,null,null,null,null,null,null,null,null,null,null,1]
[null,null,null,null,null,null,null,null,null,null,null,1]
[null,null,null,null,null,null,null,null,null,null,null,1]
[null,null,null,null,null,null,null,null,null,null,null,1]
[null,null,null,null,null,null,null,null,null,null,null,1]
[null,null,null,null,null,null,null,null,null,null,null,1]
[null,null,null,null,null,null,null,null,null,null,null,1]
[null,null,null,null,null,null,null,null,null,null,null,1]
[null,null,null,null,null,null,null,null,null,null,null,1]
[null,null,null,null,null,null,null,null,null,null,null,1]
[null,null,null,null,null,null,null,null,null,null,null,1]
[null,null,null,null,null,null,null,null,null,null,null,1]
[null,null,null,null,null,null,null,null,null,null,null,1]
[null,null,null,null,null,null,null,null,null,null,null,1]
[null,null,null,null,null,null,null,null,null,null,null,1]
[null,null,null,null,null,null,null,null,null,null,null,1]
[null,null,null,null,null,null,null,null,null,null,null,{"$f":"IF(INT(C65479)<>INT(C65478),L65478+1,L65478)","v":1}]
[null,null,null,null,null,null,null,null,null,null,null,1]
[null,null,null,null,null,null,null,null,null,null,null,1]
[null,null,null,null,null,null,null,null,null,null,null,1]
[null,null,null,null,null,null,null,null,null,null,null,1]
[null,null,null,null,null,null,null,null,null,null,null,1]
[null,null,null,null,null,null,null,null,null,null,null,1]
[null,null,null,null,null,null,null,null,null,null,null,1]
[null,null,null,null,null,null,null,null,null,null,null,1]
[null,null,null,null,null,null,null,null,null,null,null,1]
[null,null,null,null,null,null,null,null,null,null,null,1]
[null,null,null,null,null,null,null,null,null,null,null,1]
[null,null,null,null,null,null,null,null,null,null,null,1]
[null,null,null,null,null,null,null,null,null,null,null,1]
[null,null,null,null,null,null,null,null,null,null,null,1]
[null,null,null,null,null,null,null,null,null,null,null,1]
[null,null,null,null,null,null,null,null,null,null,null,1]
[null,null,null,null,null,null,null,null,null,null,null,1]
[null,null,null,null,null,null,null,null,null,null,null,1]
[null,null,null,null,null,null,null,null,null,null,null,1]
[null,null,null,null,null,null,null,null,null,null,null,1]
[null,null,null,null,null,null,null,null,null,null,null,1]
[null,null,null,null,null,null,null,null,null,null,null,1]
[null,null,null,null,null,null,null,null,null,null,null,1]
[null,null,null,null,null,null,null,null,null,null,null,1]
[null,null,null,null,null,null,null,null,null,null,null,1]
[null,null,null,null,null,null,null,null,null,null,null,1]
[null,null,null,null,null,null,null,null,null,null,null,1]
[null,null,null,null,null,null,null,null,null,null,null,1]
[null,null,null,null,null,null,null,null,null,null,null,1]
[null,null,null,null,null,null,null,null,null,null,null,1]
[null,null,null,null,null,null,null,null,null,null,null,1]
[null,null,null,null,null,null,null,null,null,null,null,1]
[null,null,null,null,null,null,null,null,null,null,null,1]
[null,null,null,null,null,null,null,null,null,null,null,1]
[null,null,null,null,null,null,null,null,null,null,null,1]
[null,null,null,null,null,null,null,null,null,null,null,1]
[null,null,null,null,null,null,null,null,null,null,null,1]
[null,null,null,null,null,null,null,null,null,null,null,1]
[null,null,null,null,null,null,null,null,null,null,null,1]
[null,null,null,null,null,null,null,null,null,null,null,1]
[null,null,null,null,null,null,null,null,null,null,null,1]
[null,null,null,null,null,null,null,null,null,null,null,1]
[null,null,null,null,null,null,null,null,null,null,null,1]
[null,null,null,null,null,null,null,null,null,null,null,1]
[null,null,null,null,null,null,null,null,null,null,null,1]
[null,null,null,null,null,null,null,null,null,null,null,1]
[null,null,null,null,null,null,null,null,null,null,null,1]
[null,null,null,null,null,null,null,null,null,null,null,1]
[null,null,null,null,null,null,null,null,null,null,null,1]
[null,null,null,null,null,null,null,null,null,null,null,1]
[null,null,null,null,null,null,null,null,null,null,null,1]
[null,null,null,null,null,null,null,null,null,null,null,1]
[null,null,null,null,null,null,null,null,null,null,null,1]
[null,null,null,null,null,null,null,null,null,null,null,1]
[null,null,null,null,null,null,null,null,null,null,null,1]
[null,null,null,null,null,null,null,null,null,null,null,1]
[null,null,null,null,null,null,null,null,null,null,null,1]
[null,null,null,null,null,null,null,null,null,null,null,1]
[null,null,null,null,null,null,null,null,null,null,null,1]
[null,null,null,null,null,null,null,null,null,null,null,1]
[null,null,null,null,null,null,null,null,null,null,null,1]
[null,null,null,null,null,null,null,null,null,null,null,1]
[null,null,null,null,null,null,null,null,null,null,null,1]
[null,null,null,null,null,null,null,null,null,null,null,1]
[null,null,null,null,null,null,null,null,null,null,null,1]
[null,null,null,null,null,null,null,null,null,null,null,1]
[null,null,null,null,null,null,null,null,null,null,null,1]
[null,null,null,null,null,null,null,null,null,null,null,1]
[null,null,null,null,null,null,null,null,null,null,null,1]
[null,null,null,null,null,null,null,null,null,null,null,1]
[null,null,null,null,null,null,null,null,null,null,null,1]
[null,null,null,null,null,null,null,null,null,null,null,1]
[null,null,null,null,null,null,null,null,null,null,null,1]
[null,null,null,null,null,null,null,null,null,null,null,{"$f":"IF(INT(C84999)<>INT(C84998),L84998+1,L84998)","v":1}]
[null,null,null,null,null,null,null,null,null,null,null,1]
[null,null,null,null,null,null,null,null,null,null,null,1]
[null,null,null,null,null,null,null,null,null,null,null,1]
[null,null,null,null,null,null,null,null,null,null,null,1]
[null,null,null,null,null,null,null,null,null,null,null,1]
[null,null,null,null,null,null,null,null,null,null,null,1]
[null,null,null,null,null,null,null,null,null,null,null,1]
[null,null,null,null,null,null,null,null,null,null,null,1]
[null,null,null,null,null,null,null,null,null,null,null,1]
[null,null,null,null,null,null,null,null,null,null,null,1]
[null,null,null,null,null,null,null,null,null,null,null,1]
[null,null,null,null,null,null,null,null,null,null,null,1]
[null,null,null,null,null,null,null,null,null,null,null,1]
[null,null,null,null,null,null,null,null,null,null,null,1]
[null,null,null,null,null,null,null,null,null,null,null,1]
[null,null,null,null,null,null,null,null,null,null,null,1]
[null,null,null,null,null,null,null,null,null,null,null,1]
[null,null,null,null,null,null,null,null,null,null,null,1]
[null,null,null,null,null,null,null,null,null,null,null,1]
[null,null,null,null,null,null,null,null,null,null,null,1]
[null,null,null,null,null,null,null,null,null,null,null,1]
[null,null,null,null,null,null,null,null,null,null,null,1]
[null,null,null,null,null,null,null,null,null,null,null,1]
[null,null,null,null,null,null,null,null,null,null,null,1]
[null,null,null,null,null,null,null,null,null,null,null,1]
[null,null,null,null,null,null,null,null,null,null,null,1]
[null,null,null,null,null,null,null,null,null,null,null,1]
[null,null,null,null,null,null,null,null,null,null,null,1]
[null,null,null,null,null,null,null,null,null,null,null,1]
[null,null,null,null,null,null,null,null,null,null,null,1]
[null,null,null,null,null,null,null,null,null,null,null,1]
[null,null,null,null,null,null,null,null,null,null,null,1]
[null,null,null,null,null,null,null,null,null,null,null,1]
[null,null,null,null,null,null,null,null,null,null,null,1]
[null,null,null,null,null,null,null,null,null,null,null,1]
[null,null,null,null,null,null,null,null,null,null,null,1]
[null,null,null,null,null,null,null,null,null,null,null,1]
[null,null,null,null,null,null,null,null,null,null,null,1]
[null,null,null,null,null,null,null,null,null,null,null,1]
[null,null,null,null,null,null,null,null,null,null,null,1]
[null,null,null,null,null,null,null,null,null,null,null,1]
[null,null,null,null,null,null,null,null,null,null,null,1]
[null,null,null,null,null,null,null,null,null,null,null,1]
[null,null,null,null,null,null,null,null,null,null,null,1]
[null,null,null,null,null,null,null,null,null,null,null,1]
[null,null,null,null,null,null,null,null,null,null,null,1]
[null,null,null,null,null,null,null,null,null,null,null,1]
[null,null,null,null,null,null,null,null,null,null,null,1]
[null,null,null,null,null,null,null,null,null,null,null,1]
[null,null,null,null,null,null,null,null,null,null,null,1]
[null,null,null,null,null,null,null,null,null,null,null,1]
[null,null,null,null,null,null,null,null,null,null,null,1]
[null,null,null,null,null,null,null,null,null,null,null,1]
[null,null,null,null,null,null,null,null,null,null,null,1]
[null,null,null,null,null,null,null,null,null,null,null,1]
[null,null,null,null,null,null,null,null,null,null,null,1]
[null,null,null,null,null,null,null,null,null,null,null,1]
[null,null,null,null,null,null,null,null,null,null,null,1]
[null,null,null,null,null,null,null,null,null,null,null,1]
[null,null,null,null,null,null,null,null,null,null,null,1]
[null,null,null,null,null,null,null,null,null,null,null,1]
[null,null,null,null,null,null,null,null,null,null,null,1]
[null,null,null,null,null,null,null,null,null,null,null,1]
[null,null,null,null,null,null,null,null,null,null,null,1]
[null,null,null,null,null,null,null,null,null,null,null,1]
[null,null,null,null,null,null,null,null,null,null,null,1]
[null,null,null,null,null,null,null,null,null,null,null,1]
[null,null,null,null,null,null,null,null,null,null,null,1]
[null,null,null,null,null,null,null,null,null,null,null,1]
[null,null,null,null,null,null,null,null,null,null,null,1]
[null,null,null,null,null,null,null,null,null,null,null,1]
[null,null,null,null,null,null,null,null,null,null,null,1]
[null,null,null,null,null,null,null,null,null,null,null,1]
[null,null,null,null,null,null,null,null,null,null,null,{"$f":"IF(INT(C104519)<>INT(C104518),L104518+1,L104518)","v":1}]
[null,null,null,null,null,null,null,null,null,null,null,1]
[null,null,null,null,null,null,null,null,null,null,null,1]
[null,null,null,null,null,null,null,null,null,null,null,1]
[null,null,null,null,null,null,null,null,null,null,null,1]
[null,null,null,null,null,null,null,null,null,null,null,1]
[null,null,null,null,null,null,null,null,null,null,null,1]
[null,null,null,null,null,null,null,null,null,null,null,1]
[null,null,null,null,null,null,null,null,null,null,null,1]
[null,null,null,null,null,null,null,null,null,null,null,1]
[null,null,null,null,null,null,null,null,null,null,null,1]
[null,null,null,null,null,null,null,null,null,null,null,1]
[null,null,null,null,null,null,null,null,null,null,null,1]
[null,null,null,null,null,null,null,null,null,null,null,1]
[null,null,null,null,null,null,null,null,null,null,null,1]
[null,null,null,null,null,null,null,null,null,null,null,1]
[null,null,null,null,null,null,null,null,null,null,null,1]
[null,null,null,null,null,null,null,null,null,null,null,1]
[null,null,null,null,null,null,null,null,null,null,null,1]
[null,null,null,null,null,null,null,null,null,null,null,1]
[null,null,null,null,null,null,null,null,null,null,null,1]
[null,null,null,null,null,null,null,null,null,null,null,1]
[null,null,null,null,null,null,null,null,null,null,null,1]
[null,null,null,null,null,null,null,null,null,null,null,1]
[null,null,null,null,null,null,null,null,null,null,null,1]
[null,null,null,null,null,null,null,null,null,null,null,1]
[null,null,null,null,null,null,null,null,null,null,null,1]
[null,null,null,null,null,null,null,null,null,null,null,1]
[null,null,null,null,null,null,null,null,null,null,null,1]
[null,null,null,null,null,null,null,null,null,null,null,1]
[null,null,null,null,null,null,null,null,null,null,null,1]
[null,null,null,null,null,null,null,null,null,null,null,1]
[null,null,null,null,null,null,null,null,null,null,null,1]
[null,null,null,null,null,null,null,null,null,null,null,1]
[null,null,null,null,null,null,null,null,null,null,null,1]
[null,null,null,null,null,null,null,null,null,null,null,1]
[null,null,null,null,null,null,null,null,null,null,null,1]
[null,null,null,null,null,null,null,null,null,null,null,1]
[null,null,null,null,null,null,null,null,null,null,null,1]
[null,null,null,null,null,null,null,null,null,null,null,1]
[null,null,null,null,null,null,null,null,null,null,null,1]
[null,null,null,null,null,null,null,null,null,null,null,1]
[null,null,null,null,null,null,null,null,null,null,null,1]
[null,null,null,null,null,null,null,null,null,null,null,1]
[null,null,null,null,null,null,null,null,null,null,null,1]
[null,null,null,null,null,null,null,null,null,null,null,1]
[null,null,null,null,null,null,null,null,null,null,null,1]
[null,null,null,null,null,null,null,null,null,null,null,1]
[null,null,null,null,null,null,null,null,null,null,null,1]
[null,null,null,null,null,null,null,null,null,null,null,1]
[null,null,null,null,null,null,null,null,null,null,null,1]
[null,null,null,null,null,null,null,null,null,null,null,1]
[null,null,null,null,null,null,null,null,null,null,null,1]
[null,null,null,null,null,null,null,null,null,null,null,1]
[null,null,null,null,null,null,null,null,null,null,null,1]
[null,null,null,null,null,null,null,null,null,null,null,1]
[null,null,null,null,null,null,null,null,null,null,null,1]
[null,null,null,null,null,null,null,null,null,null,null,1]
[null,null,null,null,null,null,null,null,null,null,null,1]
[null,null,null,null,null,null,null,null,null,null,null,1]
[null,null,null,null,null,null,null,null,null,null,null,1]
[null,null,null,null,null,null,null,null,null,null,null,1]
[null,null,null,null,null,null,null,null,null,null,null,1]
[null,null,null,null,null,null,null,null,null,null,null,1]
[null,null,null,null,null,null,null,null,null,null,null,1]
[null,null,null,null,null,null,null,null,null,null,null,1]
[null,null,null,null,null,null,null,null,null,null,null,1]
[null,null,null,null,null,null,null,null,null,null,null,1]
[null,null,null,null,null,null,null,null,null,null,null,1]
[null,null,null,null,null,null,null,null,null,null,null,1]
[null,null,null,null,null,null,null,null,null,null,null,1]
[null,null,null,null,null,null,null,null,null,null,null,1]
[null,null,null,null,null,null,null,null,null,null,null,1]
[null,null,null,null,null,null,null,null,null,null,null,1]
[null,null,null,null,null,null,null,null,null,null,null,1]
[null,null,null,null,null,null,null,null,null,null,null,1]
[null,null,null,null,null,null,null,null,null,null,null,1]
[null,null,null,null,null,null,null,null,null,null,null,1]
[null,null,null,null,null,null,null,null,null,null,null,1]
[null,null,null,null,null,null,null,null,null,null,null,1]
[null,null,null,null,null,null,null,null,null,null,null,1]
[null,null,null,null,null,null,null,null,null,null,null,1]
[null,null,null,null,null,null,null,null,null,null,null,{"$f":"IF(INT(C125831)<>INT(C125830),L125830+1,L125830)","v":1}]
[null,null,null,null,null,null,null,null,null,null,null,1]
[null,null,null,null,null,null,null,null,null,null,null,1]
[null,null,null,null,null,null,null,null,null,null,null,1]
[null,null,null,null,null,null,null,null,null,null,null,1]
[null,null,null,null,null,null,null,null,null,null,null,1]
[null,null,null,null,null,null,null,null,null,null,null,1]
[null,null,null,null,null,null,null,null,null,null,null,1]
[null,null,null,null,null,null,null,null,null,null,null,1]
[null,null,null,null,null,null,null,null,null,null,null,1]
[null,null,null,null,null,null,null,null,null,null,null,1]
[null,null,null,null,null,null,null,null,null,null,null,1]
[null,null,null,null,null,null,null,null,null,null,null,1]
[null,null,null,null,null,null,null,null,null,null,null,1]
[null,null,null,null,null,null,null,null,null,null,null,1]
[null,null,null,null,null,null,null,null,null,null,null,1]
[null,null,null,null,null,null,null,null,null,null,null,1]
[null,null,null,null,null,null,null,null,null,null,null,1]
[null,null,null,null,null,null,null,null,null,null,null,1]
[null,null,null,null,null,null,null,null,null,null,null,1]
[null,null,null,null,null,null,null,null,null,null,null,1]
[null,null,null,null,null,null,null,null,null,null,null,1]
[null,null,null,null,null,null,null,null,null,null,null,1]
[null,null,null,null,null,null,null,null,null,null,null,1]
[null,null,null,null,null,null,null,null,null,null,null,1]
[null,null,null,null,null,null,null,null,null,null,null,1]
[null,null,null,null,null,null,null,null,null,null,null,1]
[null,null,null,null,null,null,null,null,null,null,null,1]
[null,null,null,null,null,null,null,null,null,null,null,1]
[null,null,null,null,null,null,null,null,null,null,null,1]
[null,null,null,null,null,null,null,null,null,null,null,1]
[null,null,null,null,null,null,null,null,null,null,null,1]
[null,null,null,null,null,null,null,null,null,null,null,1]
[null,null,null,null,null,null,null,null,null,null,null,1]
[null,null,null,null,null,null,null,null,null,null,null,1]
[null,null,null,null,null,null,null,null,null,null,null,1]
[null,null,null,null,null,null,null,null,null,null,null,1]
[null,null,null,null,null,null,null,null,null,null,null,1]
[null,null,null,null,null,null,null,null,null,null,null,1]
[null,null,null,null,null,null,null,null,null,null,null,1]
[null,null,null,null,null,null,null,null,null,null,null,1]
[null,null,null,null,null,null,null,null,null,null,null,1]
[null,null,null,null,null,null,null,null,null,null,null,1]
[null,null,null,null,null,null,null,null,null,null,null,1]
[null,null,null,null,null,null,null,null,null,null,null,1]
[null,null,null,null,null,null,null,null,null,null,null,1]
[null,null,null,null,null,null,null,null,null,null,null,1]
[null,null,null,null,null,null,null,null,null,null,null,1]
[null,null,null,null,null,null,null,null,null,null,null,1]
[null,null,null,null,null,null,null,null,null,null,null,1]
[null,null,null,null,null,null,null,null,null,null,null,1]
[null,null,null,null,null,null,null,null,null,null,null,1]
[null,null,null,null,null,null,null,null,null,null,null,1]
[null,null,null,null,null,null,null,null,null,null,null,1]
[null,null,null,null,null,null,null,null,null,null,null,1]
[null,null,null,null,null,null,null,null,null,null,null,1]
[null,null,null,null,null,null,null,null,null,null,null,1]
[null,null,null,null,null,null,null,null,null,null,null,1]
[null,null,null,null,null,null,null,null,null,null,null,1]
[null,null,null,null,null,null,null,null,null,null,null,1]
[null,null,null,null,null,null,null,null,null,null,null,1]
[null,null,null,null,null,null,null,null,null,null,null,1]
[null,null,null,null,null,null,null,null,null,null,null,1]
[null,null,null,null,null,null,null,null,null,null,null,1]
[null,null,null,null,null,null,null,null,null,null,null,1]
[null,null,null,null,null,null,null,null,null,null,null,1]
[null,null,null,null,null,null,null,null,null,null,null,1]
[null,null,null,null,null,null,null,null,null,null,null,1]
[null,null,null,null,null,null,null,null,null,null,null,1]
[null,null,null,null,null,null,null,null,null,null,null,1]
[null,null,null,null,null,null,null,null,null,null,null,1]
[null,null,null,null,null,null,null,null,null,null,null,1]
[null,null,null,null,null,null,null,null,null,null,null,1]
[null,null,null,null,null,null,null,null,null,null,null,1]
[null,null,null,null,null,null,null,null,null,null,null,{"$f":"IF(INT(C145351)<>INT(C145350),L145350+1,L145350)","v":1}]
[null,null,null,null,null,null,null,null,null,null,null,1]
[null,null,null,null,null,null,null,null,null,null,null,1]
[null,null,null,null,null,null,null,null,null,null,null,1]
[null,null,null,null,null,null,null,null,null,null,null,1]
[null,null,null,null,null,null,null,null,null,null,null,1]
[null,null,null,null,null,null,null,null,null,null,null,1]
[null,null,null,null,null,null,null,null,null,null,null,1]
[null,null,null,null,null,null,null,null,null,null,null,1]
[null,null,null,null,null,null,null,null,null,null,null,1]
[null,null,null,null,null,null,null,null,null,null,null,1]
[null,null,null,null,null,null,null,null,null,null,null,1]
[null,null,null,null,null,null,null,null,null,null,null,1]
[null,null,null,null,null,null,null,null,null,null,null,1]
[null,null,null,null,null,null,null,null,null,null,null,1]
[null,null,null,null,null,null,null,null,null,null,null,1]
[null,null,null,null,null,null,null,null,null,null,null,1]
[null,null,null,null,null,null,null,null,null,null,null,1]
[null,null,null,null,null,null,null,null,null,null,null,1]
[null,null,null,null,null,null,null,null,null,null,null,1]
[null,null,null,null,null,null,null,null,null,null,null,1]
[null,null,null,null,null,null,null,null,null,null,null,1]
[null,null,null,null,null,null,null,null,null,null,null,1]
[null,null,null,null,null,null,null,null,null,null,null,1]
[null,null,null,null,null,null,null,null,null,null,null,1]
[null,null,null,null,null,null,null,null,null,null,null,1]
[null,null,null,null,null,null,null,null,null,null,null,1]
[null,null,null,null,null,null,null,null,null,null,null,1]
[null,null,null,null,null,null,null,null,null,null,null,1]
[null,null,null,null,null,null,null,null,null,null,null,1]
[null,null,null,null,null,null,null,null,null,null,null,1]
[null,null,null,null,null,null,null,null,null,null,null,1]
[null,null,null,null,null,null,null,null,null,null,null,1]
[null,null,null,null,null,null,null,null,null,null,null,1]
[null,null,null,null,null,null,null,null,null,null,null,1]
[null,null,null,null,null,null,null,null,null,null,null,1]
[null,null,null,null,null,null,null,null,null,null,null,1]
[null,null,null,null,null,null,null,null,null,null,null,1]
[null,null,null,null,null,null,null,null,null,null,null,1]
[null,null,null,null,null,null,null,null,null,null,null,1]
[null,null,null,null,null,null,null,null,null,null,null,1]
[null,null,null,null,null,null,null,null,null,null,null,1]
[null,null,null,null,null,null,null,null,null,null,null,1]
[null,null,null,null,null,null,null,null,null,null,null,1]
[null,null,null,null,null,null,null,null,null,null,null,1]
[null,null,null,null,null,null,null,null,null,null,null,1]
[null,null,null,null,null,null,null,null,null,null,null,1]
[null,null,null,null,null,null,null,null,null,null,null,1]
[null,null,null,null,null,null,null,null,null,null,null,1]
[null,null,null,null,null,null,null,null,null,null,null,1]
[null,null,null,null,null,null,null,null,null,null,null,1]
[null,null,null,null,null,null,null,null,null,null,null,1]
[null,null,null,null,null,null,null,null,null,null,null,1]
[null,null,null,null,null,null,null,null,null,null,null,1]
[null,null,null,null,null,null,null,null,null,null,null,1]
[null,null,null,null,null,null,null,null,null,null,null,1]
[null,null,null,null,null,null,null,null,null,null,null,1]
[null,null,null,null,null,null,null,null,null,null,null,1]
[null,null,null,null,null,null,null,null,null,null,null,1]
[null,null,null,null,null,null,null,null,null,null,null,1]
[null,null,null,null,null,null,null,null,null,null,null,1]
[null,null,null,null,null,null,null,null,null,null,null,1]
[null,null,null,null,null,null,null,null,null,null,null,1]
[null,null,null,null,null,null,null,null,null,null,null,1]
[null,null,null,null,null,null,null,null,null,null,null,1]
[null,null,null,null,null,null,null,null,null,null,null,1]
[null,null,null,null,null,null,null,null,null,null,null,1]
[null,null,null,null,null,null,null,null,null,null,null,1]
[null,null,null,null,null,null,null,null,null,null,null,1]
[null,null,null,null,null,null,null,null,null,null,null,1]
[null,null,null,null,null,null,null,null,null,null,null,1]
[null,null,null,null,null,null,null,null,null,null,null,1]
[null,null,null,null,null,null,null,null,null,null,null,1]
[null,null,null,null,null,null,null,null,null,null,null,1]
[null,null,null,null,null,null,null,null,null,null,null,1]
[null,null,null,null,null,null,null,null,null,null,null,1]
[null,null,null,null,null,null,null,null,null,null,null,1]
[null,null,null,null,null,null,null,null,null,null,null,1]
[null,null,null,null,null,null,null,null,null,null,null,1]
[null,null,null,null,null,null,null,null,null,null,null,1]
[null,null,null,null,null,null,null,null,null,null,null,1]
[null,null,null,null,null,null,null,null,null,null,null,1]
[null,null,null,null,null,null,null,null,null,null,null,1]
[null,null,null,null,null,null,null,null,null,null,null,1]
[null,null,null,null,null,null,null,null,null,null,null,1]
[null,null,null,null,null,null,null,null,null,null,null,1]
[null,null,null,null,null,null,null,null,null,null,null,1]
[null,null,null,null,null,null,null,null,null,null,null,1]
[null,null,null,null,null,null,null,null,null,null,null,1]
[null,null,null,null,null,null,null,null,null,null,null,1]
[null,null,null,null,null,null,null,null,null,null,null,1]
[null,null,null,null,null,null,null,null,null,null,null,1]
[null,null,null,null,null,null,null,null,null,null,null,1]
[null,null,null,null,null,null,null,null,null,null,null,1]
[null,null,null,null,null,null,null,null,null,null,null,1]
[null,null,null,null,null,null,null,null,null,null,null,1]
[null,null,null,null,null,null,null,null,null,null,null,1]
[null,null,null,null,null,null,null,null,null,null,null,1]
[null,null,null,null,null,null,null,null,null,null,null,1]
[null,null,null,null,null,null,null,null,null,null,null,1]
[null,null,null,null,null,null,null,null,null,null,null,1]
[null,null,null,null,null,null,null,null,null,null,null,1]
[null,null,null,null,null,null,null,null,null,null,null,1]
[null,null,null,null,null,null,null,null,null,null,null,1]
[null,null,null,null,null,null,null,null,null,null,null,1]
[null,null,null,null,null,null,null,null,null,null,null,1]
[null,null,null,null,null,null,null,null,null,null,null,1]
[null,null,null,null,null,null,null,null,null,null,null,1]
[null,null,null,null,null,null,null,null,null,null,null,1]
[null,null,null,null,null,null,null,null,null,null,null,1]
[null,null,null,null,null,null,null,null,null,null,null,1]
[null,null,null,null,null,null,null,null,null,null,null,1]
[null,null,null,null,null,null,null,null,null,null,null,1]
[null,null,null,null,null,null,null,null,null,null,null,1]
[null,null,null,null,null,null,null,null,null,null,null,1]
[null,null,null,null,null,null,null,null,null,null,null,1]
[null,null,null,null,null,null,null,null,null,null,null,1]
[null,null,null,null,null,null,null,null,null,null,null,1]
[null,null,null,null,null,null,null,null,null,null,null,1]
[null,null,null,null,null,null,null,null,null,null,null,1]
[null,null,null,null,null,null,null,null,null,null,null,1]
[null,null,null,null,null,null,null,null,null,null,null,1]
[null,null,null,null,null,null,null,null,null,null,null,1]
[null,null,null,null,null,null,null,null,null,null,null,1]
[null,null,null,null,null,null,null,null,null,null,null,1]
[null,null,null,null,null,null,null,null,null,null,null,1]
[null,null,null,null,null,null,null,null,null,null,null,1]
[null,null,null,null,null,null,null,null,null,null,null,1]
[null,null,null,null,null,null,null,null,null,null,null,1]
[null,null,null,null,null,null,null,null,null,null,null,1]
[null,null,null,null,null,null,null,null,null,null,null,1]
[null,null,null,null,null,null,null,null,null,null,null,1]
[null,null,null,null,null,null,null,null,null,null,null,1]
[null,null,null,null,null,null,null,null,null,null,null,1]
[null,null,null,null,null,null,null,null,null,null,null,1]
[null,null,null,null,null,null,null,null,null,null,null,1]
[null,null,null,null,null,null,null,null,null,null,null,1]
[null,null,null,null,null,null,null,null,null,null,null,1]
[null,null,null,null,null,null,null,null,null,null,null,1]
[null,null,null,null,null,null,null,null,null,null,null,1]
[null,null,null,null,null,null,null,null,null,null,null,1]
[null,null,null,null,null,null,null,null,null,null,null,1]
[null,null,null,null,null,null,null,null,null,null,null,1]
[null,null,null,null,null,null,null,null,null,null,null,1]
[null,null,null,null,null,null,null,null,null,null,null,1]
[null,null,null,null,null,null,null,null,null,null,null,1]
[null,null,null,null,null,null,null,null,null,null,null,1]
[null,null,null,null,null,null,null,null,null,null,null,1]
[null,null,null,null,null,null,null,null,null,null,null,1]
[null,null,null,null,null,null,null,null,null,null,null,1]
[null,null,null,null,null,null,null,null,null,null,null,1]
[null,null,null,null,null,null,null,null,null,null,null,1]
[null,null,null,null,null,null,null,null,null,null,null,1]
[null,null,null,null,null,null,null,null,null,null,null,1]
[null,null,null,null,null,null,null,null,null,null,null,1]
[null,null,null,null,null,null,null,null,null,null,null,1]
[null,null,null,null,null,null,null,null,null,null,null,{"$f":"IF(INT(C186183)<>INT(C186182),L186182+1,L186182)","v":1}]
[null,null,null,null,null,null,null,null,null,null,null,1]
[null,null,null,null,null,null,null,null,null,null,null,1]
[null,null,null,null,null,null,null,null,null,null,null,1]
[null,null,null,null,null,null,null,null,null,null,null,1]
[null,null,null,null,null,null,null,null,null,null,null,1]
[null,null,null,null,null,null,null,null,null,null,null,1]
[null,null,null,null,null,null,null,null,null,null,null,1]
[null,null,null,null,null,null,null,null,null,null,null,1]
[null,null,null,null,null,null,null,null,null,null,null,1]
[null,null,null,null,null,null,null,null,null,null,null,1]
[null,null,null,null,null,null,null,null,null,null,null,1]
[null,null,null,null,null,null,null,null,null,null,null,1]
[null,null,null,null,null,null,null,null,null,null,null,1]
[null,null,null,null,null,null,null,null,null,null,null,1]
[null,null,null,null,null,null,null,null,null,null,null,1]
[null,null,null,null,null,null,null,null,null,null,null,1]
[null,null,null,null,null,null,null,null,null,null,null,1]
[null,null,null,null,null,null,null,null,null,null,null,1]
[null,null,null,null,null,null,null,null,null,null,null,1]
[null,null,null,null,null,null,null,null,null,null,null,1]
[null,null,null,null,null,null,null,null,null,null,null,1]
[null,null,null,null,null,null,null,null,null,null,null,1]
[null,null,null,null,null,null,null,null,null,null,null,1]
[null,null,null,null,null,null,null,null,null,null,null,1]
[null,null,null,null,null,null,null,null,null,null,null,1]
[null,null,null,null,null,null,null,null,null,null,null,1]
[null,null,null,null,null,null,null,null,null,null,null,1]
[null,null,null,null,null,null,null,null,null,null,null,1]
[null,null,null,null,null,null,null,null,null,null,null,1]
[null,null,null,null,null,null,null,null,null,null,null,1]
[null,null,null,null,null,null,null,null,null,null,null,1]
[null,null,null,null,null,null,null,null,null,null,null,1]
[null,null,null,null,null,null,null,null,null,null,null,1]
[null,null,null,null,null,null,null,null,null,null,null,1]
[null,null,null,null,null,null,null,null,null,null,null,1]
[null,null,null,null,null,null,null,null,null,null,null,1]
[null,null,null,null,null,null,null,null,null,null,null,1]
[null,null,null,null,null,null,null,null,null,null,null,1]
[null,null,null,null,null,null,null,null,null,null,null,1]
[null,null,null,null,null,null,null,null,null,null,null,1]
[null,null,null,null,null,null,null,null,null,null,null,1]
[null,null,null,null,null,null,null,null,null,null,null,1]
[null,null,null,null,null,null,null,null,null,null,null,1]
[null,null,null,null,null,null,null,null,null,null,null,1]
[null,null,null,null,null,null,null,null,null,null,null,1]
[null,null,null,null,null,null,null,null,null,null,null,1]
[null,null,null,null,null,null,null,null,null,null,null,1]
[null,null,null,null,null,null,null,null,null,null,null,1]
[null,null,null,null,null,null,null,null,null,null,null,1]
[null,null,null,null,null,null,null,null,null,null,null,1]
[null,null,null,null,null,null,null,null,null,null,null,1]
[null,null,null,null,null,null,null,null,null,null,null,1]
[null,null,null,null,null,null,null,null,null,null,null,1]
[null,null,null,null,null,null,null,null,null,null,null,1]
[null,null,null,null,null,null,null,null,null,null,null,1]
[null,null,null,null,null,null,null,null,null,null,null,1]
[null,null,null,null,null,null,null,null,null,null,null,1]
[null,null,null,null,null,null,null,null,null,null,null,1]
[null,null,null,null,null,null,null,null,null,null,null,1]
[null,null,null,null,null,null,null,null,null,null,null,1]
[null,null,null,null,null,null,null,null,null,null,null,1]
[null,null,null,null,null,null,null,null,null,null,null,1]
[null,null,null,null,null,null,null,null,null,null,null,1]
[null,null,null,null,null,null,null,null,null,null,null,1]
[null,null,null,null,null,null,null,null,null,null,null,1]
[null,null,null,null,null,null,null,null,null,null,null,1]
[null,null,null,null,null,null,null,null,null,null,null,1]
[null,null,null,null,null,null,null,null,null,null,null,1]
[null,null,null,null,null,null,null,null,null,null,null,1]
[null,null,null,null,null,null,null,null,null,null,null,1]
[null,null,null,null,null,null,null,null,null,null,null,1]
[null,null,null,null,null,null,null,null,null,null,null,1]
[null,null,null,null,null,null,null,null,null,null,null,1]
[null,null,null,null,null,null,null,null,null,null,null,{"$f":"IF(INT(C205703)<>INT(C205702),L205702+1,L205702)","v":1}]
[null,null,null,null,null,null,null,null,null,null,null,1]
[null,null,null,null,null,null,null,null,null,null,null,1]
[null,null,null,null,null,null,null,null,null,null,null,1]
[null,null,null,null,null,null,null,null,null,null,null,1]
[null,null,null,null,null,null,null,null,null,null,null,1]
[null,null,null,null,null,null,null,null,null,null,null,1]
[null,null,null,null,null,null,null,null,null,null,null,1]
[null,null,null,null,null,null,null,null,null,null,null,1]
[null,null,null,null,null,null,null,null,null,null,null,1]
[null,null,null,null,null,null,null,null,null,null,null,1]
[null,null,null,null,null,null,null,null,null,null,null,1]
[null,null,null,null,null,null,null,null,null,null,null,1]
[null,null,null,null,null,null,null,null,null,null,null,1]
[null,null,null,null,null,null,null,null,null,null,null,1]
[null,null,null,null,null,null,null,null,null,null,null,1]
[null,null,null,null,null,null,null,null,null,null,null,1]
[null,null,null,null,null,null,null,null,null,null,null,1]
[null,null,null,null,null,null,null,null,null,null,null,1]
[null,null,null,null,null,null,null,null,null,null,null,1]
[null,null,null,null,null,null,null,null,null,null,null,1]
[null,null,null,null,null,null,null,null,null,null,null,1]
[null,null,null,null,null,null,null,null,null,null,null,1]
[null,null,null,null,null,null,null,null,null,null,null,1]
[null,null,null,null,null,null,null,null,null,null,null,1]
[null,null,null,null,null,null,null,null,null,null,null,1]
[null,null,null,null,null,null,null,null,null,null,null,1]
[null,null,null,null,null,null,null,null,null,null,null,1]
[null,null,null,null,null,null,null,null,null,null,null,{"$f":"IF(INT(C212935)<>INT(C212934),L212934+1,L212934)","v":1}]
[null,null,null,null,null,null,null,null,null,null,null,1]
[null,null,null,null,null,null,null,null,null,null,null,1]
[null,null,null,null,null,null,null,null,null,null,null,1]
[null,null,null,null,null,null,null,null,null,null,null,1]
[null,null,null,null,null,null,null,null,null,null,null,1]
[null,null,null,null,null,null,null,null,null,null,null,1]
[null,null,null,null,null,null,null,null,null,null,null,1]
[null,null,null,null,null,null,null,null,null,null,null,1]
[null,null,null,null,null,null,null,null,null,null,null,1]
[null,null,null,null,null,null,null,null,null,null,null,1]
[null,null,null,null,null,null,null,null,null,null,null,1]
[null,null,null,null,null,null,null,null,null,null,null,1]
[null,null,null,null,null,null,null,null,null,null,null,1]
[null,null,null,null,null,null,null,null,null,null,null,1]
[null,null,null,null,null,null,null,null,null,null,null,1]
[null,null,null,null,null,null,null,null,null,null,null,1]
[null,null,null,null,null,null,null,null,null,null,null,1]
[null,null,null,null,null,null,null,null,null,null,null,1]
[null,null,null,null,null,null,null,null,null,null,null,1]
[null,null,null,null,null,null,null,null,null,null,null,1]
[null,null,null,null,null,null,null,null,null,null,null,1]
[null,null,null,null,null,null,null,null,null,null,null,1]
[null,null,null,null,null,null,null,null,null,null,null,1]
[null,null,null,null,null,null,null,null,null,null,null,1]
[null,null,null,null,null,null,null,null,null,null,null,1]
[null,null,null,null,null,null,null,null,null,null,null,1]
[null,null,null,null,null,null,null,null,null,null,null,1]
[null,null,null,null,null,null,null,null,null,null,null,1]
[null,null,null,null,null,null,null,null,null,null,null,1]
[null,null,null,null,null,null,null,null,null,null,null,1]
[null,null,null,null,null,null,null,null,null,null,null,1]
[null,null,null,null,null,null,null,null,null,null,null,1]
[null,null,null,null,null,null,null,null,null,null,null,1]
[null,null,null,null,null,null,null,null,null,null,null,1]
[null,null,null,null,null,null,null,null,null,null,null,1]
[null,null,null,null,null,null,null,null,null,null,null,1]
[null,null,null,null,null,null,null,null,null,null,null,1]
[null,null,null,null,null,null,null,null,null,null,null,1]
[null,null,null,null,null,null,null,null,null,null,null,1]
[null,null,null,null,null,null,null,null,null,null,null,1]
[null,null,null,null,null,null,null,null,null,null,null,1]
[null,null,null,null,null,null,null,null,null,null,null,1]
[null,null,null,null,null,null,null,null,null,null,null,1]
[null,null,null,null,null,null,null,null,null,null,null,1]
[null,null,null,null,null,null,null,null,null,null,null,1]
[null,null,null,null,null,null,null,null,null,null,null,1]
[null,null,null,null,null,null,null,null,null,null,null,1]
[null,null,null,null,null,null,null,null,null,null,null,1]
[null,null,null,null,null,null,null,null,null,null,null,1]
[null,null,null,null,null,null,null,null,null,null,null,1]
[null,null,null,null,null,null,null,null,null,null,null,1]
[null,null,null,null,null,null,null,null,null,null,null,1]
[null,null,null,null,null,null,null,null,null,null,null,1]
[null,null,null,null,null,null,null,null,null,null,null,1]
[null,null,null,null,null,null,null,null,null,null,null,1]
[null,null,null,null,null,null,null,null,null,null,null,1]
[null,null,null,null,null,null,null,null,null,null,null,1]
[null,null,null,null,null,null,null,null,null,null,null,1]
[null,null,null,null,null,null,null,null,null,null,null,1]
[null,null,null,null,null,null,null,null,null,null,null,1]
[null,null,null,null,null,null,null,null,null,null,null,1]
[null,null,null,null,null,null,null,null,null,null,null,1]
[null,null,null,null,null,null,null,null,null,null,null,1]
[null,null,null,null,null,null,null,null,null,null,null,1]
[null,null,null,null,null,null,null,null,null,null,null,1]
[null,null,null,null,null,null,null,null,null,null,null,1]
[null,null,null,null,null,null,null,null,null,null,null,1]
[null,null,null,null,null,null,null,null,null,null,null,1]
[null,null,null,null,null,null,null,null,null,null,null,1]
[null,null,null,null,null,null,null,null,null,null,null,1]
[null,null,null,null,null,null,null,null,null,null,null,1]
[null,null,null,null,null,null,null,null,null,null,null,1]
[null,null,null,null,null,null,null,null,null,null,null,1]
[null,null,null,null,null,null,null,null,null,null,null,{"$f":"IF(INT(C232455)<>INT(C232454),L232454+1,L232454)","v":1}]
[null,null,null,null,null,null,null,null,null,null,null,1]
[null,null,null,null,null,null,null,null,null,null,null,1]
[null,null,null,null,null,null,null,null,null,null,null,1]
[null,null,null,null,null,null,null,null,null,null,null,1]
[null,null,null,null,null,null,null,null,null,null,null,1]
[null,null,null,null,null,null,null,null,null,null,null,1]
[null,null,null,null,null,null,null,null,null,null,null,1]
[null,null,null,null,null,null,null,null,null,null,null,1]
[null,null,null,null,null,null,null,null,null,null,null,1]
[null,null,null,null,null,null,null,null,null,null,null,1]
[null,null,null,null,null,null,null,null,null,null,null,1]
[null,null,null,null,null,null,null,null,null,null,null,1]
[null,null,null,null,null,null,null,null,null,null,null,1]
[null,null,null,null,null,null,null,null,null,null,null,1]
[null,null,null,null,null,null,null,null,null,null,null,1]
[null,null,null,null,null,null,null,null,null,null,null,1]
[null,null,null,null,null,null,null,null,null,null,null,1]
[null,null,null,null,null,null,null,null,null,null,null,1]
[null,null,null,null,null,null,null,null,null,null,null,1]
[null,null,null,null,null,null,null,null,null,null,null,1]
[null,null,null,null,null,null,null,null,null,null,null,1]
[null,null,null,null,null,null,null,null,null,null,null,1]
[null,null,null,null,null,null,null,null,null,null,null,1]
[null,null,null,null,null,null,null,null,null,null,null,1]
[null,null,null,null,null,null,null,null,null,null,null,1]
[null,null,null,null,null,null,null,null,null,null,null,1]
[null,null,null,null,null,null,null,null,null,null,null,1]
[null,null,null,null,null,null,null,null,null,null,null,1]
[null,null,null,null,null,null,null,null,null,null,null,1]
[null,null,null,null,null,null,null,null,null,null,null,1]
[null,null,null,null,null,null,null,null,null,null,null,1]
[null,null,null,null,null,null,null,null,null,null,null,1]
[null,null,null,null,null,null,null,null,null,null,null,1]
[null,null,null,null,null,null,null,null,null,null,null,1]
[null,null,null,null,null,null,null,null,null,null,null,1]
[null,null,null,null,null,null,null,null,null,null,null,1]
[null,null,null,null,null,null,null,null,null,null,null,1]
[null,null,null,null,null,null,null,null,null,null,null,1]
[null,null,null,null,null,null,null,null,null,null,null,1]
[null,null,null,null,null,null,null,null,null,null,null,1]
[null,null,null,null,null,null,null,null,null,null,null,1]
[null,null,null,null,null,null,null,null,null,null,null,1]
[null,null,null,null,null,null,null,null,null,null,null,1]
[null,null,null,null,null,null,null,null,null,null,null,1]
[null,null,null,null,null,null,null,null,null,null,null,1]
[null,null,null,null,null,null,null,null,null,null,null,1]
[null,null,null,null,null,null,null,null,null,null,null,1]
[null,null,null,null,null,null,null,null,null,null,null,1]
[null,null,null,null,null,null,null,null,null,null,null,1]
[null,null,null,null,null,null,null,null,null,null,null,1]
[null,null,null,null,null,null,null,null,null,null,null,1]
[null,null,null,null,null,null,null,null,null,null,null,1]
[null,null,null,null,null,null,null,null,null,null,null,1]
[null,null,null,null,null,null,null,null,null,null,null,1]
[null,null,null,null,null,null,null,null,null,null,null,1]
[null,null,null,null,null,null,null,null,null,null,null,1]
[null,null,null,null,null,null,null,null,null,null,null,1]
[null,null,null,null,null,null,null,null,null,null,null,1]
[null,null,null,null,null,null,null,null,null,null,null,1]
[null,null,null,null,null,null,null,null,null,null,null,1]
[null,null,null,null,null,null,null,null,null,null,null,1]
[null,null,null,null,null,null,null,null,null,null,null,1]
[null,null,null,null,null,null,null,null,null,null,null,1]
[null,null,null,null,null,null,null,null,null,null,null,1]
[null,null,null,null,null,null,null,null,null,null,null,1]
[null,null,null,null,null,null,null,null,null,null,null,1]
[null,null,null,null,null,null,null,null,null,null,null,1]
[null,null,null,null,null,null,null,null,null,null,null,1]
[null,null,null,null,null,null,null,null,null,null,null,1]
[null,null,null,null,null,null,null,null,null,null,null,1]
[null,null,null,null,null,null,null,null,null,null,null,1]
[null,null,null,null,null,null,null,null,null,null,null,1]
[null,null,null,null,null,null,null,null,null,null,null,1]
[null,null,null,null,null,null,null,null,null,null,null,1]
[null,null,null,null,null,null,null,null,null,null,null,1]
[null,null,null,null,null,null,null,null,null,null,null,1]
[null,null,null,null,null,null,null,null,null,null,null,1]
[null,null,null,null,null,null,null,null,null,null,null,1]
[null,null,null,null,null,null,null,null,null,null,null,1]
[null,null,null,null,null,null,null,null,null,null,null,1]
[null,null,null,null,null,null,null,null,null,null,null,1]
[null,null,null,null,null,null,null,null,null,null,null,1]
[null,null,null,null,null,null,null,null,null,null,null,1]
[null,null,null,null,null,null,null,null,null,null,null,1]
[null,null,null,null,null,null,null,null,null,null,null,1]
[null,null,null,null,null,null,null,null,null,null,null,1]
[null,null,null,null,null,null,null,null,null,null,null,1]
[null,null,null,null,null,null,null,null,null,null,null,1]
[null,null,null,null,null,null,null,null,null,null,null,1]
[null,null,null,null,null,null,null,null,null,null,null,1]
[null,null,null,null,null,null,null,null,null,null,null,1]
[null,null,null,null,null,null,null,null,null,null,null,1]
[null,null,null,null,null,null,null,null,null,null,null,1]
[null,null,null,null,null,null,null,null,null,null,null,1]
[null,null,null,null,null,null,null,null,null,null,null,1]
[null,null,null,null,null,null,null,null,null,null,null,1]
[null,null,null,null,null,null,null,null,null,null,null,1]
[null,null,null,null,null,null,null,null,null,null,null,1]
[null,null,null,null,null,null,null,null,null,null,null,1]
[null,null,null,null,null,null,null,null,null,null,null,1]
[null,null,null,null,null,null,null,null,null,null,null,1]
[null,null,null,null,null,null,null,null,null,null,null,1]
[null,null,null,null,null,null,null,null,null,null,null,1]
[null,null,null,null,null,null,null,null,null,null,null,1]
[null,null,null,null,null,null,null,null,null,null,null,1]
[null,null,null,null,null,null,null,null,null,null,null,1]
[null,null,null,null,null,null,null,null,null,null,null,1]
[null,null,null,null,null,null,null,null,null,null,null,1]
[null,null,null,null,null,null,null,null,null,null,null,1]
[null,null,null,null,null,null,null,null,null,null,null,1]
[null,null,null,null,null,null,null,null,null,null,null,1]
[null,null,null,null,null,null,null,null,null,null,null,1]
[null,null,null,null,null,null,null,null,null,null,null,1]
[null,null,null,null,null,null,null,null,null,null,null,1]
[null,null,null,null,null,null,null,null,null,null,null,1]
[null,null,null,null,null,null,null,null,null,null,null,1]
[null,null,null,null,null,null,null,null,null,null,null,1]
[null,null,null,null,null,null,null,null,null,null,null,1]
[null,null,null,null,null,null,null,null,null,null,null,1]
[null,null,null,null,null,null,null,null,null,null,null,1]
[null,null,null,null,null,null,null,null,null,null,null,1]
[null,null,null,null,null,null,null,null,null,null,null,1]
[null,null,null,null,null,null,null,null,null,null,null,1]
[null,null,null,null,null,null,null,null,null,null,null,1]
[null,null,null,null,null,null,null,null,null,null,null,1]
[null,null,null,null,null,null,null,null,null,null,null,1]
[null,null,null,null,null,null,null,null,null,null,null,1]
[null,null,null,null,null,null,null,null,null,null,null,{"$f":"IF(INT(C266055)<>INT(C266054),L266054+1,L266054)","v":1}]
[null,null,null,null,null,null,null,null,null,null,null,1]
[null,null,null,null,null,null,null,null,null,null,null,1]
[null,null,null,null,null,null,null,null,null,null,null,1]
[null,null,null,null,null,null,null,null,null,null,null,1]
[null,null,null,null,null,null,null,null,null,null,null,1]
[null,null,null,null,null,null,null,null,null,null,null,1]
[null,null,null,null,null,null,null,null,null,null,null,1]
[null,null,null,null,null,null,null,null,null,null,null,1]
[null,null,null,null,null,null,null,null,null,null,null,1]
[null,null,null,null,null,null,null,null,null,null,null,1]
[null,null,null,null,null,null,null,null,null,null,null,1]
[null,null,null,null,null,null,null,null,null,null,null,1]
[null,null,null,null,null,null,null,null,null,null,null,1]
[null,null,null,null,null,null,null,null,null,null,null,1]
[null,null,null,null,null,null,null,null,null,null,null,1]
[null,null,null,null,null,null,null,null,null,null,null,1]
[null,null,null,null,null,null,null,null,null,null,null,1]
[null,null,null,null,null,null,null,null,null,null,null,1]
[null,null,null,null,null,null,null,null,null,null,null,1]
[null,null,null,null,null,null,null,null,null,null,null,1]
[null,null,null,null,null,null,null,null,null,null,null,1]
[null,null,null,null,null,null,null,null,null,null,null,1]
[null,null,null,null,null,null,null,null,null,null,null,1]
[null,null,null,null,null,null,null,null,null,null,null,1]
[null,null,null,null,null,null,null,null,null,null,null,1]
[null,null,null,null,null,null,null,null,null,null,null,1]
[null,null,null,null,null,null,null,null,null,null,null,1]
[null,null,null,null,null,null,null,null,null,null,null,1]
[null,null,null,null,null,null,null,null,null,null,null,1]
[null,null,null,null,null,null,null,null,null,null,null,1]
[null,null,null,null,null,null,null,null,null,null,null,1]
[null,null,null,null,null,null,null,null,null,null,null,1]
[null,null,null,null,null,null,null,null,null,null,null,1]
[null,null,null,null,null,null,null,null,null,null,null,1]
[null,null,null,null,null,null,null,null,null,null,null,1]
[null,null,null,null,null,null,null,null,null,null,null,1]
[null,null,null,null,null,null,null,null,null,null,null,1]
[null,null,null,null,null,null,null,null,null,null,null,1]
[null,null,null,null,null,null,null,null,null,null,null,1]
[null,null,null,null,null,null,null,null,null,null,null,1]
[null,null,null,null,null,null,null,null,null,null,null,1]
[null,null,null,null,null,null,null,null,null,null,null,1]
[null,null,null,null,null,null,null,null,null,null,null,1]
[null,null,null,null,null,null,null,null,null,null,null,1]
[null,null,null,null,null,null,null,null,null,null,null,1]
[null,null,null,null,null,null,null,null,null,null,null,1]
[null,null,null,null,null,null,null,null,null,null,null,1]
[null,null,null,null,null,null,null,null,null,null,null,1]
[null,null,null,null,null,null,null,null,null,null,null,1]
[null,null,null,null,null,null,null,null,null,null,null,1]
[null,null,null,null,null,null,null,null,null,null,null,1]
[null,null,null,null,null,null,null,null,null,null,null,1]
[null,null,null,null,null,null,null,null,null,null,null,1]
[null,null,null,null,null,null,null,null,null,null,null,1]
[null,null,null,null,null,null,null,null,null,null,null,1]
[null,null,null,null,null,null,null,null,null,null,null,1]
[null,null,null,null,null,null,null,null,null,null,null,1]
[null,null,null,null,null,null,null,null,null,null,null,1]
[null,null,null,null,null,null,null,null,null,null,null,1]
[null,null,null,null,null,null,null,null,null,null,null,1]
[null,null,null,null,null,null,null,null,null,null,null,1]
[null,null,null,null,null,null,null,null,null,null,null,1]
[null,null,null,null,null,null,null,null,null,null,null,1]
[null,null,null,null,null,null,null,null,null,null,null,1]
[null,null,null,null,null,null,null,null,null,null,null,1]
[null,null,null,null,null,null,null,null,null,null,null,1]
[null,null,null,null,null,null,null,null,null,null,null,1]
[null,null,null,null,null,null,null,null,null,null,null,1]
[null,null,null,null,null,null,null,null,null,null,null,1]
[null,null,null,null,null,null,null,null,null,null,null,1]
[null,null,null,null,null,null,null,null,null,null,null,1]
[null,null,null,null,null,null,null,null,null,null,null,1]
[null,null,null,null,null,null,null,null,null,null,null,1]
[null,null,null,null,null,null,null,null,null,null,null,1]
[null,null,null,null,null,null,null,null,null,null,null,1]
[null,null,null,null,null,null,null,null,null,null,null,1]
[null,null,null,null,null,null,null,null,null,null,null,1]
[null,null,null,null,null,null,null,null,null,null,null,1]
[null,null,null,null,null,null,null,null,null,null,null,1]
[null,null,null,null,null,null,null,null,null,null,null,1]
[null,null,null,null,null,null,null,null,null,null,null,1]
[null,null,null,null,null,null,null,null,null,null,null,1]
[null,null,null,null,null,null,null,null,null,null,null,1]
[null,null,null,null,null,null,null,null,null,null,null,1]
[null,null,null,null,null,null,null,null,null,null,null,1]
[null,null,null,null,null,null,null,null,null,null,null,1]
[null,null,null,null,null,null,null,null,null,null,null,1]
[null,null,null,null,null,null,null,null,null,null,null,1]
[null,null,null,null,null,null,null,null,null,null,null,1]
[null,null,null,null,null,null,null,null,null,null,null,1]
[null,null,null,null,null,null,null,null,null,null,null,1]
[null,null,null,null,null,null,null,null,null,null,null,1]
[null,null,null,null,null,null,null,null,null,null,null,1]
[null,null,null,null,null,null,null,null,null,null,null,1]
[null,null,null,null,null,null,null,null,null,null,null,1]
[null,null,null,null,null,null,null,null,null,null,null,1]
[null,null,null,null,null,null,null,null,null,null,null,1]
[null,null,null,null,null,null,null,null,null,null,null,1]
[null,null,null,null,null,null,null,null,null,null,null,1]
[null,null,null,null,null,null,null,null,null,null,null,1]
[null,null,null,null,null,null,null,null,null,null,null,1]
[null,null,null,null,null,null,null,null,null,null,null,{"$f":"IF(INT(C292807)<>INT(C292806),L292806+1,L292806)","v":1}]
[null,null,null,null,null,null,null,null,null,null,null,1]
[null,null,null,null,null,null,null,null,null,null,null,1]
[null,null,null,null,null,null,null,null,null,null,null,1]
[null,null,null,null,null,null,null,null,null,null,null,1]
[null,null,null,null,null,null,null,null,null,null,null,1]
[null,null,null,null,null,null,null,null,null,null,null,1]
[null,null,null,null,null,null,null,null,null,null,null,1]
[null,null,null,null,null,null,null,null,null,null,null,1]
[null,null,null,null,null,null,null,null,null,null,null,1]
[null,null,null,null,null,null,null,null,null,null,null,1]
[null,null,null,null,null,null,null,null,null,null,null,1]
[null,null,null,null,null,null,null,null,null,null,null,1]
[null,null,null,null,null,null,null,null,null,null,null,1]
[null,null,null,null,null,null,null,null,null,null,null,1]
[null,null,null,null,null,null,null,null,null,null,null,1]
[null,null,null,null,null,null,null,null,null,null,null,1]
[null,null,null,null,null,null,null,null,null,null,null,1]
[null,null,null,null,null,null,null,null,null,null,null,1]
[null,null,null,null,null,null,null,null,null,null,null,1]
[null,null,null,null,null,null,null,null,null,null,null,1]
[null,null,null,null,null,null,null,null,null,null,null,1]
[null,null,null,null,null,null,null,null,null,null,null,1]
[null,null,null,null,null,null,null,null,null,null,null,1]
[null,null,null,null,null,null,null,null,null,null,null,1]
[null,null,null,null,null,null,null,null,null,null,null,1]
[null,null,null,null,null,null,null,null,null,null,null,1]
[null,null,null,null,null,null,null,null,null,null,null,1]
[null,null,null,null,null,null,null,null,null,null,null,1]
[null,null,null,null,null,null,null,null,null,null,null,1]
[null,null,null,null,null,null,null,null,null,null,null,1]
[null,null,null,null,null,null,null,null,null,null,null,1]
[null,null,null,null,null,null,null,null,null,null,null,1]
[null,null,null,null,null,null,null,null,null,null,null,1]
[null,null,null,null,null,null,null,null,null,null,null,1]
[null,null,null,null,null,null,null,null,null,null,null,1]
[null,null,null,null,null,null,null,null,null,null,null,1]
[null,null,null,null,null,null,null,null,null,null,null,1]
[null,null,null,null,null,null,null,null,null,null,null,1]
[null,null,null,null,null,null,null,null,null,null,null,1]
[null,null,null,null,null,null,null,null,null,null,null,1]
[null,null,null,null,null,null,null,null,null,null,null,1]
[null,null,null,null,null,null,null,null,null,null,null,1]
[null,null,null,null,null,null,null,null,null,null,null,1]
[null,null,null,null,null,null,null,null,null,null,null,1]
[null,null,null,null,null,null,null,null,null,null,null,1]
[null,null,null,null,null,null,null,null,null,null,null,1]
[null,null,null,null,null,null,null,null,null,null,null,1]
[null,null,null,null,null,null,null,null,null,null,null,1]
[null,null,null,null,null,null,null,null,null,null,null,1]
[null,null,null,null,null,null,null,null,null,null,null,1]
[null,null,null,null,null,null,null,null,null,null,null,1]
[null,null,null,null,null,null,null,null,null,null,null,1]
[null,null,null,null,null,null,null,null,null,null,null,1]
[null,null,null,null,null,null,null,null,null,null,null,1]
[null,null,null,null,null,null,null,null,null,null,null,1]
[null,null,null,null,null,null,null,null,null,null,null,1]
[null,null,null,null,null,null,null,null,null,null,null,1]
[null,null,null,null,null,null,null,null,null,null,null,1]
[null,null,null,null,null,null,null,null,null,null,null,1]
[null,null,null,null,null,null,null,null,null,null,null,1]
[null,null,null,null,null,null,null,null,null,null,null,1]
[null,null,null,null,null,null,null,null,null,null,null,1]
[null,null,null,null,null,null,null,null,null,null,null,1]
[null,null,null,null,null,null,null,null,null,null,null,1]
[null,null,null,null,null,null,null,null,null,null,null,1]
[null,null,null,null,null,null,null,null,null,null,null,1]
[null,null,null,null,null,null,null,null,null,null,null,1]
[null,null,null,null,null,null,null,null,null,null,null,1]
[null,null,null,null,null,null,null,null,null,null,null,1]
[null,null,null,null,null,null,null,null,null,null,null,1]
[null,null,null,null,null,null,null,null,null,null,null,1]
[null,null,null,null,null,null,null,null,null,null,null,1]
[null,null,null,null,null,null,null,null,null,null,null,1]
[null,null,null,null,null,null,null,null,null,null,null,1]
[null,null,null,null,null,null,null,null,null,null,null,1]
[null,null,null,null,null,null,null,null,null,null,null,1]
[null,null,null,null,null,null,null,null,null,null,null,1]
[null,null,null,null,null,null,null,null,null,null,null,1]
[null,null,null,null,null,null,null,null,null,null,null,1]
[null,null,null,null,null,null,null,null,null,null,null,1]
[null,null,null,null,null,null,null,null,null,null,null,1]
[null,null,null,null,null,null,null,null,null,null,null,1]
[null,null,null,null,null,null,null,null,null,null,null,1]
[null,null,null,null,null,null,null,null,null,null,null,1]
[null,null,null,null,null,null,null,null,null,null,null,1]
[null,null,null,null,null,null,null,null,null,null,null,1]
[null,null,null,null,null,null,null,null,null,null,null,1]
[null,null,null,null,null,null,null,null,null,null,null,1]
[null,null,null,null,null,null,null,null,null,null,null,1]
[null,null,null,null,null,null,null,null,null,null,null,1]
[null,null,null,null,null,null,null,null,null,null,null,1]
[null,null,null,null,null,null,null,null,null,null,null,1]
[null,null,null,null,null,null,null,null,null,null,null,1]
[null,null,null,null,null,null,null,null,null,null,null,1]
[null,null,null,null,null,null,null,null,null,null,null,1]
[null,null,null,null,null,null,null,null,null,null,null,1]
[null,null,null,null,null,null,null,null,null,null,null,1]
[null,null,null,null,null,null,null,null,null,null,null,1]
[null,null,null,null,null,null,null,null,null,null,null,1]
[null,null,null,null,null,null,null,null,null,null,null,1]
[null,null,null,null,null,null,null,null,null,null,null,1]
[null,null,null,null,null,null,null,null,null,null,null,1]
[null,null,null,null,null,null,null,null,null,null,null,1]
[null,null,null,null,null,null,null,null,null,null,null,1]
[null,null,null,null,null,null,null,null,null,null,null,1]
[null,null,null,null,null,null,null,null,null,null,null,1]
[null,null,null,null,null,null,null,null,null,null,null,1]
[null,null,null,null,null,null,null,null,null,null,null,{"$f":"IF(INT(C320982)<>INT(C320981),L320981+1,L320981)","v":1}]
[null,null,null,null,null,null,null,null,null,null,null,1]
[null,null,null,null,null,null,null,null,null,null,null,1]
[null,null,null,null,null,null,null,null,null,null,null,1]
[null,null,null,null,null,null,null,null,null,null,null,1]
[null,null,null,null,null,null,null,null,null,null,null,1]
[null,null,null,null,null,null,null,null,null,null,null,1]
[null,null,null,null,null,null,null,null,null,null,null,1]
[null,null,null,null,null,null,null,null,null,null,null,1]
[null,null,null,null,null,null,null,null,null,null,null,1]
[null,null,null,null,null,null,null,null,null,null,null,1]
[null,null,null,null,null,null,null,null,null,null,null,1]
[null,null,null,null,null,null,null,null,null,null,null,1]
[null,null,null,null,null,null,null,null,null,null,null,1]
[null,null,null,null,null,null,null,null,null,null,null,1]
[null,null,null,null,null,null,null,null,null,null,null,1]
[null,null,null,null,null,null,null,null,null,null,null,1]
[null,null,null,null,null,null,null,null,null,null,null,1]
[null,null,null,null,null,null,null,null,null,null,null,1]
[null,null,null,null,null,null,null,null,null,null,null,1]
[null,null,null,null,null,null,null,null,null,null,null,1]
[null,null,null,null,null,null,null,null,null,null,null,1]
[null,null,null,null,null,null,null,null,null,null,null,1]
[null,null,null,null,null,null,null,null,null,null,null,1]
[null,null,null,null,null,null,null,null,null,null,null,1]
[null,null,null,null,null,null,null,null,null,null,null,1]
[null,null,null,null,null,null,null,null,null,null,null,1]
[null,null,null,null,null,null,null,null,null,null,null,1]
[null,null,null,null,null,null,null,null,null,null,null,1]
[null,null,null,null,null,null,null,null,null,null,null,1]
[null,null,null,null,null,null,null,null,null,null,null,1]
[null,null,null,null,null,null,null,null,null,null,null,1]
[null,null,null,null,null,null,null,null,null,null,null,1]
[null,null,null,null,null,null,null,null,null,null,null,1]
[null,null,null,null,null,null,null,null,null,null,null,1]
[null,null,null,null,null,null,null,null,null,null,null,1]
[null,null,null,null,null,null,null,null,null,null,null,1]
[null,null,null,null,null,null,null,null,null,null,null,1]
[null,null,null,null,null,null,null,null,null,null,null,1]
[null,null,null,null,null,null,null,null,null,null,null,1]
[null,null,null,null,null,null,null,null,null,null,null,1]
[null,null,null,null,null,null,null,null,null,null,null,1]
[null,null,null,null,null,null,null,null,null,null,null,1]
[null,null,null,null,null,null,null,null,null,null,null,1]
[null,null,null,null,null,null,null,null,null,null,null,1]
[null,null,null,null,null,null,null,null,null,null,null,1]
[null,null,null,null,null,null,null,null,null,null,null,1]
[null,null,null,null,null,null,null,null,null,null,null,1]
[null,null,null,null,null,null,null,null,null,null,null,1]
[null,null,null,null,null,null,null,null,null,null,null,1]
[null,null,null,null,null,null,null,null,null,null,null,1]
[null,null,null,null,null,null,null,null,null,null,null,1]
[null,null,null,null,null,null,null,null,null,null,null,1]
[null,null,null,null,null,null,null,null,null,null,null,1]
[null,null,null,null,null,null,null,null,null,null,null,1]
[null,null,null,null,null,null,null,null,null,null,null,1]
[null,null,null,null,null,null,null,null,null,null,null,1]
[null,null,null,null,null,null,null,null,null,null,null,1]
[null,null,null,null,null,null,null,null,null,null,null,1]
[null,null,null,null,null,null,null,null,null,null,null,1]
[null,null,null,null,null,null,null,null,null,null,null,1]
[null,null,null,null,null,null,null,null,null,null,null,1]
[null,null,null,null,null,null,null,null,null,null,null,1]
[null,null,null,null,null,null,null,null,null,null,null,1]
[null,null,null,null,null,null,null,null,null,null,null,1]
[null,null,null,null,null,null,null,null,null,null,null,1]
[null,null,null,null,null,null,null,null,null,null,null,1]
[null,null,null,null,null,null,null,null,null,null,null,1]
[null,null,null,null,null,null,null,null,null,null,null,1]
[null,null,null,null,null,null,null,null,null,null,null,1]
[null,null,null,null,null,null,null,null,null,null,null,1]
[null,null,null,null,null,null,null,null,null,null,null,1]
[null,null,null,null,null,null,null,null,null,null,null,1]
[null,null,null,null,null,null,null,null,null,null,null,1]
[null,null,null,null,null,null,null,null,null,null,null,{"$f":"IF(INT(C340502)<>INT(C340501),L340501+1,L340501)","v":1}]
[null,null,null,null,null,null,null,null,null,null,null,1]
[null,null,null,null,null,null,null,null,null,null,null,1]
[null,null,null,null,null,null,null,null,null,null,null,1]
[null,null,null,null,null,null,null,null,null,null,null,1]
[null,null,null,null,null,null,null,null,null,null,null,1]
[null,null,null,null,null,null,null,null,null,null,null,1]
[null,null,null,null,null,null,null,null,null,null,null,1]
[null,null,null,null,null,null,null,null,null,null,null,1]
[null,null,null,null,null,null,null,null,null,null,null,1]
[null,null,null,null,null,null,null,null,null,null,null,1]
[null,null,null,null,null,null,null,null,null,null,null,1]
[null,null,null,null,null,null,null,null,null,null,null,1]
[null,null,null,null,null,null,null,null,null,null,null,1]
[null,null,null,null,null,null,null,null,null,null,null,1]
[null,null,null,null,null,null,null,null,null,null,null,1]
[null,null,null,null,null,null,null,null,null,null,null,1]
[null,null,null,null,null,null,null,null,null,null,null,1]
[null,null,null,null,null,null,null,null,null,null,null,1]
[null,null,null,null,null,null,null,null,null,null,null,1]
[null,null,null,null,null,null,null,null,null,null,null,1]
[null,null,null,null,null,null,null,null,null,null,null,1]
[null,null,null,null,null,null,null,null,null,null,null,1]
[null,null,null,null,null,null,null,null,null,null,null,1]
[null,null,null,null,null,null,null,null,null,null,null,1]
[null,null,null,null,null,null,null,null,null,null,null,1]
[null,null,null,null,null,null,null,null,null,null,null,1]
[null,null,null,null,null,null,null,null,null,null,null,1]
[null,null,null,null,null,null,null,null,null,null,null,1]
[null,null,null,null,null,null,null,null,null,null,null,1]
[null,null,null,null,null,null,null,null,null,null,null,1]
[null,null,null,null,null,null,null,null,null,null,null,1]
[null,null,null,null,null,null,null,null,null,null,null,1]
[null,null,null,null,null,null,null,null,null,null,null,1]
[null,null,null,null,null,null,null,null,null,null,null,1]
[null,null,null,null,null,null,null,null,null,null,null,1]
[null,null,null,null,null,null,null,null,null,null,null,1]
[null,null,null,null,null,null,null,null,null,null,null,1]
[null,null,null,null,null,null,null,null,null,null,null,1]
[null,null,null,null,null,null,null,null,null,null,null,1]
[null,null,null,null,null,null,null,null,null,null,null,1]
[null,null,null,null,null,null,null,null,null,null,null,1]
[null,null,null,null,null,null,null,null,null,null,null,1]
[null,null,null,null,null,null,null,null,null,null,null,1]
[null,null,null,null,null,null,null,null,null,null,null,1]
[null,null,null,null,null,null,null,null,null,null,null,1]
[null,null,null,null,null,null,null,null,null,null,null,1]
[null,null,null,null,null,null,null,null,null,null,null,1]
[null,null,null,null,null,null,null,null,null,null,null,1]
[null,null,null,null,null,null,null,null,null,null,null,1]
[null,null,null,null,null,null,null,null,null,null,null,1]
[null,null,null,null,null,null,null,null,null,null,null,1]
[null,null,null,null,null,null,null,null,null,null,null,1]
[null,null,null,null,null,null,null,null,null,null,null,1]
[null,null,null,null,null,null,null,null,null,null,null,1]
[null,null,null,null,null,null,null,null,null,null,null,1]
[null,null,null,null,null,null,null,null,null,null,null,1]
[null,null,null,null,null,null,null,null,null,null,null,1]
[null,null,null,null,null,null,null,null,null,null,null,1]
[null,null,null,null,null,null,null,null,null,null,null,1]
[null,null,null,null,null,null,null,null,null,null,null,1]
[null,null,null,null,null,null,null,null,null,null,null,1]
[null,null,null,null,null,null,null,null,null,null,null,1]
[null,null,null,null,null,null,null,null,null,null,null,1]
[null,null,null,null,null,null,null,null,null,null,null,1]
[null,null,null,null,null,null,null,null,null,null,null,1]
[null,null,null,null,null,null,null,null,null,null,null,1]
[null,null,null,null,null,null,null,null,null,null,null,1]
[null,null,null,null,null,null,null,null,null,null,null,1]
[null,null,null,null,null,null,null,null,null,null,null,1]
[null,null,null,null,null,null,null,null,null,null,null,1]
[null,null,null,null,null,null,null,null,null,null,null,1]
[null,null,null,null,null,null,null,null,null,null,null,1]
[null,null,null,null,null,null,null,null,null,null,null,1]
[null,null,null,null,null,null,null,null,null,null,null,1]
[null,null,null,null,null,null,null,null,null,null,null,1]
[null,null,null,null,null,null,null,null,null,null,null,1]
[null,null,null,null,null,null,null,null,null,null,null,1]
[null,null,null,null,null,null,null,null,null,null,null,1]
[null,null,null,null,null,null,null,null,null,null,null,1]
[null,null,null,null,null,null,null,null,null,null,null,1]
[null,null,null,null,null,null,null,null,null,null,null,1]
[null,null,null,null,null,null,null,null,null,null,null,1]
[null,null,null,null,null,null,null,null,null,null,null,1]
[null,null,null,null,null,null,null,null,null,null,null,1]
[null,null,null,null,null,null,null,null,null,null,null,1]
[null,null,null,null,null,null,null,null,null,null,null,1]
[null,null,null,null,null,null,null,null,null,null,null,1]
[null,null,null,null,null,null,null,null,null,null,null,1]
[null,null,null,null,null,null,null,null,null,null,null,1]
[null,null,null,null,null,null,null,null,null,null,null,1]
[null,null,null,null,null,null,null,null,null,null,null,1]
[null,null,null,null,null,null,null,null,null,null,null,1]
[null,null,null,null,null,null,null,null,null,null,null,1]
[null,null,null,null,null,null,null,null,null,null,null,1]
[null,null,null,null,null,null,null,null,null,null,null,1]
[null,null,null,null,null,null,null,null,null,null,null,1]
[null,null,null,null,null,null,null,null,null,null,null,1]
[null,null,null,null,null,null,null,null,null,null,null,1]
[null,null,null,null,null,null,null,null,null,null,null,1]
[null,null,null,null,null,null,null,null,null,null,null,1]
[null,null,null,null,null,null,null,null,null,null,null,1]
[null,null,null,null,null,null,null,null,null,null,null,1]
[null,null,null,null,null,null,null,null,null,null,null,1]
[null,null,null,null,null,null,null,null,null,null,null,1]
[null,null,null,null,null,null,null,null,null,null,null,1]
[null,null,null,null,null,null,null,null,null,null,null,1]
[null,null,null,null,null,null,null,null,null,null,null,1]
[null,null,null,null,null,null,null,null,null,null,null,1]
[null,null,null,null,null,null,null,null,null,null,null,1]
[null,null,null,null,null,null,null,null,null,null,null,1]
[null,null,null,null,null,null,null,null,null,null,null,1]
[null,null,null,null,null,null,null,null,null,null,null,1]
[null,null,null,null,null,null,null,null,null,null,null,1]
[null,null,null,null,null,null,null,null,null,null,null,1]
[null,null,null,null,null,null,null,null,null,null,null,1]
[null,null,null,null,null,null,null,null,null,null,null,1]
[null,null,null,null,null,null,null,null,null,null,null,1]
[null,null,null,null,null,null,null,null,null,null,null,1]
[null,null,null,null,null,null,null,null,null,null,null,1]
[null,null,null,null,null,null,null,null,null,null,null,1]
[null,null,null,null,null,null,null,null,null,null,null,1]
[null,null,null,null,null,null,null,null,null,null,null,1]
[null,null,null,null,null,null,null,null,null,null,null,1]
[null,null,null,null,null,null,null,null,null,null,null,1]
[null,null,null,null,null,null,null,null,null,null,null,1]
[null,null,null,null,null,null,null,null,null,null,null,1]
[null,null,null,null,null,null,null,null,null,null,null,1]
[null,null,null,null,null,null,null,null,null,null,null,1]
[null,null,null,null,null,null,null,null,null,null,null,1]
[null,null,null,null,null,null,null,null,null,null,null,1]
[null,null,null,null,null,null,null,null,null,null,null,1]
[null,null,null,null,null,null,null,null,null,null,null,1]
[null,null,null,null,null,null,null,null,null,null,null,1]
[null,null,null,null,null,null,null,null,null,null,null,1]
[null,null,null,null,null,null,null,null,null,null,null,1]
[null,null,null,null,null,null,null,null,null,null,null,1]
[null,null,null,null,null,null,null,null,null,null,null,1]
[null,null,null,null,null,null,null,null,null,null,null,1]
[null,null,null,null,null,null,null,null,null,null,null,1]
[null,null,null,null,null,null,null,null,null,null,null,1]
[null,null,null,null,null,null,null,null,null,null,null,1]
[null,null,null,null,null,null,null,null,null,null,null,1]
[null,null,null,null,null,null,null,null,null,null,null,1]
[null,null,null,null,null,null,null,null,null,null,null,1]
[null,null,null,null,null,null,null,null,null,null,null,1]
[null,null,null,null,null,null,null,null,null,null,null,1]
[null,null,null,null,null,null,null,null,null,null,null,1]
[null,null,null,null,null,null,null,null,null,null,null,1]
[null,null,null,null,null,null,null,null,null,null,null,1]
[null,null,null,null,null,null,null,null,null,null,null,1]
[null,null,null,null,null,null,null,null,null,null,null,1]
[null,null,null,null,null,null,null,null,null,null,null,1]
[null,null,null,null,null,null,null,null,null,null,null,1]
[null,null,null,null,null,null,null,null,null,null,null,1]
[null,null,null,null,null,null,null,null,null,null,null,1]
[null,null,null,null,null,null,null,null,null,null,null,1]
[null,null,null,null,null,null,null,null,null,null,null,1]
[null,null,null,null,null,null,null,null,null,null,null,1]
[null,null,null,null,null,null,null,null,null,null,null,1]
[null,null,null,null,null,null,null,null,null,null,null,1]
[null,null,null,null,null,null,null,null,null,null,null,1]
[null,null,null,null,null,null,null,null,null,null,null,1]
[null,null,null,null,null,null,null,null,null,null,null,1]
[null,null,null,null,null,null,null,null,null,null,null,1]
[null,null,null,null,null,null,null,null,null,null,null,1]
[null,null,null,null,null,null,null,null,null,null,null,1]
[null,null,null,null,null,null,null,null,null,null,null,1]
[null,null,null,null,null,null,null,null,null,null,null,1]
[null,null,null,null,null,null,null,null,null,null,null,1]
[null,null,null,null,null,null,null,null,null,null,null,1]
[null,null,null,null,null,null,null,null,null,null,null,1]
[null,null,null,null,null,null,null,null,null,null,null,1]
[null,null,null,null,null,null,null,null,null,null,null,1]
[null,null,null,null,null,null,null,null,null,null,null,1]
[null,null,null,null,null,null,null,null,null,null,null,1]
[null,null,null,null,null,null,null,null,null,null,null,1]
[null,null,null,null,null,null,null,null,null,null,null,1]
[null,null,null,null,null,null,null,null,null,null,null,1]
[null,null,null,null,null,null,null,null,null,null,null,1]
[null,null,null,null,null,null,null,null,null,null,null,1]
[null,null,null,null,null,null,null,null,null,null,null,1]
[null,null,null,null,null,null,null,null,null,null,null,1]
[null,null,null,null,null,null,null,null,null,null,null,1]
[null,null,null,null,null,null,null,null,null,null,null,1]
[null,null,null,null,null,null,null,null,null,null,null,1]
[null,null,null,null,null,null,null,null,null,null,null,1]
[null,null,null,null,null,null,null,null,null,null,null,1]
[null,null,null,null,null,null,null,null,null,null,null,1]
[null,null,null,null,null,null,null,null,null,null,null,1]
[null,null,null,null,null,null,null,null,null,null,null,1]
[null,null,null,null,null,null,null,null,null,null,null,1]
[null,null,null,null,null,null,null,null,null,null,null,1]
[null,null,null,null,null,null,null,null,null,null,null,1]
[null,null,null,null,null,null,null,null,null,null,null,1]
[null,null,null,null,null,null,null,null,null,null,null,1]
[null,null,null,null,null,null,null,null,null,null,null,1]
[null,null,null,null,null,null,null,null,null,null,null,1]
[null,null,null,null,null,null,null,null,null,null,null,1]
[null,null,null,null,null,null,null,null,null,null,null,1]
[null,null,null,null,null,null,null,null,null,null,null,1]
[null,null,null,null,null,null,null,null,null,null,null,1]
[null,null,null,null,null,null,null,null,null,null,null,1]
[null,null,null,null,null,null,null,null,null,null,null,1]
[null,null,null,null,null,null,null,null,null,null,null,1]
[null,null,null,null,null,null,null,null,null,null,null,1]
[null,null,null,null,null,null,null,null,null,null,null,1]
[null,null,null,null,null,null,null,null,null,null,null,1]
[null,null,null,null,null,null,null,null,null,null,null,1]
[null,null,null,null,null,null,null,null,null,null,null,1]
[null,null,null,null,null,null,null,null,null,null,null,1]
[null,null,null,null,null,null,null,null,null,null,null,1]
[null,null,null,null,null,null,null,null,null,null,null,1]
[null,null,null,null,null,null,null,null,null,null,null,1]
[null,null,null,null,null,null,null,null,null,null,null,1]
[null,null,null,null,null,null,null,null,null,null,null,1]
[null,null,null,null,null,null,null,null,null,null,null,1]
[null,null,null,null,null,null,null,null,null,null,null,1]
[null,null,null,null,null,null,null,null,null,null,null,1]
[null,null,null,null,null,null,null,null,null,null,null,1]
[null,null,null,null,null,null,null,null,null,null,null,1]
[null,null,null,null,null,null,null,null,null,null,null,1]
[null,null,null,null,null,null,null,null,null,null,null,1]
[null,null,null,null,null,null,null,null,null,null,null,1]
[null,null,null,null,null,null,null,null,null,null,null,1]
[null,null,null,null,null,null,null,null,null,null,null,1]
[null,null,null,null,null,null,null,null,null,null,null,1]
[null,null,null,null,null,null,null,null,null,null,null,1]
[null,null,null,null,null,null,null,null,null,null,null,1]
[null,null,null,null,null,null,null,null,null,null,null,1]
[null,null,null,null,null,null,null,null,null,null,null,1]
[null,null,null,null,null,null,null,null,null,null,null,{"$f":"IF(INT(C400921)<>INT(C400920),L400920+1,L400920)","v":1}]
[null,null,null,null,null,null,null,null,null,null,null,1]
[null,null,null,null,null,null,null,null,null,null,null,1]
[null,null,null,null,null,null,null,null,null,null,null,{"$f":"IF(INT(C401881)<>INT(C401880),L401880+1,L401880)","v":1}]
[null,null,null,null,null,null,null,null,null,null,null,1]
[null,null,null,null,null,null,null,null,null,null,null,1]
[null,null,null,null,null,null,null,null,null,null,null,1]
[null,null,null,null,null,null,null,null,null,null,null,1]
[null,null,null,null,null,null,null,null,null,null,null,1]
[null,null,null,null,null,null,null,null,null,null,null,1]
[null,null,null,null,null,null,null,null,null,null,null,1]
[null,null,null,null,null,null,null,null,null,null,null,1]
[null,null,null,null,null,null,null,null,null,null,null,1]
[null,null,null,null,null,null,null,null,null,null,null,1]
[null,null,null,null,null,null,null,null,null,null,null,1]
[null,null,null,null,null,null,null,null,null,null,null,1]
[null,null,null,null,null,null,null,null,null,null,null,1]
[null,null,null,null,null,null,null,null,null,null,null,1]
[null,null,null,null,null,null,null,null,null,null,null,1]
[null,null,null,null,null,null,null,null,null,null,null,1]
[null,null,null,null,null,null,null,null,null,null,null,1]
[null,null,null,null,null,null,null,null,null,null,null,1]
[null,null,null,null,null,null,null,null,null,null,null,1]
[null,null,null,null,null,null,null,null,null,null,null,1]
[null,null,null,null,null,null,null,null,null,null,null,1]
[null,null,null,null,null,null,null,null,null,null,null,1]
[null,null,null,null,null,null,null,null,null,null,null,1]
[null,null,null,null,null,null,null,null,null,null,null,1]
[null,null,null,null,null,null,null,null,null,null,null,1]
[null,null,null,null,null,null,null,null,null,null,null,1]
[null,null,null,null,null,null,null,null,null,null,null,1]
[null,null,null,null,null,null,null,null,null,null,null,1]
[null,null,null,null,null,null,null,null,null,null,null,1]
[null,null,null,null,null,null,null,null,null,null,null,1]
[null,null,null,null,null,null,null,null,null,null,null,1]
[null,null,null,null,null,null,null,null,null,null,null,1]
[null,null,null,null,null,null,null,null,null,null,null,1]
[null,null,null,null,null,null,null,null,null,null,null,1]
[null,null,null,null,null,null,null,null,null,null,null,1]
[null,null,null,null,null,null,null,null,null,null,null,1]
[null,null,null,null,null,null,null,null,null,null,null,1]
[null,null,null,null,null,null,null,null,null,null,null,1]
[null,null,null,null,null,null,null,null,null,null,null,1]
[null,null,null,null,null,null,null,null,null,null,null,1]
[null,null,null,null,null,null,null,null,null,null,null,1]
[null,null,null,null,null,null,null,null,null,null,null,1]
[null,null,null,null,null,null,null,null,null,null,null,1]
[null,null,null,null,null,null,null,null,null,null,null,1]
[null,null,null,null,null,null,null,null,null,null,null,1]
[null,null,null,null,null,null,null,null,null,null,null,1]
[null,null,null,null,null,null,null,null,null,null,null,1]
[null,null,null,null,null,null,null,null,null,null,null,1]
[null,null,null,null,null,null,null,null,null,null,null,1]
[null,null,null,null,null,null,null,null,null,null,null,1]
[null,null,null,null,null,null,null,null,null,null,null,1]
[null,null,null,null,null,null,null,null,null,null,null,1]
[null,null,null,null,null,null,null,null,null,null,null,1]
[null,null,null,null,null,null,null,null,null,null,null,1]
[null,null,null,null,null,null,null,null,null,null,null,1]
[null,null,null,null,null,null,null,null,null,null,null,1]
[null,null,null,null,null,null,null,null,null,null,null,1]
[null,null,null,null,null,null,null,null,null,null,null,1]
[null,null,null,null,null,null,null,null,null,null,null,1]
[null,null,null,null,null,null,null,null,null,null,null,1]
[null,null,null,null,null,null,null,null,null,null,null,1]
[null,null,null,null,null,null,null,null,null,null,null,1]
[null,null,null,null,null,null,null,null,null,null,null,1]
[null,null,null,null,null,null,null,null,null,null,null,1]
[null,null,null,null,null,null,null,null,null,null,null,1]
[null,null,null,null,null,null,null,null,null,null,null,1]
[null,null,null,null,null,null,null,null,null,null,null,1]
[null,null,null,null,null,null,null,null,null,null,null,1]
[null,null,null,null,null,null,null,null,null,null,null,1]
[null,null,null,null,null,null,null,null,null,null,null,1]
[null,null,null,null,null,null,null,null,null,null,null,1]
[null,null,null,null,null,null,null,null,null,null,null,1]
[null,null,null,null,null,null,null,null,null,null,null,1]
[null,null,null,null,null,null,null,null,null,null,null,1]
[null,null,null,null,null,null,null,null,null,null,null,1]
[null,null,null,null,null,null,null,null,null,null,null,1]
[null,null,null,null,null,null,null,null,null,null,null,1]
[null,null,null,null,null,null,null,null,null,null,null,1]
[null,null,null,null,null,null,null,null,null,null,null,1]
[null,null,null,null,null,null,null,null,null,null,null,1]
[null,null,null,null,null,null,null,null,null,null,null,1]
[null,null,null,null,null,null,null,null,null,null,null,1]
[null,null,null,null,null,null,null,null,null,null,null,1]
[null,null,null,null,null,null,null,null,null,null,null,1]
[null,null,null,null,null,null,null,null,null,null,null,1]
[null,null,null,null,null,null,null,null,null,null,null,1]
[null,null,null,null,null,null,null,null,null,null,null,1]
[null,null,null,null,null,null,null,null,null,null,null,1]
[null,null,null,null,null,null,null,null,null,null,null,1]
[null,null,null,null,null,null,null,null,null,null,null,1]
[null,null,null,null,null,null,null,null,null,null,null,1]
[null,null,null,null,null,null,null,null,null,null,null,1]
[null,null,null,null,null,null,null,null,null,null,null,1]
[null,null,null,null,null,null,null,null,null,null,null,1]
[null,null,null,null,null,null,null,null,null,null,null,1]
[null,null,null,null,null,null,null,null,null,null,null,1]
[null,null,null,null,null,null,null,null,null,null,null,1]
[null,null,null,null,null,null,null,null,null,null,null,1]
[null,null,null,null,null,null,null,null,null,null,null,{"$f":"IF(INT(C427673)<>INT(C427672),L427672+1,L427672)","v":1}]
[null,null,null,null,null,null,null,null,null,null,null,1]
[null,null,null,null,null,null,null,null,null,null,null,1]
[null,null,null,null,null,null,null,null,null,null,null,{"$f":"IF(INT(C428633)<>INT(C428632),L428632+1,L428632)","v":1}]
[null,null,null,null,null,null,null,null,null,null,null,1]
[null,null,null,null,null,null,null,null,null,null,null,1]
[null,null,null,null,null,null,null,null,null,null,null,1]
[null,null,null,null,null,null,null,null,null,null,null,1]
[null,null,null,null,null,null,null,null,null,null,null,1]
[null,null,null,null,null,null,null,null,null,null,null,1]
[null,null,null,null,null,null,null,null,null,null,null,1]
[null,null,null,null,null,null,null,null,null,null,null,1]
[null,null,null,null,null,null,null,null,null,null,null,1]
[null,null,null,null,null,null,null,null,null,null,null,1]
[null,null,null,null,null,null,null,null,null,null,null,1]
[null,null,null,null,null,null,null,null,null,null,null,1]
[null,null,null,null,null,null,null,null,null,null,null,1]
[null,null,null,null,null,null,null,null,null,null,null,1]
[null,null,null,null,null,null,null,null,null,null,null,1]
[null,null,null,null,null,null,null,null,null,null,null,1]
[null,null,null,null,null,null,null,null,null,null,null,1]
[null,null,null,null,null,null,null,null,null,null,null,1]
[null,null,null,null,null,null,null,null,null,null,null,1]
[null,null,null,null,null,null,null,null,null,null,null,1]
[null,null,null,null,null,null,null,null,null,null,null,1]
[null,null,null,null,null,null,null,null,null,null,null,1]
[null,null,null,null,null,null,null,null,null,null,null,1]
[null,null,null,null,null,null,null,null,null,null,null,1]
[null,null,null,null,null,null,null,null,null,null,null,1]
[null,null,null,null,null,null,null,null,null,null,null,1]
[null,null,null,null,null,null,null,null,null,null,null,1]
[null,null,null,null,null,null,null,null,null,null,null,1]
[null,null,null,null,null,null,null,null,null,null,null,1]
[null,null,null,null,null,null,null,null,null,null,null,1]
[null,null,null,null,null,null,null,null,null,null,null,1]
[null,null,null,null,null,null,null,null,null,null,null,1]
[null,null,null,null,null,null,null,null,null,null,null,1]
[null,null,null,null,null,null,null,null,null,null,null,1]
[null,null,null,null,null,null,null,null,null,null,null,1]
[null,null,null,null,null,null,null,null,null,null,null,1]
[null,null,null,null,null,null,null,null,null,null,null,1]
[null,null,null,null,null,null,null,null,null,null,null,1]
[null,null,null,null,null,null,null,null,null,null,null,1]
[null,null,null,null,null,null,null,null,null,null,null,1]
[null,null,null,null,null,null,null,null,null,null,null,1]
[null,null,null,null,null,null,null,null,null,null,null,1]
[null,null,null,null,null,null,null,null,null,null,null,1]
[null,null,null,null,null,null,null,null,null,null,null,1]
[null,null,null,null,null,null,null,null,null,null,null,1]
[null,null,null,null,null,null,null,null,null,null,null,1]
[null,null,null,null,null,null,null,null,null,null,null,1]
[null,null,null,null,null,null,null,null,null,null,null,1]
[null,null,null,null,null,null,null,null,null,null,null,1]
[null,null,null,null,null,null,null,null,null,null,null,1]
[null,null,null,null,null,null,null,null,null,null,null,1]
[null,null,null,null,null,null,null,null,null,null,null,1]
[null,null,null,null,null,null,null,null,null,null,null,1]
[null,null,null,null,null,null,null,null,null,null,null,1]
[null,null,null,null,null,null,null,null,null,null,null,1]
[null,null,null,null,null,null,null,null,null,null,null,1]
[null,null,null,null,null,null,null,null,null,null,null,1]
[null,null,null,null,null,null,null,null,null,null,null,1]
[null,null,null,null,null,null,null,null,null,null,null,1]
[null,null,null,null,null,null,null,null,null,null,null,1]
[null,null,null,null,null,null,null,null,null,null,null,1]
[null,null,null,null,null,null,null,null,null,null,null,1]
[null,null,null,null,null,null,null,null,null,null,null,1]
[null,null,null,null,null,null,null,null,null,null,null,1]
[null,null,null,null,null,null,null,null,null,null,null,1]
[null,null,null,null,null,null,null,null,null,null,null,1]
[null,null,null,null,null,null,null,null,null,null,null,1]
[null,null,null,null,null,null,null,null,null,null,null,1]
[null,null,null,null,null,null,null,null,null,null,null,1]
[null,null,null,null,null,null,null,null,null,null,null,1]
[null,null,null,null,null,null,null,null,null,null,null,1]
[null,null,null,null,null,null,null,null,null,null,null,1]
[null,null,null,null,null,null,null,null,null,null,null,1]
[null,null,null,null,null,null,null,null,null,null,null,1]
[null,null,null,null,null,null,null,null,null,null,null,1]
[null,null,null,null,null,null,null,null,null,null,null,1]
[null,null,null,null,null,null,null,null,null,null,null,1]
[null,null,null,null,null,null,null,null,null,null,null,1]
[null,null,null,null,null,null,null,null,null,null,null,1]
[null,null,null,null,null,null,null,null,null,null,null,1]
[null,null,null,null,null,null,null,null,null,null,null,1]
[null,null,null,null,null,null,null,null,null,null,null,1]
[null,null,null,null,null,null,null,null,null,null,null,1]
[null,null,null,null,null,null,null,null,null,null,null,1]
[null,null,null,null,null,null,null,null,null,null,null,1]
[null,null,null,null,null,null,null,null,null,null,null,1]
[null,null,null,null,null,null,null,null,null,null,null,1]
[null,null,null,null,null,null,null,null,null,null,null,1]
[null,null,null,null,null,null,null,null,null,null,null,1]
[null,null,null,null,null,null,null,null,null,null,null,1]
[null,null,null,null,null,null,null,null,null,null,null,1]
[null,null,null,null,null,null,null,null,null,null,null,1]
[null,null,null,null,null,null,null,null,null,null,null,1]
[null,null,null,null,null,null,null,null,null,null,null,1]
[null,null,null,null,null,null,null,null,null,null,null,1]
[null,null,null,null,null,null,null,null,null,null,null,1]
[null,null,null,null,null,null,null,null,null,null,null,1]
[null,null,null,null,null,null,null,null,null,null,null,1]
[null,null,null,null,null,null,null,null,null,null,null,1]
[null,null,null,null,null,null,null,null,null,null,null,1]
[null,null,null,null,null,null,null,null,null,null,null,1]
[null,null,null,null,null,null,null,null,null,null,null,1]
[null,null,null,null,null,null,null,null,null,null,null,1]
[null,null,null,null,null,null,null,null,null,null,null,1]
[null,null,null,null,null,null,null,null,null,null,null,1]
[null,null,null,null,null,null,null,null,null,null,null,1]
[null,null,null,null,null,null,null,null,null,null,null,1]
[null,null,null,null,null,null,null,null,null,null,null,1]
[null,null,null,null,null,null,null,null,null,null,null,1]
[null,null,null,null,null,null,null,null,null,null,null,1]
[null,null,null,null,null,null,null,null,null,null,null,1]
[null,null,null,null,null,null,null,null,null,null,null,1]
[null,null,null,null,null,null,null,null,null,null,null,1]
[null,null,null,null,null,null,null,null,null,null,null,1]
[null,null,null,null,null,null,null,null,null,null,null,1]
[null,null,null,null,null,null,null,null,null,null,null,1]
[null,null,null,null,null,null,null,null,null,null,null,1]
[null,null,null,null,null,null,null,null,null,null,null,1]
[null,null,null,null,null,null,null,null,null,null,null,1]
[null,null,null,null,null,null,null,null,null,null,null,1]
[null,null,null,null,null,null,null,null,null,null,null,1]
[null,null,null,null,null,null,null,null,null,null,null,1]
[null,null,null,null,null,null,null,null,null,null,null,1]
[null,null,null,null,null,null,null,null,null,null,null,1]
[null,null,null,null,null,null,null,null,null,null,null,1]
[null,null,null,null,null,null,null,null,null,null,null,1]
[null,null,null,null,null,null,null,null,null,null,null,1]
[null,null,null,null,null,null,null,null,null,null,null,1]
[null,null,null,null,null,null,null,null,null,null,null,1]
[null,null,null,null,null,null,null,null,null,null,null,1]
[null,null,null,null,null,null,null,null,null,null,null,1]
[null,null,null,null,null,null,null,null,null,null,null,1]
[null,null,null,null,null,null,null,null,null,null,null,1]
[null,null,null,null,null,null,null,null,null,null,null,1]
[null,null,null,null,null,null,null,null,null,null,null,1]
[null,null,null,null,null,null,null,null,null,null,null,1]
[null,null,null,null,null,null,null,null,null,null,null,1]
[null,null,null,null,null,null,null,null,null,null,null,1]
[null,null,null,null,null,null,null,null,null,null,null,1]
[null,null,null,null,null,null,null,null,null,null,null,1]
[null,null,null,null,null,null,null,null,null,null,null,1]
[null,null,null,null,null,null,null,null,null,null,null,1]
[null,null,null,null,null,null,null,null,null,null,null,1]
[null,null,null,null,null,null,null,null,null,null,null,1]
[null,null,null,null,null,null,null,null,null,null,null,1]
[null,null,null,null,null,null,null,null,null,null,null,1]
[null,null,null,null,null,null,null,null,null,null,null,1]
[null,null,null,null,null,null,null,null,null,null,null,1]
[null,null,null,null,null,null,null,null,null,null,null,1]
[null,null,null,null,null,null,null,null,null,null,null,1]
[null,null,null,null,null,null,null,null,null,null,null,1]
[null,null,null,null,null,null,null,null,null,null,null,1]
[null,null,null,null,null,null,null,null,null,null,null,1]
[null,null,null,null,null,null,null,null,null,null,null,1]
[null,null,null,null,null,null,null,null,null,null,null,1]
[null,null,null,null,null,null,null,null,null,null,null,1]
[null,null,null,null,null,null,null,null,null,null,null,1]
[null,null,null,null,null,null,null,null,null,null,null,1]
[null,null,null,null,null,null,null,null,null,null,null,1]
[null,null,null,null,null,null,null,null,null,null,null,1]
[null,null,null,null,null,null,null,null,null,null,null,1]
[null,null,null,null,null,null,null,null,null,null,null,1]
[null,null,null,null,null,null,null,null,null,null,null,1]
[null,null,null,null,null,null,null,null,null,null,null,1]
[null,null,null,null,null,null,null,null,null,null,null,1]
[null,null,null,null,null,null,null,null,null,null,null,1]
[null,null,null,null,null,null,null,null,null,null,null,1]
[null,null,null,null,null,null,null,null,null,null,null,1]
[null,null,null,null,null,null,null,null,null,null,null,1]
[null,null,null,null,null,null,null,null,null,null,null,1]
[null,null,null,null,null,null,null,null,null,null,null,1]
[null,null,null,null,null,null,null,null,null,null,null,1]
[null,null,null,null,null,null,null,null,null,null,null,1]
[null,null,null,null,null,null,null,null,null,null,null,1]
[null,null,null,null,null,null,null,null,null,null,null,1]
[null,null,null,null,null,null,null,null,null,null,null,1]
[null,null,null,null,null,null,null,null,null,null,null,1]
[null,null,null,null,null,null,null,null,null,null,null,1]
[null,null,null,null,null,null,null,null,null,null,null,1]
[null,null,null,null,null,null,null,null,null,null,null,1]
[null,null,null,null,null,null,null,null,null,null,null,1]
[null,null,null,null,null,null,null,null,null,null,null,1]
[null,null,null,null,null,null,null,null,null,null,null,1]
[null,null,null,null,null,null,null,null,null,null,null,1]
[null,null,null,null,null,null,null,null,null,null,null,1]
[null,null,null,null,null,null,null,null,null,null,null,1]
[null,null,null,null,null,null,null,null,null,null,null,1]
[null,null,null,null,null,null,null,null,null,null,null,1]
[null,null,null,null,null,null,null,null,null,null,null,1]
[null,null,null,null,null,null,null,null,null,null,null,1]
[null,null,null,null,null,null,null,null,null,null,null,1]
[null,null,null,null,null,null,null,null,null,null,null,1]
[null,null,null,null,null,null,null,null,null,null,null,1]
[null,null,null,null,null,null,null,null,null,null,null,1]
[null,null,null,null,null,null,null,null,null,null,null,1]
[null,null,null,null,null,null,null,null,null,null,null,1]
[null,null,null,null,null,null,null,null,null,null,null,1]
[null,null,null,null,null,null,null,null,null,null,null,1]
[null,null,null,null,null,null,null,null,null,null,null,1]
[null,null,null,null,null,null,null,null,null,null,null,1]
[null,null,null,null,null,null,null,null,null,null,null,1]
[null,null,null,null,null,null,null,null,null,null,null,1]
[null,null,null,null,null,null,null,null,null,null,null,1]
[null,null,null,null,null,null,null,null,null,null,null,1]
[null,null,null,null,null,null,null,null,null,null,null,1]
[null,null,null,null,null,null,null,null,null,null,null,1]
[null,null,null,null,null,null,null,null,null,null,null,1]
[null,null,null,null,null,null,null,null,null,null,null,1]
[null,null,null,null,null,null,null,null,null,null,null,1]
[null,null,null,null,null,null,null,null,null,null,null,1]
[null,null,null,null,null,null,null,null,null,null,null,1]
[null,null,null,null,null,null,null,null,null,null,null,1]
[null,null,null,null,null,null,null,null,null,null,null,1]
[null,null,null,null,null,null,null,null,null,null,null,1]
[null,null,null,null,null,null,null,null,null,null,null,1]
[null,null,null,null,null,null,null,null,null,null,null,1]
[null,null,null,null,null,null,null,null,null,null,null,1]
[null,null,null,null,null,null,null,null,null,null,null,1]
[null,null,null,null,null,null,null,null,null,null,null,1]
[null,null,null,null,null,null,null,null,null,null,null,1]
[null,null,null,null,null,null,null,null,null,null,null,1]
[null,null,null,null,null,null,null,null,null,null,null,1]
[null,null,null,null,null,null,null,null,null,null,null,1]
[null,null,null,null,null,null,null,null,null,null,null,1]
[null,null,null,null,null,null,null,null,null,null,null,1]
[null,null,null,null,null,null,null,null,null,null,null,1]
[null,null,null,null,null,null,null,null,null,null,null,{"$f":"IF(INT(C488025)<>INT(C488024),L488024+1,L488024)","v":1}]
[null,null,null,null,null,null,null,null,null,null,null,1]
[null,null,null,null,null,null,null,null,null,null,null,1]
[null,null,null,null,null,null,null,null,null,null,null,1]
[null,null,null,null,null,null,null,null,null,null,null,1]
[null,null,null,null,null,null,null,null,null,null,null,1]
[null,null,null,null,null,null,null,null,null,null,null,1]
[null,null,null,null,null,null,null,null,null,null,null,1]
[null,null,null,null,null,null,null,null,null,null,null,1]
[null,null,null,null,null,null,null,null,null,null,null,1]
[null,null,null,null,null,null,null,null,null,null,null,1]
[null,null,null,null,null,null,null,null,null,null,null,1]
[null,null,null,null,null,null,null,null,null,null,null,1]
[null,null,null,null,null,null,null,null,null,null,null,1]
[null,null,null,null,null,null,null,null,null,null,null,1]
[null,null,null,null,null,null,null,null,null,null,null,1]
[null,null,null,null,null,null,null,null,null,null,null,1]
[null,null,null,null,null,null,null,null,null,null,null,1]
[null,null,null,null,null,null,null,null,null,null,null,1]
[null,null,null,null,null,null,null,null,null,null,null,1]
[null,null,null,null,null,null,null,null,null,null,null,1]
[null,null,null,null,null,null,null,null,null,null,null,1]
[null,null,null,null,null,null,null,null,null,null,null,1]
[null,null,null,null,null,null,null,null,null,null,null,1]
[null,null,null,null,null,null,null,null,null,null,null,1]
[null,null,null,null,null,null,null,null,null,null,null,1]
[null,null,null,null,null,null,null,null,null,null,null,1]
[null,null,null,null,null,null,null,null,null,null,null,1]
[null,null,null,null,null,null,null,null,null,null,null,1]
[null,null,null,null,null,null,null,null,null,null,null,1]
[null,null,null,null,null,null,null,null,null,null,null,1]
[null,null,null,null,null,null,null,null,null,null,null,1]
[null,null,null,null,null,null,null,null,null,null,null,1]
[null,null,null,null,null,null,null,null,null,null,null,1]
[null,null,null,null,null,null,null,null,null,null,null,1]
[null,null,null,null,null,null,null,null,null,null,null,1]
[null,null,null,null,null,null,null,null,null,null,null,1]
[null,null,null,null,null,null,null,null,null,null,null,1]
[null,null,null,null,null,null,null,null,null,null,null,1]
[null,null,null,null,null,null,null,null,null,null,null,1]
[null,null,null,null,null,null,null,null,null,null,null,1]
[null,null,null,null,null,null,null,null,null,null,null,1]
[null,null,null,null,null,null,null,null,null,null,null,1]
[null,null,null,null,null,null,null,null,null,null,null,1]
[null,null,null,null,null,null,null,null,null,null,null,1]
[null,null,null,null,null,null,null,null,null,null,null,1]
[null,null,null,null,null,null,null,null,null,null,null,1]
[null,null,null,null,null,null,null,null,null,null,null,1]
[null,null,null,null,null,null,null,null,null,null,null,1]
[null,null,null,null,null,null,null,null,null,null,null,1]
[null,null,null,null,null,null,null,null,null,null,null,1]
[null,null,null,null,null,null,null,null,null,null,null,1]
[null,null,null,null,null,null,null,null,null,null,null,1]
[null,null,null,null,null,null,null,null,null,null,null,1]
[null,null,null,null,null,null,null,null,null,null,null,1]
[null,null,null,null,null,null,null,null,null,null,null,1]
[null,null,null,null,null,null,null,null,null,null,null,1]
[null,null,null,null,null,null,null,null,null,null,null,1]
[null,null,null,null,null,null,null,null,null,null,null,1]
[null,null,null,null,null,null,null,null,null,null,null,1]
[null,null,null,null,null,null,null,null,null,null,null,1]
[null,null,null,null,null,null,null,null,null,null,null,1]
[null,null,null,null,null,null,null,null,null,null,null,1]
[null,null,null,null,null,null,null,null,null,null,null,1]
[null,null,null,null,null,null,null,null,null,null,null,1]
[null,null,null,null,null,null,null,null,null,null,null,1]
[null,null,null,null,null,null,null,null,null,null,null,1]
[null,null,null,null,null,null,null,null,null,null,null,1]
[null,null,null,null,null,null,null,null,null,null,null,1]
[null,null,null,null,null,null,null,null,null,null,null,1]
[null,null,null,null,null,null,null,null,null,null,null,1]
[null,null,null,null,null,null,null,null,null,null,null,1]
[null,null,null,null,null,null,null,null,null,null,null,1]
[null,null,null,null,null,null,null,null,null,null,null,1]
[null,null,null,null,null,null,null,null,null,null,null,1]
[null,null,null,null,null,null,null,null,null,null,null,1]
[null,null,null,null,null,null,null,null,null,null,null,1]
[null,null,null,null,null,null,null,null,null,null,null,1]
[null,null,null,null,null,null,null,null,null,null,null,1]
[null,null,null,null,null,null,null,null,null,null,null,1]
[null,null,null,null,null,null,null,null,null,null,null,1]
[null,null,null,null,null,null,null,null,null,null,null,1]
[null,null,null,null,null,null,null,null,null,null,null,1]
[null,null,null,null,null,null,null,null,null,null,null,1]
[null,null,null,null,null,null,null,null,null,null,null,1]
[null,null,null,null,null,null,null,null,null,null,null,1]
[null,null,null,null,null,null,null,null,null,null,null,1]
[null,null,null,null,null,null,null,null,null,null,null,1]
[null,null,null,null,null,null,null,null,null,null,null,1]
[null,null,null,null,null,null,null,null,null,null,null,1]
[null,null,null,null,null,null,null,null,null,null,null,1]
[null,null,null,null,null,null,null,null,null,null,null,1]
[null,null,null,null,null,null,null,null,null,null,null,1]
[null,null,null,null,null,null,null,null,null,null,null,1]
[null,null,null,null,null,null,null,null,null,null,null,1]
[null,null,null,null,null,null,null,null,null,null,null,1]
[null,null,null,null,null,null,null,null,null,null,null,1]
[null,null,null,null,null,null,null,null,null,null,null,1]
[null,null,null,null,null,null,null,null,null,null,null,1]
[null,null,null,null,null,null,null,null,null,null,null,1]
[null,null,null,null,null,null,null,null,null,null,null,1]
[null,null,null,null,null,null,null,null,null,null,null,1]
[null,null,null,null,null,null,null,null,null,null,null,1]
[null,null,null,null,null,null,null,null,null,null,null,1]
[null,null,null,null,null,null,null,null,null,null,null,1]
[null,null,null,null,null,null,null,null,null,null,null,1]
[null,null,null,null,null,null,null,null,null,null,null,1]
[null,null,null,null,null,null,null,null,null,null,null,1]
[null,null,null,null,null,null,null,null,null,null,null,1]
[null,null,null,null,null,null,null,null,null,null,null,1]
[null,null,null,null,null,null,null,null,null,null,null,1]
[null,null,null,null,null,null,null,null,null,null,null,1]
[null,null,null,null,null,null,null,null,null,null,null,1]
[null,null,null,null,null,null,null,null,null,null,null,1]
[null,null,null,null,null,null,null,null,null,null,null,1]
[null,null,null,null,null,null,null,null,null,null,null,1]
[null,null,null,null,null,null,null,null,null,null,null,1]
[null,null,null,null,null,null,null,null,null,null,null,1]
[null,null,null,null,null,null,null,null,null,null,null,1]
[null,null,null,null,null,null,null,null,null,null,null,1]
[null,null,null,null,null,null,null,null,null,null,null,1]
[null,null,null,null,null,null,null,null,null,null,null,1]
[null,null,null,null,null,null,null,null,null,null,null,1]
[null,null,null,null,null,null,null,null,null,null,null,1]
[null,null,null,null,null,null,null,null,null,null,null,1]
[null,null,null,null,null,null,null,null,null,null,null,1]
[null,null,null,null,null,null,null,null,null,null,null,1]
[null,null,null,null,null,null,null,null,null,null,null,1]
[null,null,null,null,null,null,null,null,null,null,null,1]
[null,null,null,null,null,null,null,null,null,null,null,1]
[null,null,null,null,null,null,null,null,null,null,null,1]
[null,null,null,null,null,null,null,null,null,null,null,1]
[null,null,null,null,null,null,null,null,null,null,null,1]
[null,null,null,null,null,null,null,null,null,null,null,1]
[null,null,null,null,null,null,null,null,null,null,null,1]
[null,null,null,null,null,null,null,null,null,null,null,1]
[null,null,null,null,null,null,null,null,null,null,null,1]
[null,null,null,null,null,null,null,null,null,null,null,1]
[null,null,null,null,null,null,null,null,null,null,null,1]
[null,null,null,null,null,null,null,null,null,null,null,1]
[null,null,null,null,null,null,null,null,null,null,null,1]
[null,null,null,null,null,null,null,null,null,null,null,1]
[null,null,null,null,null,null,null,null,null,null,null,1]
[null,null,null,null,null,null,null,null,null,null,null,1]
[null,null,null,null,null,null,null,null,null,null,null,1]
[null,null,null,null,null,null,null,null,null,null,null,1]
[null,null,null,null,null,null,null,null,null,null,null,1]
[null,null,null,null,null,null,null,null,null,null,null,1]
[null,null,null,null,null,null,null,null,null,null,null,1]
[null,null,null,null,null,null,null,null,null,null,null,1]
[null,null,null,null,null,null,null,null,null,null,null,1]
[null,null,null,null,null,null,null,null,null,null,null,1]
[null,null,null,null,null,null,null,null,null,null,null,1]
[null,null,null,null,null,null,null,null,null,null,null,1]
[null,null,null,null,null,null,null,null,null,null,null,1]
[null,null,null,null,null,null,null,null,null,null,null,1]
[null,null,null,null,null,null,null,null,null,null,null,1]
[null,null,null,null,null,null,null,null,null,null,null,1]
[null,null,null,null,null,null,null,null,null,null,null,1]
[null,null,null,null,null,null,null,null,null,null,null,{"$f":"IF(INT(C526553)<>INT(C526552),L526552+1,L526552)","v":1}]
[null,null,null,null,null,null,null,null,null,null,null,1]
[null,null,null,null,null,null,null,null,null,null,null,1]
[null,null,null,null,null,null,null,null,null,null,null,1]
[null,null,null,null,null,null,null,null,null,null,null,1]
[null,null,null,null,null,null,null,null,null,null,null,1]
[null,null,null,null,null,null,null,null,null,null,null,1]
[null,null,null,null,null,null,null,null,null,null,null,1]
[null,null,null,null,null,null,null,null,null,null,null,1]
[null,null,null,null,null,null,null,null,null,null,null,1]
[null,null,null,null,null,null,null,null,null,null,null,1]
[null,null,null,null,null,null,null,null,null,null,null,1]
[null,null,null,null,null,null,null,null,null,null,null,1]
[null,null,null,null,null,null,null,null,null,null,null,1]
[null,null,null,null,null,null,null,null,null,null,null,1]
[null,null,null,null,null,null,null,null,null,null,null,1]
[null,null,null,null,null,null,null,null,null,null,null,1]
[null,null,null,null,null,null,null,null,null,null,null,1]
[null,null,null,null,null,null,null,null,null,null,null,1]
[null,null,null,null,null,null,null,null,null,null,null,1]
[null,null,null,null,null,null,null,null,null,null,null,1]
[null,null,null,null,null,null,null,null,null,null,null,1]
[null,null,null,null,null,null,null,null,null,null,null,1]
[null,null,null,null,null,null,null,null,null,null,null,1]
[null,null,null,null,null,null,null,null,null,null,null,1]
[null,null,null,null,null,null,null,null,null,null,null,1]
[null,null,null,null,null,null,null,null,null,null,null,1]
[null,null,null,null,null,null,null,null,null,null,null,1]
[null,null,null,null,null,null,null,null,null,null,null,1]
[null,null,null,null,null,null,null,null,null,null,null,1]
[null,null,null,null,null,null,null,null,null,null,null,1]
[null,null,null,null,null,null,null,null,null,null,null,1]
[null,null,null,null,null,null,null,null,null,null,null,1]
[null,null,null,null,null,null,null,null,null,null,null,1]
[null,null,null,null,null,null,null,null,null,null,null,1]
[null,null,null,null,null,null,null,null,null,null,null,1]
[null,null,null,null,null,null,null,null,null,null,null,1]
[null,null,null,null,null,null,null,null,null,null,null,1]
[null,null,null,null,null,null,null,null,null,null,null,1]
[null,null,null,null,null,null,null,null,null,null,null,1]
[null,null,null,null,null,null,null,null,null,null,null,1]
[null,null,null,null,null,null,null,null,null,null,null,1]
[null,null,null,null,null,null,null,null,null,null,null,1]
[null,null,null,null,null,null,null,null,null,null,null,1]
[null,null,null,null,null,null,null,null,null,null,null,1]
[null,null,null,null,null,null,null,null,null,null,null,1]
[null,null,null,null,null,null,null,null,null,null,null,1]
[null,null,null,null,null,null,null,null,null,null,null,1]
[null,null,null,null,null,null,null,null,null,null,null,1]
[null,null,null,null,null,null,null,null,null,null,null,1]
[null,null,null,null,null,null,null,null,null,null,null,1]
[null,null,null,null,null,null,null,null,null,null,null,1]
[null,null,null,null,null,null,null,null,null,null,null,1]
[null,null,null,null,null,null,null,null,null,null,null,1]
[null,null,null,null,null,null,null,null,null,null,null,1]
[null,null,null,null,null,null,null,null,null,null,null,1]
[null,null,null,null,null,null,null,null,null,null,null,1]
[null,null,null,null,null,null,null,null,null,null,null,1]
[null,null,null,null,null,null,null,null,null,null,null,1]
[null,null,null,null,null,null,null,null,null,null,null,1]
[null,null,null,null,null,null,null,null,null,null,null,1]
[null,null,null,null,null,null,null,null,null,null,null,1]
[null,null,null,null,null,null,null,null,null,null,null,1]
[null,null,null,null,null,null,null,null,null,null,null,1]
[null,null,null,null,null,null,null,null,null,null,null,{"$f":"IF(INT(C526617)<>INT(C526616),L526616+1,L526616)","v":1}]
[null,null,null,null,null,null,null,null,null,null,null,1]
[null,null,null,null,null,null,null,null,null,null,null,1]
[null,null,null,null,null,null,null,null,null,null,null,1]
[null,null,null,null,null,null,null,null,null,null,null,1]
[null,null,null,null,null,null,null,null,null,null,null,1]
[null,null,null,null,null,null,null,null,null,null,null,1]
[null,null,null,null,null,null,null,null,null,null,null,1]
[null,null,null,null,null,null,null,null,null,null,null,1]
[null,null,null,null,null,null,null,null,null,null,null,1]
[null,null,null,null,null,null,null,null,null,null,null,1]
[null,null,null,null,null,null,null,null,null,null,null,1]
[null,null,null,null,null,null,null,null,null,null,null,1]
[null,null,null,null,null,null,null,null,null,null,null,1]
[null,null,null,null,null,null,null,null,null,null,null,1]
[null,null,null,null,null,null,null,null,null,null,null,1]
[null,null,null,null,null,null,null,null,null,null,null,1]
[null,null,null,null,null,null,null,null,null,null,null,1]
[null,null,null,null,null,null,null,null,null,null,null,1]
[null,null,null,null,null,null,null,null,null,null,null,1]
[null,null,null,null,null,null,null,null,null,null,null,1]
[null,null,null,null,null,null,null,null,null,null,null,1]
[null,null,null,null,null,null,null,null,null,null,null,1]
[null,null,null,null,null,null,null,null,null,null,null,1]
[null,null,null,null,null,null,null,null,null,null,null,1]
[null,null,null,null,null,null,null,null,null,null,null,1]
[null,null,null,null,null,null,null,null,null,null,null,1]
[null,null,null,null,null,null,null,null,null,null,null,1]
[null,null,null,null,null,null,null,null,null,null,null,1]
[null,null,null,null,null,null,null,null,null,null,null,1]
[null,null,null,null,null,null,null,null,null,null,null,1]
[null,null,null,null,null,null,null,null,null,null,null,1]
[null,null,null,null,null,null,null,null,null,null,null,1]
[null,null,null,null,null,null,null,null,null,null,null,1]
[null,null,null,null,null,null,null,null,null,null,null,1]
[null,null,null,null,null,null,null,null,null,null,null,1]
[null,null,null,null,null,null,null,null,null,null,null,1]
[null,null,null,null,null,null,null,null,null,null,null,1]
[null,null,null,null,null,null,null,null,null,null,null,1]
[null,null,null,null,null,null,null,null,null,null,null,1]
[null,null,null,null,null,null,null,null,null,null,null,1]
[null,null,null,null,null,null,null,null,null,null,null,1]
[null,null,null,null,null,null,null,null,null,null,null,1]
[null,null,null,null,null,null,null,null,null,null,null,1]
[null,null,null,null,null,null,null,null,null,null,null,1]
[null,null,null,null,null,null,null,null,null,null,null,1]
[null,null,null,null,null,null,null,null,null,null,null,1]
[null,null,null,null,null,null,null,null,null,null,null,1]
[null,null,null,null,null,null,null,null,null,null,null,1]
[null,null,null,null,null,null,null,null,null,null,null,1]
[null,null,null,null,null,null,null,null,null,null,null,1]
[null,null,null,null,null,null,null,null,null,null,null,1]
[null,null,null,null,null,null,null,null,null,null,null,1]
[null,null,null,null,null,null,null,null,null,null,null,1]
[null,null,null,null,null,null,null,null,null,null,null,1]
[null,null,null,null,null,null,null,null,null,null,null,1]
[null,null,null,null,null,null,null,null,null,null,null,1]
[null,null,null,null,null,null,null,null,null,null,null,1]
[null,null,null,null,null,null,null,null,null,null,null,1]
[null,null,null,null,null,null,null,null,null,null,null,1]
[null,null,null,null,null,null,null,null,null,null,null,1]
[null,null,null,null,null,null,null,null,null,null,null,1]
[null,null,null,null,null,null,null,null,null,null,null,1]
[null,null,null,null,null,null,null,null,null,null,null,1]
[null,null,null,null,null,null,null,null,null,null,null,{"$f":"IF(INT(C526681)<>INT(C526680),L526680+1,L526680)","v":1}]
[null,null,null,null,null,null,null,null,null,null,null,1]
[null,null,null,null,null,null,null,null,null,null,null,1]
[null,null,null,null,null,null,null,null,null,null,null,1]
[null,null,null,null,null,null,null,null,null,null,null,1]
[null,null,null,null,null,null,null,null,null,null,null,1]
[null,null,null,null,null,null,null,null,null,null,null,1]
[null,null,null,null,null,null,null,null,null,null,null,1]
[null,null,null,null,null,null,null,null,null,null,null,1]
[null,null,null,null,null,null,null,null,null,null,null,1]
[null,null,null,null,null,null,null,null,null,null,null,1]
[null,null,null,null,null,null,null,null,null,null,null,1]
[null,null,null,null,null,null,null,null,null,null,null,1]
[null,null,null,null,null,null,null,null,null,null,null,1]
[null,null,null,null,null,null,null,null,null,null,null,1]
[null,null,null,null,null,null,null,null,null,null,null,1]
[null,null,null,null,null,null,null,null,null,null,null,1]
[null,null,null,null,null,null,null,null,null,null,null,1]
[null,null,null,null,null,null,null,null,null,null,null,1]
[null,null,null,null,null,null,null,null,null,null,null,1]
[null,null,null,null,null,null,null,null,null,null,null,1]
[null,null,null,null,null,null,null,null,null,null,null,1]
[null,null,null,null,null,null,null,null,null,null,null,1]
[null,null,null,null,null,null,null,null,null,null,null,1]
[null,null,null,null,null,null,null,null,null,null,null,1]
[null,null,null,null,null,null,null,null,null,null,null,1]
[null,null,null,null,null,null,null,null,null,null,null,1]
[null,null,null,null,null,null,null,null,null,null,null,1]
[null,null,null,null,null,null,null,null,null,null,null,1]
[null,null,null,null,null,null,null,null,null,null,null,1]
[null,null,null,null,null,null,null,null,null,null,null,1]
[null,null,null,null,null,null,null,null,null,null,null,1]
[null,null,null,null,null,null,null,null,null,null,null,1]
[null,null,null,null,null,null,null,null,null,null,null,1]
[null,null,null,null,null,null,null,null,null,null,null,1]
[null,null,null,null,null,null,null,null,null,null,null,1]
[null,null,null,null,null,null,null,null,null,null,null,1]
[null,null,null,null,null,null,null,null,null,null,null,1]
[null,null,null,null,null,null,null,null,null,null,null,1]
[null,null,null,null,null,null,null,null,null,null,null,1]
[null,null,null,null,null,null,null,null,null,null,null,1]
[null,null,null,null,null,null,null,null,null,null,null,1]
[null,null,null,null,null,null,null,null,null,null,null,1]
[null,null,null,null,null,null,null,null,null,null,null,1]
[null,null,null,null,null,null,null,null,null,null,null,1]
[null,null,null,null,null,null,null,null,null,null,null,1]
[null,null,null,null,null,null,null,null,null,null,null,1]
[null,null,null,null,null,null,null,null,null,null,null,1]
[null,null,null,null,null,null,null,null,null,null,null,1]
[null,null,null,null,null,null,null,null,null,null,null,1]
[null,null,null,null,null,null,null,null,null,null,null,1]
[null,null,null,null,null,null,null,null,null,null,null,1]
[null,null,null,null,null,null,null,null,null,null,null,1]
[null,null,null,null,null,null,null,null,null,null,null,1]
[null,null,null,null,null,null,null,null,null,null,null,1]
[null,null,null,null,null,null,null,null,null,null,null,1]
[null,null,null,null,null,null,null,null,null,null,null,1]
[null,null,null,null,null,null,null,null,null,null,null,1]
[null,null,null,null,null,null,null,null,null,null,null,1]
[null,null,null,null,null,null,null,null,null,null,null,1]
[null,null,null,null,null,null,null,null,null,null,null,1]
[null,null,null,null,null,null,null,null,null,null,null,1]
[null,null,null,null,null,null,null,null,null,null,null,1]
[null,null,null,null,null,null,null,null,null,null,null,1]
[null,null,null,null,null,null,null,null,null,null,null,{"$f":"IF(INT(C526745)<>INT(C526744),L526744+1,L526744)","v":1}]
[null,null,null,null,null,null,null,null,null,null,null,1]
[null,null,null,null,null,null,null,null,null,null,null,1]
[null,null,null,null,null,null,null,null,null,null,null,1]
[null,null,null,null,null,null,null,null,null,null,null,1]
[null,null,null,null,null,null,null,null,null,null,null,1]
[null,null,null,null,null,null,null,null,null,null,null,1]
[null,null,null,null,null,null,null,null,null,null,null,1]
[null,null,null,null,null,null,null,null,null,null,null,1]
[null,null,null,null,null,null,null,null,null,null,null,1]
[null,null,null,null,null,null,null,null,null,null,null,1]
[null,null,null,null,null,null,null,null,null,null,null,1]
[null,null,null,null,null,null,null,null,null,null,null,1]
[null,null,null,null,null,null,null,null,null,null,null,1]
[null,null,null,null,null,null,null,null,null,null,null,1]
[null,null,null,null,null,null,null,null,null,null,null,1]
[null,null,null,null,null,null,null,null,null,null,null,1]
[null,null,null,null,null,null,null,null,null,null,null,1]
[null,null,null,null,null,null,null,null,null,null,null,1]
[null,null,null,null,null,null,null,null,null,null,null,1]
[null,null,null,null,null,null,null,null,null,null,null,1]
[null,null,null,null,null,null,null,null,null,null,null,1]
[null,null,null,null,null,null,null,null,null,null,null,1]
[null,null,null,null,null,null,null,null,null,null,null,1]
[null,null,null,null,null,null,null,null,null,null,null,1]
[null,null,null,null,null,null,null,null,null,null,null,1]
[null,null,null,null,null,null,null,null,null,null,null,1]
[null,null,null,null,null,null,null,null,null,null,null,1]
[null,null,null,null,null,null,null,null,null,null,null,1]
[null,null,null,null,null,null,null,null,null,null,null,1]
[null,null,null,null,null,null,null,null,null,null,null,1]
[null,null,null,null,null,null,null,null,null,null,null,1]
[null,null,null,null,null,null,null,null,null,null,null,1]
[null,null,null,null,null,null,null,null,null,null,null,1]
[null,null,null,null,null,null,null,null,null,null,null,1]
[null,null,null,null,null,null,null,null,null,null,null,1]
[null,null,null,null,null,null,null,null,null,null,null,1]
[null,null,null,null,null,null,null,null,null,null,null,1]
[null,null,null,null,null,null,null,null,null,null,null,1]
[null,null,null,null,null,null,null,null,null,null,null,1]
[null,null,null,null,null,null,null,null,null,null,null,1]
[null,null,null,null,null,null,null,null,null,null,null,1]
[null,null,null,null,null,null,null,null,null,null,null,1]
[null,null,null,null,null,null,null,null,null,null,null,1]
[null,null,null,null,null,null,null,null,null,null,null,1]
[null,null,null,null,null,null,null,null,null,null,null,1]
[null,null,null,null,null,null,null,null,null,null,null,1]
[null,null,null,null,null,null,null,null,null,null,null,1]
[null,null,null,null,null,null,null,null,null,null,null,1]
[null,null,null,null,null,null,null,null,null,null,null,1]
[null,null,null,null,null,null,null,null,null,null,null,1]
[null,null,null,null,null,null,null,null,null,null,null,1]
[null,null,null,null,null,null,null,null,null,null,null,1]
[null,null,null,null,null,null,null,null,null,null,null,1]
[null,null,null,null,null,null,null,null,null,null,null,1]
[null,null,null,null,null,null,null,null,null,null,null,1]
[null,null,null,null,null,null,null,null,null,null,null,1]
[null,null,null,null,null,null,null,null,null,null,null,1]
[null,null,null,null,null,null,null,null,null,null,null,1]
[null,null,null,null,null,null,null,null,null,null,null,1]
[null,null,null,null,null,null,null,null,null,null,null,1]
[null,null,null,null,null,null,null,null,null,null,null,1]
[null,null,null,null,null,null,null,null,null,null,null,1]
[null,null,null,null,null,null,null,null,null,null,null,1]
[null,null,null,null,null,null,null,null,null,null,null,{"$f":"IF(INT(C526809)<>INT(C526808),L526808+1,L526808)","v":1}]
[null,null,null,null,null,null,null,null,null,null,null,1]
[null,null,null,null,null,null,null,null,null,null,null,1]
[null,null,null,null,null,null,null,null,null,null,null,1]
[null,null,null,null,null,null,null,null,null,null,null,1]
[null,null,null,null,null,null,null,null,null,null,null,1]
[null,null,null,null,null,null,null,null,null,null,null,1]
[null,null,null,null,null,null,null,null,null,null,null,1]
[null,null,null,null,null,null,null,null,null,null,null,1]
[null,null,null,null,null,null,null,null,null,null,null,1]
[null,null,null,null,null,null,null,null,null,null,null,1]
[null,null,null,null,null,null,null,null,null,null,null,1]
[null,null,null,null,null,null,null,null,null,null,null,1]
[null,null,null,null,null,null,null,null,null,null,null,1]
[null,null,null,null,null,null,null,null,null,null,null,1]
[null,null,null,null,null,null,null,null,null,null,null,1]
[null,null,null,null,null,null,null,null,null,null,null,1]
[null,null,null,null,null,null,null,null,null,null,null,1]
[null,null,null,null,null,null,null,null,null,null,null,1]
[null,null,null,null,null,null,null,null,null,null,null,1]
[null,null,null,null,null,null,null,null,null,null,null,1]
[null,null,null,null,null,null,null,null,null,null,null,1]
[null,null,null,null,null,null,null,null,null,null,null,1]
[null,null,null,null,null,null,null,null,null,null,null,1]
[null,null,null,null,null,null,null,null,null,null,null,1]
[null,null,null,null,null,null,null,null,null,null,null,1]
[null,null,null,null,null,null,null,null,null,null,null,1]
[null,null,null,null,null,null,null,null,null,null,null,1]
[null,null,null,null,null,null,null,null,null,null,null,1]
[null,null,null,null,null,null,null,null,null,null,null,1]
[null,null,null,null,null,null,null,null,null,null,null,1]
[null,null,null,null,null,null,null,null,null,null,null,1]
[null,null,null,null,null,null,null,null,null,null,null,1]
[null,null,null,null,null,null,null,null,null,null,null,1]
[null,null,null,null,null,null,null,null,null,null,null,1]
[null,null,null,null,null,null,null,null,null,null,null,1]
[null,null,null,null,null,null,null,null,null,null,null,1]
[null,null,null,null,null,null,null,null,null,null,null,1]
[null,null,null,null,null,null,null,null,null,null,null,1]
[null,null,null,null,null,null,null,null,null,null,null,1]
[null,null,null,null,null,null,null,null,null,null,null,1]
[null,null,null,null,null,null,null,null,null,null,null,1]
[null,null,null,null,null,null,null,null,null,null,null,1]
[null,null,null,null,null,null,null,null,null,null,null,1]
[null,null,null,null,null,null,null,null,null,null,null,1]
[null,null,null,null,null,null,null,null,null,null,null,1]
[null,null,null,null,null,null,null,null,null,null,null,1]
[null,null,null,null,null,null,null,null,null,null,null,1]
[null,null,null,null,null,null,null,null,null,null,null,1]
[null,null,null,null,null,null,null,null,null,null,null,1]
[null,null,null,null,null,null,null,null,null,null,null,1]
[null,null,null,null,null,null,null,null,null,null,null,1]
[null,null,null,null,null,null,null,null,null,null,null,1]
[null,null,null,null,null,null,null,null,null,null,null,1]
[null,null,null,null,null,null,null,null,null,null,null,1]
[null,null,null,null,null,null,null,null,null,null,null,1]
[null,null,null,null,null,null,null,null,null,null,null,1]
[null,null,null,null,null,null,null,null,null,null,null,1]
[null,null,null,null,null,null,null,null,null,null,null,1]
[null,null,null,null,null,null,null,null,null,null,null,1]
[null,null,null,null,null,null,null,null,null,null,null,1]
[null,null,null,null,null,null,null,null,null,null,null,1]
[null,null,null,null,null,null,null,null,null,null,null,1]
[null,null,null,null,null,null,null,null,null,null,null,1]
[null,null,null,null,null,null,null,null,null,null,null,{"$f":"IF(INT(C526873)<>INT(C526872),L526872+1,L526872)","v":1}]
[null,null,null,null,null,null,null,null,null,null,null,1]
[null,null,null,null,null,null,null,null,null,null,null,1]
[null,null,null,null,null,null,null,null,null,null,null,1]
[null,null,null,null,null,null,null,null,null,null,null,1]
[null,null,null,null,null,null,null,null,null,null,null,1]
[null,null,null,null,null,null,null,null,null,null,null,1]
[null,null,null,null,null,null,null,null,null,null,null,1]
[null,null,null,null,null,null,null,null,null,null,null,1]
[null,null,null,null,null,null,null,null,null,null,null,1]
[null,null,null,null,null,null,null,null,null,null,null,1]
[null,null,null,null,null,null,null,null,null,null,null,1]
[null,null,null,null,null,null,null,null,null,null,null,1]
[null,null,null,null,null,null,null,null,null,null,null,1]
[null,null,null,null,null,null,null,null,null,null,null,1]
[null,null,null,null,null,null,null,null,null,null,null,1]
[null,null,null,null,null,null,null,null,null,null,null,1]
[null,null,null,null,null,null,null,null,null,null,null,1]
[null,null,null,null,null,null,null,null,null,null,null,1]
[null,null,null,null,null,null,null,null,null,null,null,1]
[null,null,null,null,null,null,null,null,null,null,null,1]
[null,null,null,null,null,null,null,null,null,null,null,1]
[null,null,null,null,null,null,null,null,null,null,null,1]
[null,null,null,null,null,null,null,null,null,null,null,1]
[null,null,null,null,null,null,null,null,null,null,null,1]
[null,null,null,null,null,null,null,null,null,null,null,1]
[null,null,null,null,null,null,null,null,null,null,null,1]
[null,null,null,null,null,null,null,null,null,null,null,1]
[null,null,null,null,null,null,null,null,null,null,null,1]
[null,null,null,null,null,null,null,null,null,null,null,1]
[null,null,null,null,null,null,null,null,null,null,null,1]
[null,null,null,null,null,null,null,null,null,null,null,1]
[null,null,null,null,null,null,null,null,null,null,null,1]
[null,null,null,null,null,null,null,null,null,null,null,1]
[null,null,null,null,null,null,null,null,null,null,null,1]
[null,null,null,null,null,null,null,null,null,null,null,1]
[null,null,null,null,null,null,null,null,null,null,null,1]
[null,null,null,null,null,null,null,null,null,null,null,1]
[null,null,null,null,null,null,null,null,null,null,null,1]
[null,null,null,null,null,null,null,null,null,null,null,1]
[null,null,null,null,null,null,null,null,null,null,null,1]
[null,null,null,null,null,null,null,null,null,null,null,1]
[null,null,null,null,null,null,null,null,null,null,null,1]
[null,null,null,null,null,null,null,null,null,null,null,1]
[null,null,null,null,null,null,null,null,null,null,null,1]
[null,null,null,null,null,null,null,null,null,null,null,1]
[null,null,null,null,null,null,null,null,null,null,null,1]
[null,null,null,null,null,null,null,null,null,null,null,1]
[null,null,null,null,null,null,null,null,null,null,null,1]
[null,null,null,null,null,null,null,null,null,null,null,1]
[null,null,null,null,null,null,null,null,null,null,null,1]
[null,null,null,null,null,null,null,null,null,null,null,1]
[null,null,null,null,null,null,null,null,null,null,null,1]
[null,null,null,null,null,null,null,null,null,null,null,1]
[null,null,null,null,null,null,null,null,null,null,null,1]
[null,null,null,null,null,null,null,null,null,null,null,1]
[null,null,null,null,null,null,null,null,null,null,null,1]
[null,null,null,null,null,null,null,null,null,null,null,1]
[null,null,null,null,null,null,null,null,null,null,null,1]
[null,null,null,null,null,null,null,null,null,null,null,1]
[null,null,null,null,null,null,null,null,null,null,null,1]
[null,null,null,null,null,null,null,null,null,null,null,1]
[null,null,null,null,null,null,null,null,null,null,null,1]
[null,null,null,null,null,null,null,null,null,null,null,1]
[null,null,null,null,null,null,null,null,null,null,null,{"$f":"IF(INT(C526937)<>INT(C526936),L526936+1,L526936)","v":1}]
[null,null,null,null,null,null,null,null,null,null,null,1]
[null,null,null,null,null,null,null,null,null,null,null,1]
[null,null,null,null,null,null,null,null,null,null,null,1]
[null,null,null,null,null,null,null,null,null,null,null,1]
[null,null,null,null,null,null,null,null,null,null,null,1]
[null,null,null,null,null,null,null,null,null,null,null,1]
[null,null,null,null,null,null,null,null,null,null,null,1]
[null,null,null,null,null,null,null,null,null,null,null,1]
[null,null,null,null,null,null,null,null,null,null,null,1]
[null,null,null,null,null,null,null,null,null,null,null,1]
[null,null,null,null,null,null,null,null,null,null,null,1]
[null,null,null,null,null,null,null,null,null,null,null,1]
[null,null,null,null,null,null,null,null,null,null,null,1]
[null,null,null,null,null,null,null,null,null,null,null,1]
[null,null,null,null,null,null,null,null,null,null,null,1]
[null,null,null,null,null,null,null,null,null,null,null,1]
[null,null,null,null,null,null,null,null,null,null,null,1]
[null,null,null,null,null,null,null,null,null,null,null,1]
[null,null,null,null,null,null,null,null,null,null,null,1]
[null,null,null,null,null,null,null,null,null,null,null,1]
[null,null,null,null,null,null,null,null,null,null,null,1]
[null,null,null,null,null,null,null,null,null,null,null,1]
[null,null,null,null,null,null,null,null,null,null,null,1]
[null,null,null,null,null,null,null,null,null,null,null,1]
[null,null,null,null,null,null,null,null,null,null,null,1]
[null,null,null,null,null,null,null,null,null,null,null,1]
[null,null,null,null,null,null,null,null,null,null,null,1]
[null,null,null,null,null,null,null,null,null,null,null,1]
[null,null,null,null,null,null,null,null,null,null,null,1]
[null,null,null,null,null,null,null,null,null,null,null,1]
[null,null,null,null,null,null,null,null,null,null,null,1]
[null,null,null,null,null,null,null,null,null,null,null,1]
[null,null,null,null,null,null,null,null,null,null,null,1]
[null,null,null,null,null,null,null,null,null,null,null,1]
[null,null,null,null,null,null,null,null,null,null,null,1]
[null,null,null,null,null,null,null,null,null,null,null,1]
[null,null,null,null,null,null,null,null,null,null,null,1]
[null,null,null,null,null,null,null,null,null,null,null,1]
[null,null,null,null,null,null,null,null,null,null,null,1]
[null,null,null,null,null,null,null,null,null,null,null,1]
[null,null,null,null,null,null,null,null,null,null,null,1]
[null,null,null,null,null,null,null,null,null,null,null,1]
[null,null,null,null,null,null,null,null,null,null,null,1]
[null,null,null,null,null,null,null,null,null,null,null,1]
[null,null,null,null,null,null,null,null,null,null,null,1]
[null,null,null,null,null,null,null,null,null,null,null,1]
[null,null,null,null,null,null,null,null,null,null,null,1]
[null,null,null,null,null,null,null,null,null,null,null,1]
[null,null,null,null,null,null,null,null,null,null,null,1]
[null,null,null,null,null,null,null,null,null,null,null,1]
[null,null,null,null,null,null,null,null,null,null,null,1]
[null,null,null,null,null,null,null,null,null,null,null,1]
[null,null,null,null,null,null,null,null,null,null,null,1]
[null,null,null,null,null,null,null,null,null,null,null,1]
[null,null,null,null,null,null,null,null,null,null,null,1]
[null,null,null,null,null,null,null,null,null,null,null,1]
[null,null,null,null,null,null,null,null,null,null,null,1]
[null,null,null,null,null,null,null,null,null,null,null,1]
[null,null,null,null,null,null,null,null,null,null,null,1]
[null,null,null,null,null,null,null,null,null,null,null,1]
[null,null,null,null,null,null,null,null,null,null,null,1]
[null,null,null,null,null,null,null,null,null,null,null,1]
[null,null,null,null,null,null,null,null,null,null,null,1]
[null,null,null,null,null,null,null,null,null,null,null,{"$f":"IF(INT(C527001)<>INT(C527000),L527000+1,L527000)","v":1}]
[null,null,null,null,null,null,null,null,null,null,null,1]
[null,null,null,null,null,null,null,null,null,null,null,1]
[null,null,null,null,null,null,null,null,null,null,null,1]
[null,null,null,null,null,null,null,null,null,null,null,1]
[null,null,null,null,null,null,null,null,null,null,null,1]
[null,null,null,null,null,null,null,null,null,null,null,1]
[null,null,null,null,null,null,null,null,null,null,null,1]
[null,null,null,null,null,null,null,null,null,null,null,1]
[null,null,null,null,null,null,null,null,null,null,null,1]
[null,null,null,null,null,null,null,null,null,null,null,1]
[null,null,null,null,null,null,null,null,null,null,null,1]
[null,null,null,null,null,null,null,null,null,null,null,1]
[null,null,null,null,null,null,null,null,null,null,null,1]
[null,null,null,null,null,null,null,null,null,null,null,1]
[null,null,null,null,null,null,null,null,null,null,null,1]
[null,null,null,null,null,null,null,null,null,null,null,1]
[null,null,null,null,null,null,null,null,null,null,null,1]
[null,null,null,null,null,null,null,null,null,null,null,1]
[null,null,null,null,null,null,null,null,null,null,null,1]
[null,null,null,null,null,null,null,null,null,null,null,1]
[null,null,null,null,null,null,null,null,null,null,null,1]
[null,null,null,null,null,null,null,null,null,null,null,1]
[null,null,null,null,null,null,null,null,null,null,null,1]
[null,null,null,null,null,null,null,null,null,null,null,1]
[null,null,null,null,null,null,null,null,null,null,null,1]
[null,null,null,null,null,null,null,null,null,null,null,1]
[null,null,null,null,null,null,null,null,null,null,null,1]
[null,null,null,null,null,null,null,null,null,null,null,1]
[null,null,null,null,null,null,null,null,null,null,null,1]
[null,null,null,null,null,null,null,null,null,null,null,1]
[null,null,null,null,null,null,null,null,null,null,null,1]
[null,null,null,null,null,null,null,null,null,null,null,1]
[null,null,null,null,null,null,null,null,null,null,null,1]
[null,null,null,null,null,null,null,null,null,null,null,1]
[null,null,null,null,null,null,null,null,null,null,null,1]
[null,null,null,null,null,null,null,null,null,null,null,1]
[null,null,null,null,null,null,null,null,null,null,null,1]
[null,null,null,null,null,null,null,null,null,null,null,1]
[null,null,null,null,null,null,null,null,null,null,null,1]

{"sheet":"ChartsData 1D","index":5,"n_rows":1449,"n_cols":14,"rows_kept":1449,"cut":false,"hidden":true,"merged":[]}
[]
[null,null,null,"Numbers of days","Heart read","Heartrate","Step","Raw Intensity","Activity Kind",null,"Heartrate","Raw Intensity",null,"9 average Heartrate ALL"]
[{"$f":"Charts!C5&\"-\"&Charts!C4&\"-\"&Charts!C3","v":"23-3-2021"},"00:00:00",{"$f":"A3+B3","v":"2021-03-23"},null,{"$f":"_xlfn.XLOOKUP(C3,Data!C:C,Data!I:I)","v":{"$error":"#N/A"}},{"$f":"IF(E3=255,60,E3)","v":{"$error":"#N/A"}},{"$f":"_xlfn.XLOOKUP(C3,Data!C:C,Data!G:G,0)","v":0},{"$f":"_xlfn.XLOOKUP(C3,Data!C:C,Data!F:F,0)","v":0},{"$f":"_xlfn.XLOOKUP(C3,Data!C:C,Data!H:H,0)","v":0},null,{"$f":"IFERROR(IF(F3=\"#N/A\",\"\",F3),\"\")","v":""},{"$f":"_xlfn.XLOOKUP(C3,Data!C:C,Data!F:F,\"\")","v":""},null,{"$f":"IF(F3=\"\",\"\",AVERAGE(F3:F7))","v":{"$error":"#N/A"}}]
[{"$f":"$A$3","v":"23-3-2021"},"00:01:00","2021-03-23T00:01:00",null,{"$f":"_xlfn.XLOOKUP(C4,Data!C:C,Data!I:I)","v":{"$error":"#N/A"}},{"$f":"IF(E4=255,F3,E4)","v":{"$error":"#N/A"}},{"$f":"_xlfn.XLOOKUP(C4,Data!C:C,Data!G:G,0)","v":0},{"$f":"_xlfn.XLOOKUP(C4,Data!C:C,Data!F:F,0)","v":0},{"$f":"_xlfn.XLOOKUP(C4,Data!C:C,Data!H:H,0)","v":0},null,{"$f":"IFERROR(IF(F4=\"#N/A\",\"\",F4),\"\")","v":""},{"$f":"_xlfn.XLOOKUP(C4,Data!C:C,Data!F:F,\"\")","v":""},null,{"$f":"IF(F4=\"\",\"\",AVERAGE(F3:F8))","v":{"$error":"#N/A"}}]
["23-3-2021","00:02:00","2021-03-23T00:02:00",null,{"$f":"_xlfn.XLOOKUP(C5,Data!C:C,Data!I:I)","v":{"$error":"#N/A"}},{"$error":"#N/A"},{"$f":"_xlfn.XLOOKUP(C5,Data!C:C,Data!G:G,0)","v":0},{"$f":"_xlfn.XLOOKUP(C5,Data!C:C,Data!F:F,0)","v":0},{"$f":"_xlfn.XLOOKUP(C5,Data!C:C,Data!H:H,0)","v":0},null,"",{"$f":"_xlfn.XLOOKUP(C5,Data!C:C,Data!F:F,\"\")","v":""},null,{"$f":"IF(F4=\"\",\"\",AVERAGE(F3:F9))","v":{"$error":"#N/A"}}]
["23-3-2021","00:03:00","2021-03-23T00:03:00",null,{"$f":"_xlfn.XLOOKUP(C6,Data!C:C,Data!I:I)","v":{"$error":"#N/A"}},{"$error":"#N/A"},{"$f":"_xlfn.XLOOKUP(C6,Data!C:C,Data!G:G,0)","v":0},{"$f":"_xlfn.XLOOKUP(C6,Data!C:C,Data!F:F,0)","v":0},{"$f":"_xlfn.XLOOKUP(C6,Data!C:C,Data!H:H,0)","v":0},null,"",{"$f":"_xlfn.XLOOKUP(C6,Data!C:C,Data!F:F,\"\")","v":""},null,{"$f":"IF(F6=\"\",\"\",AVERAGE(F3:F10))","v":{"$error":"#N/A"}}]
["23-3-2021","00:04:00","2021-03-23T00:04:00",null,{"$f":"_xlfn.XLOOKUP(C7,Data!C:C,Data!I:I)","v":{"$error":"#N/A"}},{"$error":"#N/A"},{"$f":"_xlfn.XLOOKUP(C7,Data!C:C,Data!G:G,0)","v":0},{"$f":"_xlfn.XLOOKUP(C7,Data!C:C,Data!F:F,0)","v":0},{"$f":"_xlfn.XLOOKUP(C7,Data!C:C,Data!H:H,0)","v":0},null,"",{"$f":"_xlfn.XLOOKUP(C7,Data!C:C,Data!F:F,\"\")","v":""},null,{"$f":"IF(F7=\"\",\"\",AVERAGE(F3:F11))","v":{"$error":"#N/A"}}]
["23-3-2021","00:05:00","2021-03-23T00:05:00",null,{"$f":"_xlfn.XLOOKUP(C8,Data!C:C,Data!I:I)","v":{"$error":"#N/A"}},{"$error":"#N/A"},{"$f":"_xlfn.XLOOKUP(C8,Data!C:C,Data!G:G,0)","v":0},{"$f":"_xlfn.XLOOKUP(C8,Data!C:C,Data!F:F,0)","v":0},{"$f":"_xlfn.XLOOKUP(C8,Data!C:C,Data!H:H,0)","v":0},null,"",{"$f":"_xlfn.XLOOKUP(C8,Data!C:C,Data!F:F,\"\")","v":""},null,{"$error":"#N/A"}]
["23-3-2021","00:06:00","2021-03-23T00:06:00",null,{"$f":"_xlfn.XLOOKUP(C9,Data!C:C,Data!I:I)","v":{"$error":"#N/A"}},{"$error":"#N/A"},{"$f":"_xlfn.XLOOKUP(C9,Data!C:C,Data!G:G,0)","v":0},{"$f":"_xlfn.XLOOKUP(C9,Data!C:C,Data!F:F,0)","v":0},{"$f":"_xlfn.XLOOKUP(C9,Data!C:C,Data!H:H,0)","v":0},null,"",{"$f":"_xlfn.XLOOKUP(C9,Data!C:C,Data!F:F,\"\")","v":""},null,{"$error":"#N/A"}]
["23-3-2021","00:07:00","2021-03-23T00:07:00",null,{"$f":"_xlfn.XLOOKUP(C10,Data!C:C,Data!I:I)","v":{"$error":"#N/A"}},{"$error":"#N/A"},{"$f":"_xlfn.XLOOKUP(C10,Data!C:C,Data!G:G,0)","v":0},{"$f":"_xlfn.XLOOKUP(C10,Data!C:C,Data!F:F,0)","v":0},{"$f":"_xlfn.XLOOKUP(C10,Data!C:C,Data!H:H,0)","v":0},null,"",{"$f":"_xlfn.XLOOKUP(C10,Data!C:C,Data!F:F,\"\")","v":""},null,{"$error":"#N/A"}]
["23-3-2021","00:08:00","2021-03-23T00:08:00",null,{"$f":"_xlfn.XLOOKUP(C11,Data!C:C,Data!I:I)","v":{"$error":"#N/A"}},{"$error":"#N/A"},{"$f":"_xlfn.XLOOKUP(C11,Data!C:C,Data!G:G,0)","v":0},{"$f":"_xlfn.XLOOKUP(C11,Data!C:C,Data!F:F,0)","v":0},{"$f":"_xlfn.XLOOKUP(C11,Data!C:C,Data!H:H,0)","v":0},null,"",{"$f":"_xlfn.XLOOKUP(C11,Data!C:C,Data!F:F,\"\")","v":""},null,{"$error":"#N/A"}]
["23-3-2021","00:09:00","2021-03-23T00:09:00",null,{"$f":"_xlfn.XLOOKUP(C12,Data!C:C,Data!I:I)","v":{"$error":"#N/A"}},{"$error":"#N/A"},{"$f":"_xlfn.XLOOKUP(C12,Data!C:C,Data!G:G,0)","v":0},{"$f":"_xlfn.XLOOKUP(C12,Data!C:C,Data!F:F,0)","v":0},{"$f":"_xlfn.XLOOKUP(C12,Data!C:C,Data!H:H,0)","v":0},null,"",{"$f":"_xlfn.XLOOKUP(C12,Data!C:C,Data!F:F,\"\")","v":""},null,{"$error":"#N/A"}]
["23-3-2021","00:10:00","2021-03-23T00:10:00",null,{"$f":"_xlfn.XLOOKUP(C13,Data!C:C,Data!I:I)","v":{"$error":"#N/A"}},{"$error":"#N/A"},{"$f":"_xlfn.XLOOKUP(C13,Data!C:C,Data!G:G,0)","v":0},{"$f":"_xlfn.XLOOKUP(C13,Data!C:C,Data!F:F,0)","v":0},{"$f":"_xlfn.XLOOKUP(C13,Data!C:C,Data!H:H,0)","v":0},null,"",{"$f":"_xlfn.XLOOKUP(C13,Data!C:C,Data!F:F,\"\")","v":""},null,{"$error":"#N/A"}]
["23-3-2021","00:11:00","2021-03-23T00:11:00",null,{"$f":"_xlfn.XLOOKUP(C14,Data!C:C,Data!I:I)","v":{"$error":"#N/A"}},{"$error":"#N/A"},{"$f":"_xlfn.XLOOKUP(C14,Data!C:C,Data!G:G,0)","v":0},{"$f":"_xlfn.XLOOKUP(C14,Data!C:C,Data!F:F,0)","v":0},{"$f":"_xlfn.XLOOKUP(C14,Data!C:C,Data!H:H,0)","v":0},null,"",{"$f":"_xlfn.XLOOKUP(C14,Data!C:C,Data!F:F,\"\")","v":""},null,{"$error":"#N/A"}]
["23-3-2021","00:12:00","2021-03-23T00:12:00",null,{"$f":"_xlfn.XLOOKUP(C15,Data!C:C,Data!I:I)","v":{"$error":"#N/A"}},{"$error":"#N/A"},{"$f":"_xlfn.XLOOKUP(C15,Data!C:C,Data!G:G,0)","v":0},{"$f":"_xlfn.XLOOKUP(C15,Data!C:C,Data!F:F,0)","v":0},{"$f":"_xlfn.XLOOKUP(C15,Data!C:C,Data!H:H,0)","v":0},null,"",{"$f":"_xlfn.XLOOKUP(C15,Data!C:C,Data!F:F,\"\")","v":""},null,{"$error":"#N/A"}]
["23-3-2021","00:13:00","2021-03-23T00:13:00",null,{"$f":"_xlfn.XLOOKUP(C16,Data!C:C,Data!I:I)","v":{"$error":"#N/A"}},{"$error":"#N/A"},{"$f":"_xlfn.XLOOKUP(C16,Data!C:C,Data!G:G,0)","v":0},{"$f":"_xlfn.XLOOKUP(C16,Data!C:C,Data!F:F,0)","v":0},{"$f":"_xlfn.XLOOKUP(C16,Data!C:C,Data!H:H,0)","v":0},null,"",{"$f":"_xlfn.XLOOKUP(C16,Data!C:C,Data!F:F,\"\")","v":""},null,{"$error":"#N/A"}]
["23-3-2021","00:14:00","2021-03-23T00:14:00",null,{"$f":"_xlfn.XLOOKUP(C17,Data!C:C,Data!I:I)","v":{"$error":"#N/A"}},{"$error":"#N/A"},{"$f":"_xlfn.XLOOKUP(C17,Data!C:C,Data!G:G,0)","v":0},{"$f":"_xlfn.XLOOKUP(C17,Data!C:C,Data!F:F,0)","v":0},{"$f":"_xlfn.XLOOKUP(C17,Data!C:C,Data!H:H,0)","v":0},null,"",{"$f":"_xlfn.XLOOKUP(C17,Data!C:C,Data!F:F,\"\")","v":""},null,{"$error":"#N/A"}]
["23-3-2021","00:15:00","2021-03-23T00:15:00",null,{"$f":"_xlfn.XLOOKUP(C18,Data!C:C,Data!I:I)","v":{"$error":"#N/A"}},{"$error":"#N/A"},{"$f":"_xlfn.XLOOKUP(C18,Data!C:C,Data!G:G,0)","v":0},{"$f":"_xlfn.XLOOKUP(C18,Data!C:C,Data!F:F,0)","v":0},{"$f":"_xlfn.XLOOKUP(C18,Data!C:C,Data!H:H,0)","v":0},null,"",{"$f":"_xlfn.XLOOKUP(C18,Data!C:C,Data!F:F,\"\")","v":""},null,{"$error":"#N/A"}]
["23-3-2021","00:16:00","2021-03-23T00:16:00",null,{"$f":"_xlfn.XLOOKUP(C19,Data!C:C,Data!I:I)","v":{"$error":"#N/A"}},{"$error":"#N/A"},{"$f":"_xlfn.XLOOKUP(C19,Data!C:C,Data!G:G,0)","v":0},{"$f":"_xlfn.XLOOKUP(C19,Data!C:C,Data!F:F,0)","v":0},{"$f":"_xlfn.XLOOKUP(C19,Data!C:C,Data!H:H,0)","v":0},null,"",{"$f":"_xlfn.XLOOKUP(C19,Data!C:C,Data!F:F,\"\")","v":""},null,{"$error":"#N/A"}]
["23-3-2021","00:17:00","2021-03-23T00:17:00",null,{"$f":"_xlfn.XLOOKUP(C20,Data!C:C,Data!I:I)","v":{"$error":"#N/A"}},{"$error":"#N/A"},{"$f":"_xlfn.XLOOKUP(C20,Data!C:C,Data!G:G,0)","v":0},{"$f":"_xlfn.XLOOKUP(C20,Data!C:C,Data!F:F,0)","v":0},{"$f":"_xlfn.XLOOKUP(C20,Data!C:C,Data!H:H,0)","v":0},null,"",{"$f":"_xlfn.XLOOKUP(C20,Data!C:C,Data!F:F,\"\")","v":""},null,{"$error":"#N/A"}]
["23-3-2021","00:18:00","2021-03-23T00:18:00",null,{"$f":"_xlfn.XLOOKUP(C21,Data!C:C,Data!I:I)","v":{"$error":"#N/A"}},{"$error":"#N/A"},{"$f":"_xlfn.XLOOKUP(C21,Data!C:C,Data!G:G,0)","v":0},{"$f":"_xlfn.XLOOKUP(C21,Data!C:C,Data!F:F,0)","v":0},{"$f":"_xlfn.XLOOKUP(C21,Data!C:C,Data!H:H,0)","v":0},null,"",{"$f":"_xlfn.XLOOKUP(C21,Data!C:C,Data!F:F,\"\")","v":""},null,{"$error":"#N/A"}]
["23-3-2021","00:19:00","2021-03-23T00:19:00",null,{"$f":"_xlfn.XLOOKUP(C22,Data!C:C,Data!I:I)","v":{"$error":"#N/A"}},{"$error":"#N/A"},{"$f":"_xlfn.XLOOKUP(C22,Data!C:C,Data!G:G,0)","v":0},{"$f":"_xlfn.XLOOKUP(C22,Data!C:C,Data!F:F,0)","v":0},{"$f":"_xlfn.XLOOKUP(C22,Data!C:C,Data!H:H,0)","v":0},null,"",{"$f":"_xlfn.XLOOKUP(C22,Data!C:C,Data!F:F,\"\")","v":""},null,{"$error":"#N/A"}]
["23-3-2021","00:20:00","2021-03-23T00:20:00",null,{"$f":"_xlfn.XLOOKUP(C23,Data!C:C,Data!I:I)","v":{"$error":"#N/A"}},{"$error":"#N/A"},{"$f":"_xlfn.XLOOKUP(C23,Data!C:C,Data!G:G,0)","v":0},{"$f":"_xlfn.XLOOKUP(C23,Data!C:C,Data!F:F,0)","v":0},{"$f":"_xlfn.XLOOKUP(C23,Data!C:C,Data!H:H,0)","v":0},null,"",{"$f":"_xlfn.XLOOKUP(C23,Data!C:C,Data!F:F,\"\")","v":""},null,{"$error":"#N/A"}]
["23-3-2021","00:21:00","2021-03-23T00:21:00",null,{"$f":"_xlfn.XLOOKUP(C24,Data!C:C,Data!I:I)","v":{"$error":"#N/A"}},{"$error":"#N/A"},{"$f":"_xlfn.XLOOKUP(C24,Data!C:C,Data!G:G,0)","v":0},{"$f":"_xlfn.XLOOKUP(C24,Data!C:C,Data!F:F,0)","v":0},{"$f":"_xlfn.XLOOKUP(C24,Data!C:C,Data!H:H,0)","v":0},null,"",{"$f":"_xlfn.XLOOKUP(C24,Data!C:C,Data!F:F,\"\")","v":""},null,{"$error":"#N/A"}]
["23-3-2021","00:22:00","2021-03-23T00:22:00",null,{"$f":"_xlfn.XLOOKUP(C25,Data!C:C,Data!I:I)","v":{"$error":"#N/A"}},{"$error":"#N/A"},{"$f":"_xlfn.XLOOKUP(C25,Data!C:C,Data!G:G,0)","v":0},{"$f":"_xlfn.XLOOKUP(C25,Data!C:C,Data!F:F,0)","v":0},{"$f":"_xlfn.XLOOKUP(C25,Data!C:C,Data!H:H,0)","v":0},null,"",{"$f":"_xlfn.XLOOKUP(C25,Data!C:C,Data!F:F,\"\")","v":""},null,{"$error":"#N/A"}]
["23-3-2021","00:23:00","2021-03-23T00:23:00",null,{"$f":"_xlfn.XLOOKUP(C26,Data!C:C,Data!I:I)","v":{"$error":"#N/A"}},{"$error":"#N/A"},{"$f":"_xlfn.XLOOKUP(C26,Data!C:C,Data!G:G,0)","v":0},{"$f":"_xlfn.XLOOKUP(C26,Data!C:C,Data!F:F,0)","v":0},{"$f":"_xlfn.XLOOKUP(C26,Data!C:C,Data!H:H,0)","v":0},null,"",{"$f":"_xlfn.XLOOKUP(C26,Data!C:C,Data!F:F,\"\")","v":""},null,{"$error":"#N/A"}]
["23-3-2021","00:24:00","2021-03-23T00:24:00",null,{"$f":"_xlfn.XLOOKUP(C27,Data!C:C,Data!I:I)","v":{"$error":"#N/A"}},{"$error":"#N/A"},{"$f":"_xlfn.XLOOKUP(C27,Data!C:C,Data!G:G,0)","v":0},{"$f":"_xlfn.XLOOKUP(C27,Data!C:C,Data!F:F,0)","v":0},{"$f":"_xlfn.XLOOKUP(C27,Data!C:C,Data!H:H,0)","v":0},null,"",{"$f":"_xlfn.XLOOKUP(C27,Data!C:C,Data!F:F,\"\")","v":""},null,{"$error":"#N/A"}]
["23-3-2021","00:25:00","2021-03-23T00:25:00",null,{"$f":"_xlfn.XLOOKUP(C28,Data!C:C,Data!I:I)","v":{"$error":"#N/A"}},{"$error":"#N/A"},{"$f":"_xlfn.XLOOKUP(C28,Data!C:C,Data!G:G,0)","v":0},{"$f":"_xlfn.XLOOKUP(C28,Data!C:C,Data!F:F,0)","v":0},{"$f":"_xlfn.XLOOKUP(C28,Data!C:C,Data!H:H,0)","v":0},null,"",{"$f":"_xlfn.XLOOKUP(C28,Data!C:C,Data!F:F,\"\")","v":""},null,{"$error":"#N/A"}]
["23-3-2021","00:26:00","2021-03-23T00:26:00",null,{"$f":"_xlfn.XLOOKUP(C29,Data!C:C,Data!I:I)","v":{"$error":"#N/A"}},{"$error":"#N/A"},{"$f":"_xlfn.XLOOKUP(C29,Data!C:C,Data!G:G,0)","v":0},{"$f":"_xlfn.XLOOKUP(C29,Data!C:C,Data!F:F,0)","v":0},{"$f":"_xlfn.XLOOKUP(C29,Data!C:C,Data!H:H,0)","v":0},null,"",{"$f":"_xlfn.XLOOKUP(C29,Data!C:C,Data!F:F,\"\")","v":""},null,{"$error":"#N/A"}]
["23-3-2021","00:27:00","2021-03-23T00:27:00",null,{"$f":"_xlfn.XLOOKUP(C30,Data!C:C,Data!I:I)","v":{"$error":"#N/A"}},{"$error":"#N/A"},{"$f":"_xlfn.XLOOKUP(C30,Data!C:C,Data!G:G,0)","v":0},{"$f":"_xlfn.XLOOKUP(C30,Data!C:C,Data!F:F,0)","v":0},{"$f":"_xlfn.XLOOKUP(C30,Data!C:C,Data!H:H,0)","v":0},null,"",{"$f":"_xlfn.XLOOKUP(C30,Data!C:C,Data!F:F,\"\")","v":""},null,{"$error":"#N/A"}]
["23-3-2021","00:28:00","2021-03-23T00:28:00",null,{"$f":"_xlfn.XLOOKUP(C31,Data!C:C,Data!I:I)","v":{"$error":"#N/A"}},{"$error":"#N/A"},{"$f":"_xlfn.XLOOKUP(C31,Data!C:C,Data!G:G,0)","v":0},{"$f":"_xlfn.XLOOKUP(C31,Data!C:C,Data!F:F,0)","v":0},{"$f":"_xlfn.XLOOKUP(C31,Data!C:C,Data!H:H,0)","v":0},null,"",{"$f":"_xlfn.XLOOKUP(C31,Data!C:C,Data!F:F,\"\")","v":""},null,{"$error":"#N/A"}]
["23-3-2021","00:29:00","2021-03-23T00:29:00",null,{"$f":"_xlfn.XLOOKUP(C32,Data!C:C,Data!I:I)","v":{"$error":"#N/A"}},{"$error":"#N/A"},{"$f":"_xlfn.XLOOKUP(C32,Data!C:C,Data!G:G,0)","v":0},{"$f":"_xlfn.XLOOKUP(C32,Data!C:C,Data!F:F,0)","v":0},{"$f":"_xlfn.XLOOKUP(C32,Data!C:C,Data!H:H,0)","v":0},null,"",{"$f":"_xlfn.XLOOKUP(C32,Data!C:C,Data!F:F,\"\")","v":""},null,{"$error":"#N/A"}]
["23-3-2021","00:30:00","2021-03-23T00:30:00",null,{"$f":"_xlfn.XLOOKUP(C33,Data!C:C,Data!I:I)","v":{"$error":"#N/A"}},{"$error":"#N/A"},{"$f":"_xlfn.XLOOKUP(C33,Data!C:C,Data!G:G,0)","v":0},{"$f":"_xlfn.XLOOKUP(C33,Data!C:C,Data!F:F,0)","v":0},{"$f":"_xlfn.XLOOKUP(C33,Data!C:C,Data!H:H,0)","v":0},null,"",{"$f":"_xlfn.XLOOKUP(C33,Data!C:C,Data!F:F,\"\")","v":""},null,{"$error":"#N/A"}]
["23-3-2021","00:31:00","2021-03-23T00:31:00",null,{"$f":"_xlfn.XLOOKUP(C34,Data!C:C,Data!I:I)","v":{"$error":"#N/A"}},{"$error":"#N/A"},{"$f":"_xlfn.XLOOKUP(C34,Data!C:C,Data!G:G,0)","v":0},{"$f":"_xlfn.XLOOKUP(C34,Data!C:C,Data!F:F,0)","v":0},{"$f":"_xlfn.XLOOKUP(C34,Data!C:C,Data!H:H,0)","v":0},null,"",{"$f":"_xlfn.XLOOKUP(C34,Data!C:C,Data!F:F,\"\")","v":""},null,{"$error":"#N/A"}]
["23-3-2021","00:32:00","2021-03-23T00:32:00",null,{"$f":"_xlfn.XLOOKUP(C35,Data!C:C,Data!I:I)","v":{"$error":"#N/A"}},{"$error":"#N/A"},{"$f":"_xlfn.XLOOKUP(C35,Data!C:C,Data!G:G,0)","v":0},{"$f":"_xlfn.XLOOKUP(C35,Data!C:C,Data!F:F,0)","v":0},{"$f":"_xlfn.XLOOKUP(C35,Data!C:C,Data!H:H,0)","v":0},null,"",{"$f":"_xlfn.XLOOKUP(C35,Data!C:C,Data!F:F,\"\")","v":""},null,{"$error":"#N/A"}]
["23-3-2021","00:33:00","2021-03-23T00:33:00",null,{"$f":"_xlfn.XLOOKUP(C36,Data!C:C,Data!I:I)","v":{"$error":"#N/A"}},{"$error":"#N/A"},{"$f":"_xlfn.XLOOKUP(C36,Data!C:C,Data!G:G,0)","v":0},{"$f":"_xlfn.XLOOKUP(C36,Data!C:C,Data!F:F,0)","v":0},{"$f":"_xlfn.XLOOKUP(C36,Data!C:C,Data!H:H,0)","v":0},null,"",{"$f":"_xlfn.XLOOKUP(C36,Data!C:C,Data!F:F,\"\")","v":""},null,{"$error":"#N/A"}]
["23-3-2021","00:34:00","2021-03-23T00:34:00",null,{"$f":"_xlfn.XLOOKUP(C37,Data!C:C,Data!I:I)","v":{"$error":"#N/A"}},{"$error":"#N/A"},{"$f":"_xlfn.XLOOKUP(C37,Data!C:C,Data!G:G,0)","v":0},{"$f":"_xlfn.XLOOKUP(C37,Data!C:C,Data!F:F,0)","v":0},{"$f":"_xlfn.XLOOKUP(C37,Data!C:C,Data!H:H,0)","v":0},null,"",{"$f":"_xlfn.XLOOKUP(C37,Data!C:C,Data!F:F,\"\")","v":""},null,{"$error":"#N/A"}]
["23-3-2021","00:35:00","2021-03-23T00:35:00",null,{"$f":"_xlfn.XLOOKUP(C38,Data!C:C,Data!I:I)","v":{"$error":"#N/A"}},{"$error":"#N/A"},{"$f":"_xlfn.XLOOKUP(C38,Data!C:C,Data!G:G,0)","v":0},{"$f":"_xlfn.XLOOKUP(C38,Data!C:C,Data!F:F,0)","v":0},{"$f":"_xlfn.XLOOKUP(C38,Data!C:C,Data!H:H,0)","v":0},null,"",{"$f":"_xlfn.XLOOKUP(C38,Data!C:C,Data!F:F,\"\")","v":""},null,{"$error":"#N/A"}]
["23-3-2021","00:36:00","2021-03-23T00:36:00",null,{"$f":"_xlfn.XLOOKUP(C39,Data!C:C,Data!I:I)","v":{"$error":"#N/A"}},{"$error":"#N/A"},{"$f":"_xlfn.XLOOKUP(C39,Data!C:C,Data!G:G,0)","v":0},{"$f":"_xlfn.XLOOKUP(C39,Data!C:C,Data!F:F,0)","v":0},{"$f":"_xlfn.XLOOKUP(C39,Data!C:C,Data!H:H,0)","v":0},null,"",{"$f":"_xlfn.XLOOKUP(C39,Data!C:C,Data!F:F,\"\")","v":""},null,{"$error":"#N/A"}]
["23-3-2021","00:37:00","2021-03-23T00:37:00",null,{"$f":"_xlfn.XLOOKUP(C40,Data!C:C,Data!I:I)","v":{"$error":"#N/A"}},{"$error":"#N/A"},{"$f":"_xlfn.XLOOKUP(C40,Data!C:C,Data!G:G,0)","v":0},{"$f":"_xlfn.XLOOKUP(C40,Data!C:C,Data!F:F,0)","v":0},{"$f":"_xlfn.XLOOKUP(C40,Data!C:C,Data!H:H,0)","v":0},null,"",{"$f":"_xlfn.XLOOKUP(C40,Data!C:C,Data!F:F,\"\")","v":""},null,{"$error":"#N/A"}]
["23-3-2021","00:38:00","2021-03-23T00:38:00",null,{"$f":"_xlfn.XLOOKUP(C41,Data!C:C,Data!I:I)","v":{"$error":"#N/A"}},{"$error":"#N/A"},{"$f":"_xlfn.XLOOKUP(C41,Data!C:C,Data!G:G,0)","v":0},{"$f":"_xlfn.XLOOKUP(C41,Data!C:C,Data!F:F,0)","v":0},{"$f":"_xlfn.XLOOKUP(C41,Data!C:C,Data!H:H,0)","v":0},null,"",{"$f":"_xlfn.XLOOKUP(C41,Data!C:C,Data!F:F,\"\")","v":""},null,{"$error":"#N/A"}]
["23-3-2021","00:39:00","2021-03-23T00:39:00",null,{"$f":"_xlfn.XLOOKUP(C42,Data!C:C,Data!I:I)","v":{"$error":"#N/A"}},{"$error":"#N/A"},{"$f":"_xlfn.XLOOKUP(C42,Data!C:C,Data!G:G,0)","v":0},{"$f":"_xlfn.XLOOKUP(C42,Data!C:C,Data!F:F,0)","v":0},{"$f":"_xlfn.XLOOKUP(C42,Data!C:C,Data!H:H,0)","v":0},null,"",{"$f":"_xlfn.XLOOKUP(C42,Data!C:C,Data!F:F,\"\")","v":""},null,{"$error":"#N/A"}]
["23-3-2021","00:40:00","2021-03-23T00:40:00",null,{"$f":"_xlfn.XLOOKUP(C43,Data!C:C,Data!I:I)","v":{"$error":"#N/A"}},{"$error":"#N/A"},{"$f":"_xlfn.XLOOKUP(C43,Data!C:C,Data!G:G,0)","v":0},{"$f":"_xlfn.XLOOKUP(C43,Data!C:C,Data!F:F,0)","v":0},{"$f":"_xlfn.XLOOKUP(C43,Data!C:C,Data!H:H,0)","v":0},null,"",{"$f":"_xlfn.XLOOKUP(C43,Data!C:C,Data!F:F,\"\")","v":""},null,{"$error":"#N/A"}]
["23-3-2021","00:41:00","2021-03-23T00:41:00",null,{"$f":"_xlfn.XLOOKUP(C44,Data!C:C,Data!I:I)","v":{"$error":"#N/A"}},{"$error":"#N/A"},{"$f":"_xlfn.XLOOKUP(C44,Data!C:C,Data!G:G,0)","v":0},{"$f":"_xlfn.XLOOKUP(C44,Data!C:C,Data!F:F,0)","v":0},{"$f":"_xlfn.XLOOKUP(C44,Data!C:C,Data!H:H,0)","v":0},null,"",{"$f":"_xlfn.XLOOKUP(C44,Data!C:C,Data!F:F,\"\")","v":""},null,{"$error":"#N/A"}]
["23-3-2021","00:42:00","2021-03-23T00:42:00",null,{"$f":"_xlfn.XLOOKUP(C45,Data!C:C,Data!I:I)","v":{"$error":"#N/A"}},{"$error":"#N/A"},{"$f":"_xlfn.XLOOKUP(C45,Data!C:C,Data!G:G,0)","v":0},{"$f":"_xlfn.XLOOKUP(C45,Data!C:C,Data!F:F,0)","v":0},{"$f":"_xlfn.XLOOKUP(C45,Data!C:C,Data!H:H,0)","v":0},null,"",{"$f":"_xlfn.XLOOKUP(C45,Data!C:C,Data!F:F,\"\")","v":""},null,{"$error":"#N/A"}]
["23-3-2021","00:43:00","2021-03-23T00:43:00",null,{"$f":"_xlfn.XLOOKUP(C46,Data!C:C,Data!I:I)","v":{"$error":"#N/A"}},{"$error":"#N/A"},{"$f":"_xlfn.XLOOKUP(C46,Data!C:C,Data!G:G,0)","v":0},{"$f":"_xlfn.XLOOKUP(C46,Data!C:C,Data!F:F,0)","v":0},{"$f":"_xlfn.XLOOKUP(C46,Data!C:C,Data!H:H,0)","v":0},null,"",{"$f":"_xlfn.XLOOKUP(C46,Data!C:C,Data!F:F,\"\")","v":""},null,{"$error":"#N/A"}]
["23-3-2021","00:44:00","2021-03-23T00:44:00",null,{"$f":"_xlfn.XLOOKUP(C47,Data!C:C,Data!I:I)","v":{"$error":"#N/A"}},{"$error":"#N/A"},{"$f":"_xlfn.XLOOKUP(C47,Data!C:C,Data!G:G,0)","v":0},{"$f":"_xlfn.XLOOKUP(C47,Data!C:C,Data!F:F,0)","v":0},{"$f":"_xlfn.XLOOKUP(C47,Data!C:C,Data!H:H,0)","v":0},null,"",{"$f":"_xlfn.XLOOKUP(C47,Data!C:C,Data!F:F,\"\")","v":""},null,{"$error":"#N/A"}]
["23-3-2021","00:45:00","2021-03-23T00:45:00",null,{"$f":"_xlfn.XLOOKUP(C48,Data!C:C,Data!I:I)","v":{"$error":"#N/A"}},{"$error":"#N/A"},{"$f":"_xlfn.XLOOKUP(C48,Data!C:C,Data!G:G,0)","v":0},{"$f":"_xlfn.XLOOKUP(C48,Data!C:C,Data!F:F,0)","v":0},{"$f":"_xlfn.XLOOKUP(C48,Data!C:C,Data!H:H,0)","v":0},null,"",{"$f":"_xlfn.XLOOKUP(C48,Data!C:C,Data!F:F,\"\")","v":""},null,{"$error":"#N/A"}]
["23-3-2021","00:46:00","2021-03-23T00:46:00",null,{"$f":"_xlfn.XLOOKUP(C49,Data!C:C,Data!I:I)","v":{"$error":"#N/A"}},{"$error":"#N/A"},{"$f":"_xlfn.XLOOKUP(C49,Data!C:C,Data!G:G,0)","v":0},{"$f":"_xlfn.XLOOKUP(C49,Data!C:C,Data!F:F,0)","v":0},{"$f":"_xlfn.XLOOKUP(C49,Data!C:C,Data!H:H,0)","v":0},null,"",{"$f":"_xlfn.XLOOKUP(C49,Data!C:C,Data!F:F,\"\")","v":""},null,{"$error":"#N/A"}]
["23-3-2021","00:47:00","2021-03-23T00:47:00",null,{"$f":"_xlfn.XLOOKUP(C50,Data!C:C,Data!I:I)","v":{"$error":"#N/A"}},{"$error":"#N/A"},{"$f":"_xlfn.XLOOKUP(C50,Data!C:C,Data!G:G,0)","v":0},{"$f":"_xlfn.XLOOKUP(C50,Data!C:C,Data!F:F,0)","v":0},{"$f":"_xlfn.XLOOKUP(C50,Data!C:C,Data!H:H,0)","v":0},null,"",{"$f":"_xlfn.XLOOKUP(C50,Data!C:C,Data!F:F,\"\")","v":""},null,{"$error":"#N/A"}]
["23-3-2021","00:48:00","2021-03-23T00:48:00",null,{"$f":"_xlfn.XLOOKUP(C51,Data!C:C,Data!I:I)","v":{"$error":"#N/A"}},{"$error":"#N/A"},{"$f":"_xlfn.XLOOKUP(C51,Data!C:C,Data!G:G,0)","v":0},{"$f":"_xlfn.XLOOKUP(C51,Data!C:C,Data!F:F,0)","v":0},{"$f":"_xlfn.XLOOKUP(C51,Data!C:C,Data!H:H,0)","v":0},null,"",{"$f":"_xlfn.XLOOKUP(C51,Data!C:C,Data!F:F,\"\")","v":""},null,{"$error":"#N/A"}]
["23-3-2021","00:49:00","2021-03-23T00:49:00",null,{"$f":"_xlfn.XLOOKUP(C52,Data!C:C,Data!I:I)","v":{"$error":"#N/A"}},{"$error":"#N/A"},{"$f":"_xlfn.XLOOKUP(C52,Data!C:C,Data!G:G,0)","v":0},{"$f":"_xlfn.XLOOKUP(C52,Data!C:C,Data!F:F,0)","v":0},{"$f":"_xlfn.XLOOKUP(C52,Data!C:C,Data!H:H,0)","v":0},null,"",{"$f":"_xlfn.XLOOKUP(C52,Data!C:C,Data!F:F,\"\")","v":""},null,{"$error":"#N/A"}]
["23-3-2021","00:50:00","2021-03-23T00:50:00",null,{"$f":"_xlfn.XLOOKUP(C53,Data!C:C,Data!I:I)","v":{"$error":"#N/A"}},{"$error":"#N/A"},{"$f":"_xlfn.XLOOKUP(C53,Data!C:C,Data!G:G,0)","v":0},{"$f":"_xlfn.XLOOKUP(C53,Data!C:C,Data!F:F,0)","v":0},{"$f":"_xlfn.XLOOKUP(C53,Data!C:C,Data!H:H,0)","v":0},null,"",{"$f":"_xlfn.XLOOKUP(C53,Data!C:C,Data!F:F,\"\")","v":""},null,{"$error":"#N/A"}]
["23-3-2021","00:51:00","2021-03-23T00:51:00",null,{"$f":"_xlfn.XLOOKUP(C54,Data!C:C,Data!I:I)","v":{"$error":"#N/A"}},{"$error":"#N/A"},{"$f":"_xlfn.XLOOKUP(C54,Data!C:C,Data!G:G,0)","v":0},{"$f":"_xlfn.XLOOKUP(C54,Data!C:C,Data!F:F,0)","v":0},{"$f":"_xlfn.XLOOKUP(C54,Data!C:C,Data!H:H,0)","v":0},null,"",{"$f":"_xlfn.XLOOKUP(C54,Data!C:C,Data!F:F,\"\")","v":""},null,{"$error":"#N/A"}]
["23-3-2021","00:52:00","2021-03-23T00:52:00",null,{"$f":"_xlfn.XLOOKUP(C55,Data!C:C,Data!I:I)","v":{"$error":"#N/A"}},{"$error":"#N/A"},{"$f":"_xlfn.XLOOKUP(C55,Data!C:C,Data!G:G,0)","v":0},{"$f":"_xlfn.XLOOKUP(C55,Data!C:C,Data!F:F,0)","v":0},{"$f":"_xlfn.XLOOKUP(C55,Data!C:C,Data!H:H,0)","v":0},null,"",{"$f":"_xlfn.XLOOKUP(C55,Data!C:C,Data!F:F,\"\")","v":""},null,{"$error":"#N/A"}]
["23-3-2021","00:53:00","2021-03-23T00:53:00",null,{"$f":"_xlfn.XLOOKUP(C56,Data!C:C,Data!I:I)","v":{"$error":"#N/A"}},{"$error":"#N/A"},{"$f":"_xlfn.XLOOKUP(C56,Data!C:C,Data!G:G,0)","v":0},{"$f":"_xlfn.XLOOKUP(C56,Data!C:C,Data!F:F,0)","v":0},{"$f":"_xlfn.XLOOKUP(C56,Data!C:C,Data!H:H,0)","v":0},null,"",{"$f":"_xlfn.XLOOKUP(C56,Data!C:C,Data!F:F,\"\")","v":""},null,{"$error":"#N/A"}]
["23-3-2021","00:54:00","2021-03-23T00:54:00",null,{"$f":"_xlfn.XLOOKUP(C57,Data!C:C,Data!I:I)","v":{"$error":"#N/A"}},{"$error":"#N/A"},{"$f":"_xlfn.XLOOKUP(C57,Data!C:C,Data!G:G,0)","v":0},{"$f":"_xlfn.XLOOKUP(C57,Data!C:C,Data!F:F,0)","v":0},{"$f":"_xlfn.XLOOKUP(C57,Data!C:C,Data!H:H,0)","v":0},null,"",{"$f":"_xlfn.XLOOKUP(C57,Data!C:C,Data!F:F,\"\")","v":""},null,{"$error":"#N/A"}]
["23-3-2021","00:55:00","2021-03-23T00:55:00",null,{"$f":"_xlfn.XLOOKUP(C58,Data!C:C,Data!I:I)","v":{"$error":"#N/A"}},{"$error":"#N/A"},{"$f":"_xlfn.XLOOKUP(C58,Data!C:C,Data!G:G,0)","v":0},{"$f":"_xlfn.XLOOKUP(C58,Data!C:C,Data!F:F,0)","v":0},{"$f":"_xlfn.XLOOKUP(C58,Data!C:C,Data!H:H,0)","v":0},null,"",{"$f":"_xlfn.XLOOKUP(C58,Data!C:C,Data!F:F,\"\")","v":""},null,{"$error":"#N/A"}]
["23-3-2021","00:56:00","2021-03-23T00:56:00",null,{"$f":"_xlfn.XLOOKUP(C59,Data!C:C,Data!I:I)","v":{"$error":"#N/A"}},{"$error":"#N/A"},{"$f":"_xlfn.XLOOKUP(C59,Data!C:C,Data!G:G,0)","v":0},{"$f":"_xlfn.XLOOKUP(C59,Data!C:C,Data!F:F,0)","v":0},{"$f":"_xlfn.XLOOKUP(C59,Data!C:C,Data!H:H,0)","v":0},null,"",{"$f":"_xlfn.XLOOKUP(C59,Data!C:C,Data!F:F,\"\")","v":""},null,{"$error":"#N/A"}]
["23-3-2021","00:57:00","2021-03-23T00:57:00",null,{"$f":"_xlfn.XLOOKUP(C60,Data!C:C,Data!I:I)","v":{"$error":"#N/A"}},{"$error":"#N/A"},{"$f":"_xlfn.XLOOKUP(C60,Data!C:C,Data!G:G,0)","v":0},{"$f":"_xlfn.XLOOKUP(C60,Data!C:C,Data!F:F,0)","v":0},{"$f":"_xlfn.XLOOKUP(C60,Data!C:C,Data!H:H,0)","v":0},null,"",{"$f":"_xlfn.XLOOKUP(C60,Data!C:C,Data!F:F,\"\")","v":""},null,{"$error":"#N/A"}]
["23-3-2021","00:58:00","2021-03-23T00:58:00",null,{"$f":"_xlfn.XLOOKUP(C61,Data!C:C,Data!I:I)","v":{"$error":"#N/A"}},{"$error":"#N/A"},{"$f":"_xlfn.XLOOKUP(C61,Data!C:C,Data!G:G,0)","v":0},{"$f":"_xlfn.XLOOKUP(C61,Data!C:C,Data!F:F,0)","v":0},{"$f":"_xlfn.XLOOKUP(C61,Data!C:C,Data!H:H,0)","v":0},null,"",{"$f":"_xlfn.XLOOKUP(C61,Data!C:C,Data!F:F,\"\")","v":""},null,{"$error":"#N/A"}]
["23-3-2021","00:59:00","2021-03-23T00:59:00",null,{"$f":"_xlfn.XLOOKUP(C62,Data!C:C,Data!I:I)","v":{"$error":"#N/A"}},{"$error":"#N/A"},{"$f":"_xlfn.XLOOKUP(C62,Data!C:C,Data!G:G,0)","v":0},{"$f":"_xlfn.XLOOKUP(C62,Data!C:C,Data!F:F,0)","v":0},{"$f":"_xlfn.XLOOKUP(C62,Data!C:C,Data!H:H,0)","v":0},null,"",{"$f":"_xlfn.XLOOKUP(C62,Data!C:C,Data!F:F,\"\")","v":""},null,{"$error":"#N/A"}]
["23-3-2021","01:00:00","2021-03-23T01:00:00",null,{"$f":"_xlfn.XLOOKUP(C63,Data!C:C,Data!I:I)","v":{"$error":"#N/A"}},{"$error":"#N/A"},{"$f":"_xlfn.XLOOKUP(C63,Data!C:C,Data!G:G,0)","v":0},{"$f":"_xlfn.XLOOKUP(C63,Data!C:C,Data!F:F,0)","v":0},{"$f":"_xlfn.XLOOKUP(C63,Data!C:C,Data!H:H,0)","v":0},null,"",{"$f":"_xlfn.XLOOKUP(C63,Data!C:C,Data!F:F,\"\")","v":""},null,{"$error":"#N/A"}]
["23-3-2021","01:01:00","2021-03-23T01:01:00",null,{"$f":"_xlfn.XLOOKUP(C64,Data!C:C,Data!I:I)","v":{"$error":"#N/A"}},{"$error":"#N/A"},{"$f":"_xlfn.XLOOKUP(C64,Data!C:C,Data!G:G,0)","v":0},{"$f":"_xlfn.XLOOKUP(C64,Data!C:C,Data!F:F,0)","v":0},{"$f":"_xlfn.XLOOKUP(C64,Data!C:C,Data!H:H,0)","v":0},null,"",{"$f":"_xlfn.XLOOKUP(C64,Data!C:C,Data!F:F,\"\")","v":""},null,{"$error":"#N/A"}]
["23-3-2021","01:02:00","2021-03-23T01:02:00",null,{"$f":"_xlfn.XLOOKUP(C65,Data!C:C,Data!I:I)","v":{"$error":"#N/A"}},{"$error":"#N/A"},{"$f":"_xlfn.XLOOKUP(C65,Data!C:C,Data!G:G,0)","v":0},{"$f":"_xlfn.XLOOKUP(C65,Data!C:C,Data!F:F,0)","v":0},{"$f":"_xlfn.XLOOKUP(C65,Data!C:C,Data!H:H,0)","v":0},null,"",{"$f":"_xlfn.XLOOKUP(C65,Data!C:C,Data!F:F,\"\")","v":""},null,{"$error":"#N/A"}]
["23-3-2021","01:03:00","2021-03-23T01:03:00",null,{"$f":"_xlfn.XLOOKUP(C66,Data!C:C,Data!I:I)","v":{"$error":"#N/A"}},{"$error":"#N/A"},{"$f":"_xlfn.XLOOKUP(C66,Data!C:C,Data!G:G,0)","v":0},{"$f":"_xlfn.XLOOKUP(C66,Data!C:C,Data!F:F,0)","v":0},{"$f":"_xlfn.XLOOKUP(C66,Data!C:C,Data!H:H,0)","v":0},null,"",{"$f":"_xlfn.XLOOKUP(C66,Data!C:C,Data!F:F,\"\")","v":""},null,{"$error":"#N/A"}]
["23-3-2021","01:04:00",{"$f":"A67+B67","v":"2021-03-23T01:04:00"},null,{"$f":"_xlfn.XLOOKUP(C67,Data!C:C,Data!I:I)","v":{"$error":"#N/A"}},{"$error":"#N/A"},{"$f":"_xlfn.XLOOKUP(C67,Data!C:C,Data!G:G,0)","v":0},{"$f":"_xlfn.XLOOKUP(C67,Data!C:C,Data!F:F,0)","v":0},{"$f":"_xlfn.XLOOKUP(C67,Data!C:C,Data!H:H,0)","v":0},null,"",{"$f":"_xlfn.XLOOKUP(C67,Data!C:C,Data!F:F,\"\")","v":""},null,{"$error":"#N/A"}]
[{"$f":"$A$3","v":"23-3-2021"},"01:05:00","2021-03-23T01:05:00",null,{"$f":"_xlfn.XLOOKUP(C68,Data!C:C,Data!I:I)","v":{"$error":"#N/A"}},{"$f":"IF(E68=255,F67,E68)","v":{"$error":"#N/A"}},{"$f":"_xlfn.XLOOKUP(C68,Data!C:C,Data!G:G,0)","v":0},{"$f":"_xlfn.XLOOKUP(C68,Data!C:C,Data!F:F,0)","v":0},{"$f":"_xlfn.XLOOKUP(C68,Data!C:C,Data!H:H,0)","v":0},null,{"$f":"IFERROR(IF(F68=\"#N/A\",\"\",F68),\"\")","v":""},{"$f":"_xlfn.XLOOKUP(C68,Data!C:C,Data!F:F,\"\")","v":""},null,{"$error":"#N/A"}]
["23-3-2021","01:06:00","2021-03-23T01:06:00",null,{"$f":"_xlfn.XLOOKUP(C69,Data!C:C,Data!I:I)","v":{"$error":"#N/A"}},{"$error":"#N/A"},{"$f":"_xlfn.XLOOKUP(C69,Data!C:C,Data!G:G,0)","v":0},{"$f":"_xlfn.XLOOKUP(C69,Data!C:C,Data!F:F,0)","v":0},{"$f":"_xlfn.XLOOKUP(C69,Data!C:C,Data!H:H,0)","v":0},null,"",{"$f":"_xlfn.XLOOKUP(C69,Data!C:C,Data!F:F,\"\")","v":""},null,{"$error":"#N/A"}]
["23-3-2021","01:07:00","2021-03-23T01:07:00",null,{"$f":"_xlfn.XLOOKUP(C70,Data!C:C,Data!I:I)","v":{"$error":"#N/A"}},{"$error":"#N/A"},{"$f":"_xlfn.XLOOKUP(C70,Data!C:C,Data!G:G,0)","v":0},{"$f":"_xlfn.XLOOKUP(C70,Data!C:C,Data!F:F,0)","v":0},{"$f":"_xlfn.XLOOKUP(C70,Data!C:C,Data!H:H,0)","v":0},null,"",{"$f":"_xlfn.XLOOKUP(C70,Data!C:C,Data!F:F,\"\")","v":""},null,{"$error":"#N/A"}]
["23-3-2021","01:08:00","2021-03-23T01:08:00",null,{"$f":"_xlfn.XLOOKUP(C71,Data!C:C,Data!I:I)","v":{"$error":"#N/A"}},{"$error":"#N/A"},{"$f":"_xlfn.XLOOKUP(C71,Data!C:C,Data!G:G,0)","v":0},{"$f":"_xlfn.XLOOKUP(C71,Data!C:C,Data!F:F,0)","v":0},{"$f":"_xlfn.XLOOKUP(C71,Data!C:C,Data!H:H,0)","v":0},null,"",{"$f":"_xlfn.XLOOKUP(C71,Data!C:C,Data!F:F,\"\")","v":""},null,{"$f":"IF(F71=\"\",\"\",AVERAGE(F67:F75))","v":{"$error":"#N/A"}}]
["23-3-2021","01:09:00","2021-03-23T01:09:00",null,{"$f":"_xlfn.XLOOKUP(C72,Data!C:C,Data!I:I)","v":{"$error":"#N/A"}},{"$error":"#N/A"},{"$f":"_xlfn.XLOOKUP(C72,Data!C:C,Data!G:G,0)","v":0},{"$f":"_xlfn.XLOOKUP(C72,Data!C:C,Data!F:F,0)","v":0},{"$f":"_xlfn.XLOOKUP(C72,Data!C:C,Data!H:H,0)","v":0},null,"",{"$f":"_xlfn.XLOOKUP(C72,Data!C:C,Data!F:F,\"\")","v":""},null,{"$error":"#N/A"}]
["23-3-2021","01:10:00","2021-03-23T01:10:00",null,{"$f":"_xlfn.XLOOKUP(C73,Data!C:C,Data!I:I)","v":{"$error":"#N/A"}},{"$error":"#N/A"},{"$f":"_xlfn.XLOOKUP(C73,Data!C:C,Data!G:G,0)","v":0},{"$f":"_xlfn.XLOOKUP(C73,Data!C:C,Data!F:F,0)","v":0},{"$f":"_xlfn.XLOOKUP(C73,Data!C:C,Data!H:H,0)","v":0},null,"",{"$f":"_xlfn.XLOOKUP(C73,Data!C:C,Data!F:F,\"\")","v":""},null,{"$error":"#N/A"}]
["23-3-2021","01:11:00","2021-03-23T01:11:00",null,{"$f":"_xlfn.XLOOKUP(C74,Data!C:C,Data!I:I)","v":{"$error":"#N/A"}},{"$error":"#N/A"},{"$f":"_xlfn.XLOOKUP(C74,Data!C:C,Data!G:G,0)","v":0},{"$f":"_xlfn.XLOOKUP(C74,Data!C:C,Data!F:F,0)","v":0},{"$f":"_xlfn.XLOOKUP(C74,Data!C:C,Data!H:H,0)","v":0},null,"",{"$f":"_xlfn.XLOOKUP(C74,Data!C:C,Data!F:F,\"\")","v":""},null,{"$error":"#N/A"}]
["23-3-2021","01:12:00","2021-03-23T01:12:00",null,{"$f":"_xlfn.XLOOKUP(C75,Data!C:C,Data!I:I)","v":{"$error":"#N/A"}},{"$error":"#N/A"},{"$f":"_xlfn.XLOOKUP(C75,Data!C:C,Data!G:G,0)","v":0},{"$f":"_xlfn.XLOOKUP(C75,Data!C:C,Data!F:F,0)","v":0},{"$f":"_xlfn.XLOOKUP(C75,Data!C:C,Data!H:H,0)","v":0},null,"",{"$f":"_xlfn.XLOOKUP(C75,Data!C:C,Data!F:F,\"\")","v":""},null,{"$error":"#N/A"}]
["23-3-2021","01:13:00","2021-03-23T01:13:00",null,{"$f":"_xlfn.XLOOKUP(C76,Data!C:C,Data!I:I)","v":{"$error":"#N/A"}},{"$error":"#N/A"},{"$f":"_xlfn.XLOOKUP(C76,Data!C:C,Data!G:G,0)","v":0},{"$f":"_xlfn.XLOOKUP(C76,Data!C:C,Data!F:F,0)","v":0},{"$f":"_xlfn.XLOOKUP(C76,Data!C:C,Data!H:H,0)","v":0},null,"",{"$f":"_xlfn.XLOOKUP(C76,Data!C:C,Data!F:F,\"\")","v":""},null,{"$error":"#N/A"}]
["23-3-2021","01:14:00","2021-03-23T01:14:00",null,{"$f":"_xlfn.XLOOKUP(C77,Data!C:C,Data!I:I)","v":{"$error":"#N/A"}},{"$error":"#N/A"},{"$f":"_xlfn.XLOOKUP(C77,Data!C:C,Data!G:G,0)","v":0},{"$f":"_xlfn.XLOOKUP(C77,Data!C:C,Data!F:F,0)","v":0},{"$f":"_xlfn.XLOOKUP(C77,Data!C:C,Data!H:H,0)","v":0},null,"",{"$f":"_xlfn.XLOOKUP(C77,Data!C:C,Data!F:F,\"\")","v":""},null,{"$error":"#N/A"}]
["23-3-2021","01:15:00","2021-03-23T01:15:00",null,{"$f":"_xlfn.XLOOKUP(C78,Data!C:C,Data!I:I)","v":{"$error":"#N/A"}},{"$error":"#N/A"},{"$f":"_xlfn.XLOOKUP(C78,Data!C:C,Data!G:G,0)","v":0},{"$f":"_xlfn.XLOOKUP(C78,Data!C:C,Data!F:F,0)","v":0},{"$f":"_xlfn.XLOOKUP(C78,Data!C:C,Data!H:H,0)","v":0},null,"",{"$f":"_xlfn.XLOOKUP(C78,Data!C:C,Data!F:F,\"\")","v":""},null,{"$error":"#N/A"}]
["23-3-2021","01:16:00","2021-03-23T01:16:00",null,{"$f":"_xlfn.XLOOKUP(C79,Data!C:C,Data!I:I)","v":{"$error":"#N/A"}},{"$error":"#N/A"},{"$f":"_xlfn.XLOOKUP(C79,Data!C:C,Data!G:G,0)","v":0},{"$f":"_xlfn.XLOOKUP(C79,Data!C:C,Data!F:F,0)","v":0},{"$f":"_xlfn.XLOOKUP(C79,Data!C:C,Data!H:H,0)","v":0},null,"",{"$f":"_xlfn.XLOOKUP(C79,Data!C:C,Data!F:F,\"\")","v":""},null,{"$error":"#N/A"}]
["23-3-2021","01:17:00","2021-03-23T01:17:00",null,{"$f":"_xlfn.XLOOKUP(C80,Data!C:C,Data!I:I)","v":{"$error":"#N/A"}},{"$error":"#N/A"},{"$f":"_xlfn.XLOOKUP(C80,Data!C:C,Data!G:G,0)","v":0},{"$f":"_xlfn.XLOOKUP(C80,Data!C:C,Data!F:F,0)","v":0},{"$f":"_xlfn.XLOOKUP(C80,Data!C:C,Data!H:H,0)","v":0},null,"",{"$f":"_xlfn.XLOOKUP(C80,Data!C:C,Data!F:F,\"\")","v":""},null,{"$error":"#N/A"}]
["23-3-2021","01:18:00","2021-03-23T01:18:00",null,{"$f":"_xlfn.XLOOKUP(C81,Data!C:C,Data!I:I)","v":{"$error":"#N/A"}},{"$error":"#N/A"},{"$f":"_xlfn.XLOOKUP(C81,Data!C:C,Data!G:G,0)","v":0},{"$f":"_xlfn.XLOOKUP(C81,Data!C:C,Data!F:F,0)","v":0},{"$f":"_xlfn.XLOOKUP(C81,Data!C:C,Data!H:H,0)","v":0},null,"",{"$f":"_xlfn.XLOOKUP(C81,Data!C:C,Data!F:F,\"\")","v":""},null,{"$error":"#N/A"}]
["23-3-2021","01:19:00","2021-03-23T01:19:00",null,{"$f":"_xlfn.XLOOKUP(C82,Data!C:C,Data!I:I)","v":{"$error":"#N/A"}},{"$error":"#N/A"},{"$f":"_xlfn.XLOOKUP(C82,Data!C:C,Data!G:G,0)","v":0},{"$f":"_xlfn.XLOOKUP(C82,Data!C:C,Data!F:F,0)","v":0},{"$f":"_xlfn.XLOOKUP(C82,Data!C:C,Data!H:H,0)","v":0},null,"",{"$f":"_xlfn.XLOOKUP(C82,Data!C:C,Data!F:F,\"\")","v":""},null,{"$error":"#N/A"}]
["23-3-2021","01:20:00","2021-03-23T01:20:00",null,{"$f":"_xlfn.XLOOKUP(C83,Data!C:C,Data!I:I)","v":{"$error":"#N/A"}},{"$error":"#N/A"},{"$f":"_xlfn.XLOOKUP(C83,Data!C:C,Data!G:G,0)","v":0},{"$f":"_xlfn.XLOOKUP(C83,Data!C:C,Data!F:F,0)","v":0},{"$f":"_xlfn.XLOOKUP(C83,Data!C:C,Data!H:H,0)","v":0},null,"",{"$f":"_xlfn.XLOOKUP(C83,Data!C:C,Data!F:F,\"\")","v":""},null,{"$error":"#N/A"}]
["23-3-2021","01:21:00","2021-03-23T01:21:00",null,{"$f":"_xlfn.XLOOKUP(C84,Data!C:C,Data!I:I)","v":{"$error":"#N/A"}},{"$error":"#N/A"},{"$f":"_xlfn.XLOOKUP(C84,Data!C:C,Data!G:G,0)","v":0},{"$f":"_xlfn.XLOOKUP(C84,Data!C:C,Data!F:F,0)","v":0},{"$f":"_xlfn.XLOOKUP(C84,Data!C:C,Data!H:H,0)","v":0},null,"",{"$f":"_xlfn.XLOOKUP(C84,Data!C:C,Data!F:F,\"\")","v":""},null,{"$error":"#N/A"}]
["23-3-2021","01:22:00","2021-03-23T01:22:00",null,{"$f":"_xlfn.XLOOKUP(C85,Data!C:C,Data!I:I)","v":{"$error":"#N/A"}},{"$error":"#N/A"},{"$f":"_xlfn.XLOOKUP(C85,Data!C:C,Data!G:G,0)","v":0},{"$f":"_xlfn.XLOOKUP(C85,Data!C:C,Data!F:F,0)","v":0},{"$f":"_xlfn.XLOOKUP(C85,Data!C:C,Data!H:H,0)","v":0},null,"",{"$f":"_xlfn.XLOOKUP(C85,Data!C:C,Data!F:F,\"\")","v":""},null,{"$error":"#N/A"}]
["23-3-2021","01:23:00","2021-03-23T01:23:00",null,{"$f":"_xlfn.XLOOKUP(C86,Data!C:C,Data!I:I)","v":{"$error":"#N/A"}},{"$error":"#N/A"},{"$f":"_xlfn.XLOOKUP(C86,Data!C:C,Data!G:G,0)","v":0},{"$f":"_xlfn.XLOOKUP(C86,Data!C:C,Data!F:F,0)","v":0},{"$f":"_xlfn.XLOOKUP(C86,Data!C:C,Data!H:H,0)","v":0},null,"",{"$f":"_xlfn.XLOOKUP(C86,Data!C:C,Data!F:F,\"\")","v":""},null,{"$error":"#N/A"}]
["23-3-2021","01:24:00","2021-03-23T01:24:00",null,{"$f":"_xlfn.XLOOKUP(C87,Data!C:C,Data!I:I)","v":{"$error":"#N/A"}},{"$error":"#N/A"},{"$f":"_xlfn.XLOOKUP(C87,Data!C:C,Data!G:G,0)","v":0},{"$f":"_xlfn.XLOOKUP(C87,Data!C:C,Data!F:F,0)","v":0},{"$f":"_xlfn.XLOOKUP(C87,Data!C:C,Data!H:H,0)","v":0},null,"",{"$f":"_xlfn.XLOOKUP(C87,Data!C:C,Data!F:F,\"\")","v":""},null,{"$error":"#N/A"}]
["23-3-2021","01:25:00","2021-03-23T01:25:00",null,{"$f":"_xlfn.XLOOKUP(C88,Data!C:C,Data!I:I)","v":{"$error":"#N/A"}},{"$error":"#N/A"},{"$f":"_xlfn.XLOOKUP(C88,Data!C:C,Data!G:G,0)","v":0},{"$f":"_xlfn.XLOOKUP(C88,Data!C:C,Data!F:F,0)","v":0},{"$f":"_xlfn.XLOOKUP(C88,Data!C:C,Data!H:H,0)","v":0},null,"",{"$f":"_xlfn.XLOOKUP(C88,Data!C:C,Data!F:F,\"\")","v":""},null,{"$error":"#N/A"}]
["23-3-2021","01:26:00","2021-03-23T01:26:00",null,{"$f":"_xlfn.XLOOKUP(C89,Data!C:C,Data!I:I)","v":{"$error":"#N/A"}},{"$error":"#N/A"},{"$f":"_xlfn.XLOOKUP(C89,Data!C:C,Data!G:G,0)","v":0},{"$f":"_xlfn.XLOOKUP(C89,Data!C:C,Data!F:F,0)","v":0},{"$f":"_xlfn.XLOOKUP(C89,Data!C:C,Data!H:H,0)","v":0},null,"",{"$f":"_xlfn.XLOOKUP(C89,Data!C:C,Data!F:F,\"\")","v":""},null,{"$error":"#N/A"}]
["23-3-2021","01:27:00","2021-03-23T01:27:00",null,{"$f":"_xlfn.XLOOKUP(C90,Data!C:C,Data!I:I)","v":{"$error":"#N/A"}},{"$error":"#N/A"},{"$f":"_xlfn.XLOOKUP(C90,Data!C:C,Data!G:G,0)","v":0},{"$f":"_xlfn.XLOOKUP(C90,Data!C:C,Data!F:F,0)","v":0},{"$f":"_xlfn.XLOOKUP(C90,Data!C:C,Data!H:H,0)","v":0},null,"",{"$f":"_xlfn.XLOOKUP(C90,Data!C:C,Data!F:F,\"\")","v":""},null,{"$error":"#N/A"}]
["23-3-2021","01:28:00","2021-03-23T01:28:00",null,{"$f":"_xlfn.XLOOKUP(C91,Data!C:C,Data!I:I)","v":{"$error":"#N/A"}},{"$error":"#N/A"},{"$f":"_xlfn.XLOOKUP(C91,Data!C:C,Data!G:G,0)","v":0},{"$f":"_xlfn.XLOOKUP(C91,Data!C:C,Data!F:F,0)","v":0},{"$f":"_xlfn.XLOOKUP(C91,Data!C:C,Data!H:H,0)","v":0},null,"",{"$f":"_xlfn.XLOOKUP(C91,Data!C:C,Data!F:F,\"\")","v":""},null,{"$error":"#N/A"}]
["23-3-2021","01:29:00","2021-03-23T01:29:00",null,{"$f":"_xlfn.XLOOKUP(C92,Data!C:C,Data!I:I)","v":{"$error":"#N/A"}},{"$error":"#N/A"},{"$f":"_xlfn.XLOOKUP(C92,Data!C:C,Data!G:G,0)","v":0},{"$f":"_xlfn.XLOOKUP(C92,Data!C:C,Data!F:F,0)","v":0},{"$f":"_xlfn.XLOOKUP(C92,Data!C:C,Data!H:H,0)","v":0},null,"",{"$f":"_xlfn.XLOOKUP(C92,Data!C:C,Data!F:F,\"\")","v":""},null,{"$error":"#N/A"}]
["23-3-2021","01:30:00","2021-03-23T01:30:00",null,{"$f":"_xlfn.XLOOKUP(C93,Data!C:C,Data!I:I)","v":{"$error":"#N/A"}},{"$error":"#N/A"},{"$f":"_xlfn.XLOOKUP(C93,Data!C:C,Data!G:G,0)","v":0},{"$f":"_xlfn.XLOOKUP(C93,Data!C:C,Data!F:F,0)","v":0},{"$f":"_xlfn.XLOOKUP(C93,Data!C:C,Data!H:H,0)","v":0},null,"",{"$f":"_xlfn.XLOOKUP(C93,Data!C:C,Data!F:F,\"\")","v":""},null,{"$error":"#N/A"}]
["23-3-2021","01:31:00","2021-03-23T01:31:00",null,{"$f":"_xlfn.XLOOKUP(C94,Data!C:C,Data!I:I)","v":{"$error":"#N/A"}},{"$error":"#N/A"},{"$f":"_xlfn.XLOOKUP(C94,Data!C:C,Data!G:G,0)","v":0},{"$f":"_xlfn.XLOOKUP(C94,Data!C:C,Data!F:F,0)","v":0},{"$f":"_xlfn.XLOOKUP(C94,Data!C:C,Data!H:H,0)","v":0},null,"",{"$f":"_xlfn.XLOOKUP(C94,Data!C:C,Data!F:F,\"\")","v":""},null,{"$error":"#N/A"}]
["23-3-2021","01:32:00","2021-03-23T01:32:00",null,{"$f":"_xlfn.XLOOKUP(C95,Data!C:C,Data!I:I)","v":{"$error":"#N/A"}},{"$error":"#N/A"},{"$f":"_xlfn.XLOOKUP(C95,Data!C:C,Data!G:G,0)","v":0},{"$f":"_xlfn.XLOOKUP(C95,Data!C:C,Data!F:F,0)","v":0},{"$f":"_xlfn.XLOOKUP(C95,Data!C:C,Data!H:H,0)","v":0},null,"",{"$f":"_xlfn.XLOOKUP(C95,Data!C:C,Data!F:F,\"\")","v":""},null,{"$error":"#N/A"}]
["23-3-2021","01:33:00","2021-03-23T01:33:00",null,{"$f":"_xlfn.XLOOKUP(C96,Data!C:C,Data!I:I)","v":{"$error":"#N/A"}},{"$error":"#N/A"},{"$f":"_xlfn.XLOOKUP(C96,Data!C:C,Data!G:G,0)","v":0},{"$f":"_xlfn.XLOOKUP(C96,Data!C:C,Data!F:F,0)","v":0},{"$f":"_xlfn.XLOOKUP(C96,Data!C:C,Data!H:H,0)","v":0},null,"",{"$f":"_xlfn.XLOOKUP(C96,Data!C:C,Data!F:F,\"\")","v":""},null,{"$error":"#N/A"}]
["23-3-2021","01:34:00","2021-03-23T01:34:00",null,{"$f":"_xlfn.XLOOKUP(C97,Data!C:C,Data!I:I)","v":{"$error":"#N/A"}},{"$error":"#N/A"},{"$f":"_xlfn.XLOOKUP(C97,Data!C:C,Data!G:G,0)","v":0},{"$f":"_xlfn.XLOOKUP(C97,Data!C:C,Data!F:F,0)","v":0},{"$f":"_xlfn.XLOOKUP(C97,Data!C:C,Data!H:H,0)","v":0},null,"",{"$f":"_xlfn.XLOOKUP(C97,Data!C:C,Data!F:F,\"\")","v":""},null,{"$error":"#N/A"}]
["23-3-2021","01:35:00","2021-03-23T01:35:00",null,{"$f":"_xlfn.XLOOKUP(C98,Data!C:C,Data!I:I)","v":{"$error":"#N/A"}},{"$error":"#N/A"},{"$f":"_xlfn.XLOOKUP(C98,Data!C:C,Data!G:G,0)","v":0},{"$f":"_xlfn.XLOOKUP(C98,Data!C:C,Data!F:F,0)","v":0},{"$f":"_xlfn.XLOOKUP(C98,Data!C:C,Data!H:H,0)","v":0},null,"",{"$f":"_xlfn.XLOOKUP(C98,Data!C:C,Data!F:F,\"\")","v":""},null,{"$error":"#N/A"}]
["23-3-2021","01:36:00","2021-03-23T01:36:00",null,{"$f":"_xlfn.XLOOKUP(C99,Data!C:C,Data!I:I)","v":{"$error":"#N/A"}},{"$error":"#N/A"},{"$f":"_xlfn.XLOOKUP(C99,Data!C:C,Data!G:G,0)","v":0},{"$f":"_xlfn.XLOOKUP(C99,Data!C:C,Data!F:F,0)","v":0},{"$f":"_xlfn.XLOOKUP(C99,Data!C:C,Data!H:H,0)","v":0},null,"",{"$f":"_xlfn.XLOOKUP(C99,Data!C:C,Data!F:F,\"\")","v":""},null,{"$error":"#N/A"}]
["23-3-2021","01:37:00","2021-03-23T01:37:00",null,{"$f":"_xlfn.XLOOKUP(C100,Data!C:C,Data!I:I)","v":{"$error":"#N/A"}},{"$error":"#N/A"},{"$f":"_xlfn.XLOOKUP(C100,Data!C:C,Data!G:G,0)","v":0},{"$f":"_xlfn.XLOOKUP(C100,Data!C:C,Data!F:F,0)","v":0},{"$f":"_xlfn.XLOOKUP(C100,Data!C:C,Data!H:H,0)","v":0},null,"",{"$f":"_xlfn.XLOOKUP(C100,Data!C:C,Data!F:F,\"\")","v":""},null,{"$error":"#N/A"}]
["23-3-2021","01:38:00","2021-03-23T01:38:00",null,{"$f":"_xlfn.XLOOKUP(C101,Data!C:C,Data!I:I)","v":{"$error":"#N/A"}},{"$error":"#N/A"},{"$f":"_xlfn.XLOOKUP(C101,Data!C:C,Data!G:G,0)","v":0},{"$f":"_xlfn.XLOOKUP(C101,Data!C:C,Data!F:F,0)","v":0},{"$f":"_xlfn.XLOOKUP(C101,Data!C:C,Data!H:H,0)","v":0},null,"",{"$f":"_xlfn.XLOOKUP(C101,Data!C:C,Data!F:F,\"\")","v":""},null,{"$error":"#N/A"}]
["23-3-2021","01:39:00","2021-03-23T01:39:00",null,{"$f":"_xlfn.XLOOKUP(C102,Data!C:C,Data!I:I)","v":{"$error":"#N/A"}},{"$error":"#N/A"},{"$f":"_xlfn.XLOOKUP(C102,Data!C:C,Data!G:G,0)","v":0},{"$f":"_xlfn.XLOOKUP(C102,Data!C:C,Data!F:F,0)","v":0},{"$f":"_xlfn.XLOOKUP(C102,Data!C:C,Data!H:H,0)","v":0},null,"",{"$f":"_xlfn.XLOOKUP(C102,Data!C:C,Data!F:F,\"\")","v":""},null,{"$error":"#N/A"}]
["23-3-2021","01:40:00","2021-03-23T01:40:00",null,{"$f":"_xlfn.XLOOKUP(C103,Data!C:C,Data!I:I)","v":{"$error":"#N/A"}},{"$error":"#N/A"},{"$f":"_xlfn.XLOOKUP(C103,Data!C:C,Data!G:G,0)","v":0},{"$f":"_xlfn.XLOOKUP(C103,Data!C:C,Data!F:F,0)","v":0},{"$f":"_xlfn.XLOOKUP(C103,Data!C:C,Data!H:H,0)","v":0},null,"",{"$f":"_xlfn.XLOOKUP(C103,Data!C:C,Data!F:F,\"\")","v":""},null,{"$error":"#N/A"}]
["23-3-2021","01:41:00","2021-03-23T01:41:00",null,{"$f":"_xlfn.XLOOKUP(C104,Data!C:C,Data!I:I)","v":{"$error":"#N/A"}},{"$error":"#N/A"},{"$f":"_xlfn.XLOOKUP(C104,Data!C:C,Data!G:G,0)","v":0},{"$f":"_xlfn.XLOOKUP(C104,Data!C:C,Data!F:F,0)","v":0},{"$f":"_xlfn.XLOOKUP(C104,Data!C:C,Data!H:H,0)","v":0},null,"",{"$f":"_xlfn.XLOOKUP(C104,Data!C:C,Data!F:F,\"\")","v":""},null,{"$error":"#N/A"}]
["23-3-2021","01:42:00","2021-03-23T01:42:00",null,{"$f":"_xlfn.XLOOKUP(C105,Data!C:C,Data!I:I)","v":{"$error":"#N/A"}},{"$error":"#N/A"},{"$f":"_xlfn.XLOOKUP(C105,Data!C:C,Data!G:G,0)","v":0},{"$f":"_xlfn.XLOOKUP(C105,Data!C:C,Data!F:F,0)","v":0},{"$f":"_xlfn.XLOOKUP(C105,Data!C:C,Data!H:H,0)","v":0},null,"",{"$f":"_xlfn.XLOOKUP(C105,Data!C:C,Data!F:F,\"\")","v":""},null,{"$error":"#N/A"}]
["23-3-2021","01:43:00","2021-03-23T01:43:00",null,{"$f":"_xlfn.XLOOKUP(C106,Data!C:C,Data!I:I)","v":{"$error":"#N/A"}},{"$error":"#N/A"},{"$f":"_xlfn.XLOOKUP(C106,Data!C:C,Data!G:G,0)","v":0},{"$f":"_xlfn.XLOOKUP(C106,Data!C:C,Data!F:F,0)","v":0},{"$f":"_xlfn.XLOOKUP(C106,Data!C:C,Data!H:H,0)","v":0},null,"",{"$f":"_xlfn.XLOOKUP(C106,Data!C:C,Data!F:F,\"\")","v":""},null,{"$error":"#N/A"}]
["23-3-2021","01:44:00","2021-03-23T01:44:00",null,{"$f":"_xlfn.XLOOKUP(C107,Data!C:C,Data!I:I)","v":{"$error":"#N/A"}},{"$error":"#N/A"},{"$f":"_xlfn.XLOOKUP(C107,Data!C:C,Data!G:G,0)","v":0},{"$f":"_xlfn.XLOOKUP(C107,Data!C:C,Data!F:F,0)","v":0},{"$f":"_xlfn.XLOOKUP(C107,Data!C:C,Data!H:H,0)","v":0},null,"",{"$f":"_xlfn.XLOOKUP(C107,Data!C:C,Data!F:F,\"\")","v":""},null,{"$error":"#N/A"}]
["23-3-2021","01:45:00","2021-03-23T01:45:00",null,{"$f":"_xlfn.XLOOKUP(C108,Data!C:C,Data!I:I)","v":{"$error":"#N/A"}},{"$error":"#N/A"},{"$f":"_xlfn.XLOOKUP(C108,Data!C:C,Data!G:G,0)","v":0},{"$f":"_xlfn.XLOOKUP(C108,Data!C:C,Data!F:F,0)","v":0},{"$f":"_xlfn.XLOOKUP(C108,Data!C:C,Data!H:H,0)","v":0},null,"",{"$f":"_xlfn.XLOOKUP(C108,Data!C:C,Data!F:F,\"\")","v":""},null,{"$error":"#N/A"}]
["23-3-2021","01:46:00","2021-03-23T01:46:00",null,{"$f":"_xlfn.XLOOKUP(C109,Data!C:C,Data!I:I)","v":{"$error":"#N/A"}},{"$error":"#N/A"},{"$f":"_xlfn.XLOOKUP(C109,Data!C:C,Data!G:G,0)","v":0},{"$f":"_xlfn.XLOOKUP(C109,Data!C:C,Data!F:F,0)","v":0},{"$f":"_xlfn.XLOOKUP(C109,Data!C:C,Data!H:H,0)","v":0},null,"",{"$f":"_xlfn.XLOOKUP(C109,Data!C:C,Data!F:F,\"\")","v":""},null,{"$error":"#N/A"}]
["23-3-2021","01:47:00","2021-03-23T01:47:00",null,{"$f":"_xlfn.XLOOKUP(C110,Data!C:C,Data!I:I)","v":{"$error":"#N/A"}},{"$error":"#N/A"},{"$f":"_xlfn.XLOOKUP(C110,Data!C:C,Data!G:G,0)","v":0},{"$f":"_xlfn.XLOOKUP(C110,Data!C:C,Data!F:F,0)","v":0},{"$f":"_xlfn.XLOOKUP(C110,Data!C:C,Data!H:H,0)","v":0},null,"",{"$f":"_xlfn.XLOOKUP(C110,Data!C:C,Data!F:F,\"\")","v":""},null,{"$error":"#N/A"}]
["23-3-2021","01:48:00","2021-03-23T01:48:00",null,{"$f":"_xlfn.XLOOKUP(C111,Data!C:C,Data!I:I)","v":{"$error":"#N/A"}},{"$error":"#N/A"},{"$f":"_xlfn.XLOOKUP(C111,Data!C:C,Data!G:G,0)","v":0},{"$f":"_xlfn.XLOOKUP(C111,Data!C:C,Data!F:F,0)","v":0},{"$f":"_xlfn.XLOOKUP(C111,Data!C:C,Data!H:H,0)","v":0},null,"",{"$f":"_xlfn.XLOOKUP(C111,Data!C:C,Data!F:F,\"\")","v":""},null,{"$error":"#N/A"}]
["23-3-2021","01:49:00","2021-03-23T01:49:00",null,{"$f":"_xlfn.XLOOKUP(C112,Data!C:C,Data!I:I)","v":{"$error":"#N/A"}},{"$error":"#N/A"},{"$f":"_xlfn.XLOOKUP(C112,Data!C:C,Data!G:G,0)","v":0},{"$f":"_xlfn.XLOOKUP(C112,Data!C:C,Data!F:F,0)","v":0},{"$f":"_xlfn.XLOOKUP(C112,Data!C:C,Data!H:H,0)","v":0},null,"",{"$f":"_xlfn.XLOOKUP(C112,Data!C:C,Data!F:F,\"\")","v":""},null,{"$error":"#N/A"}]
["23-3-2021","01:50:00","2021-03-23T01:50:00",null,{"$f":"_xlfn.XLOOKUP(C113,Data!C:C,Data!I:I)","v":{"$error":"#N/A"}},{"$error":"#N/A"},{"$f":"_xlfn.XLOOKUP(C113,Data!C:C,Data!G:G,0)","v":0},{"$f":"_xlfn.XLOOKUP(C113,Data!C:C,Data!F:F,0)","v":0},{"$f":"_xlfn.XLOOKUP(C113,Data!C:C,Data!H:H,0)","v":0},null,"",{"$f":"_xlfn.XLOOKUP(C113,Data!C:C,Data!F:F,\"\")","v":""},null,{"$error":"#N/A"}]
["23-3-2021","01:51:00","2021-03-23T01:51:00",null,{"$f":"_xlfn.XLOOKUP(C114,Data!C:C,Data!I:I)","v":{"$error":"#N/A"}},{"$error":"#N/A"},{"$f":"_xlfn.XLOOKUP(C114,Data!C:C,Data!G:G,0)","v":0},{"$f":"_xlfn.XLOOKUP(C114,Data!C:C,Data!F:F,0)","v":0},{"$f":"_xlfn.XLOOKUP(C114,Data!C:C,Data!H:H,0)","v":0},null,"",{"$f":"_xlfn.XLOOKUP(C114,Data!C:C,Data!F:F,\"\")","v":""},null,{"$error":"#N/A"}]
["23-3-2021","01:52:00","2021-03-23T01:52:00",null,{"$f":"_xlfn.XLOOKUP(C115,Data!C:C,Data!I:I)","v":{"$error":"#N/A"}},{"$error":"#N/A"},{"$f":"_xlfn.XLOOKUP(C115,Data!C:C,Data!G:G,0)","v":0},{"$f":"_xlfn.XLOOKUP(C115,Data!C:C,Data!F:F,0)","v":0},{"$f":"_xlfn.XLOOKUP(C115,Data!C:C,Data!H:H,0)","v":0},null,"",{"$f":"_xlfn.XLOOKUP(C115,Data!C:C,Data!F:F,\"\")","v":""},null,{"$error":"#N/A"}]
["23-3-2021","01:53:00","2021-03-23T01:53:00",null,{"$f":"_xlfn.XLOOKUP(C116,Data!C:C,Data!I:I)","v":{"$error":"#N/A"}},{"$error":"#N/A"},{"$f":"_xlfn.XLOOKUP(C116,Data!C:C,Data!G:G,0)","v":0},{"$f":"_xlfn.XLOOKUP(C116,Data!C:C,Data!F:F,0)","v":0},{"$f":"_xlfn.XLOOKUP(C116,Data!C:C,Data!H:H,0)","v":0},null,"",{"$f":"_xlfn.XLOOKUP(C116,Data!C:C,Data!F:F,\"\")","v":""},null,{"$error":"#N/A"}]
["23-3-2021","01:54:00","2021-03-23T01:54:00",null,{"$f":"_xlfn.XLOOKUP(C117,Data!C:C,Data!I:I)","v":{"$error":"#N/A"}},{"$error":"#N/A"},{"$f":"_xlfn.XLOOKUP(C117,Data!C:C,Data!G:G,0)","v":0},{"$f":"_xlfn.XLOOKUP(C117,Data!C:C,Data!F:F,0)","v":0},{"$f":"_xlfn.XLOOKUP(C117,Data!C:C,Data!H:H,0)","v":0},null,"",{"$f":"_xlfn.XLOOKUP(C117,Data!C:C,Data!F:F,\"\")","v":""},null,{"$error":"#N/A"}]
["23-3-2021","01:55:00","2021-03-23T01:55:00",null,{"$f":"_xlfn.XLOOKUP(C118,Data!C:C,Data!I:I)","v":{"$error":"#N/A"}},{"$error":"#N/A"},{"$f":"_xlfn.XLOOKUP(C118,Data!C:C,Data!G:G,0)","v":0},{"$f":"_xlfn.XLOOKUP(C118,Data!C:C,Data!F:F,0)","v":0},{"$f":"_xlfn.XLOOKUP(C118,Data!C:C,Data!H:H,0)","v":0},null,"",{"$f":"_xlfn.XLOOKUP(C118,Data!C:C,Data!F:F,\"\")","v":""},null,{"$error":"#N/A"}]
["23-3-2021","01:56:00","2021-03-23T01:56:00",null,{"$f":"_xlfn.XLOOKUP(C119,Data!C:C,Data!I:I)","v":{"$error":"#N/A"}},{"$error":"#N/A"},{"$f":"_xlfn.XLOOKUP(C119,Data!C:C,Data!G:G,0)","v":0},{"$f":"_xlfn.XLOOKUP(C119,Data!C:C,Data!F:F,0)","v":0},{"$f":"_xlfn.XLOOKUP(C119,Data!C:C,Data!H:H,0)","v":0},null,"",{"$f":"_xlfn.XLOOKUP(C119,Data!C:C,Data!F:F,\"\")","v":""},null,{"$error":"#N/A"}]
["23-3-2021","01:57:00","2021-03-23T01:57:00",null,{"$f":"_xlfn.XLOOKUP(C120,Data!C:C,Data!I:I)","v":{"$error":"#N/A"}},{"$error":"#N/A"},{"$f":"_xlfn.XLOOKUP(C120,Data!C:C,Data!G:G,0)","v":0},{"$f":"_xlfn.XLOOKUP(C120,Data!C:C,Data!F:F,0)","v":0},{"$f":"_xlfn.XLOOKUP(C120,Data!C:C,Data!H:H,0)","v":0},null,"",{"$f":"_xlfn.XLOOKUP(C120,Data!C:C,Data!F:F,\"\")","v":""},null,{"$error":"#N/A"}]
["23-3-2021","01:58:00","2021-03-23T01:58:00",null,{"$f":"_xlfn.XLOOKUP(C121,Data!C:C,Data!I:I)","v":{"$error":"#N/A"}},{"$error":"#N/A"},{"$f":"_xlfn.XLOOKUP(C121,Data!C:C,Data!G:G,0)","v":0},{"$f":"_xlfn.XLOOKUP(C121,Data!C:C,Data!F:F,0)","v":0},{"$f":"_xlfn.XLOOKUP(C121,Data!C:C,Data!H:H,0)","v":0},null,"",{"$f":"_xlfn.XLOOKUP(C121,Data!C:C,Data!F:F,\"\")","v":""},null,{"$error":"#N/A"}]
["23-3-2021","01:59:00","2021-03-23T01:59:00",null,{"$f":"_xlfn.XLOOKUP(C122,Data!C:C,Data!I:I)","v":{"$error":"#N/A"}},{"$error":"#N/A"},{"$f":"_xlfn.XLOOKUP(C122,Data!C:C,Data!G:G,0)","v":0},{"$f":"_xlfn.XLOOKUP(C122,Data!C:C,Data!F:F,0)","v":0},{"$f":"_xlfn.XLOOKUP(C122,Data!C:C,Data!H:H,0)","v":0},null,"",{"$f":"_xlfn.XLOOKUP(C122,Data!C:C,Data!F:F,\"\")","v":""},null,{"$error":"#N/A"}]
["23-3-2021","02:00:00","2021-03-23T02:00:00",null,{"$f":"_xlfn.XLOOKUP(C123,Data!C:C,Data!I:I)","v":{"$error":"#N/A"}},{"$error":"#N/A"},{"$f":"_xlfn.XLOOKUP(C123,Data!C:C,Data!G:G,0)","v":0},{"$f":"_xlfn.XLOOKUP(C123,Data!C:C,Data!F:F,0)","v":0},{"$f":"_xlfn.XLOOKUP(C123,Data!C:C,Data!H:H,0)","v":0},null,"",{"$f":"_xlfn.XLOOKUP(C123,Data!C:C,Data!F:F,\"\")","v":""},null,{"$error":"#N/A"}]
["23-3-2021","02:01:00","2021-03-23T02:01:00",null,{"$f":"_xlfn.XLOOKUP(C124,Data!C:C,Data!I:I)","v":{"$error":"#N/A"}},{"$error":"#N/A"},{"$f":"_xlfn.XLOOKUP(C124,Data!C:C,Data!G:G,0)","v":0},{"$f":"_xlfn.XLOOKUP(C124,Data!C:C,Data!F:F,0)","v":0},{"$f":"_xlfn.XLOOKUP(C124,Data!C:C,Data!H:H,0)","v":0},null,"",{"$f":"_xlfn.XLOOKUP(C124,Data!C:C,Data!F:F,\"\")","v":""},null,{"$error":"#N/A"}]
["23-3-2021","02:02:00","2021-03-23T02:02:00",null,{"$f":"_xlfn.XLOOKUP(C125,Data!C:C,Data!I:I)","v":{"$error":"#N/A"}},{"$error":"#N/A"},{"$f":"_xlfn.XLOOKUP(C125,Data!C:C,Data!G:G,0)","v":0},{"$f":"_xlfn.XLOOKUP(C125,Data!C:C,Data!F:F,0)","v":0},{"$f":"_xlfn.XLOOKUP(C125,Data!C:C,Data!H:H,0)","v":0},null,"",{"$f":"_xlfn.XLOOKUP(C125,Data!C:C,Data!F:F,\"\")","v":""},null,{"$error":"#N/A"}]
["23-3-2021","02:03:00","2021-03-23T02:03:00",null,{"$f":"_xlfn.XLOOKUP(C126,Data!C:C,Data!I:I)","v":{"$error":"#N/A"}},{"$error":"#N/A"},{"$f":"_xlfn.XLOOKUP(C126,Data!C:C,Data!G:G,0)","v":0},{"$f":"_xlfn.XLOOKUP(C126,Data!C:C,Data!F:F,0)","v":0},{"$f":"_xlfn.XLOOKUP(C126,Data!C:C,Data!H:H,0)","v":0},null,"",{"$f":"_xlfn.XLOOKUP(C126,Data!C:C,Data!F:F,\"\")","v":""},null,{"$error":"#N/A"}]
["23-3-2021","02:04:00","2021-03-23T02:04:00",null,{"$f":"_xlfn.XLOOKUP(C127,Data!C:C,Data!I:I)","v":{"$error":"#N/A"}},{"$error":"#N/A"},{"$f":"_xlfn.XLOOKUP(C127,Data!C:C,Data!G:G,0)","v":0},{"$f":"_xlfn.XLOOKUP(C127,Data!C:C,Data!F:F,0)","v":0},{"$f":"_xlfn.XLOOKUP(C127,Data!C:C,Data!H:H,0)","v":0},null,"",{"$f":"_xlfn.XLOOKUP(C127,Data!C:C,Data!F:F,\"\")","v":""},null,{"$error":"#N/A"}]
["23-3-2021","02:05:00","2021-03-23T02:05:00",null,{"$f":"_xlfn.XLOOKUP(C128,Data!C:C,Data!I:I)","v":{"$error":"#N/A"}},{"$error":"#N/A"},{"$f":"_xlfn.XLOOKUP(C128,Data!C:C,Data!G:G,0)","v":0},{"$f":"_xlfn.XLOOKUP(C128,Data!C:C,Data!F:F,0)","v":0},{"$f":"_xlfn.XLOOKUP(C128,Data!C:C,Data!H:H,0)","v":0},null,"",{"$f":"_xlfn.XLOOKUP(C128,Data!C:C,Data!F:F,\"\")","v":""},null,{"$error":"#N/A"}]
["23-3-2021","02:06:00","2021-03-23T02:06:00",null,{"$f":"_xlfn.XLOOKUP(C129,Data!C:C,Data!I:I)","v":{"$error":"#N/A"}},{"$error":"#N/A"},{"$f":"_xlfn.XLOOKUP(C129,Data!C:C,Data!G:G,0)","v":0},{"$f":"_xlfn.XLOOKUP(C129,Data!C:C,Data!F:F,0)","v":0},{"$f":"_xlfn.XLOOKUP(C129,Data!C:C,Data!H:H,0)","v":0},null,"",{"$f":"_xlfn.XLOOKUP(C129,Data!C:C,Data!F:F,\"\")","v":""},null,{"$error":"#N/A"}]
["23-3-2021","02:07:00","2021-03-23T02:07:00",null,{"$f":"_xlfn.XLOOKUP(C130,Data!C:C,Data!I:I)","v":{"$error":"#N/A"}},{"$error":"#N/A"},{"$f":"_xlfn.XLOOKUP(C130,Data!C:C,Data!G:G,0)","v":0},{"$f":"_xlfn.XLOOKUP(C130,Data!C:C,Data!F:F,0)","v":0},{"$f":"_xlfn.XLOOKUP(C130,Data!C:C,Data!H:H,0)","v":0},null,"",{"$f":"_xlfn.XLOOKUP(C130,Data!C:C,Data!F:F,\"\")","v":""},null,{"$error":"#N/A"}]
["23-3-2021","02:08:00",{"$f":"A131+B131","v":"2021-03-23T02:08:00"},null,{"$f":"_xlfn.XLOOKUP(C131,Data!C:C,Data!I:I)","v":{"$error":"#N/A"}},{"$error":"#N/A"},{"$f":"_xlfn.XLOOKUP(C131,Data!C:C,Data!G:G,0)","v":0},{"$f":"_xlfn.XLOOKUP(C131,Data!C:C,Data!F:F,0)","v":0},{"$f":"_xlfn.XLOOKUP(C131,Data!C:C,Data!H:H,0)","v":0},null,"",{"$f":"_xlfn.XLOOKUP(C131,Data!C:C,Data!F:F,\"\")","v":""},null,{"$error":"#N/A"}]
[{"$f":"$A$3","v":"23-3-2021"},"02:09:00","2021-03-23T02:09:00",null,{"$f":"_xlfn.XLOOKUP(C132,Data!C:C,Data!I:I)","v":{"$error":"#N/A"}},{"$f":"IF(E132=255,F131,E132)","v":{"$error":"#N/A"}},{"$f":"_xlfn.XLOOKUP(C132,Data!C:C,Data!G:G,0)","v":0},{"$f":"_xlfn.XLOOKUP(C132,Data!C:C,Data!F:F,0)","v":0},{"$f":"_xlfn.XLOOKUP(C132,Data!C:C,Data!H:H,0)","v":0},null,{"$f":"IFERROR(IF(F132=\"#N/A\",\"\",F132),\"\")","v":""},{"$f":"_xlfn.XLOOKUP(C132,Data!C:C,Data!F:F,\"\")","v":""},null,{"$error":"#N/A"}]
["23-3-2021","02:10:00","2021-03-23T02:10:00",null,{"$f":"_xlfn.XLOOKUP(C133,Data!C:C,Data!I:I)","v":{"$error":"#N/A"}},{"$error":"#N/A"},{"$f":"_xlfn.XLOOKUP(C133,Data!C:C,Data!G:G,0)","v":0},{"$f":"_xlfn.XLOOKUP(C133,Data!C:C,Data!F:F,0)","v":0},{"$f":"_xlfn.XLOOKUP(C133,Data!C:C,Data!H:H,0)","v":0},null,"",{"$f":"_xlfn.XLOOKUP(C133,Data!C:C,Data!F:F,\"\")","v":""},null,{"$error":"#N/A"}]
["23-3-2021","02:11:00","2021-03-23T02:11:00",null,{"$f":"_xlfn.XLOOKUP(C134,Data!C:C,Data!I:I)","v":{"$error":"#N/A"}},{"$error":"#N/A"},{"$f":"_xlfn.XLOOKUP(C134,Data!C:C,Data!G:G,0)","v":0},{"$f":"_xlfn.XLOOKUP(C134,Data!C:C,Data!F:F,0)","v":0},{"$f":"_xlfn.XLOOKUP(C134,Data!C:C,Data!H:H,0)","v":0},null,"",{"$f":"_xlfn.XLOOKUP(C134,Data!C:C,Data!F:F,\"\")","v":""},null,{"$error":"#N/A"}]
["23-3-2021","02:12:00","2021-03-23T02:12:00",null,{"$f":"_xlfn.XLOOKUP(C135,Data!C:C,Data!I:I)","v":{"$error":"#N/A"}},{"$error":"#N/A"},{"$f":"_xlfn.XLOOKUP(C135,Data!C:C,Data!G:G,0)","v":0},{"$f":"_xlfn.XLOOKUP(C135,Data!C:C,Data!F:F,0)","v":0},{"$f":"_xlfn.XLOOKUP(C135,Data!C:C,Data!H:H,0)","v":0},null,"",{"$f":"_xlfn.XLOOKUP(C135,Data!C:C,Data!F:F,\"\")","v":""},null,{"$f":"IF(F135=\"\",\"\",AVERAGE(F131:F139))","v":{"$error":"#N/A"}}]
["23-3-2021","02:13:00","2021-03-23T02:13:00",null,{"$f":"_xlfn.XLOOKUP(C136,Data!C:C,Data!I:I)","v":{"$error":"#N/A"}},{"$error":"#N/A"},{"$f":"_xlfn.XLOOKUP(C136,Data!C:C,Data!G:G,0)","v":0},{"$f":"_xlfn.XLOOKUP(C136,Data!C:C,Data!F:F,0)","v":0},{"$f":"_xlfn.XLOOKUP(C136,Data!C:C,Data!H:H,0)","v":0},null,"",{"$f":"_xlfn.XLOOKUP(C136,Data!C:C,Data!F:F,\"\")","v":""},null,{"$error":"#N/A"}]
["23-3-2021","02:14:00","2021-03-23T02:14:00",null,{"$f":"_xlfn.XLOOKUP(C137,Data!C:C,Data!I:I)","v":{"$error":"#N/A"}},{"$error":"#N/A"},{"$f":"_xlfn.XLOOKUP(C137,Data!C:C,Data!G:G,0)","v":0},{"$f":"_xlfn.XLOOKUP(C137,Data!C:C,Data!F:F,0)","v":0},{"$f":"_xlfn.XLOOKUP(C137,Data!C:C,Data!H:H,0)","v":0},null,"",{"$f":"_xlfn.XLOOKUP(C137,Data!C:C,Data!F:F,\"\")","v":""},null,{"$error":"#N/A"}]
["23-3-2021","02:15:00","2021-03-23T02:15:00",null,{"$f":"_xlfn.XLOOKUP(C138,Data!C:C,Data!I:I)","v":{"$error":"#N/A"}},{"$error":"#N/A"},{"$f":"_xlfn.XLOOKUP(C138,Data!C:C,Data!G:G,0)","v":0},{"$f":"_xlfn.XLOOKUP(C138,Data!C:C,Data!F:F,0)","v":0},{"$f":"_xlfn.XLOOKUP(C138,Data!C:C,Data!H:H,0)","v":0},null,"",{"$f":"_xlfn.XLOOKUP(C138,Data!C:C,Data!F:F,\"\")","v":""},null,{"$error":"#N/A"}]
["23-3-2021","02:16:00","2021-03-23T02:16:00",null,{"$f":"_xlfn.XLOOKUP(C139,Data!C:C,Data!I:I)","v":{"$error":"#N/A"}},{"$error":"#N/A"},{"$f":"_xlfn.XLOOKUP(C139,Data!C:C,Data!G:G,0)","v":0},{"$f":"_xlfn.XLOOKUP(C139,Data!C:C,Data!F:F,0)","v":0},{"$f":"_xlfn.XLOOKUP(C139,Data!C:C,Data!H:H,0)","v":0},null,"",{"$f":"_xlfn.XLOOKUP(C139,Data!C:C,Data!F:F,\"\")","v":""},null,{"$error":"#N/A"}]
["23-3-2021","02:17:00","2021-03-23T02:17:00",null,{"$f":"_xlfn.XLOOKUP(C140,Data!C:C,Data!I:I)","v":{"$error":"#N/A"}},{"$error":"#N/A"},{"$f":"_xlfn.XLOOKUP(C140,Data!C:C,Data!G:G,0)","v":0},{"$f":"_xlfn.XLOOKUP(C140,Data!C:C,Data!F:F,0)","v":0},{"$f":"_xlfn.XLOOKUP(C140,Data!C:C,Data!H:H,0)","v":0},null,"",{"$f":"_xlfn.XLOOKUP(C140,Data!C:C,Data!F:F,\"\")","v":""},null,{"$error":"#N/A"}]
["23-3-2021","02:18:00","2021-03-23T02:18:00",null,{"$f":"_xlfn.XLOOKUP(C141,Data!C:C,Data!I:I)","v":{"$error":"#N/A"}},{"$error":"#N/A"},{"$f":"_xlfn.XLOOKUP(C141,Data!C:C,Data!G:G,0)","v":0},{"$f":"_xlfn.XLOOKUP(C141,Data!C:C,Data!F:F,0)","v":0},{"$f":"_xlfn.XLOOKUP(C141,Data!C:C,Data!H:H,0)","v":0},null,"",{"$f":"_xlfn.XLOOKUP(C141,Data!C:C,Data!F:F,\"\")","v":""},null,{"$error":"#N/A"}]
["23-3-2021","02:19:00","2021-03-23T02:19:00",null,{"$f":"_xlfn.XLOOKUP(C142,Data!C:C,Data!I:I)","v":{"$error":"#N/A"}},{"$error":"#N/A"},{"$f":"_xlfn.XLOOKUP(C142,Data!C:C,Data!G:G,0)","v":0},{"$f":"_xlfn.XLOOKUP(C142,Data!C:C,Data!F:F,0)","v":0},{"$f":"_xlfn.XLOOKUP(C142,Data!C:C,Data!H:H,0)","v":0},null,"",{"$f":"_xlfn.XLOOKUP(C142,Data!C:C,Data!F:F,\"\")","v":""},null,{"$error":"#N/A"}]
["23-3-2021","02:20:00","2021-03-23T02:20:00",null,{"$f":"_xlfn.XLOOKUP(C143,Data!C:C,Data!I:I)","v":{"$error":"#N/A"}},{"$error":"#N/A"},{"$f":"_xlfn.XLOOKUP(C143,Data!C:C,Data!G:G,0)","v":0},{"$f":"_xlfn.XLOOKUP(C143,Data!C:C,Data!F:F,0)","v":0},{"$f":"_xlfn.XLOOKUP(C143,Data!C:C,Data!H:H,0)","v":0},null,"",{"$f":"_xlfn.XLOOKUP(C143,Data!C:C,Data!F:F,\"\")","v":""},null,{"$error":"#N/A"}]
["23-3-2021","02:21:00","2021-03-23T02:21:00",null,{"$f":"_xlfn.XLOOKUP(C144,Data!C:C,Data!I:I)","v":{"$error":"#N/A"}},{"$error":"#N/A"},{"$f":"_xlfn.XLOOKUP(C144,Data!C:C,Data!G:G,0)","v":0},{"$f":"_xlfn.XLOOKUP(C144,Data!C:C,Data!F:F,0)","v":0},{"$f":"_xlfn.XLOOKUP(C144,Data!C:C,Data!H:H,0)","v":0},null,"",{"$f":"_xlfn.XLOOKUP(C144,Data!C:C,Data!F:F,\"\")","v":""},null,{"$error":"#N/A"}]
["23-3-2021","02:22:00","2021-03-23T02:22:00",null,{"$f":"_xlfn.XLOOKUP(C145,Data!C:C,Data!I:I)","v":{"$error":"#N/A"}},{"$error":"#N/A"},{"$f":"_xlfn.XLOOKUP(C145,Data!C:C,Data!G:G,0)","v":0},{"$f":"_xlfn.XLOOKUP(C145,Data!C:C,Data!F:F,0)","v":0},{"$f":"_xlfn.XLOOKUP(C145,Data!C:C,Data!H:H,0)","v":0},null,"",{"$f":"_xlfn.XLOOKUP(C145,Data!C:C,Data!F:F,\"\")","v":""},null,{"$error":"#N/A"}]
["23-3-2021","02:23:00","2021-03-23T02:23:00",null,{"$f":"_xlfn.XLOOKUP(C146,Data!C:C,Data!I:I)","v":{"$error":"#N/A"}},{"$error":"#N/A"},{"$f":"_xlfn.XLOOKUP(C146,Data!C:C,Data!G:G,0)","v":0},{"$f":"_xlfn.XLOOKUP(C146,Data!C:C,Data!F:F,0)","v":0},{"$f":"_xlfn.XLOOKUP(C146,Data!C:C,Data!H:H,0)","v":0},null,"",{"$f":"_xlfn.XLOOKUP(C146,Data!C:C,Data!F:F,\"\")","v":""},null,{"$error":"#N/A"}]
["23-3-2021","02:24:00","2021-03-23T02:24:00",null,{"$f":"_xlfn.XLOOKUP(C147,Data!C:C,Data!I:I)","v":{"$error":"#N/A"}},{"$error":"#N/A"},{"$f":"_xlfn.XLOOKUP(C147,Data!C:C,Data!G:G,0)","v":0},{"$f":"_xlfn.XLOOKUP(C147,Data!C:C,Data!F:F,0)","v":0},{"$f":"_xlfn.XLOOKUP(C147,Data!C:C,Data!H:H,0)","v":0},null,"",{"$f":"_xlfn.XLOOKUP(C147,Data!C:C,Data!F:F,\"\")","v":""},null,{"$error":"#N/A"}]
["23-3-2021","02:25:00","2021-03-23T02:25:00",null,{"$f":"_xlfn.XLOOKUP(C148,Data!C:C,Data!I:I)","v":{"$error":"#N/A"}},{"$error":"#N/A"},{"$f":"_xlfn.XLOOKUP(C148,Data!C:C,Data!G:G,0)","v":0},{"$f":"_xlfn.XLOOKUP(C148,Data!C:C,Data!F:F,0)","v":0},{"$f":"_xlfn.XLOOKUP(C148,Data!C:C,Data!H:H,0)","v":0},null,"",{"$f":"_xlfn.XLOOKUP(C148,Data!C:C,Data!F:F,\"\")","v":""},null,{"$error":"#N/A"}]
["23-3-2021","02:26:00","2021-03-23T02:26:00",null,{"$f":"_xlfn.XLOOKUP(C149,Data!C:C,Data!I:I)","v":{"$error":"#N/A"}},{"$error":"#N/A"},{"$f":"_xlfn.XLOOKUP(C149,Data!C:C,Data!G:G,0)","v":0},{"$f":"_xlfn.XLOOKUP(C149,Data!C:C,Data!F:F,0)","v":0},{"$f":"_xlfn.XLOOKUP(C149,Data!C:C,Data!H:H,0)","v":0},null,"",{"$f":"_xlfn.XLOOKUP(C149,Data!C:C,Data!F:F,\"\")","v":""},null,{"$error":"#N/A"}]
["23-3-2021","02:27:00","2021-03-23T02:27:00",null,{"$f":"_xlfn.XLOOKUP(C150,Data!C:C,Data!I:I)","v":{"$error":"#N/A"}},{"$error":"#N/A"},{"$f":"_xlfn.XLOOKUP(C150,Data!C:C,Data!G:G,0)","v":0},{"$f":"_xlfn.XLOOKUP(C150,Data!C:C,Data!F:F,0)","v":0},{"$f":"_xlfn.XLOOKUP(C150,Data!C:C,Data!H:H,0)","v":0},null,"",{"$f":"_xlfn.XLOOKUP(C150,Data!C:C,Data!F:F,\"\")","v":""},null,{"$error":"#N/A"}]
["23-3-2021","02:28:00","2021-03-23T02:28:00",null,{"$f":"_xlfn.XLOOKUP(C151,Data!C:C,Data!I:I)","v":{"$error":"#N/A"}},{"$error":"#N/A"},{"$f":"_xlfn.XLOOKUP(C151,Data!C:C,Data!G:G,0)","v":0},{"$f":"_xlfn.XLOOKUP(C151,Data!C:C,Data!F:F,0)","v":0},{"$f":"_xlfn.XLOOKUP(C151,Data!C:C,Data!H:H,0)","v":0},null,"",{"$f":"_xlfn.XLOOKUP(C151,Data!C:C,Data!F:F,\"\")","v":""},null,{"$error":"#N/A"}]
["23-3-2021","02:29:00","2021-03-23T02:29:00",null,{"$f":"_xlfn.XLOOKUP(C152,Data!C:C,Data!I:I)","v":{"$error":"#N/A"}},{"$error":"#N/A"},{"$f":"_xlfn.XLOOKUP(C152,Data!C:C,Data!G:G,0)","v":0},{"$f":"_xlfn.XLOOKUP(C152,Data!C:C,Data!F:F,0)","v":0},{"$f":"_xlfn.XLOOKUP(C152,Data!C:C,Data!H:H,0)","v":0},null,"",{"$f":"_xlfn.XLOOKUP(C152,Data!C:C,Data!F:F,\"\")","v":""},null,{"$error":"#N/A"}]
["23-3-2021","02:30:00","2021-03-23T02:30:00",null,{"$f":"_xlfn.XLOOKUP(C153,Data!C:C,Data!I:I)","v":{"$error":"#N/A"}},{"$error":"#N/A"},{"$f":"_xlfn.XLOOKUP(C153,Data!C:C,Data!G:G,0)","v":0},{"$f":"_xlfn.XLOOKUP(C153,Data!C:C,Data!F:F,0)","v":0},{"$f":"_xlfn.XLOOKUP(C153,Data!C:C,Data!H:H,0)","v":0},null,"",{"$f":"_xlfn.XLOOKUP(C153,Data!C:C,Data!F:F,\"\")","v":""},null,{"$error":"#N/A"}]
["23-3-2021","02:31:00","2021-03-23T02:31:00",null,{"$f":"_xlfn.XLOOKUP(C154,Data!C:C,Data!I:I)","v":{"$error":"#N/A"}},{"$error":"#N/A"},{"$f":"_xlfn.XLOOKUP(C154,Data!C:C,Data!G:G,0)","v":0},{"$f":"_xlfn.XLOOKUP(C154,Data!C:C,Data!F:F,0)","v":0},{"$f":"_xlfn.XLOOKUP(C154,Data!C:C,Data!H:H,0)","v":0},null,"",{"$f":"_xlfn.XLOOKUP(C154,Data!C:C,Data!F:F,\"\")","v":""},null,{"$error":"#N/A"}]
["23-3-2021","02:32:00","2021-03-23T02:32:00",null,{"$f":"_xlfn.XLOOKUP(C155,Data!C:C,Data!I:I)","v":{"$error":"#N/A"}},{"$error":"#N/A"},{"$f":"_xlfn.XLOOKUP(C155,Data!C:C,Data!G:G,0)","v":0},{"$f":"_xlfn.XLOOKUP(C155,Data!C:C,Data!F:F,0)","v":0},{"$f":"_xlfn.XLOOKUP(C155,Data!C:C,Data!H:H,0)","v":0},null,"",{"$f":"_xlfn.XLOOKUP(C155,Data!C:C,Data!F:F,\"\")","v":""},null,{"$error":"#N/A"}]
["23-3-2021","02:33:00","2021-03-23T02:33:00",null,{"$f":"_xlfn.XLOOKUP(C156,Data!C:C,Data!I:I)","v":{"$error":"#N/A"}},{"$error":"#N/A"},{"$f":"_xlfn.XLOOKUP(C156,Data!C:C,Data!G:G,0)","v":0},{"$f":"_xlfn.XLOOKUP(C156,Data!C:C,Data!F:F,0)","v":0},{"$f":"_xlfn.XLOOKUP(C156,Data!C:C,Data!H:H,0)","v":0},null,"",{"$f":"_xlfn.XLOOKUP(C156,Data!C:C,Data!F:F,\"\")","v":""},null,{"$error":"#N/A"}]
["23-3-2021","02:34:00","2021-03-23T02:34:00",null,{"$f":"_xlfn.XLOOKUP(C157,Data!C:C,Data!I:I)","v":{"$error":"#N/A"}},{"$error":"#N/A"},{"$f":"_xlfn.XLOOKUP(C157,Data!C:C,Data!G:G,0)","v":0},{"$f":"_xlfn.XLOOKUP(C157,Data!C:C,Data!F:F,0)","v":0},{"$f":"_xlfn.XLOOKUP(C157,Data!C:C,Data!H:H,0)","v":0},null,"",{"$f":"_xlfn.XLOOKUP(C157,Data!C:C,Data!F:F,\"\")","v":""},null,{"$error":"#N/A"}]
["23-3-2021","02:35:00","2021-03-23T02:35:00",null,{"$f":"_xlfn.XLOOKUP(C158,Data!C:C,Data!I:I)","v":{"$error":"#N/A"}},{"$error":"#N/A"},{"$f":"_xlfn.XLOOKUP(C158,Data!C:C,Data!G:G,0)","v":0},{"$f":"_xlfn.XLOOKUP(C158,Data!C:C,Data!F:F,0)","v":0},{"$f":"_xlfn.XLOOKUP(C158,Data!C:C,Data!H:H,0)","v":0},null,"",{"$f":"_xlfn.XLOOKUP(C158,Data!C:C,Data!F:F,\"\")","v":""},null,{"$error":"#N/A"}]
["23-3-2021","02:36:00","2021-03-23T02:36:00",null,{"$f":"_xlfn.XLOOKUP(C159,Data!C:C,Data!I:I)","v":{"$error":"#N/A"}},{"$error":"#N/A"},{"$f":"_xlfn.XLOOKUP(C159,Data!C:C,Data!G:G,0)","v":0},{"$f":"_xlfn.XLOOKUP(C159,Data!C:C,Data!F:F,0)","v":0},{"$f":"_xlfn.XLOOKUP(C159,Data!C:C,Data!H:H,0)","v":0},null,"",{"$f":"_xlfn.XLOOKUP(C159,Data!C:C,Data!F:F,\"\")","v":""},null,{"$error":"#N/A"}]
["23-3-2021","02:37:00","2021-03-23T02:37:00",null,{"$f":"_xlfn.XLOOKUP(C160,Data!C:C,Data!I:I)","v":{"$error":"#N/A"}},{"$error":"#N/A"},{"$f":"_xlfn.XLOOKUP(C160,Data!C:C,Data!G:G,0)","v":0},{"$f":"_xlfn.XLOOKUP(C160,Data!C:C,Data!F:F,0)","v":0},{"$f":"_xlfn.XLOOKUP(C160,Data!C:C,Data!H:H,0)","v":0},null,"",{"$f":"_xlfn.XLOOKUP(C160,Data!C:C,Data!F:F,\"\")","v":""},null,{"$error":"#N/A"}]
["23-3-2021","02:38:00","2021-03-23T02:38:00",null,{"$f":"_xlfn.XLOOKUP(C161,Data!C:C,Data!I:I)","v":{"$error":"#N/A"}},{"$error":"#N/A"},{"$f":"_xlfn.XLOOKUP(C161,Data!C:C,Data!G:G,0)","v":0},{"$f":"_xlfn.XLOOKUP(C161,Data!C:C,Data!F:F,0)","v":0},{"$f":"_xlfn.XLOOKUP(C161,Data!C:C,Data!H:H,0)","v":0},null,"",{"$f":"_xlfn.XLOOKUP(C161,Data!C:C,Data!F:F,\"\")","v":""},null,{"$error":"#N/A"}]
["23-3-2021","02:39:00","2021-03-23T02:39:00",null,{"$f":"_xlfn.XLOOKUP(C162,Data!C:C,Data!I:I)","v":{"$error":"#N/A"}},{"$error":"#N/A"},{"$f":"_xlfn.XLOOKUP(C162,Data!C:C,Data!G:G,0)","v":0},{"$f":"_xlfn.XLOOKUP(C162,Data!C:C,Data!F:F,0)","v":0},{"$f":"_xlfn.XLOOKUP(C162,Data!C:C,Data!H:H,0)","v":0},null,"",{"$f":"_xlfn.XLOOKUP(C162,Data!C:C,Data!F:F,\"\")","v":""},null,{"$error":"#N/A"}]
["23-3-2021","02:40:00","2021-03-23T02:40:00",null,{"$f":"_xlfn.XLOOKUP(C163,Data!C:C,Data!I:I)","v":{"$error":"#N/A"}},{"$error":"#N/A"},{"$f":"_xlfn.XLOOKUP(C163,Data!C:C,Data!G:G,0)","v":0},{"$f":"_xlfn.XLOOKUP(C163,Data!C:C,Data!F:F,0)","v":0},{"$f":"_xlfn.XLOOKUP(C163,Data!C:C,Data!H:H,0)","v":0},null,"",{"$f":"_xlfn.XLOOKUP(C163,Data!C:C,Data!F:F,\"\")","v":""},null,{"$error":"#N/A"}]
["23-3-2021","02:41:00","2021-03-23T02:41:00",null,{"$f":"_xlfn.XLOOKUP(C164,Data!C:C,Data!I:I)","v":{"$error":"#N/A"}},{"$error":"#N/A"},{"$f":"_xlfn.XLOOKUP(C164,Data!C:C,Data!G:G,0)","v":0},{"$f":"_xlfn.XLOOKUP(C164,Data!C:C,Data!F:F,0)","v":0},{"$f":"_xlfn.XLOOKUP(C164,Data!C:C,Data!H:H,0)","v":0},null,"",{"$f":"_xlfn.XLOOKUP(C164,Data!C:C,Data!F:F,\"\")","v":""},null,{"$error":"#N/A"}]
["23-3-2021","02:42:00","2021-03-23T02:42:00",null,{"$f":"_xlfn.XLOOKUP(C165,Data!C:C,Data!I:I)","v":{"$error":"#N/A"}},{"$error":"#N/A"},{"$f":"_xlfn.XLOOKUP(C165,Data!C:C,Data!G:G,0)","v":0},{"$f":"_xlfn.XLOOKUP(C165,Data!C:C,Data!F:F,0)","v":0},{"$f":"_xlfn.XLOOKUP(C165,Data!C:C,Data!H:H,0)","v":0},null,"",{"$f":"_xlfn.XLOOKUP(C165,Data!C:C,Data!F:F,\"\")","v":""},null,{"$error":"#N/A"}]
["23-3-2021","02:43:00","2021-03-23T02:43:00",null,{"$f":"_xlfn.XLOOKUP(C166,Data!C:C,Data!I:I)","v":{"$error":"#N/A"}},{"$error":"#N/A"},{"$f":"_xlfn.XLOOKUP(C166,Data!C:C,Data!G:G,0)","v":0},{"$f":"_xlfn.XLOOKUP(C166,Data!C:C,Data!F:F,0)","v":0},{"$f":"_xlfn.XLOOKUP(C166,Data!C:C,Data!H:H,0)","v":0},null,"",{"$f":"_xlfn.XLOOKUP(C166,Data!C:C,Data!F:F,\"\")","v":""},null,{"$error":"#N/A"}]
["23-3-2021","02:44:00","2021-03-23T02:44:00",null,{"$f":"_xlfn.XLOOKUP(C167,Data!C:C,Data!I:I)","v":{"$error":"#N/A"}},{"$error":"#N/A"},{"$f":"_xlfn.XLOOKUP(C167,Data!C:C,Data!G:G,0)","v":0},{"$f":"_xlfn.XLOOKUP(C167,Data!C:C,Data!F:F,0)","v":0},{"$f":"_xlfn.XLOOKUP(C167,Data!C:C,Data!H:H,0)","v":0},null,"",{"$f":"_xlfn.XLOOKUP(C167,Data!C:C,Data!F:F,\"\")","v":""},null,{"$error":"#N/A"}]
["23-3-2021","02:45:00","2021-03-23T02:45:00",null,{"$f":"_xlfn.XLOOKUP(C168,Data!C:C,Data!I:I)","v":{"$error":"#N/A"}},{"$error":"#N/A"},{"$f":"_xlfn.XLOOKUP(C168,Data!C:C,Data!G:G,0)","v":0},{"$f":"_xlfn.XLOOKUP(C168,Data!C:C,Data!F:F,0)","v":0},{"$f":"_xlfn.XLOOKUP(C168,Data!C:C,Data!H:H,0)","v":0},null,"",{"$f":"_xlfn.XLOOKUP(C168,Data!C:C,Data!F:F,\"\")","v":""},null,{"$error":"#N/A"}]
["23-3-2021","02:46:00","2021-03-23T02:46:00",null,{"$f":"_xlfn.XLOOKUP(C169,Data!C:C,Data!I:I)","v":{"$error":"#N/A"}},{"$error":"#N/A"},{"$f":"_xlfn.XLOOKUP(C169,Data!C:C,Data!G:G,0)","v":0},{"$f":"_xlfn.XLOOKUP(C169,Data!C:C,Data!F:F,0)","v":0},{"$f":"_xlfn.XLOOKUP(C169,Data!C:C,Data!H:H,0)","v":0},null,"",{"$f":"_xlfn.XLOOKUP(C169,Data!C:C,Data!F:F,\"\")","v":""},null,{"$error":"#N/A"}]
["23-3-2021","02:47:00","2021-03-23T02:47:00",null,{"$f":"_xlfn.XLOOKUP(C170,Data!C:C,Data!I:I)","v":{"$error":"#N/A"}},{"$error":"#N/A"},{"$f":"_xlfn.XLOOKUP(C170,Data!C:C,Data!G:G,0)","v":0},{"$f":"_xlfn.XLOOKUP(C170,Data!C:C,Data!F:F,0)","v":0},{"$f":"_xlfn.XLOOKUP(C170,Data!C:C,Data!H:H,0)","v":0},null,"",{"$f":"_xlfn.XLOOKUP(C170,Data!C:C,Data!F:F,\"\")","v":""},null,{"$error":"#N/A"}]
["23-3-2021","02:48:00","2021-03-23T02:48:00",null,{"$f":"_xlfn.XLOOKUP(C171,Data!C:C,Data!I:I)","v":{"$error":"#N/A"}},{"$error":"#N/A"},{"$f":"_xlfn.XLOOKUP(C171,Data!C:C,Data!G:G,0)","v":0},{"$f":"_xlfn.XLOOKUP(C171,Data!C:C,Data!F:F,0)","v":0},{"$f":"_xlfn.XLOOKUP(C171,Data!C:C,Data!H:H,0)","v":0},null,"",{"$f":"_xlfn.XLOOKUP(C171,Data!C:C,Data!F:F,\"\")","v":""},null,{"$error":"#N/A"}]
["23-3-2021","02:49:00","2021-03-23T02:49:00",null,{"$f":"_xlfn.XLOOKUP(C172,Data!C:C,Data!I:I)","v":{"$error":"#N/A"}},{"$error":"#N/A"},{"$f":"_xlfn.XLOOKUP(C172,Data!C:C,Data!G:G,0)","v":0},{"$f":"_xlfn.XLOOKUP(C172,Data!C:C,Data!F:F,0)","v":0},{"$f":"_xlfn.XLOOKUP(C172,Data!C:C,Data!H:H,0)","v":0},null,"",{"$f":"_xlfn.XLOOKUP(C172,Data!C:C,Data!F:F,\"\")","v":""},null,{"$error":"#N/A"}]
["23-3-2021","02:50:00","2021-03-23T02:50:00",null,{"$f":"_xlfn.XLOOKUP(C173,Data!C:C,Data!I:I)","v":{"$error":"#N/A"}},{"$error":"#N/A"},{"$f":"_xlfn.XLOOKUP(C173,Data!C:C,Data!G:G,0)","v":0},{"$f":"_xlfn.XLOOKUP(C173,Data!C:C,Data!F:F,0)","v":0},{"$f":"_xlfn.XLOOKUP(C173,Data!C:C,Data!H:H,0)","v":0},null,"",{"$f":"_xlfn.XLOOKUP(C173,Data!C:C,Data!F:F,\"\")","v":""},null,{"$error":"#N/A"}]
["23-3-2021","02:51:00","2021-03-23T02:51:00",null,{"$f":"_xlfn.XLOOKUP(C174,Data!C:C,Data!I:I)","v":{"$error":"#N/A"}},{"$error":"#N/A"},{"$f":"_xlfn.XLOOKUP(C174,Data!C:C,Data!G:G,0)","v":0},{"$f":"_xlfn.XLOOKUP(C174,Data!C:C,Data!F:F,0)","v":0},{"$f":"_xlfn.XLOOKUP(C174,Data!C:C,Data!H:H,0)","v":0},null,"",{"$f":"_xlfn.XLOOKUP(C174,Data!C:C,Data!F:F,\"\")","v":""},null,{"$error":"#N/A"}]
["23-3-2021","02:52:00","2021-03-23T02:52:00",null,{"$f":"_xlfn.XLOOKUP(C175,Data!C:C,Data!I:I)","v":{"$error":"#N/A"}},{"$error":"#N/A"},{"$f":"_xlfn.XLOOKUP(C175,Data!C:C,Data!G:G,0)","v":0},{"$f":"_xlfn.XLOOKUP(C175,Data!C:C,Data!F:F,0)","v":0},{"$f":"_xlfn.XLOOKUP(C175,Data!C:C,Data!H:H,0)","v":0},null,"",{"$f":"_xlfn.XLOOKUP(C175,Data!C:C,Data!F:F,\"\")","v":""},null,{"$error":"#N/A"}]
["23-3-2021","02:53:00","2021-03-23T02:53:00",null,{"$f":"_xlfn.XLOOKUP(C176,Data!C:C,Data!I:I)","v":{"$error":"#N/A"}},{"$error":"#N/A"},{"$f":"_xlfn.XLOOKUP(C176,Data!C:C,Data!G:G,0)","v":0},{"$f":"_xlfn.XLOOKUP(C176,Data!C:C,Data!F:F,0)","v":0},{"$f":"_xlfn.XLOOKUP(C176,Data!C:C,Data!H:H,0)","v":0},null,"",{"$f":"_xlfn.XLOOKUP(C176,Data!C:C,Data!F:F,\"\")","v":""},null,{"$error":"#N/A"}]
["23-3-2021","02:54:00","2021-03-23T02:54:00",null,{"$f":"_xlfn.XLOOKUP(C177,Data!C:C,Data!I:I)","v":{"$error":"#N/A"}},{"$error":"#N/A"},{"$f":"_xlfn.XLOOKUP(C177,Data!C:C,Data!G:G,0)","v":0},{"$f":"_xlfn.XLOOKUP(C177,Data!C:C,Data!F:F,0)","v":0},{"$f":"_xlfn.XLOOKUP(C177,Data!C:C,Data!H:H,0)","v":0},null,"",{"$f":"_xlfn.XLOOKUP(C177,Data!C:C,Data!F:F,\"\")","v":""},null,{"$error":"#N/A"}]
["23-3-2021","02:55:00","2021-03-23T02:55:00",null,{"$f":"_xlfn.XLOOKUP(C178,Data!C:C,Data!I:I)","v":{"$error":"#N/A"}},{"$error":"#N/A"},{"$f":"_xlfn.XLOOKUP(C178,Data!C:C,Data!G:G,0)","v":0},{"$f":"_xlfn.XLOOKUP(C178,Data!C:C,Data!F:F,0)","v":0},{"$f":"_xlfn.XLOOKUP(C178,Data!C:C,Data!H:H,0)","v":0},null,"",{"$f":"_xlfn.XLOOKUP(C178,Data!C:C,Data!F:F,\"\")","v":""},null,{"$error":"#N/A"}]
["23-3-2021","02:56:00","2021-03-23T02:56:00",null,{"$f":"_xlfn.XLOOKUP(C179,Data!C:C,Data!I:I)","v":{"$error":"#N/A"}},{"$error":"#N/A"},{"$f":"_xlfn.XLOOKUP(C179,Data!C:C,Data!G:G,0)","v":0},{"$f":"_xlfn.XLOOKUP(C179,Data!C:C,Data!F:F,0)","v":0},{"$f":"_xlfn.XLOOKUP(C179,Data!C:C,Data!H:H,0)","v":0},null,"",{"$f":"_xlfn.XLOOKUP(C179,Data!C:C,Data!F:F,\"\")","v":""},null,{"$error":"#N/A"}]
["23-3-2021","02:57:00","2021-03-23T02:57:00",null,{"$f":"_xlfn.XLOOKUP(C180,Data!C:C,Data!I:I)","v":{"$error":"#N/A"}},{"$error":"#N/A"},{"$f":"_xlfn.XLOOKUP(C180,Data!C:C,Data!G:G,0)","v":0},{"$f":"_xlfn.XLOOKUP(C180,Data!C:C,Data!F:F,0)","v":0},{"$f":"_xlfn.XLOOKUP(C180,Data!C:C,Data!H:H,0)","v":0},null,"",{"$f":"_xlfn.XLOOKUP(C180,Data!C:C,Data!F:F,\"\")","v":""},null,{"$error":"#N/A"}]
["23-3-2021","02:58:00","2021-03-23T02:58:00",null,{"$f":"_xlfn.XLOOKUP(C181,Data!C:C,Data!I:I)","v":{"$error":"#N/A"}},{"$error":"#N/A"},{"$f":"_xlfn.XLOOKUP(C181,Data!C:C,Data!G:G,0)","v":0},{"$f":"_xlfn.XLOOKUP(C181,Data!C:C,Data!F:F,0)","v":0},{"$f":"_xlfn.XLOOKUP(C181,Data!C:C,Data!H:H,0)","v":0},null,"",{"$f":"_xlfn.XLOOKUP(C181,Data!C:C,Data!F:F,\"\")","v":""},null,{"$error":"#N/A"}]
["23-3-2021","02:59:00","2021-03-23T02:59:00",null,{"$f":"_xlfn.XLOOKUP(C182,Data!C:C,Data!I:I)","v":{"$error":"#N/A"}},{"$error":"#N/A"},{"$f":"_xlfn.XLOOKUP(C182,Data!C:C,Data!G:G,0)","v":0},{"$f":"_xlfn.XLOOKUP(C182,Data!C:C,Data!F:F,0)","v":0},{"$f":"_xlfn.XLOOKUP(C182,Data!C:C,Data!H:H,0)","v":0},null,"",{"$f":"_xlfn.XLOOKUP(C182,Data!C:C,Data!F:F,\"\")","v":""},null,{"$error":"#N/A"}]
["23-3-2021","03:00:00","2021-03-23T03:00:00",null,{"$f":"_xlfn.XLOOKUP(C183,Data!C:C,Data!I:I)","v":{"$error":"#N/A"}},{"$error":"#N/A"},{"$f":"_xlfn.XLOOKUP(C183,Data!C:C,Data!G:G,0)","v":0},{"$f":"_xlfn.XLOOKUP(C183,Data!C:C,Data!F:F,0)","v":0},{"$f":"_xlfn.XLOOKUP(C183,Data!C:C,Data!H:H,0)","v":0},null,"",{"$f":"_xlfn.XLOOKUP(C183,Data!C:C,Data!F:F,\"\")","v":""},null,{"$error":"#N/A"}]
["23-3-2021","03:01:00","2021-03-23T03:01:00",null,{"$f":"_xlfn.XLOOKUP(C184,Data!C:C,Data!I:I)","v":{"$error":"#N/A"}},{"$error":"#N/A"},{"$f":"_xlfn.XLOOKUP(C184,Data!C:C,Data!G:G,0)","v":0},{"$f":"_xlfn.XLOOKUP(C184,Data!C:C,Data!F:F,0)","v":0},{"$f":"_xlfn.XLOOKUP(C184,Data!C:C,Data!H:H,0)","v":0},null,"",{"$f":"_xlfn.XLOOKUP(C184,Data!C:C,Data!F:F,\"\")","v":""},null,{"$error":"#N/A"}]
["23-3-2021","03:02:00","2021-03-23T03:02:00",null,{"$f":"_xlfn.XLOOKUP(C185,Data!C:C,Data!I:I)","v":{"$error":"#N/A"}},{"$error":"#N/A"},{"$f":"_xlfn.XLOOKUP(C185,Data!C:C,Data!G:G,0)","v":0},{"$f":"_xlfn.XLOOKUP(C185,Data!C:C,Data!F:F,0)","v":0},{"$f":"_xlfn.XLOOKUP(C185,Data!C:C,Data!H:H,0)","v":0},null,"",{"$f":"_xlfn.XLOOKUP(C185,Data!C:C,Data!F:F,\"\")","v":""},null,{"$error":"#N/A"}]
["23-3-2021","03:03:00","2021-03-23T03:03:00",null,{"$f":"_xlfn.XLOOKUP(C186,Data!C:C,Data!I:I)","v":{"$error":"#N/A"}},{"$error":"#N/A"},{"$f":"_xlfn.XLOOKUP(C186,Data!C:C,Data!G:G,0)","v":0},{"$f":"_xlfn.XLOOKUP(C186,Data!C:C,Data!F:F,0)","v":0},{"$f":"_xlfn.XLOOKUP(C186,Data!C:C,Data!H:H,0)","v":0},null,"",{"$f":"_xlfn.XLOOKUP(C186,Data!C:C,Data!F:F,\"\")","v":""},null,{"$error":"#N/A"}]
["23-3-2021","03:04:00","2021-03-23T03:04:00",null,{"$f":"_xlfn.XLOOKUP(C187,Data!C:C,Data!I:I)","v":{"$error":"#N/A"}},{"$error":"#N/A"},{"$f":"_xlfn.XLOOKUP(C187,Data!C:C,Data!G:G,0)","v":0},{"$f":"_xlfn.XLOOKUP(C187,Data!C:C,Data!F:F,0)","v":0},{"$f":"_xlfn.XLOOKUP(C187,Data!C:C,Data!H:H,0)","v":0},null,"",{"$f":"_xlfn.XLOOKUP(C187,Data!C:C,Data!F:F,\"\")","v":""},null,{"$error":"#N/A"}]
["23-3-2021","03:05:00","2021-03-23T03:05:00",null,{"$f":"_xlfn.XLOOKUP(C188,Data!C:C,Data!I:I)","v":{"$error":"#N/A"}},{"$error":"#N/A"},{"$f":"_xlfn.XLOOKUP(C188,Data!C:C,Data!G:G,0)","v":0},{"$f":"_xlfn.XLOOKUP(C188,Data!C:C,Data!F:F,0)","v":0},{"$f":"_xlfn.XLOOKUP(C188,Data!C:C,Data!H:H,0)","v":0},null,"",{"$f":"_xlfn.XLOOKUP(C188,Data!C:C,Data!F:F,\"\")","v":""},null,{"$error":"#N/A"}]
["23-3-2021","03:06:00","2021-03-23T03:06:00",null,{"$f":"_xlfn.XLOOKUP(C189,Data!C:C,Data!I:I)","v":{"$error":"#N/A"}},{"$error":"#N/A"},{"$f":"_xlfn.XLOOKUP(C189,Data!C:C,Data!G:G,0)","v":0},{"$f":"_xlfn.XLOOKUP(C189,Data!C:C,Data!F:F,0)","v":0},{"$f":"_xlfn.XLOOKUP(C189,Data!C:C,Data!H:H,0)","v":0},null,"",{"$f":"_xlfn.XLOOKUP(C189,Data!C:C,Data!F:F,\"\")","v":""},null,{"$error":"#N/A"}]
["23-3-2021","03:07:00","2021-03-23T03:07:00",null,{"$f":"_xlfn.XLOOKUP(C190,Data!C:C,Data!I:I)","v":{"$error":"#N/A"}},{"$error":"#N/A"},{"$f":"_xlfn.XLOOKUP(C190,Data!C:C,Data!G:G,0)","v":0},{"$f":"_xlfn.XLOOKUP(C190,Data!C:C,Data!F:F,0)","v":0},{"$f":"_xlfn.XLOOKUP(C190,Data!C:C,Data!H:H,0)","v":0},null,"",{"$f":"_xlfn.XLOOKUP(C190,Data!C:C,Data!F:F,\"\")","v":""},null,{"$error":"#N/A"}]
["23-3-2021","03:08:00","2021-03-23T03:08:00",null,{"$f":"_xlfn.XLOOKUP(C191,Data!C:C,Data!I:I)","v":{"$error":"#N/A"}},{"$error":"#N/A"},{"$f":"_xlfn.XLOOKUP(C191,Data!C:C,Data!G:G,0)","v":0},{"$f":"_xlfn.XLOOKUP(C191,Data!C:C,Data!F:F,0)","v":0},{"$f":"_xlfn.XLOOKUP(C191,Data!C:C,Data!H:H,0)","v":0},null,"",{"$f":"_xlfn.XLOOKUP(C191,Data!C:C,Data!F:F,\"\")","v":""},null,{"$error":"#N/A"}]
["23-3-2021","03:09:00","2021-03-23T03:09:00",null,{"$f":"_xlfn.XLOOKUP(C192,Data!C:C,Data!I:I)","v":{"$error":"#N/A"}},{"$error":"#N/A"},{"$f":"_xlfn.XLOOKUP(C192,Data!C:C,Data!G:G,0)","v":0},{"$f":"_xlfn.XLOOKUP(C192,Data!C:C,Data!F:F,0)","v":0},{"$f":"_xlfn.XLOOKUP(C192,Data!C:C,Data!H:H,0)","v":0},null,"",{"$f":"_xlfn.XLOOKUP(C192,Data!C:C,Data!F:F,\"\")","v":""},null,{"$error":"#N/A"}]
["23-3-2021","03:10:00","2021-03-23T03:10:00",null,{"$f":"_xlfn.XLOOKUP(C193,Data!C:C,Data!I:I)","v":{"$error":"#N/A"}},{"$error":"#N/A"},{"$f":"_xlfn.XLOOKUP(C193,Data!C:C,Data!G:G,0)","v":0},{"$f":"_xlfn.XLOOKUP(C193,Data!C:C,Data!F:F,0)","v":0},{"$f":"_xlfn.XLOOKUP(C193,Data!C:C,Data!H:H,0)","v":0},null,"",{"$f":"_xlfn.XLOOKUP(C193,Data!C:C,Data!F:F,\"\")","v":""},null,{"$error":"#N/A"}]
["23-3-2021","03:11:00","2021-03-23T03:11:00",null,{"$f":"_xlfn.XLOOKUP(C194,Data!C:C,Data!I:I)","v":{"$error":"#N/A"}},{"$error":"#N/A"},{"$f":"_xlfn.XLOOKUP(C194,Data!C:C,Data!G:G,0)","v":0},{"$f":"_xlfn.XLOOKUP(C194,Data!C:C,Data!F:F,0)","v":0},{"$f":"_xlfn.XLOOKUP(C194,Data!C:C,Data!H:H,0)","v":0},null,"",{"$f":"_xlfn.XLOOKUP(C194,Data!C:C,Data!F:F,\"\")","v":""},null,{"$error":"#N/A"}]
["23-3-2021","03:12:00",{"$f":"A195+B195","v":"2021-03-23T03:12:00"},null,{"$f":"_xlfn.XLOOKUP(C195,Data!C:C,Data!I:I)","v":{"$error":"#N/A"}},{"$error":"#N/A"},{"$f":"_xlfn.XLOOKUP(C195,Data!C:C,Data!G:G,0)","v":0},{"$f":"_xlfn.XLOOKUP(C195,Data!C:C,Data!F:F,0)","v":0},{"$f":"_xlfn.XLOOKUP(C195,Data!C:C,Data!H:H,0)","v":0},null,"",{"$f":"_xlfn.XLOOKUP(C195,Data!C:C,Data!F:F,\"\")","v":""},null,{"$error":"#N/A"}]
[{"$f":"$A$3","v":"23-3-2021"},"03:13:00","2021-03-23T03:13:00",null,{"$f":"_xlfn.XLOOKUP(C196,Data!C:C,Data!I:I)","v":{"$error":"#N/A"}},{"$f":"IF(E196=255,F195,E196)","v":{"$error":"#N/A"}},{"$f":"_xlfn.XLOOKUP(C196,Data!C:C,Data!G:G,0)","v":0},{"$f":"_xlfn.XLOOKUP(C196,Data!C:C,Data!F:F,0)","v":0},{"$f":"_xlfn.XLOOKUP(C196,Data!C:C,Data!H:H,0)","v":0},null,{"$f":"IFERROR(IF(F196=\"#N/A\",\"\",F196),\"\")","v":""},{"$f":"_xlfn.XLOOKUP(C196,Data!C:C,Data!F:F,\"\")","v":""},null,{"$error":"#N/A"}]
["23-3-2021","03:14:00","2021-03-23T03:14:00",null,{"$f":"_xlfn.XLOOKUP(C197,Data!C:C,Data!I:I)","v":{"$error":"#N/A"}},{"$error":"#N/A"},{"$f":"_xlfn.XLOOKUP(C197,Data!C:C,Data!G:G,0)","v":0},{"$f":"_xlfn.XLOOKUP(C197,Data!C:C,Data!F:F,0)","v":0},{"$f":"_xlfn.XLOOKUP(C197,Data!C:C,Data!H:H,0)","v":0},null,"",{"$f":"_xlfn.XLOOKUP(C197,Data!C:C,Data!F:F,\"\")","v":""},null,{"$error":"#N/A"}]
["23-3-2021","03:15:00","2021-03-23T03:15:00",null,{"$f":"_xlfn.XLOOKUP(C198,Data!C:C,Data!I:I)","v":{"$error":"#N/A"}},{"$error":"#N/A"},{"$f":"_xlfn.XLOOKUP(C198,Data!C:C,Data!G:G,0)","v":0},{"$f":"_xlfn.XLOOKUP(C198,Data!C:C,Data!F:F,0)","v":0},{"$f":"_xlfn.XLOOKUP(C198,Data!C:C,Data!H:H,0)","v":0},null,"",{"$f":"_xlfn.XLOOKUP(C198,Data!C:C,Data!F:F,\"\")","v":""},null,{"$error":"#N/A"}]
["23-3-2021","03:16:00","2021-03-23T03:16:00",null,{"$f":"_xlfn.XLOOKUP(C199,Data!C:C,Data!I:I)","v":{"$error":"#N/A"}},{"$error":"#N/A"},{"$f":"_xlfn.XLOOKUP(C199,Data!C:C,Data!G:G,0)","v":0},{"$f":"_xlfn.XLOOKUP(C199,Data!C:C,Data!F:F,0)","v":0},{"$f":"_xlfn.XLOOKUP(C199,Data!C:C,Data!H:H,0)","v":0},null,"",{"$f":"_xlfn.XLOOKUP(C199,Data!C:C,Data!F:F,\"\")","v":""},null,{"$f":"IF(F199=\"\",\"\",AVERAGE(F195:F203))","v":{"$error":"#N/A"}}]
["23-3-2021","03:17:00","2021-03-23T03:17:00",null,{"$f":"_xlfn.XLOOKUP(C200,Data!C:C,Data!I:I)","v":{"$error":"#N/A"}},{"$error":"#N/A"},{"$f":"_xlfn.XLOOKUP(C200,Data!C:C,Data!G:G,0)","v":0},{"$f":"_xlfn.XLOOKUP(C200,Data!C:C,Data!F:F,0)","v":0},{"$f":"_xlfn.XLOOKUP(C200,Data!C:C,Data!H:H,0)","v":0},null,"",{"$f":"_xlfn.XLOOKUP(C200,Data!C:C,Data!F:F,\"\")","v":""},null,{"$error":"#N/A"}]
["23-3-2021","03:18:00","2021-03-23T03:18:00",null,{"$f":"_xlfn.XLOOKUP(C201,Data!C:C,Data!I:I)","v":{"$error":"#N/A"}},{"$error":"#N/A"},{"$f":"_xlfn.XLOOKUP(C201,Data!C:C,Data!G:G,0)","v":0},{"$f":"_xlfn.XLOOKUP(C201,Data!C:C,Data!F:F,0)","v":0},{"$f":"_xlfn.XLOOKUP(C201,Data!C:C,Data!H:H,0)","v":0},null,"",{"$f":"_xlfn.XLOOKUP(C201,Data!C:C,Data!F:F,\"\")","v":""},null,{"$error":"#N/A"}]
["23-3-2021","03:19:00","2021-03-23T03:19:00",null,{"$f":"_xlfn.XLOOKUP(C202,Data!C:C,Data!I:I)","v":{"$error":"#N/A"}},{"$error":"#N/A"},{"$f":"_xlfn.XLOOKUP(C202,Data!C:C,Data!G:G,0)","v":0},{"$f":"_xlfn.XLOOKUP(C202,Data!C:C,Data!F:F,0)","v":0},{"$f":"_xlfn.XLOOKUP(C202,Data!C:C,Data!H:H,0)","v":0},null,"",{"$f":"_xlfn.XLOOKUP(C202,Data!C:C,Data!F:F,\"\")","v":""},null,{"$error":"#N/A"}]
["23-3-2021","03:20:00","2021-03-23T03:20:00",null,{"$f":"_xlfn.XLOOKUP(C203,Data!C:C,Data!I:I)","v":{"$error":"#N/A"}},{"$error":"#N/A"},{"$f":"_xlfn.XLOOKUP(C203,Data!C:C,Data!G:G,0)","v":0},{"$f":"_xlfn.XLOOKUP(C203,Data!C:C,Data!F:F,0)","v":0},{"$f":"_xlfn.XLOOKUP(C203,Data!C:C,Data!H:H,0)","v":0},null,"",{"$f":"_xlfn.XLOOKUP(C203,Data!C:C,Data!F:F,\"\")","v":""},null,{"$error":"#N/A"}]
["23-3-2021","03:21:00","2021-03-23T03:21:00",null,{"$f":"_xlfn.XLOOKUP(C204,Data!C:C,Data!I:I)","v":{"$error":"#N/A"}},{"$error":"#N/A"},{"$f":"_xlfn.XLOOKUP(C204,Data!C:C,Data!G:G,0)","v":0},{"$f":"_xlfn.XLOOKUP(C204,Data!C:C,Data!F:F,0)","v":0},{"$f":"_xlfn.XLOOKUP(C204,Data!C:C,Data!H:H,0)","v":0},null,"",{"$f":"_xlfn.XLOOKUP(C204,Data!C:C,Data!F:F,\"\")","v":""},null,{"$error":"#N/A"}]
["23-3-2021","03:22:00","2021-03-23T03:22:00",null,{"$f":"_xlfn.XLOOKUP(C205,Data!C:C,Data!I:I)","v":{"$error":"#N/A"}},{"$error":"#N/A"},{"$f":"_xlfn.XLOOKUP(C205,Data!C:C,Data!G:G,0)","v":0},{"$f":"_xlfn.XLOOKUP(C205,Data!C:C,Data!F:F,0)","v":0},{"$f":"_xlfn.XLOOKUP(C205,Data!C:C,Data!H:H,0)","v":0},null,"",{"$f":"_xlfn.XLOOKUP(C205,Data!C:C,Data!F:F,\"\")","v":""},null,{"$error":"#N/A"}]
["23-3-2021","03:23:00","2021-03-23T03:23:00",null,{"$f":"_xlfn.XLOOKUP(C206,Data!C:C,Data!I:I)","v":{"$error":"#N/A"}},{"$error":"#N/A"},{"$f":"_xlfn.XLOOKUP(C206,Data!C:C,Data!G:G,0)","v":0},{"$f":"_xlfn.XLOOKUP(C206,Data!C:C,Data!F:F,0)","v":0},{"$f":"_xlfn.XLOOKUP(C206,Data!C:C,Data!H:H,0)","v":0},null,"",{"$f":"_xlfn.XLOOKUP(C206,Data!C:C,Data!F:F,\"\")","v":""},null,{"$error":"#N/A"}]
["23-3-2021","03:24:00","2021-03-23T03:24:00",null,{"$f":"_xlfn.XLOOKUP(C207,Data!C:C,Data!I:I)","v":{"$error":"#N/A"}},{"$error":"#N/A"},{"$f":"_xlfn.XLOOKUP(C207,Data!C:C,Data!G:G,0)","v":0},{"$f":"_xlfn.XLOOKUP(C207,Data!C:C,Data!F:F,0)","v":0},{"$f":"_xlfn.XLOOKUP(C207,Data!C:C,Data!H:H,0)","v":0},null,"",{"$f":"_xlfn.XLOOKUP(C207,Data!C:C,Data!F:F,\"\")","v":""},null,{"$error":"#N/A"}]
["23-3-2021","03:25:00","2021-03-23T03:25:00",null,{"$f":"_xlfn.XLOOKUP(C208,Data!C:C,Data!I:I)","v":{"$error":"#N/A"}},{"$error":"#N/A"},{"$f":"_xlfn.XLOOKUP(C208,Data!C:C,Data!G:G,0)","v":0},{"$f":"_xlfn.XLOOKUP(C208,Data!C:C,Data!F:F,0)","v":0},{"$f":"_xlfn.XLOOKUP(C208,Data!C:C,Data!H:H,0)","v":0},null,"",{"$f":"_xlfn.XLOOKUP(C208,Data!C:C,Data!F:F,\"\")","v":""},null,{"$error":"#N/A"}]
["23-3-2021","03:26:00","2021-03-23T03:26:00",null,{"$f":"_xlfn.XLOOKUP(C209,Data!C:C,Data!I:I)","v":{"$error":"#N/A"}},{"$error":"#N/A"},{"$f":"_xlfn.XLOOKUP(C209,Data!C:C,Data!G:G,0)","v":0},{"$f":"_xlfn.XLOOKUP(C209,Data!C:C,Data!F:F,0)","v":0},{"$f":"_xlfn.XLOOKUP(C209,Data!C:C,Data!H:H,0)","v":0},null,"",{"$f":"_xlfn.XLOOKUP(C209,Data!C:C,Data!F:F,\"\")","v":""},null,{"$error":"#N/A"}]
["23-3-2021","03:27:00","2021-03-23T03:27:00",null,{"$f":"_xlfn.XLOOKUP(C210,Data!C:C,Data!I:I)","v":{"$error":"#N/A"}},{"$error":"#N/A"},{"$f":"_xlfn.XLOOKUP(C210,Data!C:C,Data!G:G,0)","v":0},{"$f":"_xlfn.XLOOKUP(C210,Data!C:C,Data!F:F,0)","v":0},{"$f":"_xlfn.XLOOKUP(C210,Data!C:C,Data!H:H,0)","v":0},null,"",{"$f":"_xlfn.XLOOKUP(C210,Data!C:C,Data!F:F,\"\")","v":""},null,{"$error":"#N/A"}]
["23-3-2021","03:28:00","2021-03-23T03:28:00",null,{"$f":"_xlfn.XLOOKUP(C211,Data!C:C,Data!I:I)","v":{"$error":"#N/A"}},{"$error":"#N/A"},{"$f":"_xlfn.XLOOKUP(C211,Data!C:C,Data!G:G,0)","v":0},{"$f":"_xlfn.XLOOKUP(C211,Data!C:C,Data!F:F,0)","v":0},{"$f":"_xlfn.XLOOKUP(C211,Data!C:C,Data!H:H,0)","v":0},null,"",{"$f":"_xlfn.XLOOKUP(C211,Data!C:C,Data!F:F,\"\")","v":""},null,{"$error":"#N/A"}]
["23-3-2021","03:29:00","2021-03-23T03:29:00",null,{"$f":"_xlfn.XLOOKUP(C212,Data!C:C,Data!I:I)","v":{"$error":"#N/A"}},{"$error":"#N/A"},{"$f":"_xlfn.XLOOKUP(C212,Data!C:C,Data!G:G,0)","v":0},{"$f":"_xlfn.XLOOKUP(C212,Data!C:C,Data!F:F,0)","v":0},{"$f":"_xlfn.XLOOKUP(C212,Data!C:C,Data!H:H,0)","v":0},null,"",{"$f":"_xlfn.XLOOKUP(C212,Data!C:C,Data!F:F,\"\")","v":""},null,{"$error":"#N/A"}]
["23-3-2021","03:30:00","2021-03-23T03:30:00",null,{"$f":"_xlfn.XLOOKUP(C213,Data!C:C,Data!I:I)","v":{"$error":"#N/A"}},{"$error":"#N/A"},{"$f":"_xlfn.XLOOKUP(C213,Data!C:C,Data!G:G,0)","v":0},{"$f":"_xlfn.XLOOKUP(C213,Data!C:C,Data!F:F,0)","v":0},{"$f":"_xlfn.XLOOKUP(C213,Data!C:C,Data!H:H,0)","v":0},null,"",{"$f":"_xlfn.XLOOKUP(C213,Data!C:C,Data!F:F,\"\")","v":""},null,{"$error":"#N/A"}]
["23-3-2021","03:31:00","2021-03-23T03:31:00",null,{"$f":"_xlfn.XLOOKUP(C214,Data!C:C,Data!I:I)","v":{"$error":"#N/A"}},{"$error":"#N/A"},{"$f":"_xlfn.XLOOKUP(C214,Data!C:C,Data!G:G,0)","v":0},{"$f":"_xlfn.XLOOKUP(C214,Data!C:C,Data!F:F,0)","v":0},{"$f":"_xlfn.XLOOKUP(C214,Data!C:C,Data!H:H,0)","v":0},null,"",{"$f":"_xlfn.XLOOKUP(C214,Data!C:C,Data!F:F,\"\")","v":""},null,{"$error":"#N/A"}]
["23-3-2021","03:32:00","2021-03-23T03:32:00",null,{"$f":"_xlfn.XLOOKUP(C215,Data!C:C,Data!I:I)","v":{"$error":"#N/A"}},{"$error":"#N/A"},{"$f":"_xlfn.XLOOKUP(C215,Data!C:C,Data!G:G,0)","v":0},{"$f":"_xlfn.XLOOKUP(C215,Data!C:C,Data!F:F,0)","v":0},{"$f":"_xlfn.XLOOKUP(C215,Data!C:C,Data!H:H,0)","v":0},null,"",{"$f":"_xlfn.XLOOKUP(C215,Data!C:C,Data!F:F,\"\")","v":""},null,{"$error":"#N/A"}]
["23-3-2021","03:33:00","2021-03-23T03:33:00",null,{"$f":"_xlfn.XLOOKUP(C216,Data!C:C,Data!I:I)","v":{"$error":"#N/A"}},{"$error":"#N/A"},{"$f":"_xlfn.XLOOKUP(C216,Data!C:C,Data!G:G,0)","v":0},{"$f":"_xlfn.XLOOKUP(C216,Data!C:C,Data!F:F,0)","v":0},{"$f":"_xlfn.XLOOKUP(C216,Data!C:C,Data!H:H,0)","v":0},null,"",{"$f":"_xlfn.XLOOKUP(C216,Data!C:C,Data!F:F,\"\")","v":""},null,{"$error":"#N/A"}]
["23-3-2021","03:34:00","2021-03-23T03:34:00",null,{"$f":"_xlfn.XLOOKUP(C217,Data!C:C,Data!I:I)","v":{"$error":"#N/A"}},{"$error":"#N/A"},{"$f":"_xlfn.XLOOKUP(C217,Data!C:C,Data!G:G,0)","v":0},{"$f":"_xlfn.XLOOKUP(C217,Data!C:C,Data!F:F,0)","v":0},{"$f":"_xlfn.XLOOKUP(C217,Data!C:C,Data!H:H,0)","v":0},null,"",{"$f":"_xlfn.XLOOKUP(C217,Data!C:C,Data!F:F,\"\")","v":""},null,{"$error":"#N/A"}]
["23-3-2021","03:35:00","2021-03-23T03:35:00",null,{"$f":"_xlfn.XLOOKUP(C218,Data!C:C,Data!I:I)","v":{"$error":"#N/A"}},{"$error":"#N/A"},{"$f":"_xlfn.XLOOKUP(C218,Data!C:C,Data!G:G,0)","v":0},{"$f":"_xlfn.XLOOKUP(C218,Data!C:C,Data!F:F,0)","v":0},{"$f":"_xlfn.XLOOKUP(C218,Data!C:C,Data!H:H,0)","v":0},null,"",{"$f":"_xlfn.XLOOKUP(C218,Data!C:C,Data!F:F,\"\")","v":""},null,{"$error":"#N/A"}]
["23-3-2021","03:36:00","2021-03-23T03:36:00",null,{"$f":"_xlfn.XLOOKUP(C219,Data!C:C,Data!I:I)","v":{"$error":"#N/A"}},{"$error":"#N/A"},{"$f":"_xlfn.XLOOKUP(C219,Data!C:C,Data!G:G,0)","v":0},{"$f":"_xlfn.XLOOKUP(C219,Data!C:C,Data!F:F,0)","v":0},{"$f":"_xlfn.XLOOKUP(C219,Data!C:C,Data!H:H,0)","v":0},null,"",{"$f":"_xlfn.XLOOKUP(C219,Data!C:C,Data!F:F,\"\")","v":""},null,{"$error":"#N/A"}]
["23-3-2021","03:37:00","2021-03-23T03:37:00",null,{"$f":"_xlfn.XLOOKUP(C220,Data!C:C,Data!I:I)","v":{"$error":"#N/A"}},{"$error":"#N/A"},{"$f":"_xlfn.XLOOKUP(C220,Data!C:C,Data!G:G,0)","v":0},{"$f":"_xlfn.XLOOKUP(C220,Data!C:C,Data!F:F,0)","v":0},{"$f":"_xlfn.XLOOKUP(C220,Data!C:C,Data!H:H,0)","v":0},null,"",{"$f":"_xlfn.XLOOKUP(C220,Data!C:C,Data!F:F,\"\")","v":""},null,{"$error":"#N/A"}]
["23-3-2021","03:38:00","2021-03-23T03:38:00",null,{"$f":"_xlfn.XLOOKUP(C221,Data!C:C,Data!I:I)","v":{"$error":"#N/A"}},{"$error":"#N/A"},{"$f":"_xlfn.XLOOKUP(C221,Data!C:C,Data!G:G,0)","v":0},{"$f":"_xlfn.XLOOKUP(C221,Data!C:C,Data!F:F,0)","v":0},{"$f":"_xlfn.XLOOKUP(C221,Data!C:C,Data!H:H,0)","v":0},null,"",{"$f":"_xlfn.XLOOKUP(C221,Data!C:C,Data!F:F,\"\")","v":""},null,{"$error":"#N/A"}]
["23-3-2021","03:39:00","2021-03-23T03:39:00",null,{"$f":"_xlfn.XLOOKUP(C222,Data!C:C,Data!I:I)","v":{"$error":"#N/A"}},{"$error":"#N/A"},{"$f":"_xlfn.XLOOKUP(C222,Data!C:C,Data!G:G,0)","v":0},{"$f":"_xlfn.XLOOKUP(C222,Data!C:C,Data!F:F,0)","v":0},{"$f":"_xlfn.XLOOKUP(C222,Data!C:C,Data!H:H,0)","v":0},null,"",{"$f":"_xlfn.XLOOKUP(C222,Data!C:C,Data!F:F,\"\")","v":""},null,{"$error":"#N/A"}]
["23-3-2021","03:40:00","2021-03-23T03:40:00",null,{"$f":"_xlfn.XLOOKUP(C223,Data!C:C,Data!I:I)","v":{"$error":"#N/A"}},{"$error":"#N/A"},{"$f":"_xlfn.XLOOKUP(C223,Data!C:C,Data!G:G,0)","v":0},{"$f":"_xlfn.XLOOKUP(C223,Data!C:C,Data!F:F,0)","v":0},{"$f":"_xlfn.XLOOKUP(C223,Data!C:C,Data!H:H,0)","v":0},null,"",{"$f":"_xlfn.XLOOKUP(C223,Data!C:C,Data!F:F,\"\")","v":""},null,{"$error":"#N/A"}]
["23-3-2021","03:41:00","2021-03-23T03:41:00",null,{"$f":"_xlfn.XLOOKUP(C224,Data!C:C,Data!I:I)","v":{"$error":"#N/A"}},{"$error":"#N/A"},{"$f":"_xlfn.XLOOKUP(C224,Data!C:C,Data!G:G,0)","v":0},{"$f":"_xlfn.XLOOKUP(C224,Data!C:C,Data!F:F,0)","v":0},{"$f":"_xlfn.XLOOKUP(C224,Data!C:C,Data!H:H,0)","v":0},null,"",{"$f":"_xlfn.XLOOKUP(C224,Data!C:C,Data!F:F,\"\")","v":""},null,{"$error":"#N/A"}]
["23-3-2021","03:42:00","2021-03-23T03:42:00",null,{"$f":"_xlfn.XLOOKUP(C225,Data!C:C,Data!I:I)","v":{"$error":"#N/A"}},{"$error":"#N/A"},{"$f":"_xlfn.XLOOKUP(C225,Data!C:C,Data!G:G,0)","v":0},{"$f":"_xlfn.XLOOKUP(C225,Data!C:C,Data!F:F,0)","v":0},{"$f":"_xlfn.XLOOKUP(C225,Data!C:C,Data!H:H,0)","v":0},null,"",{"$f":"_xlfn.XLOOKUP(C225,Data!C:C,Data!F:F,\"\")","v":""},null,{"$error":"#N/A"}]
["23-3-2021","03:43:00","2021-03-23T03:43:00",null,{"$f":"_xlfn.XLOOKUP(C226,Data!C:C,Data!I:I)","v":{"$error":"#N/A"}},{"$error":"#N/A"},{"$f":"_xlfn.XLOOKUP(C226,Data!C:C,Data!G:G,0)","v":0},{"$f":"_xlfn.XLOOKUP(C226,Data!C:C,Data!F:F,0)","v":0},{"$f":"_xlfn.XLOOKUP(C226,Data!C:C,Data!H:H,0)","v":0},null,"",{"$f":"_xlfn.XLOOKUP(C226,Data!C:C,Data!F:F,\"\")","v":""},null,{"$error":"#N/A"}]
["23-3-2021","03:44:00","2021-03-23T03:44:00",null,{"$f":"_xlfn.XLOOKUP(C227,Data!C:C,Data!I:I)","v":{"$error":"#N/A"}},{"$error":"#N/A"},{"$f":"_xlfn.XLOOKUP(C227,Data!C:C,Data!G:G,0)","v":0},{"$f":"_xlfn.XLOOKUP(C227,Data!C:C,Data!F:F,0)","v":0},{"$f":"_xlfn.XLOOKUP(C227,Data!C:C,Data!H:H,0)","v":0},null,"",{"$f":"_xlfn.XLOOKUP(C227,Data!C:C,Data!F:F,\"\")","v":""},null,{"$error":"#N/A"}]
["23-3-2021","03:45:00","2021-03-23T03:45:00",null,{"$f":"_xlfn.XLOOKUP(C228,Data!C:C,Data!I:I)","v":{"$error":"#N/A"}},{"$error":"#N/A"},{"$f":"_xlfn.XLOOKUP(C228,Data!C:C,Data!G:G,0)","v":0},{"$f":"_xlfn.XLOOKUP(C228,Data!C:C,Data!F:F,0)","v":0},{"$f":"_xlfn.XLOOKUP(C228,Data!C:C,Data!H:H,0)","v":0},null,"",{"$f":"_xlfn.XLOOKUP(C228,Data!C:C,Data!F:F,\"\")","v":""},null,{"$error":"#N/A"}]
["23-3-2021","03:46:00","2021-03-23T03:46:00",null,{"$f":"_xlfn.XLOOKUP(C229,Data!C:C,Data!I:I)","v":{"$error":"#N/A"}},{"$error":"#N/A"},{"$f":"_xlfn.XLOOKUP(C229,Data!C:C,Data!G:G,0)","v":0},{"$f":"_xlfn.XLOOKUP(C229,Data!C:C,Data!F:F,0)","v":0},{"$f":"_xlfn.XLOOKUP(C229,Data!C:C,Data!H:H,0)","v":0},null,"",{"$f":"_xlfn.XLOOKUP(C229,Data!C:C,Data!F:F,\"\")","v":""},null,{"$error":"#N/A"}]
["23-3-2021","03:47:00","2021-03-23T03:47:00",null,{"$f":"_xlfn.XLOOKUP(C230,Data!C:C,Data!I:I)","v":{"$error":"#N/A"}},{"$error":"#N/A"},{"$f":"_xlfn.XLOOKUP(C230,Data!C:C,Data!G:G,0)","v":0},{"$f":"_xlfn.XLOOKUP(C230,Data!C:C,Data!F:F,0)","v":0},{"$f":"_xlfn.XLOOKUP(C230,Data!C:C,Data!H:H,0)","v":0},null,"",{"$f":"_xlfn.XLOOKUP(C230,Data!C:C,Data!F:F,\"\")","v":""},null,{"$error":"#N/A"}]
["23-3-2021","03:48:00","2021-03-23T03:48:00",null,{"$f":"_xlfn.XLOOKUP(C231,Data!C:C,Data!I:I)","v":{"$error":"#N/A"}},{"$error":"#N/A"},{"$f":"_xlfn.XLOOKUP(C231,Data!C:C,Data!G:G,0)","v":0},{"$f":"_xlfn.XLOOKUP(C231,Data!C:C,Data!F:F,0)","v":0},{"$f":"_xlfn.XLOOKUP(C231,Data!C:C,Data!H:H,0)","v":0},null,"",{"$f":"_xlfn.XLOOKUP(C231,Data!C:C,Data!F:F,\"\")","v":""},null,{"$error":"#N/A"}]
["23-3-2021","03:49:00","2021-03-23T03:49:00",null,{"$f":"_xlfn.XLOOKUP(C232,Data!C:C,Data!I:I)","v":{"$error":"#N/A"}},{"$error":"#N/A"},{"$f":"_xlfn.XLOOKUP(C232,Data!C:C,Data!G:G,0)","v":0},{"$f":"_xlfn.XLOOKUP(C232,Data!C:C,Data!F:F,0)","v":0},{"$f":"_xlfn.XLOOKUP(C232,Data!C:C,Data!H:H,0)","v":0},null,"",{"$f":"_xlfn.XLOOKUP(C232,Data!C:C,Data!F:F,\"\")","v":""},null,{"$error":"#N/A"}]
["23-3-2021","03:50:00","2021-03-23T03:50:00",null,{"$f":"_xlfn.XLOOKUP(C233,Data!C:C,Data!I:I)","v":{"$error":"#N/A"}},{"$error":"#N/A"},{"$f":"_xlfn.XLOOKUP(C233,Data!C:C,Data!G:G,0)","v":0},{"$f":"_xlfn.XLOOKUP(C233,Data!C:C,Data!F:F,0)","v":0},{"$f":"_xlfn.XLOOKUP(C233,Data!C:C,Data!H:H,0)","v":0},null,"",{"$f":"_xlfn.XLOOKUP(C233,Data!C:C,Data!F:F,\"\")","v":""},null,{"$error":"#N/A"}]
["23-3-2021","03:51:00","2021-03-23T03:51:00",null,{"$f":"_xlfn.XLOOKUP(C234,Data!C:C,Data!I:I)","v":{"$error":"#N/A"}},{"$error":"#N/A"},{"$f":"_xlfn.XLOOKUP(C234,Data!C:C,Data!G:G,0)","v":0},{"$f":"_xlfn.XLOOKUP(C234,Data!C:C,Data!F:F,0)","v":0},{"$f":"_xlfn.XLOOKUP(C234,Data!C:C,Data!H:H,0)","v":0},null,"",{"$f":"_xlfn.XLOOKUP(C234,Data!C:C,Data!F:F,\"\")","v":""},null,{"$error":"#N/A"}]
["23-3-2021","03:52:00","2021-03-23T03:52:00",null,{"$f":"_xlfn.XLOOKUP(C235,Data!C:C,Data!I:I)","v":{"$error":"#N/A"}},{"$error":"#N/A"},{"$f":"_xlfn.XLOOKUP(C235,Data!C:C,Data!G:G,0)","v":0},{"$f":"_xlfn.XLOOKUP(C235,Data!C:C,Data!F:F,0)","v":0},{"$f":"_xlfn.XLOOKUP(C235,Data!C:C,Data!H:H,0)","v":0},null,"",{"$f":"_xlfn.XLOOKUP(C235,Data!C:C,Data!F:F,\"\")","v":""},null,{"$error":"#N/A"}]
["23-3-2021","03:53:00","2021-03-23T03:53:00",null,{"$f":"_xlfn.XLOOKUP(C236,Data!C:C,Data!I:I)","v":{"$error":"#N/A"}},{"$error":"#N/A"},{"$f":"_xlfn.XLOOKUP(C236,Data!C:C,Data!G:G,0)","v":0},{"$f":"_xlfn.XLOOKUP(C236,Data!C:C,Data!F:F,0)","v":0},{"$f":"_xlfn.XLOOKUP(C236,Data!C:C,Data!H:H,0)","v":0},null,"",{"$f":"_xlfn.XLOOKUP(C236,Data!C:C,Data!F:F,\"\")","v":""},null,{"$error":"#N/A"}]
["23-3-2021","03:54:00","2021-03-23T03:54:00",null,{"$f":"_xlfn.XLOOKUP(C237,Data!C:C,Data!I:I)","v":{"$error":"#N/A"}},{"$error":"#N/A"},{"$f":"_xlfn.XLOOKUP(C237,Data!C:C,Data!G:G,0)","v":0},{"$f":"_xlfn.XLOOKUP(C237,Data!C:C,Data!F:F,0)","v":0},{"$f":"_xlfn.XLOOKUP(C237,Data!C:C,Data!H:H,0)","v":0},null,"",{"$f":"_xlfn.XLOOKUP(C237,Data!C:C,Data!F:F,\"\")","v":""},null,{"$error":"#N/A"}]
["23-3-2021","03:55:00","2021-03-23T03:55:00",null,{"$f":"_xlfn.XLOOKUP(C238,Data!C:C,Data!I:I)","v":{"$error":"#N/A"}},{"$error":"#N/A"},{"$f":"_xlfn.XLOOKUP(C238,Data!C:C,Data!G:G,0)","v":0},{"$f":"_xlfn.XLOOKUP(C238,Data!C:C,Data!F:F,0)","v":0},{"$f":"_xlfn.XLOOKUP(C238,Data!C:C,Data!H:H,0)","v":0},null,"",{"$f":"_xlfn.XLOOKUP(C238,Data!C:C,Data!F:F,\"\")","v":""},null,{"$error":"#N/A"}]
["23-3-2021","03:56:00","2021-03-23T03:56:00",null,{"$f":"_xlfn.XLOOKUP(C239,Data!C:C,Data!I:I)","v":{"$error":"#N/A"}},{"$error":"#N/A"},{"$f":"_xlfn.XLOOKUP(C239,Data!C:C,Data!G:G,0)","v":0},{"$f":"_xlfn.XLOOKUP(C239,Data!C:C,Data!F:F,0)","v":0},{"$f":"_xlfn.XLOOKUP(C239,Data!C:C,Data!H:H,0)","v":0},null,"",{"$f":"_xlfn.XLOOKUP(C239,Data!C:C,Data!F:F,\"\")","v":""},null,{"$error":"#N/A"}]
["23-3-2021","03:57:00","2021-03-23T03:57:00",null,{"$f":"_xlfn.XLOOKUP(C240,Data!C:C,Data!I:I)","v":{"$error":"#N/A"}},{"$error":"#N/A"},{"$f":"_xlfn.XLOOKUP(C240,Data!C:C,Data!G:G,0)","v":0},{"$f":"_xlfn.XLOOKUP(C240,Data!C:C,Data!F:F,0)","v":0},{"$f":"_xlfn.XLOOKUP(C240,Data!C:C,Data!H:H,0)","v":0},null,"",{"$f":"_xlfn.XLOOKUP(C240,Data!C:C,Data!F:F,\"\")","v":""},null,{"$error":"#N/A"}]
["23-3-2021","03:58:00","2021-03-23T03:58:00",null,{"$f":"_xlfn.XLOOKUP(C241,Data!C:C,Data!I:I)","v":{"$error":"#N/A"}},{"$error":"#N/A"},{"$f":"_xlfn.XLOOKUP(C241,Data!C:C,Data!G:G,0)","v":0},{"$f":"_xlfn.XLOOKUP(C241,Data!C:C,Data!F:F,0)","v":0},{"$f":"_xlfn.XLOOKUP(C241,Data!C:C,Data!H:H,0)","v":0},null,"",{"$f":"_xlfn.XLOOKUP(C241,Data!C:C,Data!F:F,\"\")","v":""},null,{"$error":"#N/A"}]
["23-3-2021","03:59:00","2021-03-23T03:59:00",null,{"$f":"_xlfn.XLOOKUP(C242,Data!C:C,Data!I:I)","v":{"$error":"#N/A"}},{"$error":"#N/A"},{"$f":"_xlfn.XLOOKUP(C242,Data!C:C,Data!G:G,0)","v":0},{"$f":"_xlfn.XLOOKUP(C242,Data!C:C,Data!F:F,0)","v":0},{"$f":"_xlfn.XLOOKUP(C242,Data!C:C,Data!H:H,0)","v":0},null,"",{"$f":"_xlfn.XLOOKUP(C242,Data!C:C,Data!F:F,\"\")","v":""},null,{"$error":"#N/A"}]
["23-3-2021","04:00:00","2021-03-23T04:00:00",null,{"$f":"_xlfn.XLOOKUP(C243,Data!C:C,Data!I:I)","v":{"$error":"#N/A"}},{"$error":"#N/A"},{"$f":"_xlfn.XLOOKUP(C243,Data!C:C,Data!G:G,0)","v":0},{"$f":"_xlfn.XLOOKUP(C243,Data!C:C,Data!F:F,0)","v":0},{"$f":"_xlfn.XLOOKUP(C243,Data!C:C,Data!H:H,0)","v":0},null,"",{"$f":"_xlfn.XLOOKUP(C243,Data!C:C,Data!F:F,\"\")","v":""},null,{"$error":"#N/A"}]
["23-3-2021","04:01:00","2021-03-23T04:01:00",null,{"$f":"_xlfn.XLOOKUP(C244,Data!C:C,Data!I:I)","v":{"$error":"#N/A"}},{"$error":"#N/A"},{"$f":"_xlfn.XLOOKUP(C244,Data!C:C,Data!G:G,0)","v":0},{"$f":"_xlfn.XLOOKUP(C244,Data!C:C,Data!F:F,0)","v":0},{"$f":"_xlfn.XLOOKUP(C244,Data!C:C,Data!H:H,0)","v":0},null,"",{"$f":"_xlfn.XLOOKUP(C244,Data!C:C,Data!F:F,\"\")","v":""},null,{"$error":"#N/A"}]
["23-3-2021","04:02:00","2021-03-23T04:02:00",null,{"$f":"_xlfn.XLOOKUP(C245,Data!C:C,Data!I:I)","v":{"$error":"#N/A"}},{"$error":"#N/A"},{"$f":"_xlfn.XLOOKUP(C245,Data!C:C,Data!G:G,0)","v":0},{"$f":"_xlfn.XLOOKUP(C245,Data!C:C,Data!F:F,0)","v":0},{"$f":"_xlfn.XLOOKUP(C245,Data!C:C,Data!H:H,0)","v":0},null,"",{"$f":"_xlfn.XLOOKUP(C245,Data!C:C,Data!F:F,\"\")","v":""},null,{"$error":"#N/A"}]
["23-3-2021","04:03:00","2021-03-23T04:03:00",null,{"$f":"_xlfn.XLOOKUP(C246,Data!C:C,Data!I:I)","v":{"$error":"#N/A"}},{"$error":"#N/A"},{"$f":"_xlfn.XLOOKUP(C246,Data!C:C,Data!G:G,0)","v":0},{"$f":"_xlfn.XLOOKUP(C246,Data!C:C,Data!F:F,0)","v":0},{"$f":"_xlfn.XLOOKUP(C246,Data!C:C,Data!H:H,0)","v":0},null,"",{"$f":"_xlfn.XLOOKUP(C246,Data!C:C,Data!F:F,\"\")","v":""},null,{"$error":"#N/A"}]
["23-3-2021","04:04:00","2021-03-23T04:04:00",null,{"$f":"_xlfn.XLOOKUP(C247,Data!C:C,Data!I:I)","v":{"$error":"#N/A"}},{"$error":"#N/A"},{"$f":"_xlfn.XLOOKUP(C247,Data!C:C,Data!G:G,0)","v":0},{"$f":"_xlfn.XLOOKUP(C247,Data!C:C,Data!F:F,0)","v":0},{"$f":"_xlfn.XLOOKUP(C247,Data!C:C,Data!H:H,0)","v":0},null,"",{"$f":"_xlfn.XLOOKUP(C247,Data!C:C,Data!F:F,\"\")","v":""},null,{"$error":"#N/A"}]
["23-3-2021","04:05:00","2021-03-23T04:05:00",null,{"$f":"_xlfn.XLOOKUP(C248,Data!C:C,Data!I:I)","v":{"$error":"#N/A"}},{"$error":"#N/A"},{"$f":"_xlfn.XLOOKUP(C248,Data!C:C,Data!G:G,0)","v":0},{"$f":"_xlfn.XLOOKUP(C248,Data!C:C,Data!F:F,0)","v":0},{"$f":"_xlfn.XLOOKUP(C248,Data!C:C,Data!H:H,0)","v":0},null,"",{"$f":"_xlfn.XLOOKUP(C248,Data!C:C,Data!F:F,\"\")","v":""},null,{"$error":"#N/A"}]
["23-3-2021","04:06:00","2021-03-23T04:06:00",null,{"$f":"_xlfn.XLOOKUP(C249,Data!C:C,Data!I:I)","v":{"$error":"#N/A"}},{"$error":"#N/A"},{"$f":"_xlfn.XLOOKUP(C249,Data!C:C,Data!G:G,0)","v":0},{"$f":"_xlfn.XLOOKUP(C249,Data!C:C,Data!F:F,0)","v":0},{"$f":"_xlfn.XLOOKUP(C249,Data!C:C,Data!H:H,0)","v":0},null,"",{"$f":"_xlfn.XLOOKUP(C249,Data!C:C,Data!F:F,\"\")","v":""},null,{"$error":"#N/A"}]
["23-3-2021","04:07:00","2021-03-23T04:07:00",null,{"$f":"_xlfn.XLOOKUP(C250,Data!C:C,Data!I:I)","v":{"$error":"#N/A"}},{"$error":"#N/A"},{"$f":"_xlfn.XLOOKUP(C250,Data!C:C,Data!G:G,0)","v":0},{"$f":"_xlfn.XLOOKUP(C250,Data!C:C,Data!F:F,0)","v":0},{"$f":"_xlfn.XLOOKUP(C250,Data!C:C,Data!H:H,0)","v":0},null,"",{"$f":"_xlfn.XLOOKUP(C250,Data!C:C,Data!F:F,\"\")","v":""},null,{"$error":"#N/A"}]
["23-3-2021","04:08:00","2021-03-23T04:08:00",null,{"$f":"_xlfn.XLOOKUP(C251,Data!C:C,Data!I:I)","v":{"$error":"#N/A"}},{"$error":"#N/A"},{"$f":"_xlfn.XLOOKUP(C251,Data!C:C,Data!G:G,0)","v":0},{"$f":"_xlfn.XLOOKUP(C251,Data!C:C,Data!F:F,0)","v":0},{"$f":"_xlfn.XLOOKUP(C251,Data!C:C,Data!H:H,0)","v":0},null,"",{"$f":"_xlfn.XLOOKUP(C251,Data!C:C,Data!F:F,\"\")","v":""},null,{"$error":"#N/A"}]
["23-3-2021","04:09:00","2021-03-23T04:09:00",null,{"$f":"_xlfn.XLOOKUP(C252,Data!C:C,Data!I:I)","v":{"$error":"#N/A"}},{"$error":"#N/A"},{"$f":"_xlfn.XLOOKUP(C252,Data!C:C,Data!G:G,0)","v":0},{"$f":"_xlfn.XLOOKUP(C252,Data!C:C,Data!F:F,0)","v":0},{"$f":"_xlfn.XLOOKUP(C252,Data!C:C,Data!H:H,0)","v":0},null,"",{"$f":"_xlfn.XLOOKUP(C252,Data!C:C,Data!F:F,\"\")","v":""},null,{"$error":"#N/A"}]
["23-3-2021","04:10:00","2021-03-23T04:10:00",null,{"$f":"_xlfn.XLOOKUP(C253,Data!C:C,Data!I:I)","v":{"$error":"#N/A"}},{"$error":"#N/A"},{"$f":"_xlfn.XLOOKUP(C253,Data!C:C,Data!G:G,0)","v":0},{"$f":"_xlfn.XLOOKUP(C253,Data!C:C,Data!F:F,0)","v":0},{"$f":"_xlfn.XLOOKUP(C253,Data!C:C,Data!H:H,0)","v":0},null,"",{"$f":"_xlfn.XLOOKUP(C253,Data!C:C,Data!F:F,\"\")","v":""},null,{"$error":"#N/A"}]
["23-3-2021","04:11:00","2021-03-23T04:11:00",null,{"$f":"_xlfn.XLOOKUP(C254,Data!C:C,Data!I:I)","v":{"$error":"#N/A"}},{"$error":"#N/A"},{"$f":"_xlfn.XLOOKUP(C254,Data!C:C,Data!G:G,0)","v":0},{"$f":"_xlfn.XLOOKUP(C254,Data!C:C,Data!F:F,0)","v":0},{"$f":"_xlfn.XLOOKUP(C254,Data!C:C,Data!H:H,0)","v":0},null,"",{"$f":"_xlfn.XLOOKUP(C254,Data!C:C,Data!F:F,\"\")","v":""},null,{"$error":"#N/A"}]
["23-3-2021","04:12:00","2021-03-23T04:12:00",null,{"$f":"_xlfn.XLOOKUP(C255,Data!C:C,Data!I:I)","v":{"$error":"#N/A"}},{"$error":"#N/A"},{"$f":"_xlfn.XLOOKUP(C255,Data!C:C,Data!G:G,0)","v":0},{"$f":"_xlfn.XLOOKUP(C255,Data!C:C,Data!F:F,0)","v":0},{"$f":"_xlfn.XLOOKUP(C255,Data!C:C,Data!H:H,0)","v":0},null,"",{"$f":"_xlfn.XLOOKUP(C255,Data!C:C,Data!F:F,\"\")","v":""},null,{"$error":"#N/A"}]
["23-3-2021","04:13:00","2021-03-23T04:13:00",null,{"$f":"_xlfn.XLOOKUP(C256,Data!C:C,Data!I:I)","v":{"$error":"#N/A"}},{"$error":"#N/A"},{"$f":"_xlfn.XLOOKUP(C256,Data!C:C,Data!G:G,0)","v":0},{"$f":"_xlfn.XLOOKUP(C256,Data!C:C,Data!F:F,0)","v":0},{"$f":"_xlfn.XLOOKUP(C256,Data!C:C,Data!H:H,0)","v":0},null,"",{"$f":"_xlfn.XLOOKUP(C256,Data!C:C,Data!F:F,\"\")","v":""},null,{"$error":"#N/A"}]
["23-3-2021","04:14:00","2021-03-23T04:14:00",null,{"$f":"_xlfn.XLOOKUP(C257,Data!C:C,Data!I:I)","v":{"$error":"#N/A"}},{"$error":"#N/A"},{"$f":"_xlfn.XLOOKUP(C257,Data!C:C,Data!G:G,0)","v":0},{"$f":"_xlfn.XLOOKUP(C257,Data!C:C,Data!F:F,0)","v":0},{"$f":"_xlfn.XLOOKUP(C257,Data!C:C,Data!H:H,0)","v":0},null,"",{"$f":"_xlfn.XLOOKUP(C257,Data!C:C,Data!F:F,\"\")","v":""},null,{"$error":"#N/A"}]
["23-3-2021","04:15:00","2021-03-23T04:15:00",null,{"$f":"_xlfn.XLOOKUP(C258,Data!C:C,Data!I:I)","v":{"$error":"#N/A"}},{"$error":"#N/A"},{"$f":"_xlfn.XLOOKUP(C258,Data!C:C,Data!G:G,0)","v":0},{"$f":"_xlfn.XLOOKUP(C258,Data!C:C,Data!F:F,0)","v":0},{"$f":"_xlfn.XLOOKUP(C258,Data!C:C,Data!H:H,0)","v":0},null,"",{"$f":"_xlfn.XLOOKUP(C258,Data!C:C,Data!F:F,\"\")","v":""},null,{"$error":"#N/A"}]
["23-3-2021","04:16:00",{"$f":"A259+B259","v":"2021-03-23T04:16:00"},null,{"$f":"_xlfn.XLOOKUP(C259,Data!C:C,Data!I:I)","v":{"$error":"#N/A"}},{"$error":"#N/A"},{"$f":"_xlfn.XLOOKUP(C259,Data!C:C,Data!G:G,0)","v":0},{"$f":"_xlfn.XLOOKUP(C259,Data!C:C,Data!F:F,0)","v":0},{"$f":"_xlfn.XLOOKUP(C259,Data!C:C,Data!H:H,0)","v":0},null,"",{"$f":"_xlfn.XLOOKUP(C259,Data!C:C,Data!F:F,\"\")","v":""},null,{"$error":"#N/A"}]
[{"$f":"$A$3","v":"23-3-2021"},"04:17:00","2021-03-23T04:17:00",null,{"$f":"_xlfn.XLOOKUP(C260,Data!C:C,Data!I:I)","v":{"$error":"#N/A"}},{"$f":"IF(E260=255,F259,E260)","v":{"$error":"#N/A"}},{"$f":"_xlfn.XLOOKUP(C260,Data!C:C,Data!G:G,0)","v":0},{"$f":"_xlfn.XLOOKUP(C260,Data!C:C,Data!F:F,0)","v":0},{"$f":"_xlfn.XLOOKUP(C260,Data!C:C,Data!H:H,0)","v":0},null,{"$f":"IFERROR(IF(F260=\"#N/A\",\"\",F260),\"\")","v":""},{"$f":"_xlfn.XLOOKUP(C260,Data!C:C,Data!F:F,\"\")","v":""},null,{"$error":"#N/A"}]
["23-3-2021","04:18:00","2021-03-23T04:18:00",null,{"$f":"_xlfn.XLOOKUP(C261,Data!C:C,Data!I:I)","v":{"$error":"#N/A"}},{"$error":"#N/A"},{"$f":"_xlfn.XLOOKUP(C261,Data!C:C,Data!G:G,0)","v":0},{"$f":"_xlfn.XLOOKUP(C261,Data!C:C,Data!F:F,0)","v":0},{"$f":"_xlfn.XLOOKUP(C261,Data!C:C,Data!H:H,0)","v":0},null,"",{"$f":"_xlfn.XLOOKUP(C261,Data!C:C,Data!F:F,\"\")","v":""},null,{"$error":"#N/A"}]
["23-3-2021","04:19:00","2021-03-23T04:19:00",null,{"$f":"_xlfn.XLOOKUP(C262,Data!C:C,Data!I:I)","v":{"$error":"#N/A"}},{"$error":"#N/A"},{"$f":"_xlfn.XLOOKUP(C262,Data!C:C,Data!G:G,0)","v":0},{"$f":"_xlfn.XLOOKUP(C262,Data!C:C,Data!F:F,0)","v":0},{"$f":"_xlfn.XLOOKUP(C262,Data!C:C,Data!H:H,0)","v":0},null,"",{"$f":"_xlfn.XLOOKUP(C262,Data!C:C,Data!F:F,\"\")","v":""},null,{"$error":"#N/A"}]
["23-3-2021","04:20:00","2021-03-23T04:20:00",null,{"$f":"_xlfn.XLOOKUP(C263,Data!C:C,Data!I:I)","v":{"$error":"#N/A"}},{"$error":"#N/A"},{"$f":"_xlfn.XLOOKUP(C263,Data!C:C,Data!G:G,0)","v":0},{"$f":"_xlfn.XLOOKUP(C263,Data!C:C,Data!F:F,0)","v":0},{"$f":"_xlfn.XLOOKUP(C263,Data!C:C,Data!H:H,0)","v":0},null,"",{"$f":"_xlfn.XLOOKUP(C263,Data!C:C,Data!F:F,\"\")","v":""},null,{"$f":"IF(F263=\"\",\"\",AVERAGE(F259:F267))","v":{"$error":"#N/A"}}]
["23-3-2021","04:21:00","2021-03-23T04:21:00",null,{"$f":"_xlfn.XLOOKUP(C264,Data!C:C,Data!I:I)","v":{"$error":"#N/A"}},{"$error":"#N/A"},{"$f":"_xlfn.XLOOKUP(C264,Data!C:C,Data!G:G,0)","v":0},{"$f":"_xlfn.XLOOKUP(C264,Data!C:C,Data!F:F,0)","v":0},{"$f":"_xlfn.XLOOKUP(C264,Data!C:C,Data!H:H,0)","v":0},null,"",{"$f":"_xlfn.XLOOKUP(C264,Data!C:C,Data!F:F,\"\")","v":""},null,{"$error":"#N/A"}]
["23-3-2021","04:22:00","2021-03-23T04:22:00",null,{"$f":"_xlfn.XLOOKUP(C265,Data!C:C,Data!I:I)","v":{"$error":"#N/A"}},{"$error":"#N/A"},{"$f":"_xlfn.XLOOKUP(C265,Data!C:C,Data!G:G,0)","v":0},{"$f":"_xlfn.XLOOKUP(C265,Data!C:C,Data!F:F,0)","v":0},{"$f":"_xlfn.XLOOKUP(C265,Data!C:C,Data!H:H,0)","v":0},null,"",{"$f":"_xlfn.XLOOKUP(C265,Data!C:C,Data!F:F,\"\")","v":""},null,{"$error":"#N/A"}]
["23-3-2021","04:23:00","2021-03-23T04:23:00",null,{"$f":"_xlfn.XLOOKUP(C266,Data!C:C,Data!I:I)","v":{"$error":"#N/A"}},{"$error":"#N/A"},{"$f":"_xlfn.XLOOKUP(C266,Data!C:C,Data!G:G,0)","v":0},{"$f":"_xlfn.XLOOKUP(C266,Data!C:C,Data!F:F,0)","v":0},{"$f":"_xlfn.XLOOKUP(C266,Data!C:C,Data!H:H,0)","v":0},null,"",{"$f":"_xlfn.XLOOKUP(C266,Data!C:C,Data!F:F,\"\")","v":""},null,{"$error":"#N/A"}]
["23-3-2021","04:24:00","2021-03-23T04:24:00",null,{"$f":"_xlfn.XLOOKUP(C267,Data!C:C,Data!I:I)","v":{"$error":"#N/A"}},{"$error":"#N/A"},{"$f":"_xlfn.XLOOKUP(C267,Data!C:C,Data!G:G,0)","v":0},{"$f":"_xlfn.XLOOKUP(C267,Data!C:C,Data!F:F,0)","v":0},{"$f":"_xlfn.XLOOKUP(C267,Data!C:C,Data!H:H,0)","v":0},null,"",{"$f":"_xlfn.XLOOKUP(C267,Data!C:C,Data!F:F,\"\")","v":""},null,{"$error":"#N/A"}]
["23-3-2021","04:25:00","2021-03-23T04:25:00",null,{"$f":"_xlfn.XLOOKUP(C268,Data!C:C,Data!I:I)","v":{"$error":"#N/A"}},{"$error":"#N/A"},{"$f":"_xlfn.XLOOKUP(C268,Data!C:C,Data!G:G,0)","v":0},{"$f":"_xlfn.XLOOKUP(C268,Data!C:C,Data!F:F,0)","v":0},{"$f":"_xlfn.XLOOKUP(C268,Data!C:C,Data!H:H,0)","v":0},null,"",{"$f":"_xlfn.XLOOKUP(C268,Data!C:C,Data!F:F,\"\")","v":""},null,{"$error":"#N/A"}]
["23-3-2021","04:26:00","2021-03-23T04:26:00",null,{"$f":"_xlfn.XLOOKUP(C269,Data!C:C,Data!I:I)","v":{"$error":"#N/A"}},{"$error":"#N/A"},{"$f":"_xlfn.XLOOKUP(C269,Data!C:C,Data!G:G,0)","v":0},{"$f":"_xlfn.XLOOKUP(C269,Data!C:C,Data!F:F,0)","v":0},{"$f":"_xlfn.XLOOKUP(C269,Data!C:C,Data!H:H,0)","v":0},null,"",{"$f":"_xlfn.XLOOKUP(C269,Data!C:C,Data!F:F,\"\")","v":""},null,{"$error":"#N/A"}]
["23-3-2021","04:27:00","2021-03-23T04:27:00",null,{"$f":"_xlfn.XLOOKUP(C270,Data!C:C,Data!I:I)","v":{"$error":"#N/A"}},{"$error":"#N/A"},{"$f":"_xlfn.XLOOKUP(C270,Data!C:C,Data!G:G,0)","v":0},{"$f":"_xlfn.XLOOKUP(C270,Data!C:C,Data!F:F,0)","v":0},{"$f":"_xlfn.XLOOKUP(C270,Data!C:C,Data!H:H,0)","v":0},null,"",{"$f":"_xlfn.XLOOKUP(C270,Data!C:C,Data!F:F,\"\")","v":""},null,{"$error":"#N/A"}]
["23-3-2021","04:28:00","2021-03-23T04:28:00",null,{"$f":"_xlfn.XLOOKUP(C271,Data!C:C,Data!I:I)","v":{"$error":"#N/A"}},{"$error":"#N/A"},{"$f":"_xlfn.XLOOKUP(C271,Data!C:C,Data!G:G,0)","v":0},{"$f":"_xlfn.XLOOKUP(C271,Data!C:C,Data!F:F,0)","v":0},{"$f":"_xlfn.XLOOKUP(C271,Data!C:C,Data!H:H,0)","v":0},null,"",{"$f":"_xlfn.XLOOKUP(C271,Data!C:C,Data!F:F,\"\")","v":""},null,{"$error":"#N/A"}]
["23-3-2021","04:29:00","2021-03-23T04:29:00",null,{"$f":"_xlfn.XLOOKUP(C272,Data!C:C,Data!I:I)","v":{"$error":"#N/A"}},{"$error":"#N/A"},{"$f":"_xlfn.XLOOKUP(C272,Data!C:C,Data!G:G,0)","v":0},{"$f":"_xlfn.XLOOKUP(C272,Data!C:C,Data!F:F,0)","v":0},{"$f":"_xlfn.XLOOKUP(C272,Data!C:C,Data!H:H,0)","v":0},null,"",{"$f":"_xlfn.XLOOKUP(C272,Data!C:C,Data!F:F,\"\")","v":""},null,{"$error":"#N/A"}]
["23-3-2021","04:30:00","2021-03-23T04:30:00",null,{"$f":"_xlfn.XLOOKUP(C273,Data!C:C,Data!I:I)","v":{"$error":"#N/A"}},{"$error":"#N/A"},{"$f":"_xlfn.XLOOKUP(C273,Data!C:C,Data!G:G,0)","v":0},{"$f":"_xlfn.XLOOKUP(C273,Data!C:C,Data!F:F,0)","v":0},{"$f":"_xlfn.XLOOKUP(C273,Data!C:C,Data!H:H,0)","v":0},null,"",{"$f":"_xlfn.XLOOKUP(C273,Data!C:C,Data!F:F,\"\")","v":""},null,{"$error":"#N/A"}]
["23-3-2021","04:31:00","2021-03-23T04:31:00",null,{"$f":"_xlfn.XLOOKUP(C274,Data!C:C,Data!I:I)","v":{"$error":"#N/A"}},{"$error":"#N/A"},{"$f":"_xlfn.XLOOKUP(C274,Data!C:C,Data!G:G,0)","v":0},{"$f":"_xlfn.XLOOKUP(C274,Data!C:C,Data!F:F,0)","v":0},{"$f":"_xlfn.XLOOKUP(C274,Data!C:C,Data!H:H,0)","v":0},null,"",{"$f":"_xlfn.XLOOKUP(C274,Data!C:C,Data!F:F,\"\")","v":""},null,{"$error":"#N/A"}]
["23-3-2021","04:32:00","2021-03-23T04:32:00",null,{"$f":"_xlfn.XLOOKUP(C275,Data!C:C,Data!I:I)","v":{"$error":"#N/A"}},{"$error":"#N/A"},{"$f":"_xlfn.XLOOKUP(C275,Data!C:C,Data!G:G,0)","v":0},{"$f":"_xlfn.XLOOKUP(C275,Data!C:C,Data!F:F,0)","v":0},{"$f":"_xlfn.XLOOKUP(C275,Data!C:C,Data!H:H,0)","v":0},null,"",{"$f":"_xlfn.XLOOKUP(C275,Data!C:C,Data!F:F,\"\")","v":""},null,{"$error":"#N/A"}]
["23-3-2021","04:33:00","2021-03-23T04:33:00",null,{"$f":"_xlfn.XLOOKUP(C276,Data!C:C,Data!I:I)","v":{"$error":"#N/A"}},{"$error":"#N/A"},{"$f":"_xlfn.XLOOKUP(C276,Data!C:C,Data!G:G,0)","v":0},{"$f":"_xlfn.XLOOKUP(C276,Data!C:C,Data!F:F,0)","v":0},{"$f":"_xlfn.XLOOKUP(C276,Data!C:C,Data!H:H,0)","v":0},null,"",{"$f":"_xlfn.XLOOKUP(C276,Data!C:C,Data!F:F,\"\")","v":""},null,{"$error":"#N/A"}]
["23-3-2021","04:34:00","2021-03-23T04:34:00",null,{"$f":"_xlfn.XLOOKUP(C277,Data!C:C,Data!I:I)","v":{"$error":"#N/A"}},{"$error":"#N/A"},{"$f":"_xlfn.XLOOKUP(C277,Data!C:C,Data!G:G,0)","v":0},{"$f":"_xlfn.XLOOKUP(C277,Data!C:C,Data!F:F,0)","v":0},{"$f":"_xlfn.XLOOKUP(C277,Data!C:C,Data!H:H,0)","v":0},null,"",{"$f":"_xlfn.XLOOKUP(C277,Data!C:C,Data!F:F,\"\")","v":""},null,{"$error":"#N/A"}]
["23-3-2021","04:35:00","2021-03-23T04:35:00",null,{"$f":"_xlfn.XLOOKUP(C278,Data!C:C,Data!I:I)","v":{"$error":"#N/A"}},{"$error":"#N/A"},{"$f":"_xlfn.XLOOKUP(C278,Data!C:C,Data!G:G,0)","v":0},{"$f":"_xlfn.XLOOKUP(C278,Data!C:C,Data!F:F,0)","v":0},{"$f":"_xlfn.XLOOKUP(C278,Data!C:C,Data!H:H,0)","v":0},null,"",{"$f":"_xlfn.XLOOKUP(C278,Data!C:C,Data!F:F,\"\")","v":""},null,{"$error":"#N/A"}]
["23-3-2021","04:36:00","2021-03-23T04:36:00",null,{"$f":"_xlfn.XLOOKUP(C279,Data!C:C,Data!I:I)","v":{"$error":"#N/A"}},{"$error":"#N/A"},{"$f":"_xlfn.XLOOKUP(C279,Data!C:C,Data!G:G,0)","v":0},{"$f":"_xlfn.XLOOKUP(C279,Data!C:C,Data!F:F,0)","v":0},{"$f":"_xlfn.XLOOKUP(C279,Data!C:C,Data!H:H,0)","v":0},null,"",{"$f":"_xlfn.XLOOKUP(C279,Data!C:C,Data!F:F,\"\")","v":""},null,{"$error":"#N/A"}]
["23-3-2021","04:37:00","2021-03-23T04:37:00",null,{"$f":"_xlfn.XLOOKUP(C280,Data!C:C,Data!I:I)","v":{"$error":"#N/A"}},{"$error":"#N/A"},{"$f":"_xlfn.XLOOKUP(C280,Data!C:C,Data!G:G,0)","v":0},{"$f":"_xlfn.XLOOKUP(C280,Data!C:C,Data!F:F,0)","v":0},{"$f":"_xlfn.XLOOKUP(C280,Data!C:C,Data!H:H,0)","v":0},null,"",{"$f":"_xlfn.XLOOKUP(C280,Data!C:C,Data!F:F,\"\")","v":""},null,{"$error":"#N/A"}]
["23-3-2021","04:38:00","2021-03-23T04:38:00",null,{"$f":"_xlfn.XLOOKUP(C281,Data!C:C,Data!I:I)","v":{"$error":"#N/A"}},{"$error":"#N/A"},{"$f":"_xlfn.XLOOKUP(C281,Data!C:C,Data!G:G,0)","v":0},{"$f":"_xlfn.XLOOKUP(C281,Data!C:C,Data!F:F,0)","v":0},{"$f":"_xlfn.XLOOKUP(C281,Data!C:C,Data!H:H,0)","v":0},null,"",{"$f":"_xlfn.XLOOKUP(C281,Data!C:C,Data!F:F,\"\")","v":""},null,{"$error":"#N/A"}]
["23-3-2021","04:39:00","2021-03-23T04:39:00",null,{"$f":"_xlfn.XLOOKUP(C282,Data!C:C,Data!I:I)","v":{"$error":"#N/A"}},{"$error":"#N/A"},{"$f":"_xlfn.XLOOKUP(C282,Data!C:C,Data!G:G,0)","v":0},{"$f":"_xlfn.XLOOKUP(C282,Data!C:C,Data!F:F,0)","v":0},{"$f":"_xlfn.XLOOKUP(C282,Data!C:C,Data!H:H,0)","v":0},null,"",{"$f":"_xlfn.XLOOKUP(C282,Data!C:C,Data!F:F,\"\")","v":""},null,{"$error":"#N/A"}]
["23-3-2021","04:40:00","2021-03-23T04:40:00",null,{"$f":"_xlfn.XLOOKUP(C283,Data!C:C,Data!I:I)","v":{"$error":"#N/A"}},{"$error":"#N/A"},{"$f":"_xlfn.XLOOKUP(C283,Data!C:C,Data!G:G,0)","v":0},{"$f":"_xlfn.XLOOKUP(C283,Data!C:C,Data!F:F,0)","v":0},{"$f":"_xlfn.XLOOKUP(C283,Data!C:C,Data!H:H,0)","v":0},null,"",{"$f":"_xlfn.XLOOKUP(C283,Data!C:C,Data!F:F,\"\")","v":""},null,{"$error":"#N/A"}]
["23-3-2021","04:41:00","2021-03-23T04:41:00",null,{"$f":"_xlfn.XLOOKUP(C284,Data!C:C,Data!I:I)","v":{"$error":"#N/A"}},{"$error":"#N/A"},{"$f":"_xlfn.XLOOKUP(C284,Data!C:C,Data!G:G,0)","v":0},{"$f":"_xlfn.XLOOKUP(C284,Data!C:C,Data!F:F,0)","v":0},{"$f":"_xlfn.XLOOKUP(C284,Data!C:C,Data!H:H,0)","v":0},null,"",{"$f":"_xlfn.XLOOKUP(C284,Data!C:C,Data!F:F,\"\")","v":""},null,{"$error":"#N/A"}]
["23-3-2021","04:42:00","2021-03-23T04:42:00",null,{"$f":"_xlfn.XLOOKUP(C285,Data!C:C,Data!I:I)","v":{"$error":"#N/A"}},{"$error":"#N/A"},{"$f":"_xlfn.XLOOKUP(C285,Data!C:C,Data!G:G,0)","v":0},{"$f":"_xlfn.XLOOKUP(C285,Data!C:C,Data!F:F,0)","v":0},{"$f":"_xlfn.XLOOKUP(C285,Data!C:C,Data!H:H,0)","v":0},null,"",{"$f":"_xlfn.XLOOKUP(C285,Data!C:C,Data!F:F,\"\")","v":""},null,{"$error":"#N/A"}]
["23-3-2021","04:43:00","2021-03-23T04:43:00",null,{"$f":"_xlfn.XLOOKUP(C286,Data!C:C,Data!I:I)","v":{"$error":"#N/A"}},{"$error":"#N/A"},{"$f":"_xlfn.XLOOKUP(C286,Data!C:C,Data!G:G,0)","v":0},{"$f":"_xlfn.XLOOKUP(C286,Data!C:C,Data!F:F,0)","v":0},{"$f":"_xlfn.XLOOKUP(C286,Data!C:C,Data!H:H,0)","v":0},null,"",{"$f":"_xlfn.XLOOKUP(C286,Data!C:C,Data!F:F,\"\")","v":""},null,{"$error":"#N/A"}]
["23-3-2021","04:44:00","2021-03-23T04:44:00",null,{"$f":"_xlfn.XLOOKUP(C287,Data!C:C,Data!I:I)","v":{"$error":"#N/A"}},{"$error":"#N/A"},{"$f":"_xlfn.XLOOKUP(C287,Data!C:C,Data!G:G,0)","v":0},{"$f":"_xlfn.XLOOKUP(C287,Data!C:C,Data!F:F,0)","v":0},{"$f":"_xlfn.XLOOKUP(C287,Data!C:C,Data!H:H,0)","v":0},null,"",{"$f":"_xlfn.XLOOKUP(C287,Data!C:C,Data!F:F,\"\")","v":""},null,{"$error":"#N/A"}]
["23-3-2021","04:45:00","2021-03-23T04:45:00",null,{"$f":"_xlfn.XLOOKUP(C288,Data!C:C,Data!I:I)","v":{"$error":"#N/A"}},{"$error":"#N/A"},{"$f":"_xlfn.XLOOKUP(C288,Data!C:C,Data!G:G,0)","v":0},{"$f":"_xlfn.XLOOKUP(C288,Data!C:C,Data!F:F,0)","v":0},{"$f":"_xlfn.XLOOKUP(C288,Data!C:C,Data!H:H,0)","v":0},null,"",{"$f":"_xlfn.XLOOKUP(C288,Data!C:C,Data!F:F,\"\")","v":""},null,{"$error":"#N/A"}]
["23-3-2021","04:46:00","2021-03-23T04:46:00",null,{"$f":"_xlfn.XLOOKUP(C289,Data!C:C,Data!I:I)","v":{"$error":"#N/A"}},{"$error":"#N/A"},{"$f":"_xlfn.XLOOKUP(C289,Data!C:C,Data!G:G,0)","v":0},{"$f":"_xlfn.XLOOKUP(C289,Data!C:C,Data!F:F,0)","v":0},{"$f":"_xlfn.XLOOKUP(C289,Data!C:C,Data!H:H,0)","v":0},null,"",{"$f":"_xlfn.XLOOKUP(C289,Data!C:C,Data!F:F,\"\")","v":""},null,{"$error":"#N/A"}]
["23-3-2021","04:47:00","2021-03-23T04:47:00",null,{"$f":"_xlfn.XLOOKUP(C290,Data!C:C,Data!I:I)","v":{"$error":"#N/A"}},{"$error":"#N/A"},{"$f":"_xlfn.XLOOKUP(C290,Data!C:C,Data!G:G,0)","v":0},{"$f":"_xlfn.XLOOKUP(C290,Data!C:C,Data!F:F,0)","v":0},{"$f":"_xlfn.XLOOKUP(C290,Data!C:C,Data!H:H,0)","v":0},null,"",{"$f":"_xlfn.XLOOKUP(C290,Data!C:C,Data!F:F,\"\")","v":""},null,{"$error":"#N/A"}]
["23-3-2021","04:48:00","2021-03-23T04:48:00",null,{"$f":"_xlfn.XLOOKUP(C291,Data!C:C,Data!I:I)","v":{"$error":"#N/A"}},{"$error":"#N/A"},{"$f":"_xlfn.XLOOKUP(C291,Data!C:C,Data!G:G,0)","v":0},{"$f":"_xlfn.XLOOKUP(C291,Data!C:C,Data!F:F,0)","v":0},{"$f":"_xlfn.XLOOKUP(C291,Data!C:C,Data!H:H,0)","v":0},null,"",{"$f":"_xlfn.XLOOKUP(C291,Data!C:C,Data!F:F,\"\")","v":""},null,{"$error":"#N/A"}]
["23-3-2021","04:49:00","2021-03-23T04:49:00",null,{"$f":"_xlfn.XLOOKUP(C292,Data!C:C,Data!I:I)","v":{"$error":"#N/A"}},{"$error":"#N/A"},{"$f":"_xlfn.XLOOKUP(C292,Data!C:C,Data!G:G,0)","v":0},{"$f":"_xlfn.XLOOKUP(C292,Data!C:C,Data!F:F,0)","v":0},{"$f":"_xlfn.XLOOKUP(C292,Data!C:C,Data!H:H,0)","v":0},null,"",{"$f":"_xlfn.XLOOKUP(C292,Data!C:C,Data!F:F,\"\")","v":""},null,{"$error":"#N/A"}]
["23-3-2021","04:50:00","2021-03-23T04:50:00",null,{"$f":"_xlfn.XLOOKUP(C293,Data!C:C,Data!I:I)","v":{"$error":"#N/A"}},{"$error":"#N/A"},{"$f":"_xlfn.XLOOKUP(C293,Data!C:C,Data!G:G,0)","v":0},{"$f":"_xlfn.XLOOKUP(C293,Data!C:C,Data!F:F,0)","v":0},{"$f":"_xlfn.XLOOKUP(C293,Data!C:C,Data!H:H,0)","v":0},null,"",{"$f":"_xlfn.XLOOKUP(C293,Data!C:C,Data!F:F,\"\")","v":""},null,{"$error":"#N/A"}]
["23-3-2021","04:51:00","2021-03-23T04:51:00",null,{"$f":"_xlfn.XLOOKUP(C294,Data!C:C,Data!I:I)","v":{"$error":"#N/A"}},{"$error":"#N/A"},{"$f":"_xlfn.XLOOKUP(C294,Data!C:C,Data!G:G,0)","v":0},{"$f":"_xlfn.XLOOKUP(C294,Data!C:C,Data!F:F,0)","v":0},{"$f":"_xlfn.XLOOKUP(C294,Data!C:C,Data!H:H,0)","v":0},null,"",{"$f":"_xlfn.XLOOKUP(C294,Data!C:C,Data!F:F,\"\")","v":""},null,{"$error":"#N/A"}]
["23-3-2021","04:52:00","2021-03-23T04:52:00",null,{"$f":"_xlfn.XLOOKUP(C295,Data!C:C,Data!I:I)","v":{"$error":"#N/A"}},{"$error":"#N/A"},{"$f":"_xlfn.XLOOKUP(C295,Data!C:C,Data!G:G,0)","v":0},{"$f":"_xlfn.XLOOKUP(C295,Data!C:C,Data!F:F,0)","v":0},{"$f":"_xlfn.XLOOKUP(C295,Data!C:C,Data!H:H,0)","v":0},null,"",{"$f":"_xlfn.XLOOKUP(C295,Data!C:C,Data!F:F,\"\")","v":""},null,{"$error":"#N/A"}]
["23-3-2021","04:53:00","2021-03-23T04:53:00",null,{"$f":"_xlfn.XLOOKUP(C296,Data!C:C,Data!I:I)","v":{"$error":"#N/A"}},{"$error":"#N/A"},{"$f":"_xlfn.XLOOKUP(C296,Data!C:C,Data!G:G,0)","v":0},{"$f":"_xlfn.XLOOKUP(C296,Data!C:C,Data!F:F,0)","v":0},{"$f":"_xlfn.XLOOKUP(C296,Data!C:C,Data!H:H,0)","v":0},null,"",{"$f":"_xlfn.XLOOKUP(C296,Data!C:C,Data!F:F,\"\")","v":""},null,{"$error":"#N/A"}]
["23-3-2021","04:54:00","2021-03-23T04:54:00",null,{"$f":"_xlfn.XLOOKUP(C297,Data!C:C,Data!I:I)","v":{"$error":"#N/A"}},{"$error":"#N/A"},{"$f":"_xlfn.XLOOKUP(C297,Data!C:C,Data!G:G,0)","v":0},{"$f":"_xlfn.XLOOKUP(C297,Data!C:C,Data!F:F,0)","v":0},{"$f":"_xlfn.XLOOKUP(C297,Data!C:C,Data!H:H,0)","v":0},null,"",{"$f":"_xlfn.XLOOKUP(C297,Data!C:C,Data!F:F,\"\")","v":""},null,{"$error":"#N/A"}]
["23-3-2021","04:55:00","2021-03-23T04:55:00",null,{"$f":"_xlfn.XLOOKUP(C298,Data!C:C,Data!I:I)","v":{"$error":"#N/A"}},{"$error":"#N/A"},{"$f":"_xlfn.XLOOKUP(C298,Data!C:C,Data!G:G,0)","v":0},{"$f":"_xlfn.XLOOKUP(C298,Data!C:C,Data!F:F,0)","v":0},{"$f":"_xlfn.XLOOKUP(C298,Data!C:C,Data!H:H,0)","v":0},null,"",{"$f":"_xlfn.XLOOKUP(C298,Data!C:C,Data!F:F,\"\")","v":""},null,{"$error":"#N/A"}]
["23-3-2021","04:56:00","2021-03-23T04:56:00",null,{"$f":"_xlfn.XLOOKUP(C299,Data!C:C,Data!I:I)","v":{"$error":"#N/A"}},{"$error":"#N/A"},{"$f":"_xlfn.XLOOKUP(C299,Data!C:C,Data!G:G,0)","v":0},{"$f":"_xlfn.XLOOKUP(C299,Data!C:C,Data!F:F,0)","v":0},{"$f":"_xlfn.XLOOKUP(C299,Data!C:C,Data!H:H,0)","v":0},null,"",{"$f":"_xlfn.XLOOKUP(C299,Data!C:C,Data!F:F,\"\")","v":""},null,{"$error":"#N/A"}]
["23-3-2021","04:57:00","2021-03-23T04:57:00",null,{"$f":"_xlfn.XLOOKUP(C300,Data!C:C,Data!I:I)","v":{"$error":"#N/A"}},{"$error":"#N/A"},{"$f":"_xlfn.XLOOKUP(C300,Data!C:C,Data!G:G,0)","v":0},{"$f":"_xlfn.XLOOKUP(C300,Data!C:C,Data!F:F,0)","v":0},{"$f":"_xlfn.XLOOKUP(C300,Data!C:C,Data!H:H,0)","v":0},null,"",{"$f":"_xlfn.XLOOKUP(C300,Data!C:C,Data!F:F,\"\")","v":""},null,{"$error":"#N/A"}]
["23-3-2021","04:58:00","2021-03-23T04:58:00",null,{"$f":"_xlfn.XLOOKUP(C301,Data!C:C,Data!I:I)","v":{"$error":"#N/A"}},{"$error":"#N/A"},{"$f":"_xlfn.XLOOKUP(C301,Data!C:C,Data!G:G,0)","v":0},{"$f":"_xlfn.XLOOKUP(C301,Data!C:C,Data!F:F,0)","v":0},{"$f":"_xlfn.XLOOKUP(C301,Data!C:C,Data!H:H,0)","v":0},null,"",{"$f":"_xlfn.XLOOKUP(C301,Data!C:C,Data!F:F,\"\")","v":""},null,{"$error":"#N/A"}]
["23-3-2021","04:59:00","2021-03-23T04:59:00",null,{"$f":"_xlfn.XLOOKUP(C302,Data!C:C,Data!I:I)","v":{"$error":"#N/A"}},{"$error":"#N/A"},{"$f":"_xlfn.XLOOKUP(C302,Data!C:C,Data!G:G,0)","v":0},{"$f":"_xlfn.XLOOKUP(C302,Data!C:C,Data!F:F,0)","v":0},{"$f":"_xlfn.XLOOKUP(C302,Data!C:C,Data!H:H,0)","v":0},null,"",{"$f":"_xlfn.XLOOKUP(C302,Data!C:C,Data!F:F,\"\")","v":""},null,{"$error":"#N/A"}]
["23-3-2021","05:00:00","2021-03-23T05:00:00",null,{"$f":"_xlfn.XLOOKUP(C303,Data!C:C,Data!I:I)","v":{"$error":"#N/A"}},{"$error":"#N/A"},{"$f":"_xlfn.XLOOKUP(C303,Data!C:C,Data!G:G,0)","v":0},{"$f":"_xlfn.XLOOKUP(C303,Data!C:C,Data!F:F,0)","v":0},{"$f":"_xlfn.XLOOKUP(C303,Data!C:C,Data!H:H,0)","v":0},null,"",{"$f":"_xlfn.XLOOKUP(C303,Data!C:C,Data!F:F,\"\")","v":""},null,{"$error":"#N/A"}]
["23-3-2021","05:01:00","2021-03-23T05:01:00",null,{"$f":"_xlfn.XLOOKUP(C304,Data!C:C,Data!I:I)","v":{"$error":"#N/A"}},{"$error":"#N/A"},{"$f":"_xlfn.XLOOKUP(C304,Data!C:C,Data!G:G,0)","v":0},{"$f":"_xlfn.XLOOKUP(C304,Data!C:C,Data!F:F,0)","v":0},{"$f":"_xlfn.XLOOKUP(C304,Data!C:C,Data!H:H,0)","v":0},null,"",{"$f":"_xlfn.XLOOKUP(C304,Data!C:C,Data!F:F,\"\")","v":""},null,{"$error":"#N/A"}]
["23-3-2021","05:02:00","2021-03-23T05:02:00",null,{"$f":"_xlfn.XLOOKUP(C305,Data!C:C,Data!I:I)","v":{"$error":"#N/A"}},{"$error":"#N/A"},{"$f":"_xlfn.XLOOKUP(C305,Data!C:C,Data!G:G,0)","v":0},{"$f":"_xlfn.XLOOKUP(C305,Data!C:C,Data!F:F,0)","v":0},{"$f":"_xlfn.XLOOKUP(C305,Data!C:C,Data!H:H,0)","v":0},null,"",{"$f":"_xlfn.XLOOKUP(C305,Data!C:C,Data!F:F,\"\")","v":""},null,{"$error":"#N/A"}]
["23-3-2021","05:03:00","2021-03-23T05:03:00",null,{"$f":"_xlfn.XLOOKUP(C306,Data!C:C,Data!I:I)","v":{"$error":"#N/A"}},{"$error":"#N/A"},{"$f":"_xlfn.XLOOKUP(C306,Data!C:C,Data!G:G,0)","v":0},{"$f":"_xlfn.XLOOKUP(C306,Data!C:C,Data!F:F,0)","v":0},{"$f":"_xlfn.XLOOKUP(C306,Data!C:C,Data!H:H,0)","v":0},null,"",{"$f":"_xlfn.XLOOKUP(C306,Data!C:C,Data!F:F,\"\")","v":""},null,{"$error":"#N/A"}]
["23-3-2021","05:04:00","2021-03-23T05:04:00",null,{"$f":"_xlfn.XLOOKUP(C307,Data!C:C,Data!I:I)","v":{"$error":"#N/A"}},{"$error":"#N/A"},{"$f":"_xlfn.XLOOKUP(C307,Data!C:C,Data!G:G,0)","v":0},{"$f":"_xlfn.XLOOKUP(C307,Data!C:C,Data!F:F,0)","v":0},{"$f":"_xlfn.XLOOKUP(C307,Data!C:C,Data!H:H,0)","v":0},null,"",{"$f":"_xlfn.XLOOKUP(C307,Data!C:C,Data!F:F,\"\")","v":""},null,{"$error":"#N/A"}]
["23-3-2021","05:05:00","2021-03-23T05:05:00",null,{"$f":"_xlfn.XLOOKUP(C308,Data!C:C,Data!I:I)","v":{"$error":"#N/A"}},{"$error":"#N/A"},{"$f":"_xlfn.XLOOKUP(C308,Data!C:C,Data!G:G,0)","v":0},{"$f":"_xlfn.XLOOKUP(C308,Data!C:C,Data!F:F,0)","v":0},{"$f":"_xlfn.XLOOKUP(C308,Data!C:C,Data!H:H,0)","v":0},null,"",{"$f":"_xlfn.XLOOKUP(C308,Data!C:C,Data!F:F,\"\")","v":""},null,{"$error":"#N/A"}]
["23-3-2021","05:06:00","2021-03-23T05:06:00",null,{"$f":"_xlfn.XLOOKUP(C309,Data!C:C,Data!I:I)","v":{"$error":"#N/A"}},{"$error":"#N/A"},{"$f":"_xlfn.XLOOKUP(C309,Data!C:C,Data!G:G,0)","v":0},{"$f":"_xlfn.XLOOKUP(C309,Data!C:C,Data!F:F,0)","v":0},{"$f":"_xlfn.XLOOKUP(C309,Data!C:C,Data!H:H,0)","v":0},null,"",{"$f":"_xlfn.XLOOKUP(C309,Data!C:C,Data!F:F,\"\")","v":""},null,{"$error":"#N/A"}]
["23-3-2021","05:07:00","2021-03-23T05:07:00",null,{"$f":"_xlfn.XLOOKUP(C310,Data!C:C,Data!I:I)","v":{"$error":"#N/A"}},{"$error":"#N/A"},{"$f":"_xlfn.XLOOKUP(C310,Data!C:C,Data!G:G,0)","v":0},{"$f":"_xlfn.XLOOKUP(C310,Data!C:C,Data!F:F,0)","v":0},{"$f":"_xlfn.XLOOKUP(C310,Data!C:C,Data!H:H,0)","v":0},null,"",{"$f":"_xlfn.XLOOKUP(C310,Data!C:C,Data!F:F,\"\")","v":""},null,{"$error":"#N/A"}]
["23-3-2021","05:08:00","2021-03-23T05:08:00",null,{"$f":"_xlfn.XLOOKUP(C311,Data!C:C,Data!I:I)","v":{"$error":"#N/A"}},{"$error":"#N/A"},{"$f":"_xlfn.XLOOKUP(C311,Data!C:C,Data!G:G,0)","v":0},{"$f":"_xlfn.XLOOKUP(C311,Data!C:C,Data!F:F,0)","v":0},{"$f":"_xlfn.XLOOKUP(C311,Data!C:C,Data!H:H,0)","v":0},null,"",{"$f":"_xlfn.XLOOKUP(C311,Data!C:C,Data!F:F,\"\")","v":""},null,{"$error":"#N/A"}]
["23-3-2021","05:09:00","2021-03-23T05:09:00",null,{"$f":"_xlfn.XLOOKUP(C312,Data!C:C,Data!I:I)","v":{"$error":"#N/A"}},{"$error":"#N/A"},{"$f":"_xlfn.XLOOKUP(C312,Data!C:C,Data!G:G,0)","v":0},{"$f":"_xlfn.XLOOKUP(C312,Data!C:C,Data!F:F,0)","v":0},{"$f":"_xlfn.XLOOKUP(C312,Data!C:C,Data!H:H,0)","v":0},null,"",{"$f":"_xlfn.XLOOKUP(C312,Data!C:C,Data!F:F,\"\")","v":""},null,{"$error":"#N/A"}]
["23-3-2021","05:10:00","2021-03-23T05:10:00",null,{"$f":"_xlfn.XLOOKUP(C313,Data!C:C,Data!I:I)","v":{"$error":"#N/A"}},{"$error":"#N/A"},{"$f":"_xlfn.XLOOKUP(C313,Data!C:C,Data!G:G,0)","v":0},{"$f":"_xlfn.XLOOKUP(C313,Data!C:C,Data!F:F,0)","v":0},{"$f":"_xlfn.XLOOKUP(C313,Data!C:C,Data!H:H,0)","v":0},null,"",{"$f":"_xlfn.XLOOKUP(C313,Data!C:C,Data!F:F,\"\")","v":""},null,{"$error":"#N/A"}]
["23-3-2021","05:11:00","2021-03-23T05:11:00",null,{"$f":"_xlfn.XLOOKUP(C314,Data!C:C,Data!I:I)","v":{"$error":"#N/A"}},{"$error":"#N/A"},{"$f":"_xlfn.XLOOKUP(C314,Data!C:C,Data!G:G,0)","v":0},{"$f":"_xlfn.XLOOKUP(C314,Data!C:C,Data!F:F,0)","v":0},{"$f":"_xlfn.XLOOKUP(C314,Data!C:C,Data!H:H,0)","v":0},null,"",{"$f":"_xlfn.XLOOKUP(C314,Data!C:C,Data!F:F,\"\")","v":""},null,{"$error":"#N/A"}]
["23-3-2021","05:12:00","2021-03-23T05:12:00",null,{"$f":"_xlfn.XLOOKUP(C315,Data!C:C,Data!I:I)","v":{"$error":"#N/A"}},{"$error":"#N/A"},{"$f":"_xlfn.XLOOKUP(C315,Data!C:C,Data!G:G,0)","v":0},{"$f":"_xlfn.XLOOKUP(C315,Data!C:C,Data!F:F,0)","v":0},{"$f":"_xlfn.XLOOKUP(C315,Data!C:C,Data!H:H,0)","v":0},null,"",{"$f":"_xlfn.XLOOKUP(C315,Data!C:C,Data!F:F,\"\")","v":""},null,{"$error":"#N/A"}]
["23-3-2021","05:13:00","2021-03-23T05:13:00",null,{"$f":"_xlfn.XLOOKUP(C316,Data!C:C,Data!I:I)","v":{"$error":"#N/A"}},{"$error":"#N/A"},{"$f":"_xlfn.XLOOKUP(C316,Data!C:C,Data!G:G,0)","v":0},{"$f":"_xlfn.XLOOKUP(C316,Data!C:C,Data!F:F,0)","v":0},{"$f":"_xlfn.XLOOKUP(C316,Data!C:C,Data!H:H,0)","v":0},null,"",{"$f":"_xlfn.XLOOKUP(C316,Data!C:C,Data!F:F,\"\")","v":""},null,{"$error":"#N/A"}]
["23-3-2021","05:14:00","2021-03-23T05:14:00",null,{"$f":"_xlfn.XLOOKUP(C317,Data!C:C,Data!I:I)","v":{"$error":"#N/A"}},{"$error":"#N/A"},{"$f":"_xlfn.XLOOKUP(C317,Data!C:C,Data!G:G,0)","v":0},{"$f":"_xlfn.XLOOKUP(C317,Data!C:C,Data!F:F,0)","v":0},{"$f":"_xlfn.XLOOKUP(C317,Data!C:C,Data!H:H,0)","v":0},null,"",{"$f":"_xlfn.XLOOKUP(C317,Data!C:C,Data!F:F,\"\")","v":""},null,{"$error":"#N/A"}]
["23-3-2021","05:15:00","2021-03-23T05:15:00",null,{"$f":"_xlfn.XLOOKUP(C318,Data!C:C,Data!I:I)","v":{"$error":"#N/A"}},{"$error":"#N/A"},{"$f":"_xlfn.XLOOKUP(C318,Data!C:C,Data!G:G,0)","v":0},{"$f":"_xlfn.XLOOKUP(C318,Data!C:C,Data!F:F,0)","v":0},{"$f":"_xlfn.XLOOKUP(C318,Data!C:C,Data!H:H,0)","v":0},null,"",{"$f":"_xlfn.XLOOKUP(C318,Data!C:C,Data!F:F,\"\")","v":""},null,{"$error":"#N/A"}]
["23-3-2021","05:16:00","2021-03-23T05:16:00",null,{"$f":"_xlfn.XLOOKUP(C319,Data!C:C,Data!I:I)","v":{"$error":"#N/A"}},{"$error":"#N/A"},{"$f":"_xlfn.XLOOKUP(C319,Data!C:C,Data!G:G,0)","v":0},{"$f":"_xlfn.XLOOKUP(C319,Data!C:C,Data!F:F,0)","v":0},{"$f":"_xlfn.XLOOKUP(C319,Data!C:C,Data!H:H,0)","v":0},null,"",{"$f":"_xlfn.XLOOKUP(C319,Data!C:C,Data!F:F,\"\")","v":""},null,{"$error":"#N/A"}]
["23-3-2021","05:17:00","2021-03-23T05:17:00",null,{"$f":"_xlfn.XLOOKUP(C320,Data!C:C,Data!I:I)","v":{"$error":"#N/A"}},{"$error":"#N/A"},{"$f":"_xlfn.XLOOKUP(C320,Data!C:C,Data!G:G,0)","v":0},{"$f":"_xlfn.XLOOKUP(C320,Data!C:C,Data!F:F,0)","v":0},{"$f":"_xlfn.XLOOKUP(C320,Data!C:C,Data!H:H,0)","v":0},null,"",{"$f":"_xlfn.XLOOKUP(C320,Data!C:C,Data!F:F,\"\")","v":""},null,{"$error":"#N/A"}]
["23-3-2021","05:18:00","2021-03-23T05:18:00",null,{"$f":"_xlfn.XLOOKUP(C321,Data!C:C,Data!I:I)","v":{"$error":"#N/A"}},{"$error":"#N/A"},{"$f":"_xlfn.XLOOKUP(C321,Data!C:C,Data!G:G,0)","v":0},{"$f":"_xlfn.XLOOKUP(C321,Data!C:C,Data!F:F,0)","v":0},{"$f":"_xlfn.XLOOKUP(C321,Data!C:C,Data!H:H,0)","v":0},null,"",{"$f":"_xlfn.XLOOKUP(C321,Data!C:C,Data!F:F,\"\")","v":""},null,{"$error":"#N/A"}]
["23-3-2021","05:19:00","2021-03-23T05:19:00",null,{"$f":"_xlfn.XLOOKUP(C322,Data!C:C,Data!I:I)","v":{"$error":"#N/A"}},{"$error":"#N/A"},{"$f":"_xlfn.XLOOKUP(C322,Data!C:C,Data!G:G,0)","v":0},{"$f":"_xlfn.XLOOKUP(C322,Data!C:C,Data!F:F,0)","v":0},{"$f":"_xlfn.XLOOKUP(C322,Data!C:C,Data!H:H,0)","v":0},null,"",{"$f":"_xlfn.XLOOKUP(C322,Data!C:C,Data!F:F,\"\")","v":""},null,{"$error":"#N/A"}]
["23-3-2021","05:20:00",{"$f":"A323+B323","v":"2021-03-23T05:20:00"},null,{"$f":"_xlfn.XLOOKUP(C323,Data!C:C,Data!I:I)","v":{"$error":"#N/A"}},{"$error":"#N/A"},{"$f":"_xlfn.XLOOKUP(C323,Data!C:C,Data!G:G,0)","v":0},{"$f":"_xlfn.XLOOKUP(C323,Data!C:C,Data!F:F,0)","v":0},{"$f":"_xlfn.XLOOKUP(C323,Data!C:C,Data!H:H,0)","v":0},null,"",{"$f":"_xlfn.XLOOKUP(C323,Data!C:C,Data!F:F,\"\")","v":""},null,{"$error":"#N/A"}]
[{"$f":"$A$3","v":"23-3-2021"},"05:21:00","2021-03-23T05:21:00",null,{"$f":"_xlfn.XLOOKUP(C324,Data!C:C,Data!I:I)","v":{"$error":"#N/A"}},{"$f":"IF(E324=255,F323,E324)","v":{"$error":"#N/A"}},{"$f":"_xlfn.XLOOKUP(C324,Data!C:C,Data!G:G,0)","v":0},{"$f":"_xlfn.XLOOKUP(C324,Data!C:C,Data!F:F,0)","v":0},{"$f":"_xlfn.XLOOKUP(C324,Data!C:C,Data!H:H,0)","v":0},null,{"$f":"IFERROR(IF(F324=\"#N/A\",\"\",F324),\"\")","v":""},{"$f":"_xlfn.XLOOKUP(C324,Data!C:C,Data!F:F,\"\")","v":""},null,{"$error":"#N/A"}]
["23-3-2021","05:22:00","2021-03-23T05:22:00",null,{"$f":"_xlfn.XLOOKUP(C325,Data!C:C,Data!I:I)","v":{"$error":"#N/A"}},{"$error":"#N/A"},{"$f":"_xlfn.XLOOKUP(C325,Data!C:C,Data!G:G,0)","v":0},{"$f":"_xlfn.XLOOKUP(C325,Data!C:C,Data!F:F,0)","v":0},{"$f":"_xlfn.XLOOKUP(C325,Data!C:C,Data!H:H,0)","v":0},null,"",{"$f":"_xlfn.XLOOKUP(C325,Data!C:C,Data!F:F,\"\")","v":""},null,{"$error":"#N/A"}]
["23-3-2021","05:23:00","2021-03-23T05:23:00",null,{"$f":"_xlfn.XLOOKUP(C326,Data!C:C,Data!I:I)","v":{"$error":"#N/A"}},{"$error":"#N/A"},{"$f":"_xlfn.XLOOKUP(C326,Data!C:C,Data!G:G,0)","v":0},{"$f":"_xlfn.XLOOKUP(C326,Data!C:C,Data!F:F,0)","v":0},{"$f":"_xlfn.XLOOKUP(C326,Data!C:C,Data!H:H,0)","v":0},null,"",{"$f":"_xlfn.XLOOKUP(C326,Data!C:C,Data!F:F,\"\")","v":""},null,{"$error":"#N/A"}]
["23-3-2021","05:24:00","2021-03-23T05:24:00",null,{"$f":"_xlfn.XLOOKUP(C327,Data!C:C,Data!I:I)","v":{"$error":"#N/A"}},{"$error":"#N/A"},{"$f":"_xlfn.XLOOKUP(C327,Data!C:C,Data!G:G,0)","v":0},{"$f":"_xlfn.XLOOKUP(C327,Data!C:C,Data!F:F,0)","v":0},{"$f":"_xlfn.XLOOKUP(C327,Data!C:C,Data!H:H,0)","v":0},null,"",{"$f":"_xlfn.XLOOKUP(C327,Data!C:C,Data!F:F,\"\")","v":""},null,{"$f":"IF(F327=\"\",\"\",AVERAGE(F323:F331))","v":{"$error":"#N/A"}}]
["23-3-2021","05:25:00","2021-03-23T05:25:00",null,{"$f":"_xlfn.XLOOKUP(C328,Data!C:C,Data!I:I)","v":{"$error":"#N/A"}},{"$error":"#N/A"},{"$f":"_xlfn.XLOOKUP(C328,Data!C:C,Data!G:G,0)","v":0},{"$f":"_xlfn.XLOOKUP(C328,Data!C:C,Data!F:F,0)","v":0},{"$f":"_xlfn.XLOOKUP(C328,Data!C:C,Data!H:H,0)","v":0},null,"",{"$f":"_xlfn.XLOOKUP(C328,Data!C:C,Data!F:F,\"\")","v":""},null,{"$error":"#N/A"}]
["23-3-2021","05:26:00","2021-03-23T05:26:00",null,{"$f":"_xlfn.XLOOKUP(C329,Data!C:C,Data!I:I)","v":{"$error":"#N/A"}},{"$error":"#N/A"},{"$f":"_xlfn.XLOOKUP(C329,Data!C:C,Data!G:G,0)","v":0},{"$f":"_xlfn.XLOOKUP(C329,Data!C:C,Data!F:F,0)","v":0},{"$f":"_xlfn.XLOOKUP(C329,Data!C:C,Data!H:H,0)","v":0},null,"",{"$f":"_xlfn.XLOOKUP(C329,Data!C:C,Data!F:F,\"\")","v":""},null,{"$error":"#N/A"}]
["23-3-2021","05:27:00","2021-03-23T05:27:00",null,{"$f":"_xlfn.XLOOKUP(C330,Data!C:C,Data!I:I)","v":{"$error":"#N/A"}},{"$error":"#N/A"},{"$f":"_xlfn.XLOOKUP(C330,Data!C:C,Data!G:G,0)","v":0},{"$f":"_xlfn.XLOOKUP(C330,Data!C:C,Data!F:F,0)","v":0},{"$f":"_xlfn.XLOOKUP(C330,Data!C:C,Data!H:H,0)","v":0},null,"",{"$f":"_xlfn.XLOOKUP(C330,Data!C:C,Data!F:F,\"\")","v":""},null,{"$error":"#N/A"}]
["23-3-2021","05:28:00","2021-03-23T05:28:00",null,{"$f":"_xlfn.XLOOKUP(C331,Data!C:C,Data!I:I)","v":{"$error":"#N/A"}},{"$error":"#N/A"},{"$f":"_xlfn.XLOOKUP(C331,Data!C:C,Data!G:G,0)","v":0},{"$f":"_xlfn.XLOOKUP(C331,Data!C:C,Data!F:F,0)","v":0},{"$f":"_xlfn.XLOOKUP(C331,Data!C:C,Data!H:H,0)","v":0},null,"",{"$f":"_xlfn.XLOOKUP(C331,Data!C:C,Data!F:F,\"\")","v":""},null,{"$error":"#N/A"}]
["23-3-2021","05:29:00","2021-03-23T05:29:00",null,{"$f":"_xlfn.XLOOKUP(C332,Data!C:C,Data!I:I)","v":{"$error":"#N/A"}},{"$error":"#N/A"},{"$f":"_xlfn.XLOOKUP(C332,Data!C:C,Data!G:G,0)","v":0},{"$f":"_xlfn.XLOOKUP(C332,Data!C:C,Data!F:F,0)","v":0},{"$f":"_xlfn.XLOOKUP(C332,Data!C:C,Data!H:H,0)","v":0},null,"",{"$f":"_xlfn.XLOOKUP(C332,Data!C:C,Data!F:F,\"\")","v":""},null,{"$error":"#N/A"}]
["23-3-2021","05:30:00","2021-03-23T05:30:00",null,{"$f":"_xlfn.XLOOKUP(C333,Data!C:C,Data!I:I)","v":{"$error":"#N/A"}},{"$error":"#N/A"},{"$f":"_xlfn.XLOOKUP(C333,Data!C:C,Data!G:G,0)","v":0},{"$f":"_xlfn.XLOOKUP(C333,Data!C:C,Data!F:F,0)","v":0},{"$f":"_xlfn.XLOOKUP(C333,Data!C:C,Data!H:H,0)","v":0},null,"",{"$f":"_xlfn.XLOOKUP(C333,Data!C:C,Data!F:F,\"\")","v":""},null,{"$error":"#N/A"}]
["23-3-2021","05:31:00","2021-03-23T05:31:00",null,{"$f":"_xlfn.XLOOKUP(C334,Data!C:C,Data!I:I)","v":{"$error":"#N/A"}},{"$error":"#N/A"},{"$f":"_xlfn.XLOOKUP(C334,Data!C:C,Data!G:G,0)","v":0},{"$f":"_xlfn.XLOOKUP(C334,Data!C:C,Data!F:F,0)","v":0},{"$f":"_xlfn.XLOOKUP(C334,Data!C:C,Data!H:H,0)","v":0},null,"",{"$f":"_xlfn.XLOOKUP(C334,Data!C:C,Data!F:F,\"\")","v":""},null,{"$error":"#N/A"}]
["23-3-2021","05:32:00","2021-03-23T05:32:00",null,{"$f":"_xlfn.XLOOKUP(C335,Data!C:C,Data!I:I)","v":{"$error":"#N/A"}},{"$error":"#N/A"},{"$f":"_xlfn.XLOOKUP(C335,Data!C:C,Data!G:G,0)","v":0},{"$f":"_xlfn.XLOOKUP(C335,Data!C:C,Data!F:F,0)","v":0},{"$f":"_xlfn.XLOOKUP(C335,Data!C:C,Data!H:H,0)","v":0},null,"",{"$f":"_xlfn.XLOOKUP(C335,Data!C:C,Data!F:F,\"\")","v":""},null,{"$error":"#N/A"}]
["23-3-2021","05:33:00","2021-03-23T05:33:00",null,{"$f":"_xlfn.XLOOKUP(C336,Data!C:C,Data!I:I)","v":{"$error":"#N/A"}},{"$error":"#N/A"},{"$f":"_xlfn.XLOOKUP(C336,Data!C:C,Data!G:G,0)","v":0},{"$f":"_xlfn.XLOOKUP(C336,Data!C:C,Data!F:F,0)","v":0},{"$f":"_xlfn.XLOOKUP(C336,Data!C:C,Data!H:H,0)","v":0},null,"",{"$f":"_xlfn.XLOOKUP(C336,Data!C:C,Data!F:F,\"\")","v":""},null,{"$error":"#N/A"}]
["23-3-2021","05:34:00","2021-03-23T05:34:00",null,{"$f":"_xlfn.XLOOKUP(C337,Data!C:C,Data!I:I)","v":{"$error":"#N/A"}},{"$error":"#N/A"},{"$f":"_xlfn.XLOOKUP(C337,Data!C:C,Data!G:G,0)","v":0},{"$f":"_xlfn.XLOOKUP(C337,Data!C:C,Data!F:F,0)","v":0},{"$f":"_xlfn.XLOOKUP(C337,Data!C:C,Data!H:H,0)","v":0},null,"",{"$f":"_xlfn.XLOOKUP(C337,Data!C:C,Data!F:F,\"\")","v":""},null,{"$error":"#N/A"}]
["23-3-2021","05:35:00","2021-03-23T05:35:00",null,{"$f":"_xlfn.XLOOKUP(C338,Data!C:C,Data!I:I)","v":{"$error":"#N/A"}},{"$error":"#N/A"},{"$f":"_xlfn.XLOOKUP(C338,Data!C:C,Data!G:G,0)","v":0},{"$f":"_xlfn.XLOOKUP(C338,Data!C:C,Data!F:F,0)","v":0},{"$f":"_xlfn.XLOOKUP(C338,Data!C:C,Data!H:H,0)","v":0},null,"",{"$f":"_xlfn.XLOOKUP(C338,Data!C:C,Data!F:F,\"\")","v":""},null,{"$error":"#N/A"}]
["23-3-2021","05:36:00","2021-03-23T05:36:00",null,{"$f":"_xlfn.XLOOKUP(C339,Data!C:C,Data!I:I)","v":{"$error":"#N/A"}},{"$error":"#N/A"},{"$f":"_xlfn.XLOOKUP(C339,Data!C:C,Data!G:G,0)","v":0},{"$f":"_xlfn.XLOOKUP(C339,Data!C:C,Data!F:F,0)","v":0},{"$f":"_xlfn.XLOOKUP(C339,Data!C:C,Data!H:H,0)","v":0},null,"",{"$f":"_xlfn.XLOOKUP(C339,Data!C:C,Data!F:F,\"\")","v":""},null,{"$error":"#N/A"}]
["23-3-2021","05:37:00","2021-03-23T05:37:00",null,{"$f":"_xlfn.XLOOKUP(C340,Data!C:C,Data!I:I)","v":{"$error":"#N/A"}},{"$error":"#N/A"},{"$f":"_xlfn.XLOOKUP(C340,Data!C:C,Data!G:G,0)","v":0},{"$f":"_xlfn.XLOOKUP(C340,Data!C:C,Data!F:F,0)","v":0},{"$f":"_xlfn.XLOOKUP(C340,Data!C:C,Data!H:H,0)","v":0},null,"",{"$f":"_xlfn.XLOOKUP(C340,Data!C:C,Data!F:F,\"\")","v":""},null,{"$error":"#N/A"}]
["23-3-2021","05:38:00","2021-03-23T05:38:00",null,{"$f":"_xlfn.XLOOKUP(C341,Data!C:C,Data!I:I)","v":{"$error":"#N/A"}},{"$error":"#N/A"},{"$f":"_xlfn.XLOOKUP(C341,Data!C:C,Data!G:G,0)","v":0},{"$f":"_xlfn.XLOOKUP(C341,Data!C:C,Data!F:F,0)","v":0},{"$f":"_xlfn.XLOOKUP(C341,Data!C:C,Data!H:H,0)","v":0},null,"",{"$f":"_xlfn.XLOOKUP(C341,Data!C:C,Data!F:F,\"\")","v":""},null,{"$error":"#N/A"}]
["23-3-2021","05:39:00","2021-03-23T05:39:00",null,{"$f":"_xlfn.XLOOKUP(C342,Data!C:C,Data!I:I)","v":{"$error":"#N/A"}},{"$error":"#N/A"},{"$f":"_xlfn.XLOOKUP(C342,Data!C:C,Data!G:G,0)","v":0},{"$f":"_xlfn.XLOOKUP(C342,Data!C:C,Data!F:F,0)","v":0},{"$f":"_xlfn.XLOOKUP(C342,Data!C:C,Data!H:H,0)","v":0},null,"",{"$f":"_xlfn.XLOOKUP(C342,Data!C:C,Data!F:F,\"\")","v":""},null,{"$error":"#N/A"}]
["23-3-2021","05:40:00","2021-03-23T05:40:00",null,{"$f":"_xlfn.XLOOKUP(C343,Data!C:C,Data!I:I)","v":{"$error":"#N/A"}},{"$error":"#N/A"},{"$f":"_xlfn.XLOOKUP(C343,Data!C:C,Data!G:G,0)","v":0},{"$f":"_xlfn.XLOOKUP(C343,Data!C:C,Data!F:F,0)","v":0},{"$f":"_xlfn.XLOOKUP(C343,Data!C:C,Data!H:H,0)","v":0},null,"",{"$f":"_xlfn.XLOOKUP(C343,Data!C:C,Data!F:F,\"\")","v":""},null,{"$error":"#N/A"}]
["23-3-2021","05:41:00","2021-03-23T05:41:00",null,{"$f":"_xlfn.XLOOKUP(C344,Data!C:C,Data!I:I)","v":{"$error":"#N/A"}},{"$error":"#N/A"},{"$f":"_xlfn.XLOOKUP(C344,Data!C:C,Data!G:G,0)","v":0},{"$f":"_xlfn.XLOOKUP(C344,Data!C:C,Data!F:F,0)","v":0},{"$f":"_xlfn.XLOOKUP(C344,Data!C:C,Data!H:H,0)","v":0},null,"",{"$f":"_xlfn.XLOOKUP(C344,Data!C:C,Data!F:F,\"\")","v":""},null,{"$error":"#N/A"}]
["23-3-2021","05:42:00","2021-03-23T05:42:00",null,{"$f":"_xlfn.XLOOKUP(C345,Data!C:C,Data!I:I)","v":{"$error":"#N/A"}},{"$error":"#N/A"},{"$f":"_xlfn.XLOOKUP(C345,Data!C:C,Data!G:G,0)","v":0},{"$f":"_xlfn.XLOOKUP(C345,Data!C:C,Data!F:F,0)","v":0},{"$f":"_xlfn.XLOOKUP(C345,Data!C:C,Data!H:H,0)","v":0},null,"",{"$f":"_xlfn.XLOOKUP(C345,Data!C:C,Data!F:F,\"\")","v":""},null,{"$error":"#N/A"}]
["23-3-2021","05:43:00","2021-03-23T05:43:00",null,{"$f":"_xlfn.XLOOKUP(C346,Data!C:C,Data!I:I)","v":{"$error":"#N/A"}},{"$error":"#N/A"},{"$f":"_xlfn.XLOOKUP(C346,Data!C:C,Data!G:G,0)","v":0},{"$f":"_xlfn.XLOOKUP(C346,Data!C:C,Data!F:F,0)","v":0},{"$f":"_xlfn.XLOOKUP(C346,Data!C:C,Data!H:H,0)","v":0},null,"",{"$f":"_xlfn.XLOOKUP(C346,Data!C:C,Data!F:F,\"\")","v":""},null,{"$error":"#N/A"}]
["23-3-2021","05:44:00","2021-03-23T05:44:00",null,{"$f":"_xlfn.XLOOKUP(C347,Data!C:C,Data!I:I)","v":{"$error":"#N/A"}},{"$error":"#N/A"},{"$f":"_xlfn.XLOOKUP(C347,Data!C:C,Data!G:G,0)","v":0},{"$f":"_xlfn.XLOOKUP(C347,Data!C:C,Data!F:F,0)","v":0},{"$f":"_xlfn.XLOOKUP(C347,Data!C:C,Data!H:H,0)","v":0},null,"",{"$f":"_xlfn.XLOOKUP(C347,Data!C:C,Data!F:F,\"\")","v":""},null,{"$error":"#N/A"}]
["23-3-2021","05:45:00","2021-03-23T05:45:00",null,{"$f":"_xlfn.XLOOKUP(C348,Data!C:C,Data!I:I)","v":{"$error":"#N/A"}},{"$error":"#N/A"},{"$f":"_xlfn.XLOOKUP(C348,Data!C:C,Data!G:G,0)","v":0},{"$f":"_xlfn.XLOOKUP(C348,Data!C:C,Data!F:F,0)","v":0},{"$f":"_xlfn.XLOOKUP(C348,Data!C:C,Data!H:H,0)","v":0},null,"",{"$f":"_xlfn.XLOOKUP(C348,Data!C:C,Data!F:F,\"\")","v":""},null,{"$error":"#N/A"}]
["23-3-2021","05:46:00","2021-03-23T05:46:00",null,{"$f":"_xlfn.XLOOKUP(C349,Data!C:C,Data!I:I)","v":{"$error":"#N/A"}},{"$error":"#N/A"},{"$f":"_xlfn.XLOOKUP(C349,Data!C:C,Data!G:G,0)","v":0},{"$f":"_xlfn.XLOOKUP(C349,Data!C:C,Data!F:F,0)","v":0},{"$f":"_xlfn.XLOOKUP(C349,Data!C:C,Data!H:H,0)","v":0},null,"",{"$f":"_xlfn.XLOOKUP(C349,Data!C:C,Data!F:F,\"\")","v":""},null,{"$error":"#N/A"}]
["23-3-2021","05:47:00","2021-03-23T05:47:00",null,{"$f":"_xlfn.XLOOKUP(C350,Data!C:C,Data!I:I)","v":{"$error":"#N/A"}},{"$error":"#N/A"},{"$f":"_xlfn.XLOOKUP(C350,Data!C:C,Data!G:G,0)","v":0},{"$f":"_xlfn.XLOOKUP(C350,Data!C:C,Data!F:F,0)","v":0},{"$f":"_xlfn.XLOOKUP(C350,Data!C:C,Data!H:H,0)","v":0},null,"",{"$f":"_xlfn.XLOOKUP(C350,Data!C:C,Data!F:F,\"\")","v":""},null,{"$error":"#N/A"}]
["23-3-2021","05:48:00","2021-03-23T05:48:00",null,{"$f":"_xlfn.XLOOKUP(C351,Data!C:C,Data!I:I)","v":{"$error":"#N/A"}},{"$error":"#N/A"},{"$f":"_xlfn.XLOOKUP(C351,Data!C:C,Data!G:G,0)","v":0},{"$f":"_xlfn.XLOOKUP(C351,Data!C:C,Data!F:F,0)","v":0},{"$f":"_xlfn.XLOOKUP(C351,Data!C:C,Data!H:H,0)","v":0},null,"",{"$f":"_xlfn.XLOOKUP(C351,Data!C:C,Data!F:F,\"\")","v":""},null,{"$error":"#N/A"}]
["23-3-2021","05:49:00","2021-03-23T05:49:00",null,{"$f":"_xlfn.XLOOKUP(C352,Data!C:C,Data!I:I)","v":{"$error":"#N/A"}},{"$error":"#N/A"},{"$f":"_xlfn.XLOOKUP(C352,Data!C:C,Data!G:G,0)","v":0},{"$f":"_xlfn.XLOOKUP(C352,Data!C:C,Data!F:F,0)","v":0},{"$f":"_xlfn.XLOOKUP(C352,Data!C:C,Data!H:H,0)","v":0},null,"",{"$f":"_xlfn.XLOOKUP(C352,Data!C:C,Data!F:F,\"\")","v":""},null,{"$error":"#N/A"}]
["23-3-2021","05:50:00","2021-03-23T05:50:00",null,{"$f":"_xlfn.XLOOKUP(C353,Data!C:C,Data!I:I)","v":{"$error":"#N/A"}},{"$error":"#N/A"},{"$f":"_xlfn.XLOOKUP(C353,Data!C:C,Data!G:G,0)","v":0},{"$f":"_xlfn.XLOOKUP(C353,Data!C:C,Data!F:F,0)","v":0},{"$f":"_xlfn.XLOOKUP(C353,Data!C:C,Data!H:H,0)","v":0},null,"",{"$f":"_xlfn.XLOOKUP(C353,Data!C:C,Data!F:F,\"\")","v":""},null,{"$error":"#N/A"}]
["23-3-2021","05:51:00","2021-03-23T05:51:00",null,{"$f":"_xlfn.XLOOKUP(C354,Data!C:C,Data!I:I)","v":{"$error":"#N/A"}},{"$error":"#N/A"},{"$f":"_xlfn.XLOOKUP(C354,Data!C:C,Data!G:G,0)","v":0},{"$f":"_xlfn.XLOOKUP(C354,Data!C:C,Data!F:F,0)","v":0},{"$f":"_xlfn.XLOOKUP(C354,Data!C:C,Data!H:H,0)","v":0},null,"",{"$f":"_xlfn.XLOOKUP(C354,Data!C:C,Data!F:F,\"\")","v":""},null,{"$error":"#N/A"}]
["23-3-2021","05:52:00","2021-03-23T05:52:00",null,{"$f":"_xlfn.XLOOKUP(C355,Data!C:C,Data!I:I)","v":{"$error":"#N/A"}},{"$error":"#N/A"},{"$f":"_xlfn.XLOOKUP(C355,Data!C:C,Data!G:G,0)","v":0},{"$f":"_xlfn.XLOOKUP(C355,Data!C:C,Data!F:F,0)","v":0},{"$f":"_xlfn.XLOOKUP(C355,Data!C:C,Data!H:H,0)","v":0},null,"",{"$f":"_xlfn.XLOOKUP(C355,Data!C:C,Data!F:F,\"\")","v":""},null,{"$error":"#N/A"}]
["23-3-2021","05:53:00","2021-03-23T05:53:00",null,{"$f":"_xlfn.XLOOKUP(C356,Data!C:C,Data!I:I)","v":{"$error":"#N/A"}},{"$error":"#N/A"},{"$f":"_xlfn.XLOOKUP(C356,Data!C:C,Data!G:G,0)","v":0},{"$f":"_xlfn.XLOOKUP(C356,Data!C:C,Data!F:F,0)","v":0},{"$f":"_xlfn.XLOOKUP(C356,Data!C:C,Data!H:H,0)","v":0},null,"",{"$f":"_xlfn.XLOOKUP(C356,Data!C:C,Data!F:F,\"\")","v":""},null,{"$error":"#N/A"}]
["23-3-2021","05:54:00","2021-03-23T05:54:00",null,{"$f":"_xlfn.XLOOKUP(C357,Data!C:C,Data!I:I)","v":{"$error":"#N/A"}},{"$error":"#N/A"},{"$f":"_xlfn.XLOOKUP(C357,Data!C:C,Data!G:G,0)","v":0},{"$f":"_xlfn.XLOOKUP(C357,Data!C:C,Data!F:F,0)","v":0},{"$f":"_xlfn.XLOOKUP(C357,Data!C:C,Data!H:H,0)","v":0},null,"",{"$f":"_xlfn.XLOOKUP(C357,Data!C:C,Data!F:F,\"\")","v":""},null,{"$error":"#N/A"}]
["23-3-2021","05:55:00","2021-03-23T05:55:00",null,{"$f":"_xlfn.XLOOKUP(C358,Data!C:C,Data!I:I)","v":{"$error":"#N/A"}},{"$error":"#N/A"},{"$f":"_xlfn.XLOOKUP(C358,Data!C:C,Data!G:G,0)","v":0},{"$f":"_xlfn.XLOOKUP(C358,Data!C:C,Data!F:F,0)","v":0},{"$f":"_xlfn.XLOOKUP(C358,Data!C:C,Data!H:H,0)","v":0},null,"",{"$f":"_xlfn.XLOOKUP(C358,Data!C:C,Data!F:F,\"\")","v":""},null,{"$error":"#N/A"}]
["23-3-2021","05:56:00","2021-03-23T05:56:00",null,{"$f":"_xlfn.XLOOKUP(C359,Data!C:C,Data!I:I)","v":{"$error":"#N/A"}},{"$error":"#N/A"},{"$f":"_xlfn.XLOOKUP(C359,Data!C:C,Data!G:G,0)","v":0},{"$f":"_xlfn.XLOOKUP(C359,Data!C:C,Data!F:F,0)","v":0},{"$f":"_xlfn.XLOOKUP(C359,Data!C:C,Data!H:H,0)","v":0},null,"",{"$f":"_xlfn.XLOOKUP(C359,Data!C:C,Data!F:F,\"\")","v":""},null,{"$error":"#N/A"}]
["23-3-2021","05:57:00","2021-03-23T05:57:00",null,{"$f":"_xlfn.XLOOKUP(C360,Data!C:C,Data!I:I)","v":{"$error":"#N/A"}},{"$error":"#N/A"},{"$f":"_xlfn.XLOOKUP(C360,Data!C:C,Data!G:G,0)","v":0},{"$f":"_xlfn.XLOOKUP(C360,Data!C:C,Data!F:F,0)","v":0},{"$f":"_xlfn.XLOOKUP(C360,Data!C:C,Data!H:H,0)","v":0},null,"",{"$f":"_xlfn.XLOOKUP(C360,Data!C:C,Data!F:F,\"\")","v":""},null,{"$error":"#N/A"}]
["23-3-2021","05:58:00","2021-03-23T05:58:00",null,{"$f":"_xlfn.XLOOKUP(C361,Data!C:C,Data!I:I)","v":{"$error":"#N/A"}},{"$error":"#N/A"},{"$f":"_xlfn.XLOOKUP(C361,Data!C:C,Data!G:G,0)","v":0},{"$f":"_xlfn.XLOOKUP(C361,Data!C:C,Data!F:F,0)","v":0},{"$f":"_xlfn.XLOOKUP(C361,Data!C:C,Data!H:H,0)","v":0},null,"",{"$f":"_xlfn.XLOOKUP(C361,Data!C:C,Data!F:F,\"\")","v":""},null,{"$error":"#N/A"}]
["23-3-2021","05:59:00","2021-03-23T05:59:00",null,{"$f":"_xlfn.XLOOKUP(C362,Data!C:C,Data!I:I)","v":{"$error":"#N/A"}},{"$error":"#N/A"},{"$f":"_xlfn.XLOOKUP(C362,Data!C:C,Data!G:G,0)","v":0},{"$f":"_xlfn.XLOOKUP(C362,Data!C:C,Data!F:F,0)","v":0},{"$f":"_xlfn.XLOOKUP(C362,Data!C:C,Data!H:H,0)","v":0},null,"",{"$f":"_xlfn.XLOOKUP(C362,Data!C:C,Data!F:F,\"\")","v":""},null,{"$error":"#N/A"}]
["23-3-2021","06:00:00","2021-03-23T06:00:00",null,{"$f":"_xlfn.XLOOKUP(C363,Data!C:C,Data!I:I)","v":{"$error":"#N/A"}},{"$error":"#N/A"},{"$f":"_xlfn.XLOOKUP(C363,Data!C:C,Data!G:G,0)","v":0},{"$f":"_xlfn.XLOOKUP(C363,Data!C:C,Data!F:F,0)","v":0},{"$f":"_xlfn.XLOOKUP(C363,Data!C:C,Data!H:H,0)","v":0},null,"",{"$f":"_xlfn.XLOOKUP(C363,Data!C:C,Data!F:F,\"\")","v":""},null,{"$error":"#N/A"}]
["23-3-2021","06:01:00","2021-03-23T06:01:00",null,{"$f":"_xlfn.XLOOKUP(C364,Data!C:C,Data!I:I)","v":{"$error":"#N/A"}},{"$error":"#N/A"},{"$f":"_xlfn.XLOOKUP(C364,Data!C:C,Data!G:G,0)","v":0},{"$f":"_xlfn.XLOOKUP(C364,Data!C:C,Data!F:F,0)","v":0},{"$f":"_xlfn.XLOOKUP(C364,Data!C:C,Data!H:H,0)","v":0},null,"",{"$f":"_xlfn.XLOOKUP(C364,Data!C:C,Data!F:F,\"\")","v":""},null,{"$error":"#N/A"}]
["23-3-2021","06:02:00","2021-03-23T06:02:00",null,{"$f":"_xlfn.XLOOKUP(C365,Data!C:C,Data!I:I)","v":{"$error":"#N/A"}},{"$error":"#N/A"},{"$f":"_xlfn.XLOOKUP(C365,Data!C:C,Data!G:G,0)","v":0},{"$f":"_xlfn.XLOOKUP(C365,Data!C:C,Data!F:F,0)","v":0},{"$f":"_xlfn.XLOOKUP(C365,Data!C:C,Data!H:H,0)","v":0},null,"",{"$f":"_xlfn.XLOOKUP(C365,Data!C:C,Data!F:F,\"\")","v":""},null,{"$error":"#N/A"}]
["23-3-2021","06:03:00","2021-03-23T06:03:00",null,{"$f":"_xlfn.XLOOKUP(C366,Data!C:C,Data!I:I)","v":{"$error":"#N/A"}},{"$error":"#N/A"},{"$f":"_xlfn.XLOOKUP(C366,Data!C:C,Data!G:G,0)","v":0},{"$f":"_xlfn.XLOOKUP(C366,Data!C:C,Data!F:F,0)","v":0},{"$f":"_xlfn.XLOOKUP(C366,Data!C:C,Data!H:H,0)","v":0},null,"",{"$f":"_xlfn.XLOOKUP(C366,Data!C:C,Data!F:F,\"\")","v":""},null,{"$error":"#N/A"}]
["23-3-2021","06:04:00","2021-03-23T06:04:00",null,{"$f":"_xlfn.XLOOKUP(C367,Data!C:C,Data!I:I)","v":{"$error":"#N/A"}},{"$error":"#N/A"},{"$f":"_xlfn.XLOOKUP(C367,Data!C:C,Data!G:G,0)","v":0},{"$f":"_xlfn.XLOOKUP(C367,Data!C:C,Data!F:F,0)","v":0},{"$f":"_xlfn.XLOOKUP(C367,Data!C:C,Data!H:H,0)","v":0},null,"",{"$f":"_xlfn.XLOOKUP(C367,Data!C:C,Data!F:F,\"\")","v":""},null,{"$error":"#N/A"}]
["23-3-2021","06:05:00","2021-03-23T06:05:00",null,{"$f":"_xlfn.XLOOKUP(C368,Data!C:C,Data!I:I)","v":{"$error":"#N/A"}},{"$error":"#N/A"},{"$f":"_xlfn.XLOOKUP(C368,Data!C:C,Data!G:G,0)","v":0},{"$f":"_xlfn.XLOOKUP(C368,Data!C:C,Data!F:F,0)","v":0},{"$f":"_xlfn.XLOOKUP(C368,Data!C:C,Data!H:H,0)","v":0},null,"",{"$f":"_xlfn.XLOOKUP(C368,Data!C:C,Data!F:F,\"\")","v":""},null,{"$error":"#N/A"}]
["23-3-2021","06:06:00","2021-03-23T06:06:00",null,{"$f":"_xlfn.XLOOKUP(C369,Data!C:C,Data!I:I)","v":{"$error":"#N/A"}},{"$error":"#N/A"},{"$f":"_xlfn.XLOOKUP(C369,Data!C:C,Data!G:G,0)","v":0},{"$f":"_xlfn.XLOOKUP(C369,Data!C:C,Data!F:F,0)","v":0},{"$f":"_xlfn.XLOOKUP(C369,Data!C:C,Data!H:H,0)","v":0},null,"",{"$f":"_xlfn.XLOOKUP(C369,Data!C:C,Data!F:F,\"\")","v":""},null,{"$error":"#N/A"}]
["23-3-2021","06:07:00","2021-03-23T06:07:00",null,{"$f":"_xlfn.XLOOKUP(C370,Data!C:C,Data!I:I)","v":{"$error":"#N/A"}},{"$error":"#N/A"},{"$f":"_xlfn.XLOOKUP(C370,Data!C:C,Data!G:G,0)","v":0},{"$f":"_xlfn.XLOOKUP(C370,Data!C:C,Data!F:F,0)","v":0},{"$f":"_xlfn.XLOOKUP(C370,Data!C:C,Data!H:H,0)","v":0},null,"",{"$f":"_xlfn.XLOOKUP(C370,Data!C:C,Data!F:F,\"\")","v":""},null,{"$error":"#N/A"}]
["23-3-2021","06:08:00","2021-03-23T06:08:00",null,{"$f":"_xlfn.XLOOKUP(C371,Data!C:C,Data!I:I)","v":{"$error":"#N/A"}},{"$error":"#N/A"},{"$f":"_xlfn.XLOOKUP(C371,Data!C:C,Data!G:G,0)","v":0},{"$f":"_xlfn.XLOOKUP(C371,Data!C:C,Data!F:F,0)","v":0},{"$f":"_xlfn.XLOOKUP(C371,Data!C:C,Data!H:H,0)","v":0},null,"",{"$f":"_xlfn.XLOOKUP(C371,Data!C:C,Data!F:F,\"\")","v":""},null,{"$error":"#N/A"}]
["23-3-2021","06:09:00","2021-03-23T06:09:00",null,{"$f":"_xlfn.XLOOKUP(C372,Data!C:C,Data!I:I)","v":{"$error":"#N/A"}},{"$error":"#N/A"},{"$f":"_xlfn.XLOOKUP(C372,Data!C:C,Data!G:G,0)","v":0},{"$f":"_xlfn.XLOOKUP(C372,Data!C:C,Data!F:F,0)","v":0},{"$f":"_xlfn.XLOOKUP(C372,Data!C:C,Data!H:H,0)","v":0},null,"",{"$f":"_xlfn.XLOOKUP(C372,Data!C:C,Data!F:F,\"\")","v":""},null,{"$error":"#N/A"}]
["23-3-2021","06:10:00","2021-03-23T06:10:00",null,{"$f":"_xlfn.XLOOKUP(C373,Data!C:C,Data!I:I)","v":{"$error":"#N/A"}},{"$error":"#N/A"},{"$f":"_xlfn.XLOOKUP(C373,Data!C:C,Data!G:G,0)","v":0},{"$f":"_xlfn.XLOOKUP(C373,Data!C:C,Data!F:F,0)","v":0},{"$f":"_xlfn.XLOOKUP(C373,Data!C:C,Data!H:H,0)","v":0},null,"",{"$f":"_xlfn.XLOOKUP(C373,Data!C:C,Data!F:F,\"\")","v":""},null,{"$error":"#N/A"}]
["23-3-2021","06:11:00","2021-03-23T06:11:00",null,{"$f":"_xlfn.XLOOKUP(C374,Data!C:C,Data!I:I)","v":{"$error":"#N/A"}},{"$error":"#N/A"},{"$f":"_xlfn.XLOOKUP(C374,Data!C:C,Data!G:G,0)","v":0},{"$f":"_xlfn.XLOOKUP(C374,Data!C:C,Data!F:F,0)","v":0},{"$f":"_xlfn.XLOOKUP(C374,Data!C:C,Data!H:H,0)","v":0},null,"",{"$f":"_xlfn.XLOOKUP(C374,Data!C:C,Data!F:F,\"\")","v":""},null,{"$error":"#N/A"}]
["23-3-2021","06:12:00","2021-03-23T06:12:00",null,{"$f":"_xlfn.XLOOKUP(C375,Data!C:C,Data!I:I)","v":{"$error":"#N/A"}},{"$error":"#N/A"},{"$f":"_xlfn.XLOOKUP(C375,Data!C:C,Data!G:G,0)","v":0},{"$f":"_xlfn.XLOOKUP(C375,Data!C:C,Data!F:F,0)","v":0},{"$f":"_xlfn.XLOOKUP(C375,Data!C:C,Data!H:H,0)","v":0},null,"",{"$f":"_xlfn.XLOOKUP(C375,Data!C:C,Data!F:F,\"\")","v":""},null,{"$error":"#N/A"}]
["23-3-2021","06:13:00","2021-03-23T06:13:00",null,{"$f":"_xlfn.XLOOKUP(C376,Data!C:C,Data!I:I)","v":{"$error":"#N/A"}},{"$error":"#N/A"},{"$f":"_xlfn.XLOOKUP(C376,Data!C:C,Data!G:G,0)","v":0},{"$f":"_xlfn.XLOOKUP(C376,Data!C:C,Data!F:F,0)","v":0},{"$f":"_xlfn.XLOOKUP(C376,Data!C:C,Data!H:H,0)","v":0},null,"",{"$f":"_xlfn.XLOOKUP(C376,Data!C:C,Data!F:F,\"\")","v":""},null,{"$error":"#N/A"}]
["23-3-2021","06:14:00","2021-03-23T06:14:00",null,{"$f":"_xlfn.XLOOKUP(C377,Data!C:C,Data!I:I)","v":{"$error":"#N/A"}},{"$error":"#N/A"},{"$f":"_xlfn.XLOOKUP(C377,Data!C:C,Data!G:G,0)","v":0},{"$f":"_xlfn.XLOOKUP(C377,Data!C:C,Data!F:F,0)","v":0},{"$f":"_xlfn.XLOOKUP(C377,Data!C:C,Data!H:H,0)","v":0},null,"",{"$f":"_xlfn.XLOOKUP(C377,Data!C:C,Data!F:F,\"\")","v":""},null,{"$error":"#N/A"}]
["23-3-2021","06:15:00","2021-03-23T06:15:00",null,{"$f":"_xlfn.XLOOKUP(C378,Data!C:C,Data!I:I)","v":{"$error":"#N/A"}},{"$error":"#N/A"},{"$f":"_xlfn.XLOOKUP(C378,Data!C:C,Data!G:G,0)","v":0},{"$f":"_xlfn.XLOOKUP(C378,Data!C:C,Data!F:F,0)","v":0},{"$f":"_xlfn.XLOOKUP(C378,Data!C:C,Data!H:H,0)","v":0},null,"",{"$f":"_xlfn.XLOOKUP(C378,Data!C:C,Data!F:F,\"\")","v":""},null,{"$error":"#N/A"}]
["23-3-2021","06:16:00","2021-03-23T06:16:00",null,{"$f":"_xlfn.XLOOKUP(C379,Data!C:C,Data!I:I)","v":{"$error":"#N/A"}},{"$error":"#N/A"},{"$f":"_xlfn.XLOOKUP(C379,Data!C:C,Data!G:G,0)","v":0},{"$f":"_xlfn.XLOOKUP(C379,Data!C:C,Data!F:F,0)","v":0},{"$f":"_xlfn.XLOOKUP(C379,Data!C:C,Data!H:H,0)","v":0},null,"",{"$f":"_xlfn.XLOOKUP(C379,Data!C:C,Data!F:F,\"\")","v":""},null,{"$error":"#N/A"}]
["23-3-2021","06:17:00","2021-03-23T06:17:00",null,{"$f":"_xlfn.XLOOKUP(C380,Data!C:C,Data!I:I)","v":{"$error":"#N/A"}},{"$error":"#N/A"},{"$f":"_xlfn.XLOOKUP(C380,Data!C:C,Data!G:G,0)","v":0},{"$f":"_xlfn.XLOOKUP(C380,Data!C:C,Data!F:F,0)","v":0},{"$f":"_xlfn.XLOOKUP(C380,Data!C:C,Data!H:H,0)","v":0},null,"",{"$f":"_xlfn.XLOOKUP(C380,Data!C:C,Data!F:F,\"\")","v":""},null,{"$error":"#N/A"}]
["23-3-2021","06:18:00","2021-03-23T06:18:00",null,{"$f":"_xlfn.XLOOKUP(C381,Data!C:C,Data!I:I)","v":{"$error":"#N/A"}},{"$error":"#N/A"},{"$f":"_xlfn.XLOOKUP(C381,Data!C:C,Data!G:G,0)","v":0},{"$f":"_xlfn.XLOOKUP(C381,Data!C:C,Data!F:F,0)","v":0},{"$f":"_xlfn.XLOOKUP(C381,Data!C:C,Data!H:H,0)","v":0},null,"",{"$f":"_xlfn.XLOOKUP(C381,Data!C:C,Data!F:F,\"\")","v":""},null,{"$error":"#N/A"}]
["23-3-2021","06:19:00","2021-03-23T06:19:00",null,{"$f":"_xlfn.XLOOKUP(C382,Data!C:C,Data!I:I)","v":{"$error":"#N/A"}},{"$error":"#N/A"},{"$f":"_xlfn.XLOOKUP(C382,Data!C:C,Data!G:G,0)","v":0},{"$f":"_xlfn.XLOOKUP(C382,Data!C:C,Data!F:F,0)","v":0},{"$f":"_xlfn.XLOOKUP(C382,Data!C:C,Data!H:H,0)","v":0},null,"",{"$f":"_xlfn.XLOOKUP(C382,Data!C:C,Data!F:F,\"\")","v":""},null,{"$error":"#N/A"}]
["23-3-2021","06:20:00","2021-03-23T06:20:00",null,{"$f":"_xlfn.XLOOKUP(C383,Data!C:C,Data!I:I)","v":{"$error":"#N/A"}},{"$error":"#N/A"},{"$f":"_xlfn.XLOOKUP(C383,Data!C:C,Data!G:G,0)","v":0},{"$f":"_xlfn.XLOOKUP(C383,Data!C:C,Data!F:F,0)","v":0},{"$f":"_xlfn.XLOOKUP(C383,Data!C:C,Data!H:H,0)","v":0},null,"",{"$f":"_xlfn.XLOOKUP(C383,Data!C:C,Data!F:F,\"\")","v":""},null,{"$error":"#N/A"}]
["23-3-2021","06:21:00","2021-03-23T06:21:00",null,{"$f":"_xlfn.XLOOKUP(C384,Data!C:C,Data!I:I)","v":{"$error":"#N/A"}},{"$error":"#N/A"},{"$f":"_xlfn.XLOOKUP(C384,Data!C:C,Data!G:G,0)","v":0},{"$f":"_xlfn.XLOOKUP(C384,Data!C:C,Data!F:F,0)","v":0},{"$f":"_xlfn.XLOOKUP(C384,Data!C:C,Data!H:H,0)","v":0},null,"",{"$f":"_xlfn.XLOOKUP(C384,Data!C:C,Data!F:F,\"\")","v":""},null,{"$error":"#N/A"}]
["23-3-2021","06:22:00","2021-03-23T06:22:00",null,{"$f":"_xlfn.XLOOKUP(C385,Data!C:C,Data!I:I)","v":{"$error":"#N/A"}},{"$error":"#N/A"},{"$f":"_xlfn.XLOOKUP(C385,Data!C:C,Data!G:G,0)","v":0},{"$f":"_xlfn.XLOOKUP(C385,Data!C:C,Data!F:F,0)","v":0},{"$f":"_xlfn.XLOOKUP(C385,Data!C:C,Data!H:H,0)","v":0},null,"",{"$f":"_xlfn.XLOOKUP(C385,Data!C:C,Data!F:F,\"\")","v":""},null,{"$error":"#N/A"}]
["23-3-2021","06:23:00","2021-03-23T06:23:00",null,{"$f":"_xlfn.XLOOKUP(C386,Data!C:C,Data!I:I)","v":{"$error":"#N/A"}},{"$error":"#N/A"},{"$f":"_xlfn.XLOOKUP(C386,Data!C:C,Data!G:G,0)","v":0},{"$f":"_xlfn.XLOOKUP(C386,Data!C:C,Data!F:F,0)","v":0},{"$f":"_xlfn.XLOOKUP(C386,Data!C:C,Data!H:H,0)","v":0},null,"",{"$f":"_xlfn.XLOOKUP(C386,Data!C:C,Data!F:F,\"\")","v":""},null,{"$error":"#N/A"}]
["23-3-2021","06:24:00",{"$f":"A387+B387","v":"2021-03-23T06:24:00"},null,{"$f":"_xlfn.XLOOKUP(C387,Data!C:C,Data!I:I)","v":{"$error":"#N/A"}},{"$error":"#N/A"},{"$f":"_xlfn.XLOOKUP(C387,Data!C:C,Data!G:G,0)","v":0},{"$f":"_xlfn.XLOOKUP(C387,Data!C:C,Data!F:F,0)","v":0},{"$f":"_xlfn.XLOOKUP(C387,Data!C:C,Data!H:H,0)","v":0},null,"",{"$f":"_xlfn.XLOOKUP(C387,Data!C:C,Data!F:F,\"\")","v":""},null,{"$error":"#N/A"}]
[{"$f":"$A$3","v":"23-3-2021"},"06:25:00","2021-03-23T06:25:00",null,{"$f":"_xlfn.XLOOKUP(C388,Data!C:C,Data!I:I)","v":{"$error":"#N/A"}},{"$f":"IF(E388=255,F387,E388)","v":{"$error":"#N/A"}},{"$f":"_xlfn.XLOOKUP(C388,Data!C:C,Data!G:G,0)","v":0},{"$f":"_xlfn.XLOOKUP(C388,Data!C:C,Data!F:F,0)","v":0},{"$f":"_xlfn.XLOOKUP(C388,Data!C:C,Data!H:H,0)","v":0},null,{"$f":"IFERROR(IF(F388=\"#N/A\",\"\",F388),\"\")","v":""},{"$f":"_xlfn.XLOOKUP(C388,Data!C:C,Data!F:F,\"\")","v":""},null,{"$error":"#N/A"}]
["23-3-2021","06:26:00","2021-03-23T06:26:00",null,{"$f":"_xlfn.XLOOKUP(C389,Data!C:C,Data!I:I)","v":{"$error":"#N/A"}},{"$error":"#N/A"},{"$f":"_xlfn.XLOOKUP(C389,Data!C:C,Data!G:G,0)","v":0},{"$f":"_xlfn.XLOOKUP(C389,Data!C:C,Data!F:F,0)","v":0},{"$f":"_xlfn.XLOOKUP(C389,Data!C:C,Data!H:H,0)","v":0},null,"",{"$f":"_xlfn.XLOOKUP(C389,Data!C:C,Data!F:F,\"\")","v":""},null,{"$error":"#N/A"}]
["23-3-2021","06:27:00","2021-03-23T06:27:00",null,{"$f":"_xlfn.XLOOKUP(C390,Data!C:C,Data!I:I)","v":{"$error":"#N/A"}},{"$error":"#N/A"},{"$f":"_xlfn.XLOOKUP(C390,Data!C:C,Data!G:G,0)","v":0},{"$f":"_xlfn.XLOOKUP(C390,Data!C:C,Data!F:F,0)","v":0},{"$f":"_xlfn.XLOOKUP(C390,Data!C:C,Data!H:H,0)","v":0},null,"",{"$f":"_xlfn.XLOOKUP(C390,Data!C:C,Data!F:F,\"\")","v":""},null,{"$error":"#N/A"}]
["23-3-2021","06:28:00","2021-03-23T06:28:00",null,{"$f":"_xlfn.XLOOKUP(C391,Data!C:C,Data!I:I)","v":{"$error":"#N/A"}},{"$error":"#N/A"},{"$f":"_xlfn.XLOOKUP(C391,Data!C:C,Data!G:G,0)","v":0},{"$f":"_xlfn.XLOOKUP(C391,Data!C:C,Data!F:F,0)","v":0},{"$f":"_xlfn.XLOOKUP(C391,Data!C:C,Data!H:H,0)","v":0},null,"",{"$f":"_xlfn.XLOOKUP(C391,Data!C:C,Data!F:F,\"\")","v":""},null,{"$f":"IF(F391=\"\",\"\",AVERAGE(F387:F395))","v":{"$error":"#N/A"}}]
["23-3-2021","06:29:00","2021-03-23T06:29:00",null,{"$f":"_xlfn.XLOOKUP(C392,Data!C:C,Data!I:I)","v":{"$error":"#N/A"}},{"$error":"#N/A"},{"$f":"_xlfn.XLOOKUP(C392,Data!C:C,Data!G:G,0)","v":0},{"$f":"_xlfn.XLOOKUP(C392,Data!C:C,Data!F:F,0)","v":0},{"$f":"_xlfn.XLOOKUP(C392,Data!C:C,Data!H:H,0)","v":0},null,"",{"$f":"_xlfn.XLOOKUP(C392,Data!C:C,Data!F:F,\"\")","v":""},null,{"$error":"#N/A"}]
["23-3-2021","06:30:00","2021-03-23T06:30:00",null,{"$f":"_xlfn.XLOOKUP(C393,Data!C:C,Data!I:I)","v":{"$error":"#N/A"}},{"$error":"#N/A"},{"$f":"_xlfn.XLOOKUP(C393,Data!C:C,Data!G:G,0)","v":0},{"$f":"_xlfn.XLOOKUP(C393,Data!C:C,Data!F:F,0)","v":0},{"$f":"_xlfn.XLOOKUP(C393,Data!C:C,Data!H:H,0)","v":0},null,"",{"$f":"_xlfn.XLOOKUP(C393,Data!C:C,Data!F:F,\"\")","v":""},null,{"$error":"#N/A"}]
["23-3-2021","06:31:00","2021-03-23T06:31:00",null,{"$f":"_xlfn.XLOOKUP(C394,Data!C:C,Data!I:I)","v":{"$error":"#N/A"}},{"$error":"#N/A"},{"$f":"_xlfn.XLOOKUP(C394,Data!C:C,Data!G:G,0)","v":0},{"$f":"_xlfn.XLOOKUP(C394,Data!C:C,Data!F:F,0)","v":0},{"$f":"_xlfn.XLOOKUP(C394,Data!C:C,Data!H:H,0)","v":0},null,"",{"$f":"_xlfn.XLOOKUP(C394,Data!C:C,Data!F:F,\"\")","v":""},null,{"$error":"#N/A"}]
["23-3-2021","06:32:00","2021-03-23T06:32:00",null,{"$f":"_xlfn.XLOOKUP(C395,Data!C:C,Data!I:I)","v":{"$error":"#N/A"}},{"$error":"#N/A"},{"$f":"_xlfn.XLOOKUP(C395,Data!C:C,Data!G:G,0)","v":0},{"$f":"_xlfn.XLOOKUP(C395,Data!C:C,Data!F:F,0)","v":0},{"$f":"_xlfn.XLOOKUP(C395,Data!C:C,Data!H:H,0)","v":0},null,"",{"$f":"_xlfn.XLOOKUP(C395,Data!C:C,Data!F:F,\"\")","v":""},null,{"$error":"#N/A"}]
["23-3-2021","06:33:00","2021-03-23T06:33:00",null,{"$f":"_xlfn.XLOOKUP(C396,Data!C:C,Data!I:I)","v":{"$error":"#N/A"}},{"$error":"#N/A"},{"$f":"_xlfn.XLOOKUP(C396,Data!C:C,Data!G:G,0)","v":0},{"$f":"_xlfn.XLOOKUP(C396,Data!C:C,Data!F:F,0)","v":0},{"$f":"_xlfn.XLOOKUP(C396,Data!C:C,Data!H:H,0)","v":0},null,"",{"$f":"_xlfn.XLOOKUP(C396,Data!C:C,Data!F:F,\"\")","v":""},null,{"$error":"#N/A"}]
["23-3-2021","06:34:00","2021-03-23T06:34:00",null,{"$f":"_xlfn.XLOOKUP(C397,Data!C:C,Data!I:I)","v":{"$error":"#N/A"}},{"$error":"#N/A"},{"$f":"_xlfn.XLOOKUP(C397,Data!C:C,Data!G:G,0)","v":0},{"$f":"_xlfn.XLOOKUP(C397,Data!C:C,Data!F:F,0)","v":0},{"$f":"_xlfn.XLOOKUP(C397,Data!C:C,Data!H:H,0)","v":0},null,"",{"$f":"_xlfn.XLOOKUP(C397,Data!C:C,Data!F:F,\"\")","v":""},null,{"$error":"#N/A"}]
["23-3-2021","06:35:00","2021-03-23T06:35:00",null,{"$f":"_xlfn.XLOOKUP(C398,Data!C:C,Data!I:I)","v":{"$error":"#N/A"}},{"$error":"#N/A"},{"$f":"_xlfn.XLOOKUP(C398,Data!C:C,Data!G:G,0)","v":0},{"$f":"_xlfn.XLOOKUP(C398,Data!C:C,Data!F:F,0)","v":0},{"$f":"_xlfn.XLOOKUP(C398,Data!C:C,Data!H:H,0)","v":0},null,"",{"$f":"_xlfn.XLOOKUP(C398,Data!C:C,Data!F:F,\"\")","v":""},null,{"$error":"#N/A"}]
["23-3-2021","06:36:00","2021-03-23T06:36:00",null,{"$f":"_xlfn.XLOOKUP(C399,Data!C:C,Data!I:I)","v":{"$error":"#N/A"}},{"$error":"#N/A"},{"$f":"_xlfn.XLOOKUP(C399,Data!C:C,Data!G:G,0)","v":0},{"$f":"_xlfn.XLOOKUP(C399,Data!C:C,Data!F:F,0)","v":0},{"$f":"_xlfn.XLOOKUP(C399,Data!C:C,Data!H:H,0)","v":0},null,"",{"$f":"_xlfn.XLOOKUP(C399,Data!C:C,Data!F:F,\"\")","v":""},null,{"$error":"#N/A"}]
["23-3-2021","06:37:00","2021-03-23T06:37:00",null,{"$f":"_xlfn.XLOOKUP(C400,Data!C:C,Data!I:I)","v":{"$error":"#N/A"}},{"$error":"#N/A"},{"$f":"_xlfn.XLOOKUP(C400,Data!C:C,Data!G:G,0)","v":0},{"$f":"_xlfn.XLOOKUP(C400,Data!C:C,Data!F:F,0)","v":0},{"$f":"_xlfn.XLOOKUP(C400,Data!C:C,Data!H:H,0)","v":0},null,"",{"$f":"_xlfn.XLOOKUP(C400,Data!C:C,Data!F:F,\"\")","v":""},null,{"$error":"#N/A"}]
["23-3-2021","06:38:00","2021-03-23T06:38:00",null,{"$f":"_xlfn.XLOOKUP(C401,Data!C:C,Data!I:I)","v":{"$error":"#N/A"}},{"$error":"#N/A"},{"$f":"_xlfn.XLOOKUP(C401,Data!C:C,Data!G:G,0)","v":0},{"$f":"_xlfn.XLOOKUP(C401,Data!C:C,Data!F:F,0)","v":0},{"$f":"_xlfn.XLOOKUP(C401,Data!C:C,Data!H:H,0)","v":0},null,"",{"$f":"_xlfn.XLOOKUP(C401,Data!C:C,Data!F:F,\"\")","v":""},null,{"$error":"#N/A"}]
["23-3-2021","06:39:00","2021-03-23T06:39:00",null,{"$f":"_xlfn.XLOOKUP(C402,Data!C:C,Data!I:I)","v":{"$error":"#N/A"}},{"$error":"#N/A"},{"$f":"_xlfn.XLOOKUP(C402,Data!C:C,Data!G:G,0)","v":0},{"$f":"_xlfn.XLOOKUP(C402,Data!C:C,Data!F:F,0)","v":0},{"$f":"_xlfn.XLOOKUP(C402,Data!C:C,Data!H:H,0)","v":0},null,"",{"$f":"_xlfn.XLOOKUP(C402,Data!C:C,Data!F:F,\"\")","v":""},null,{"$error":"#N/A"}]
["23-3-2021","06:40:00","2021-03-23T06:40:00",null,{"$f":"_xlfn.XLOOKUP(C403,Data!C:C,Data!I:I)","v":{"$error":"#N/A"}},{"$error":"#N/A"},{"$f":"_xlfn.XLOOKUP(C403,Data!C:C,Data!G:G,0)","v":0},{"$f":"_xlfn.XLOOKUP(C403,Data!C:C,Data!F:F,0)","v":0},{"$f":"_xlfn.XLOOKUP(C403,Data!C:C,Data!H:H,0)","v":0},null,"",{"$f":"_xlfn.XLOOKUP(C403,Data!C:C,Data!F:F,\"\")","v":""},null,{"$error":"#N/A"}]
["23-3-2021","06:41:00","2021-03-23T06:41:00",null,{"$f":"_xlfn.XLOOKUP(C404,Data!C:C,Data!I:I)","v":{"$error":"#N/A"}},{"$error":"#N/A"},{"$f":"_xlfn.XLOOKUP(C404,Data!C:C,Data!G:G,0)","v":0},{"$f":"_xlfn.XLOOKUP(C404,Data!C:C,Data!F:F,0)","v":0},{"$f":"_xlfn.XLOOKUP(C404,Data!C:C,Data!H:H,0)","v":0},null,"",{"$f":"_xlfn.XLOOKUP(C404,Data!C:C,Data!F:F,\"\")","v":""},null,{"$error":"#N/A"}]
["23-3-2021","06:42:00","2021-03-23T06:42:00",null,{"$f":"_xlfn.XLOOKUP(C405,Data!C:C,Data!I:I)","v":{"$error":"#N/A"}},{"$error":"#N/A"},{"$f":"_xlfn.XLOOKUP(C405,Data!C:C,Data!G:G,0)","v":0},{"$f":"_xlfn.XLOOKUP(C405,Data!C:C,Data!F:F,0)","v":0},{"$f":"_xlfn.XLOOKUP(C405,Data!C:C,Data!H:H,0)","v":0},null,"",{"$f":"_xlfn.XLOOKUP(C405,Data!C:C,Data!F:F,\"\")","v":""},null,{"$error":"#N/A"}]
["23-3-2021","06:43:00","2021-03-23T06:43:00",null,{"$f":"_xlfn.XLOOKUP(C406,Data!C:C,Data!I:I)","v":{"$error":"#N/A"}},{"$error":"#N/A"},{"$f":"_xlfn.XLOOKUP(C406,Data!C:C,Data!G:G,0)","v":0},{"$f":"_xlfn.XLOOKUP(C406,Data!C:C,Data!F:F,0)","v":0},{"$f":"_xlfn.XLOOKUP(C406,Data!C:C,Data!H:H,0)","v":0},null,"",{"$f":"_xlfn.XLOOKUP(C406,Data!C:C,Data!F:F,\"\")","v":""},null,{"$error":"#N/A"}]
["23-3-2021","06:44:00","2021-03-23T06:44:00",null,{"$f":"_xlfn.XLOOKUP(C407,Data!C:C,Data!I:I)","v":{"$error":"#N/A"}},{"$error":"#N/A"},{"$f":"_xlfn.XLOOKUP(C407,Data!C:C,Data!G:G,0)","v":0},{"$f":"_xlfn.XLOOKUP(C407,Data!C:C,Data!F:F,0)","v":0},{"$f":"_xlfn.XLOOKUP(C407,Data!C:C,Data!H:H,0)","v":0},null,"",{"$f":"_xlfn.XLOOKUP(C407,Data!C:C,Data!F:F,\"\")","v":""},null,{"$error":"#N/A"}]
["23-3-2021","06:45:00","2021-03-23T06:45:00",null,{"$f":"_xlfn.XLOOKUP(C408,Data!C:C,Data!I:I)","v":{"$error":"#N/A"}},{"$error":"#N/A"},{"$f":"_xlfn.XLOOKUP(C408,Data!C:C,Data!G:G,0)","v":0},{"$f":"_xlfn.XLOOKUP(C408,Data!C:C,Data!F:F,0)","v":0},{"$f":"_xlfn.XLOOKUP(C408,Data!C:C,Data!H:H,0)","v":0},null,"",{"$f":"_xlfn.XLOOKUP(C408,Data!C:C,Data!F:F,\"\")","v":""},null,{"$error":"#N/A"}]
["23-3-2021","06:46:00","2021-03-23T06:46:00",null,{"$f":"_xlfn.XLOOKUP(C409,Data!C:C,Data!I:I)","v":{"$error":"#N/A"}},{"$error":"#N/A"},{"$f":"_xlfn.XLOOKUP(C409,Data!C:C,Data!G:G,0)","v":0},{"$f":"_xlfn.XLOOKUP(C409,Data!C:C,Data!F:F,0)","v":0},{"$f":"_xlfn.XLOOKUP(C409,Data!C:C,Data!H:H,0)","v":0},null,"",{"$f":"_xlfn.XLOOKUP(C409,Data!C:C,Data!F:F,\"\")","v":""},null,{"$error":"#N/A"}]
["23-3-2021","06:47:00","2021-03-23T06:47:00",null,{"$f":"_xlfn.XLOOKUP(C410,Data!C:C,Data!I:I)","v":{"$error":"#N/A"}},{"$error":"#N/A"},{"$f":"_xlfn.XLOOKUP(C410,Data!C:C,Data!G:G,0)","v":0},{"$f":"_xlfn.XLOOKUP(C410,Data!C:C,Data!F:F,0)","v":0},{"$f":"_xlfn.XLOOKUP(C410,Data!C:C,Data!H:H,0)","v":0},null,"",{"$f":"_xlfn.XLOOKUP(C410,Data!C:C,Data!F:F,\"\")","v":""},null,{"$error":"#N/A"}]
["23-3-2021","06:48:00","2021-03-23T06:48:00",null,{"$f":"_xlfn.XLOOKUP(C411,Data!C:C,Data!I:I)","v":{"$error":"#N/A"}},{"$error":"#N/A"},{"$f":"_xlfn.XLOOKUP(C411,Data!C:C,Data!G:G,0)","v":0},{"$f":"_xlfn.XLOOKUP(C411,Data!C:C,Data!F:F,0)","v":0},{"$f":"_xlfn.XLOOKUP(C411,Data!C:C,Data!H:H,0)","v":0},null,"",{"$f":"_xlfn.XLOOKUP(C411,Data!C:C,Data!F:F,\"\")","v":""},null,{"$error":"#N/A"}]
["23-3-2021","06:49:00","2021-03-23T06:49:00",null,{"$f":"_xlfn.XLOOKUP(C412,Data!C:C,Data!I:I)","v":{"$error":"#N/A"}},{"$error":"#N/A"},{"$f":"_xlfn.XLOOKUP(C412,Data!C:C,Data!G:G,0)","v":0},{"$f":"_xlfn.XLOOKUP(C412,Data!C:C,Data!F:F,0)","v":0},{"$f":"_xlfn.XLOOKUP(C412,Data!C:C,Data!H:H,0)","v":0},null,"",{"$f":"_xlfn.XLOOKUP(C412,Data!C:C,Data!F:F,\"\")","v":""},null,{"$error":"#N/A"}]
["23-3-2021","06:50:00","2021-03-23T06:50:00",null,{"$f":"_xlfn.XLOOKUP(C413,Data!C:C,Data!I:I)","v":{"$error":"#N/A"}},{"$error":"#N/A"},{"$f":"_xlfn.XLOOKUP(C413,Data!C:C,Data!G:G,0)","v":0},{"$f":"_xlfn.XLOOKUP(C413,Data!C:C,Data!F:F,0)","v":0},{"$f":"_xlfn.XLOOKUP(C413,Data!C:C,Data!H:H,0)","v":0},null,"",{"$f":"_xlfn.XLOOKUP(C413,Data!C:C,Data!F:F,\"\")","v":""},null,{"$error":"#N/A"}]
["23-3-2021","06:51:00","2021-03-23T06:51:00",null,{"$f":"_xlfn.XLOOKUP(C414,Data!C:C,Data!I:I)","v":{"$error":"#N/A"}},{"$error":"#N/A"},{"$f":"_xlfn.XLOOKUP(C414,Data!C:C,Data!G:G,0)","v":0},{"$f":"_xlfn.XLOOKUP(C414,Data!C:C,Data!F:F,0)","v":0},{"$f":"_xlfn.XLOOKUP(C414,Data!C:C,Data!H:H,0)","v":0},null,"",{"$f":"_xlfn.XLOOKUP(C414,Data!C:C,Data!F:F,\"\")","v":""},null,{"$error":"#N/A"}]
["23-3-2021","06:52:00","2021-03-23T06:52:00",null,{"$f":"_xlfn.XLOOKUP(C415,Data!C:C,Data!I:I)","v":{"$error":"#N/A"}},{"$error":"#N/A"},{"$f":"_xlfn.XLOOKUP(C415,Data!C:C,Data!G:G,0)","v":0},{"$f":"_xlfn.XLOOKUP(C415,Data!C:C,Data!F:F,0)","v":0},{"$f":"_xlfn.XLOOKUP(C415,Data!C:C,Data!H:H,0)","v":0},null,"",{"$f":"_xlfn.XLOOKUP(C415,Data!C:C,Data!F:F,\"\")","v":""},null,{"$error":"#N/A"}]
["23-3-2021","06:53:00","2021-03-23T06:53:00",null,{"$f":"_xlfn.XLOOKUP(C416,Data!C:C,Data!I:I)","v":{"$error":"#N/A"}},{"$error":"#N/A"},{"$f":"_xlfn.XLOOKUP(C416,Data!C:C,Data!G:G,0)","v":0},{"$f":"_xlfn.XLOOKUP(C416,Data!C:C,Data!F:F,0)","v":0},{"$f":"_xlfn.XLOOKUP(C416,Data!C:C,Data!H:H,0)","v":0},null,"",{"$f":"_xlfn.XLOOKUP(C416,Data!C:C,Data!F:F,\"\")","v":""},null,{"$error":"#N/A"}]
["23-3-2021","06:54:00","2021-03-23T06:54:00",null,{"$f":"_xlfn.XLOOKUP(C417,Data!C:C,Data!I:I)","v":{"$error":"#N/A"}},{"$error":"#N/A"},{"$f":"_xlfn.XLOOKUP(C417,Data!C:C,Data!G:G,0)","v":0},{"$f":"_xlfn.XLOOKUP(C417,Data!C:C,Data!F:F,0)","v":0},{"$f":"_xlfn.XLOOKUP(C417,Data!C:C,Data!H:H,0)","v":0},null,"",{"$f":"_xlfn.XLOOKUP(C417,Data!C:C,Data!F:F,\"\")","v":""},null,{"$error":"#N/A"}]
["23-3-2021","06:55:00","2021-03-23T06:55:00",null,{"$f":"_xlfn.XLOOKUP(C418,Data!C:C,Data!I:I)","v":{"$error":"#N/A"}},{"$error":"#N/A"},{"$f":"_xlfn.XLOOKUP(C418,Data!C:C,Data!G:G,0)","v":0},{"$f":"_xlfn.XLOOKUP(C418,Data!C:C,Data!F:F,0)","v":0},{"$f":"_xlfn.XLOOKUP(C418,Data!C:C,Data!H:H,0)","v":0},null,"",{"$f":"_xlfn.XLOOKUP(C418,Data!C:C,Data!F:F,\"\")","v":""},null,{"$error":"#N/A"}]
["23-3-2021","06:56:00","2021-03-23T06:56:00",null,{"$f":"_xlfn.XLOOKUP(C419,Data!C:C,Data!I:I)","v":{"$error":"#N/A"}},{"$error":"#N/A"},{"$f":"_xlfn.XLOOKUP(C419,Data!C:C,Data!G:G,0)","v":0},{"$f":"_xlfn.XLOOKUP(C419,Data!C:C,Data!F:F,0)","v":0},{"$f":"_xlfn.XLOOKUP(C419,Data!C:C,Data!H:H,0)","v":0},null,"",{"$f":"_xlfn.XLOOKUP(C419,Data!C:C,Data!F:F,\"\")","v":""},null,{"$error":"#N/A"}]
["23-3-2021","06:57:00","2021-03-23T06:57:00",null,{"$f":"_xlfn.XLOOKUP(C420,Data!C:C,Data!I:I)","v":{"$error":"#N/A"}},{"$error":"#N/A"},{"$f":"_xlfn.XLOOKUP(C420,Data!C:C,Data!G:G,0)","v":0},{"$f":"_xlfn.XLOOKUP(C420,Data!C:C,Data!F:F,0)","v":0},{"$f":"_xlfn.XLOOKUP(C420,Data!C:C,Data!H:H,0)","v":0},null,"",{"$f":"_xlfn.XLOOKUP(C420,Data!C:C,Data!F:F,\"\")","v":""},null,{"$error":"#N/A"}]
["23-3-2021","06:58:00","2021-03-23T06:58:00",null,{"$f":"_xlfn.XLOOKUP(C421,Data!C:C,Data!I:I)","v":{"$error":"#N/A"}},{"$error":"#N/A"},{"$f":"_xlfn.XLOOKUP(C421,Data!C:C,Data!G:G,0)","v":0},{"$f":"_xlfn.XLOOKUP(C421,Data!C:C,Data!F:F,0)","v":0},{"$f":"_xlfn.XLOOKUP(C421,Data!C:C,Data!H:H,0)","v":0},null,"",{"$f":"_xlfn.XLOOKUP(C421,Data!C:C,Data!F:F,\"\")","v":""},null,{"$error":"#N/A"}]
["23-3-2021","06:59:00","2021-03-23T06:59:00",null,{"$f":"_xlfn.XLOOKUP(C422,Data!C:C,Data!I:I)","v":{"$error":"#N/A"}},{"$error":"#N/A"},{"$f":"_xlfn.XLOOKUP(C422,Data!C:C,Data!G:G,0)","v":0},{"$f":"_xlfn.XLOOKUP(C422,Data!C:C,Data!F:F,0)","v":0},{"$f":"_xlfn.XLOOKUP(C422,Data!C:C,Data!H:H,0)","v":0},null,"",{"$f":"_xlfn.XLOOKUP(C422,Data!C:C,Data!F:F,\"\")","v":""},null,{"$error":"#N/A"}]
["23-3-2021","07:00:00","2021-03-23T07:00:00",null,{"$f":"_xlfn.XLOOKUP(C423,Data!C:C,Data!I:I)","v":{"$error":"#N/A"}},{"$error":"#N/A"},{"$f":"_xlfn.XLOOKUP(C423,Data!C:C,Data!G:G,0)","v":0},{"$f":"_xlfn.XLOOKUP(C423,Data!C:C,Data!F:F,0)","v":0},{"$f":"_xlfn.XLOOKUP(C423,Data!C:C,Data!H:H,0)","v":0},null,"",{"$f":"_xlfn.XLOOKUP(C423,Data!C:C,Data!F:F,\"\")","v":""},null,{"$error":"#N/A"}]
["23-3-2021","07:01:00","2021-03-23T07:01:00",null,{"$f":"_xlfn.XLOOKUP(C424,Data!C:C,Data!I:I)","v":{"$error":"#N/A"}},{"$error":"#N/A"},{"$f":"_xlfn.XLOOKUP(C424,Data!C:C,Data!G:G,0)","v":0},{"$f":"_xlfn.XLOOKUP(C424,Data!C:C,Data!F:F,0)","v":0},{"$f":"_xlfn.XLOOKUP(C424,Data!C:C,Data!H:H,0)","v":0},null,"",{"$f":"_xlfn.XLOOKUP(C424,Data!C:C,Data!F:F,\"\")","v":""},null,{"$error":"#N/A"}]
["23-3-2021","07:02:00","2021-03-23T07:02:00",null,{"$f":"_xlfn.XLOOKUP(C425,Data!C:C,Data!I:I)","v":{"$error":"#N/A"}},{"$error":"#N/A"},{"$f":"_xlfn.XLOOKUP(C425,Data!C:C,Data!G:G,0)","v":0},{"$f":"_xlfn.XLOOKUP(C425,Data!C:C,Data!F:F,0)","v":0},{"$f":"_xlfn.XLOOKUP(C425,Data!C:C,Data!H:H,0)","v":0},null,"",{"$f":"_xlfn.XLOOKUP(C425,Data!C:C,Data!F:F,\"\")","v":""},null,{"$error":"#N/A"}]
["23-3-2021","07:03:00",{"$f":"SUM(B426)","v":"07:03:00"},null,{"$f":"_xlfn.XLOOKUP(C426,Data!C:C,Data!I:I)","v":{"$error":"#N/A"}},{"$error":"#N/A"},{"$f":"_xlfn.XLOOKUP(C426,Data!C:C,Data!G:G,0)","v":0},{"$f":"_xlfn.XLOOKUP(C426,Data!C:C,Data!F:F,0)","v":0},{"$f":"_xlfn.XLOOKUP(C426,Data!C:C,Data!H:H,0)","v":0},null,"",{"$f":"_xlfn.XLOOKUP(C426,Data!C:C,Data!F:F,\"\")","v":""},null,{"$error":"#N/A"}]
["23-3-2021","07:04:00","2021-03-23T07:04:00",null,{"$f":"_xlfn.XLOOKUP(C427,Data!C:C,Data!I:I)","v":{"$error":"#N/A"}},{"$error":"#N/A"},{"$f":"_xlfn.XLOOKUP(C427,Data!C:C,Data!G:G,0)","v":0},{"$f":"_xlfn.XLOOKUP(C427,Data!C:C,Data!F:F,0)","v":0},{"$f":"_xlfn.XLOOKUP(C427,Data!C:C,Data!H:H,0)","v":0},null,"",{"$f":"_xlfn.XLOOKUP(C427,Data!C:C,Data!F:F,\"\")","v":""},null,{"$error":"#N/A"}]
["23-3-2021","07:05:00","2021-03-23T07:05:00",null,{"$f":"_xlfn.XLOOKUP(C428,Data!C:C,Data!I:I)","v":{"$error":"#N/A"}},{"$error":"#N/A"},{"$f":"_xlfn.XLOOKUP(C428,Data!C:C,Data!G:G,0)","v":0},{"$f":"_xlfn.XLOOKUP(C428,Data!C:C,Data!F:F,0)","v":0},{"$f":"_xlfn.XLOOKUP(C428,Data!C:C,Data!H:H,0)","v":0},null,"",{"$f":"_xlfn.XLOOKUP(C428,Data!C:C,Data!F:F,\"\")","v":""},null,{"$error":"#N/A"}]
["23-3-2021","07:06:00","2021-03-23T07:06:00",null,{"$f":"_xlfn.XLOOKUP(C429,Data!C:C,Data!I:I)","v":{"$error":"#N/A"}},{"$error":"#N/A"},{"$f":"_xlfn.XLOOKUP(C429,Data!C:C,Data!G:G,0)","v":0},{"$f":"_xlfn.XLOOKUP(C429,Data!C:C,Data!F:F,0)","v":0},{"$f":"_xlfn.XLOOKUP(C429,Data!C:C,Data!H:H,0)","v":0},null,"",{"$f":"_xlfn.XLOOKUP(C429,Data!C:C,Data!F:F,\"\")","v":""},null,{"$error":"#N/A"}]
["23-3-2021","07:07:00","2021-03-23T07:07:00",null,{"$f":"_xlfn.XLOOKUP(C430,Data!C:C,Data!I:I)","v":{"$error":"#N/A"}},{"$error":"#N/A"},{"$f":"_xlfn.XLOOKUP(C430,Data!C:C,Data!G:G,0)","v":0},{"$f":"_xlfn.XLOOKUP(C430,Data!C:C,Data!F:F,0)","v":0},{"$f":"_xlfn.XLOOKUP(C430,Data!C:C,Data!H:H,0)","v":0},null,"",{"$f":"_xlfn.XLOOKUP(C430,Data!C:C,Data!F:F,\"\")","v":""},null,{"$error":"#N/A"}]
["23-3-2021","07:08:00","2021-03-23T07:08:00",null,{"$f":"_xlfn.XLOOKUP(C431,Data!C:C,Data!I:I)","v":{"$error":"#N/A"}},{"$error":"#N/A"},{"$f":"_xlfn.XLOOKUP(C431,Data!C:C,Data!G:G,0)","v":0},{"$f":"_xlfn.XLOOKUP(C431,Data!C:C,Data!F:F,0)","v":0},{"$f":"_xlfn.XLOOKUP(C431,Data!C:C,Data!H:H,0)","v":0},null,"",{"$f":"_xlfn.XLOOKUP(C431,Data!C:C,Data!F:F,\"\")","v":""},null,{"$error":"#N/A"}]
["23-3-2021","07:09:00","2021-03-23T07:09:00",null,{"$f":"_xlfn.XLOOKUP(C432,Data!C:C,Data!I:I)","v":{"$error":"#N/A"}},{"$error":"#N/A"},{"$f":"_xlfn.XLOOKUP(C432,Data!C:C,Data!G:G,0)","v":0},{"$f":"_xlfn.XLOOKUP(C432,Data!C:C,Data!F:F,0)","v":0},{"$f":"_xlfn.XLOOKUP(C432,Data!C:C,Data!H:H,0)","v":0},null,"",{"$f":"_xlfn.XLOOKUP(C432,Data!C:C,Data!F:F,\"\")","v":""},null,{"$error":"#N/A"}]
["23-3-2021","07:10:00","2021-03-23T07:10:00",null,{"$f":"_xlfn.XLOOKUP(C433,Data!C:C,Data!I:I)","v":{"$error":"#N/A"}},{"$error":"#N/A"},{"$f":"_xlfn.XLOOKUP(C433,Data!C:C,Data!G:G,0)","v":0},{"$f":"_xlfn.XLOOKUP(C433,Data!C:C,Data!F:F,0)","v":0},{"$f":"_xlfn.XLOOKUP(C433,Data!C:C,Data!H:H,0)","v":0},null,"",{"$f":"_xlfn.XLOOKUP(C433,Data!C:C,Data!F:F,\"\")","v":""},null,{"$error":"#N/A"}]
["23-3-2021","07:11:00","2021-03-23T07:11:00",null,{"$f":"_xlfn.XLOOKUP(C434,Data!C:C,Data!I:I)","v":{"$error":"#N/A"}},{"$error":"#N/A"},{"$f":"_xlfn.XLOOKUP(C434,Data!C:C,Data!G:G,0)","v":0},{"$f":"_xlfn.XLOOKUP(C434,Data!C:C,Data!F:F,0)","v":0},{"$f":"_xlfn.XLOOKUP(C434,Data!C:C,Data!H:H,0)","v":0},null,"",{"$f":"_xlfn.XLOOKUP(C434,Data!C:C,Data!F:F,\"\")","v":""},null,{"$error":"#N/A"}]
["23-3-2021","07:12:00","2021-03-23T07:12:00",null,{"$f":"_xlfn.XLOOKUP(C435,Data!C:C,Data!I:I)","v":{"$error":"#N/A"}},{"$error":"#N/A"},{"$f":"_xlfn.XLOOKUP(C435,Data!C:C,Data!G:G,0)","v":0},{"$f":"_xlfn.XLOOKUP(C435,Data!C:C,Data!F:F,0)","v":0},{"$f":"_xlfn.XLOOKUP(C435,Data!C:C,Data!H:H,0)","v":0},null,"",{"$f":"_xlfn.XLOOKUP(C435,Data!C:C,Data!F:F,\"\")","v":""},null,{"$error":"#N/A"}]
["23-3-2021","07:13:00","2021-03-23T07:13:00",null,{"$f":"_xlfn.XLOOKUP(C436,Data!C:C,Data!I:I)","v":{"$error":"#N/A"}},{"$error":"#N/A"},{"$f":"_xlfn.XLOOKUP(C436,Data!C:C,Data!G:G,0)","v":0},{"$f":"_xlfn.XLOOKUP(C436,Data!C:C,Data!F:F,0)","v":0},{"$f":"_xlfn.XLOOKUP(C436,Data!C:C,Data!H:H,0)","v":0},null,"",{"$f":"_xlfn.XLOOKUP(C436,Data!C:C,Data!F:F,\"\")","v":""},null,{"$error":"#N/A"}]
["23-3-2021","07:14:00","2021-03-23T07:14:00",null,{"$f":"_xlfn.XLOOKUP(C437,Data!C:C,Data!I:I)","v":{"$error":"#N/A"}},{"$error":"#N/A"},{"$f":"_xlfn.XLOOKUP(C437,Data!C:C,Data!G:G,0)","v":0},{"$f":"_xlfn.XLOOKUP(C437,Data!C:C,Data!F:F,0)","v":0},{"$f":"_xlfn.XLOOKUP(C437,Data!C:C,Data!H:H,0)","v":0},null,"",{"$f":"_xlfn.XLOOKUP(C437,Data!C:C,Data!F:F,\"\")","v":""},null,{"$error":"#N/A"}]
["23-3-2021","07:15:00","2021-03-23T07:15:00",null,{"$f":"_xlfn.XLOOKUP(C438,Data!C:C,Data!I:I)","v":{"$error":"#N/A"}},{"$error":"#N/A"},{"$f":"_xlfn.XLOOKUP(C438,Data!C:C,Data!G:G,0)","v":0},{"$f":"_xlfn.XLOOKUP(C438,Data!C:C,Data!F:F,0)","v":0},{"$f":"_xlfn.XLOOKUP(C438,Data!C:C,Data!H:H,0)","v":0},null,"",{"$f":"_xlfn.XLOOKUP(C438,Data!C:C,Data!F:F,\"\")","v":""},null,{"$error":"#N/A"}]
["23-3-2021","07:16:00","2021-03-23T07:16:00",null,{"$f":"_xlfn.XLOOKUP(C439,Data!C:C,Data!I:I)","v":{"$error":"#N/A"}},{"$error":"#N/A"},{"$f":"_xlfn.XLOOKUP(C439,Data!C:C,Data!G:G,0)","v":0},{"$f":"_xlfn.XLOOKUP(C439,Data!C:C,Data!F:F,0)","v":0},{"$f":"_xlfn.XLOOKUP(C439,Data!C:C,Data!H:H,0)","v":0},null,"",{"$f":"_xlfn.XLOOKUP(C439,Data!C:C,Data!F:F,\"\")","v":""},null,{"$error":"#N/A"}]
["23-3-2021","07:17:00","2021-03-23T07:17:00",null,{"$f":"_xlfn.XLOOKUP(C440,Data!C:C,Data!I:I)","v":{"$error":"#N/A"}},{"$error":"#N/A"},{"$f":"_xlfn.XLOOKUP(C440,Data!C:C,Data!G:G,0)","v":0},{"$f":"_xlfn.XLOOKUP(C440,Data!C:C,Data!F:F,0)","v":0},{"$f":"_xlfn.XLOOKUP(C440,Data!C:C,Data!H:H,0)","v":0},null,"",{"$f":"_xlfn.XLOOKUP(C440,Data!C:C,Data!F:F,\"\")","v":""},null,{"$error":"#N/A"}]
["23-3-2021","07:18:00","2021-03-23T07:18:00",null,{"$f":"_xlfn.XLOOKUP(C441,Data!C:C,Data!I:I)","v":{"$error":"#N/A"}},{"$error":"#N/A"},{"$f":"_xlfn.XLOOKUP(C441,Data!C:C,Data!G:G,0)","v":0},{"$f":"_xlfn.XLOOKUP(C441,Data!C:C,Data!F:F,0)","v":0},{"$f":"_xlfn.XLOOKUP(C441,Data!C:C,Data!H:H,0)","v":0},null,"",{"$f":"_xlfn.XLOOKUP(C441,Data!C:C,Data!F:F,\"\")","v":""},null,{"$error":"#N/A"}]
["23-3-2021","07:19:00","2021-03-23T07:19:00",null,{"$f":"_xlfn.XLOOKUP(C442,Data!C:C,Data!I:I)","v":{"$error":"#N/A"}},{"$error":"#N/A"},{"$f":"_xlfn.XLOOKUP(C442,Data!C:C,Data!G:G,0)","v":0},{"$f":"_xlfn.XLOOKUP(C442,Data!C:C,Data!F:F,0)","v":0},{"$f":"_xlfn.XLOOKUP(C442,Data!C:C,Data!H:H,0)","v":0},null,"",{"$f":"_xlfn.XLOOKUP(C442,Data!C:C,Data!F:F,\"\")","v":""},null,{"$error":"#N/A"}]
["23-3-2021","07:20:00","2021-03-23T07:20:00",null,{"$f":"_xlfn.XLOOKUP(C443,Data!C:C,Data!I:I)","v":{"$error":"#N/A"}},{"$error":"#N/A"},{"$f":"_xlfn.XLOOKUP(C443,Data!C:C,Data!G:G,0)","v":0},{"$f":"_xlfn.XLOOKUP(C443,Data!C:C,Data!F:F,0)","v":0},{"$f":"_xlfn.XLOOKUP(C443,Data!C:C,Data!H:H,0)","v":0},null,"",{"$f":"_xlfn.XLOOKUP(C443,Data!C:C,Data!F:F,\"\")","v":""},null,{"$error":"#N/A"}]
["23-3-2021","07:21:00","2021-03-23T07:21:00",null,{"$f":"_xlfn.XLOOKUP(C444,Data!C:C,Data!I:I)","v":{"$error":"#N/A"}},{"$error":"#N/A"},{"$f":"_xlfn.XLOOKUP(C444,Data!C:C,Data!G:G,0)","v":0},{"$f":"_xlfn.XLOOKUP(C444,Data!C:C,Data!F:F,0)","v":0},{"$f":"_xlfn.XLOOKUP(C444,Data!C:C,Data!H:H,0)","v":0},null,"",{"$f":"_xlfn.XLOOKUP(C444,Data!C:C,Data!F:F,\"\")","v":""},null,{"$error":"#N/A"}]
["23-3-2021","07:22:00","2021-03-23T07:22:00",null,{"$f":"_xlfn.XLOOKUP(C445,Data!C:C,Data!I:I)","v":{"$error":"#N/A"}},{"$error":"#N/A"},{"$f":"_xlfn.XLOOKUP(C445,Data!C:C,Data!G:G,0)","v":0},{"$f":"_xlfn.XLOOKUP(C445,Data!C:C,Data!F:F,0)","v":0},{"$f":"_xlfn.XLOOKUP(C445,Data!C:C,Data!H:H,0)","v":0},null,"",{"$f":"_xlfn.XLOOKUP(C445,Data!C:C,Data!F:F,\"\")","v":""},null,{"$error":"#N/A"}]
["23-3-2021","07:23:00","2021-03-23T07:23:00",null,{"$f":"_xlfn.XLOOKUP(C446,Data!C:C,Data!I:I)","v":{"$error":"#N/A"}},{"$error":"#N/A"},{"$f":"_xlfn.XLOOKUP(C446,Data!C:C,Data!G:G,0)","v":0},{"$f":"_xlfn.XLOOKUP(C446,Data!C:C,Data!F:F,0)","v":0},{"$f":"_xlfn.XLOOKUP(C446,Data!C:C,Data!H:H,0)","v":0},null,"",{"$f":"_xlfn.XLOOKUP(C446,Data!C:C,Data!F:F,\"\")","v":""},null,{"$error":"#N/A"}]
["23-3-2021","07:24:00","2021-03-23T07:24:00",null,{"$f":"_xlfn.XLOOKUP(C447,Data!C:C,Data!I:I)","v":{"$error":"#N/A"}},{"$error":"#N/A"},{"$f":"_xlfn.XLOOKUP(C447,Data!C:C,Data!G:G,0)","v":0},{"$f":"_xlfn.XLOOKUP(C447,Data!C:C,Data!F:F,0)","v":0},{"$f":"_xlfn.XLOOKUP(C447,Data!C:C,Data!H:H,0)","v":0},null,"",{"$f":"_xlfn.XLOOKUP(C447,Data!C:C,Data!F:F,\"\")","v":""},null,{"$error":"#N/A"}]
["23-3-2021","07:25:00","2021-03-23T07:25:00",null,{"$f":"_xlfn.XLOOKUP(C448,Data!C:C,Data!I:I)","v":{"$error":"#N/A"}},{"$error":"#N/A"},{"$f":"_xlfn.XLOOKUP(C448,Data!C:C,Data!G:G,0)","v":0},{"$f":"_xlfn.XLOOKUP(C448,Data!C:C,Data!F:F,0)","v":0},{"$f":"_xlfn.XLOOKUP(C448,Data!C:C,Data!H:H,0)","v":0},null,"",{"$f":"_xlfn.XLOOKUP(C448,Data!C:C,Data!F:F,\"\")","v":""},null,{"$error":"#N/A"}]
["23-3-2021","07:26:00","2021-03-23T07:26:00",null,{"$f":"_xlfn.XLOOKUP(C449,Data!C:C,Data!I:I)","v":{"$error":"#N/A"}},{"$error":"#N/A"},{"$f":"_xlfn.XLOOKUP(C449,Data!C:C,Data!G:G,0)","v":0},{"$f":"_xlfn.XLOOKUP(C449,Data!C:C,Data!F:F,0)","v":0},{"$f":"_xlfn.XLOOKUP(C449,Data!C:C,Data!H:H,0)","v":0},null,"",{"$f":"_xlfn.XLOOKUP(C449,Data!C:C,Data!F:F,\"\")","v":""},null,{"$error":"#N/A"}]
["23-3-2021","07:27:00","2021-03-23T07:27:00",null,{"$f":"_xlfn.XLOOKUP(C450,Data!C:C,Data!I:I)","v":{"$error":"#N/A"}},{"$error":"#N/A"},{"$f":"_xlfn.XLOOKUP(C450,Data!C:C,Data!G:G,0)","v":0},{"$f":"_xlfn.XLOOKUP(C450,Data!C:C,Data!F:F,0)","v":0},{"$f":"_xlfn.XLOOKUP(C450,Data!C:C,Data!H:H,0)","v":0},null,"",{"$f":"_xlfn.XLOOKUP(C450,Data!C:C,Data!F:F,\"\")","v":""},null,{"$error":"#N/A"}]
["23-3-2021","07:28:00",{"$f":"A451+B451","v":"2021-03-23T07:28:00"},null,{"$f":"_xlfn.XLOOKUP(C451,Data!C:C,Data!I:I)","v":{"$error":"#N/A"}},{"$error":"#N/A"},{"$f":"_xlfn.XLOOKUP(C451,Data!C:C,Data!G:G,0)","v":0},{"$f":"_xlfn.XLOOKUP(C451,Data!C:C,Data!F:F,0)","v":0},{"$f":"_xlfn.XLOOKUP(C451,Data!C:C,Data!H:H,0)","v":0},null,"",{"$f":"_xlfn.XLOOKUP(C451,Data!C:C,Data!F:F,\"\")","v":""},null,{"$error":"#N/A"}]
[{"$f":"$A$3","v":"23-3-2021"},"07:29:00","2021-03-23T07:29:00",null,{"$f":"_xlfn.XLOOKUP(C452,Data!C:C,Data!I:I)","v":{"$error":"#N/A"}},{"$f":"IF(E452=255,F451,E452)","v":{"$error":"#N/A"}},{"$f":"_xlfn.XLOOKUP(C452,Data!C:C,Data!G:G,0)","v":0},{"$f":"_xlfn.XLOOKUP(C452,Data!C:C,Data!F:F,0)","v":0},{"$f":"_xlfn.XLOOKUP(C452,Data!C:C,Data!H:H,0)","v":0},null,{"$f":"IFERROR(IF(F452=\"#N/A\",\"\",F452),\"\")","v":""},{"$f":"_xlfn.XLOOKUP(C452,Data!C:C,Data!F:F,\"\")","v":""},null,{"$error":"#N/A"}]
["23-3-2021","07:30:00","2021-03-23T07:30:00",null,{"$f":"_xlfn.XLOOKUP(C453,Data!C:C,Data!I:I)","v":{"$error":"#N/A"}},{"$error":"#N/A"},{"$f":"_xlfn.XLOOKUP(C453,Data!C:C,Data!G:G,0)","v":0},{"$f":"_xlfn.XLOOKUP(C453,Data!C:C,Data!F:F,0)","v":0},{"$f":"_xlfn.XLOOKUP(C453,Data!C:C,Data!H:H,0)","v":0},null,"",{"$f":"_xlfn.XLOOKUP(C453,Data!C:C,Data!F:F,\"\")","v":""},null,{"$error":"#N/A"}]
["23-3-2021","07:31:00","2021-03-23T07:31:00",null,{"$f":"_xlfn.XLOOKUP(C454,Data!C:C,Data!I:I)","v":{"$error":"#N/A"}},{"$error":"#N/A"},{"$f":"_xlfn.XLOOKUP(C454,Data!C:C,Data!G:G,0)","v":0},{"$f":"_xlfn.XLOOKUP(C454,Data!C:C,Data!F:F,0)","v":0},{"$f":"_xlfn.XLOOKUP(C454,Data!C:C,Data!H:H,0)","v":0},null,"",{"$f":"_xlfn.XLOOKUP(C454,Data!C:C,Data!F:F,\"\")","v":""},null,{"$error":"#N/A"}]
["23-3-2021","07:32:00","2021-03-23T07:32:00",null,{"$f":"_xlfn.XLOOKUP(C455,Data!C:C,Data!I:I)","v":{"$error":"#N/A"}},{"$error":"#N/A"},{"$f":"_xlfn.XLOOKUP(C455,Data!C:C,Data!G:G,0)","v":0},{"$f":"_xlfn.XLOOKUP(C455,Data!C:C,Data!F:F,0)","v":0},{"$f":"_xlfn.XLOOKUP(C455,Data!C:C,Data!H:H,0)","v":0},null,"",{"$f":"_xlfn.XLOOKUP(C455,Data!C:C,Data!F:F,\"\")","v":""},null,{"$f":"IF(F455=\"\",\"\",AVERAGE(F451:F459))","v":{"$error":"#N/A"}}]
["23-3-2021","07:33:00","2021-03-23T07:33:00",null,{"$f":"_xlfn.XLOOKUP(C456,Data!C:C,Data!I:I)","v":{"$error":"#N/A"}},{"$error":"#N/A"},{"$f":"_xlfn.XLOOKUP(C456,Data!C:C,Data!G:G,0)","v":0},{"$f":"_xlfn.XLOOKUP(C456,Data!C:C,Data!F:F,0)","v":0},{"$f":"_xlfn.XLOOKUP(C456,Data!C:C,Data!H:H,0)","v":0},null,"",{"$f":"_xlfn.XLOOKUP(C456,Data!C:C,Data!F:F,\"\")","v":""},null,{"$error":"#N/A"}]
["23-3-2021","07:34:00","2021-03-23T07:34:00",null,{"$f":"_xlfn.XLOOKUP(C457,Data!C:C,Data!I:I)","v":{"$error":"#N/A"}},{"$error":"#N/A"},{"$f":"_xlfn.XLOOKUP(C457,Data!C:C,Data!G:G,0)","v":0},{"$f":"_xlfn.XLOOKUP(C457,Data!C:C,Data!F:F,0)","v":0},{"$f":"_xlfn.XLOOKUP(C457,Data!C:C,Data!H:H,0)","v":0},null,"",{"$f":"_xlfn.XLOOKUP(C457,Data!C:C,Data!F:F,\"\")","v":""},null,{"$error":"#N/A"}]
["23-3-2021","07:35:00","2021-03-23T07:35:00",null,{"$f":"_xlfn.XLOOKUP(C458,Data!C:C,Data!I:I)","v":{"$error":"#N/A"}},{"$error":"#N/A"},{"$f":"_xlfn.XLOOKUP(C458,Data!C:C,Data!G:G,0)","v":0},{"$f":"_xlfn.XLOOKUP(C458,Data!C:C,Data!F:F,0)","v":0},{"$f":"_xlfn.XLOOKUP(C458,Data!C:C,Data!H:H,0)","v":0},null,"",{"$f":"_xlfn.XLOOKUP(C458,Data!C:C,Data!F:F,\"\")","v":""},null,{"$error":"#N/A"}]
["23-3-2021","07:36:00","2021-03-23T07:36:00",null,{"$f":"_xlfn.XLOOKUP(C459,Data!C:C,Data!I:I)","v":{"$error":"#N/A"}},{"$error":"#N/A"},{"$f":"_xlfn.XLOOKUP(C459,Data!C:C,Data!G:G,0)","v":0},{"$f":"_xlfn.XLOOKUP(C459,Data!C:C,Data!F:F,0)","v":0},{"$f":"_xlfn.XLOOKUP(C459,Data!C:C,Data!H:H,0)","v":0},null,"",{"$f":"_xlfn.XLOOKUP(C459,Data!C:C,Data!F:F,\"\")","v":""},null,{"$error":"#N/A"}]
["23-3-2021","07:37:00","2021-03-23T07:37:00",null,{"$f":"_xlfn.XLOOKUP(C460,Data!C:C,Data!I:I)","v":{"$error":"#N/A"}},{"$error":"#N/A"},{"$f":"_xlfn.XLOOKUP(C460,Data!C:C,Data!G:G,0)","v":0},{"$f":"_xlfn.XLOOKUP(C460,Data!C:C,Data!F:F,0)","v":0},{"$f":"_xlfn.XLOOKUP(C460,Data!C:C,Data!H:H,0)","v":0},null,"",{"$f":"_xlfn.XLOOKUP(C460,Data!C:C,Data!F:F,\"\")","v":""},null,{"$error":"#N/A"}]
["23-3-2021","07:38:00","2021-03-23T07:38:00",null,{"$f":"_xlfn.XLOOKUP(C461,Data!C:C,Data!I:I)","v":{"$error":"#N/A"}},{"$error":"#N/A"},{"$f":"_xlfn.XLOOKUP(C461,Data!C:C,Data!G:G,0)","v":0},{"$f":"_xlfn.XLOOKUP(C461,Data!C:C,Data!F:F,0)","v":0},{"$f":"_xlfn.XLOOKUP(C461,Data!C:C,Data!H:H,0)","v":0},null,"",{"$f":"_xlfn.XLOOKUP(C461,Data!C:C,Data!F:F,\"\")","v":""},null,{"$error":"#N/A"}]
["23-3-2021","07:39:00","2021-03-23T07:39:00",null,{"$f":"_xlfn.XLOOKUP(C462,Data!C:C,Data!I:I)","v":{"$error":"#N/A"}},{"$error":"#N/A"},{"$f":"_xlfn.XLOOKUP(C462,Data!C:C,Data!G:G,0)","v":0},{"$f":"_xlfn.XLOOKUP(C462,Data!C:C,Data!F:F,0)","v":0},{"$f":"_xlfn.XLOOKUP(C462,Data!C:C,Data!H:H,0)","v":0},null,"",{"$f":"_xlfn.XLOOKUP(C462,Data!C:C,Data!F:F,\"\")","v":""},null,{"$error":"#N/A"}]
["23-3-2021","07:40:00","2021-03-23T07:40:00",null,{"$f":"_xlfn.XLOOKUP(C463,Data!C:C,Data!I:I)","v":{"$error":"#N/A"}},{"$error":"#N/A"},{"$f":"_xlfn.XLOOKUP(C463,Data!C:C,Data!G:G,0)","v":0},{"$f":"_xlfn.XLOOKUP(C463,Data!C:C,Data!F:F,0)","v":0},{"$f":"_xlfn.XLOOKUP(C463,Data!C:C,Data!H:H,0)","v":0},null,"",{"$f":"_xlfn.XLOOKUP(C463,Data!C:C,Data!F:F,\"\")","v":""},null,{"$error":"#N/A"}]
["23-3-2021","07:41:00","2021-03-23T07:41:00",null,{"$f":"_xlfn.XLOOKUP(C464,Data!C:C,Data!I:I)","v":{"$error":"#N/A"}},{"$error":"#N/A"},{"$f":"_xlfn.XLOOKUP(C464,Data!C:C,Data!G:G,0)","v":0},{"$f":"_xlfn.XLOOKUP(C464,Data!C:C,Data!F:F,0)","v":0},{"$f":"_xlfn.XLOOKUP(C464,Data!C:C,Data!H:H,0)","v":0},null,"",{"$f":"_xlfn.XLOOKUP(C464,Data!C:C,Data!F:F,\"\")","v":""},null,{"$error":"#N/A"}]
["23-3-2021","07:42:00","2021-03-23T07:42:00",null,{"$f":"_xlfn.XLOOKUP(C465,Data!C:C,Data!I:I)","v":{"$error":"#N/A"}},{"$error":"#N/A"},{"$f":"_xlfn.XLOOKUP(C465,Data!C:C,Data!G:G,0)","v":0},{"$f":"_xlfn.XLOOKUP(C465,Data!C:C,Data!F:F,0)","v":0},{"$f":"_xlfn.XLOOKUP(C465,Data!C:C,Data!H:H,0)","v":0},null,"",{"$f":"_xlfn.XLOOKUP(C465,Data!C:C,Data!F:F,\"\")","v":""},null,{"$error":"#N/A"}]
["23-3-2021","07:43:00","2021-03-23T07:43:00",null,{"$f":"_xlfn.XLOOKUP(C466,Data!C:C,Data!I:I)","v":{"$error":"#N/A"}},{"$error":"#N/A"},{"$f":"_xlfn.XLOOKUP(C466,Data!C:C,Data!G:G,0)","v":0},{"$f":"_xlfn.XLOOKUP(C466,Data!C:C,Data!F:F,0)","v":0},{"$f":"_xlfn.XLOOKUP(C466,Data!C:C,Data!H:H,0)","v":0},null,"",{"$f":"_xlfn.XLOOKUP(C466,Data!C:C,Data!F:F,\"\")","v":""},null,{"$error":"#N/A"}]
["23-3-2021","07:44:00","2021-03-23T07:44:00",null,{"$f":"_xlfn.XLOOKUP(C467,Data!C:C,Data!I:I)","v":{"$error":"#N/A"}},{"$error":"#N/A"},{"$f":"_xlfn.XLOOKUP(C467,Data!C:C,Data!G:G,0)","v":0},{"$f":"_xlfn.XLOOKUP(C467,Data!C:C,Data!F:F,0)","v":0},{"$f":"_xlfn.XLOOKUP(C467,Data!C:C,Data!H:H,0)","v":0},null,"",{"$f":"_xlfn.XLOOKUP(C467,Data!C:C,Data!F:F,\"\")","v":""},null,{"$error":"#N/A"}]
["23-3-2021","07:45:00","2021-03-23T07:45:00",null,{"$f":"_xlfn.XLOOKUP(C468,Data!C:C,Data!I:I)","v":{"$error":"#N/A"}},{"$error":"#N/A"},{"$f":"_xlfn.XLOOKUP(C468,Data!C:C,Data!G:G,0)","v":0},{"$f":"_xlfn.XLOOKUP(C468,Data!C:C,Data!F:F,0)","v":0},{"$f":"_xlfn.XLOOKUP(C468,Data!C:C,Data!H:H,0)","v":0},null,"",{"$f":"_xlfn.XLOOKUP(C468,Data!C:C,Data!F:F,\"\")","v":""},null,{"$error":"#N/A"}]
["23-3-2021","07:46:00","2021-03-23T07:46:00",null,{"$f":"_xlfn.XLOOKUP(C469,Data!C:C,Data!I:I)","v":{"$error":"#N/A"}},{"$error":"#N/A"},{"$f":"_xlfn.XLOOKUP(C469,Data!C:C,Data!G:G,0)","v":0},{"$f":"_xlfn.XLOOKUP(C469,Data!C:C,Data!F:F,0)","v":0},{"$f":"_xlfn.XLOOKUP(C469,Data!C:C,Data!H:H,0)","v":0},null,"",{"$f":"_xlfn.XLOOKUP(C469,Data!C:C,Data!F:F,\"\")","v":""},null,{"$error":"#N/A"}]
["23-3-2021","07:47:00","2021-03-23T07:47:00",null,{"$f":"_xlfn.XLOOKUP(C470,Data!C:C,Data!I:I)","v":{"$error":"#N/A"}},{"$error":"#N/A"},{"$f":"_xlfn.XLOOKUP(C470,Data!C:C,Data!G:G,0)","v":0},{"$f":"_xlfn.XLOOKUP(C470,Data!C:C,Data!F:F,0)","v":0},{"$f":"_xlfn.XLOOKUP(C470,Data!C:C,Data!H:H,0)","v":0},null,"",{"$f":"_xlfn.XLOOKUP(C470,Data!C:C,Data!F:F,\"\")","v":""},null,{"$error":"#N/A"}]
["23-3-2021","07:48:00","2021-03-23T07:48:00",null,{"$f":"_xlfn.XLOOKUP(C471,Data!C:C,Data!I:I)","v":{"$error":"#N/A"}},{"$error":"#N/A"},{"$f":"_xlfn.XLOOKUP(C471,Data!C:C,Data!G:G,0)","v":0},{"$f":"_xlfn.XLOOKUP(C471,Data!C:C,Data!F:F,0)","v":0},{"$f":"_xlfn.XLOOKUP(C471,Data!C:C,Data!H:H,0)","v":0},null,"",{"$f":"_xlfn.XLOOKUP(C471,Data!C:C,Data!F:F,\"\")","v":""},null,{"$error":"#N/A"}]
["23-3-2021","07:49:00","2021-03-23T07:49:00",null,{"$f":"_xlfn.XLOOKUP(C472,Data!C:C,Data!I:I)","v":{"$error":"#N/A"}},{"$error":"#N/A"},{"$f":"_xlfn.XLOOKUP(C472,Data!C:C,Data!G:G,0)","v":0},{"$f":"_xlfn.XLOOKUP(C472,Data!C:C,Data!F:F,0)","v":0},{"$f":"_xlfn.XLOOKUP(C472,Data!C:C,Data!H:H,0)","v":0},null,"",{"$f":"_xlfn.XLOOKUP(C472,Data!C:C,Data!F:F,\"\")","v":""},null,{"$error":"#N/A"}]
["23-3-2021","07:50:00","2021-03-23T07:50:00",null,{"$f":"_xlfn.XLOOKUP(C473,Data!C:C,Data!I:I)","v":{"$error":"#N/A"}},{"$error":"#N/A"},{"$f":"_xlfn.XLOOKUP(C473,Data!C:C,Data!G:G,0)","v":0},{"$f":"_xlfn.XLOOKUP(C473,Data!C:C,Data!F:F,0)","v":0},{"$f":"_xlfn.XLOOKUP(C473,Data!C:C,Data!H:H,0)","v":0},null,"",{"$f":"_xlfn.XLOOKUP(C473,Data!C:C,Data!F:F,\"\")","v":""},null,{"$error":"#N/A"}]
["23-3-2021","07:51:00","2021-03-23T07:51:00",null,{"$f":"_xlfn.XLOOKUP(C474,Data!C:C,Data!I:I)","v":{"$error":"#N/A"}},{"$error":"#N/A"},{"$f":"_xlfn.XLOOKUP(C474,Data!C:C,Data!G:G,0)","v":0},{"$f":"_xlfn.XLOOKUP(C474,Data!C:C,Data!F:F,0)","v":0},{"$f":"_xlfn.XLOOKUP(C474,Data!C:C,Data!H:H,0)","v":0},null,"",{"$f":"_xlfn.XLOOKUP(C474,Data!C:C,Data!F:F,\"\")","v":""},null,{"$error":"#N/A"}]
["23-3-2021","07:52:00","2021-03-23T07:52:00",null,{"$f":"_xlfn.XLOOKUP(C475,Data!C:C,Data!I:I)","v":{"$error":"#N/A"}},{"$error":"#N/A"},{"$f":"_xlfn.XLOOKUP(C475,Data!C:C,Data!G:G,0)","v":0},{"$f":"_xlfn.XLOOKUP(C475,Data!C:C,Data!F:F,0)","v":0},{"$f":"_xlfn.XLOOKUP(C475,Data!C:C,Data!H:H,0)","v":0},null,"",{"$f":"_xlfn.XLOOKUP(C475,Data!C:C,Data!F:F,\"\")","v":""},null,{"$error":"#N/A"}]
["23-3-2021","07:53:00","2021-03-23T07:53:00",null,{"$f":"_xlfn.XLOOKUP(C476,Data!C:C,Data!I:I)","v":{"$error":"#N/A"}},{"$error":"#N/A"},{"$f":"_xlfn.XLOOKUP(C476,Data!C:C,Data!G:G,0)","v":0},{"$f":"_xlfn.XLOOKUP(C476,Data!C:C,Data!F:F,0)","v":0},{"$f":"_xlfn.XLOOKUP(C476,Data!C:C,Data!H:H,0)","v":0},null,"",{"$f":"_xlfn.XLOOKUP(C476,Data!C:C,Data!F:F,\"\")","v":""},null,{"$error":"#N/A"}]
["23-3-2021","07:54:00","2021-03-23T07:54:00",null,{"$f":"_xlfn.XLOOKUP(C477,Data!C:C,Data!I:I)","v":{"$error":"#N/A"}},{"$error":"#N/A"},{"$f":"_xlfn.XLOOKUP(C477,Data!C:C,Data!G:G,0)","v":0},{"$f":"_xlfn.XLOOKUP(C477,Data!C:C,Data!F:F,0)","v":0},{"$f":"_xlfn.XLOOKUP(C477,Data!C:C,Data!H:H,0)","v":0},null,"",{"$f":"_xlfn.XLOOKUP(C477,Data!C:C,Data!F:F,\"\")","v":""},null,{"$error":"#N/A"}]
["23-3-2021","07:55:00","2021-03-23T07:55:00",null,{"$f":"_xlfn.XLOOKUP(C478,Data!C:C,Data!I:I)","v":{"$error":"#N/A"}},{"$error":"#N/A"},{"$f":"_xlfn.XLOOKUP(C478,Data!C:C,Data!G:G,0)","v":0},{"$f":"_xlfn.XLOOKUP(C478,Data!C:C,Data!F:F,0)","v":0},{"$f":"_xlfn.XLOOKUP(C478,Data!C:C,Data!H:H,0)","v":0},null,"",{"$f":"_xlfn.XLOOKUP(C478,Data!C:C,Data!F:F,\"\")","v":""},null,{"$error":"#N/A"}]
["23-3-2021","07:56:00","2021-03-23T07:56:00",null,{"$f":"_xlfn.XLOOKUP(C479,Data!C:C,Data!I:I)","v":{"$error":"#N/A"}},{"$error":"#N/A"},{"$f":"_xlfn.XLOOKUP(C479,Data!C:C,Data!G:G,0)","v":0},{"$f":"_xlfn.XLOOKUP(C479,Data!C:C,Data!F:F,0)","v":0},{"$f":"_xlfn.XLOOKUP(C479,Data!C:C,Data!H:H,0)","v":0},null,"",{"$f":"_xlfn.XLOOKUP(C479,Data!C:C,Data!F:F,\"\")","v":""},null,{"$error":"#N/A"}]
["23-3-2021","07:57:00","2021-03-23T07:57:00",null,{"$f":"_xlfn.XLOOKUP(C480,Data!C:C,Data!I:I)","v":{"$error":"#N/A"}},{"$error":"#N/A"},{"$f":"_xlfn.XLOOKUP(C480,Data!C:C,Data!G:G,0)","v":0},{"$f":"_xlfn.XLOOKUP(C480,Data!C:C,Data!F:F,0)","v":0},{"$f":"_xlfn.XLOOKUP(C480,Data!C:C,Data!H:H,0)","v":0},null,"",{"$f":"_xlfn.XLOOKUP(C480,Data!C:C,Data!F:F,\"\")","v":""},null,{"$error":"#N/A"}]
["23-3-2021","07:58:00","2021-03-23T07:58:00",null,{"$f":"_xlfn.XLOOKUP(C481,Data!C:C,Data!I:I)","v":{"$error":"#N/A"}},{"$error":"#N/A"},{"$f":"_xlfn.XLOOKUP(C481,Data!C:C,Data!G:G,0)","v":0},{"$f":"_xlfn.XLOOKUP(C481,Data!C:C,Data!F:F,0)","v":0},{"$f":"_xlfn.XLOOKUP(C481,Data!C:C,Data!H:H,0)","v":0},null,"",{"$f":"_xlfn.XLOOKUP(C481,Data!C:C,Data!F:F,\"\")","v":""},null,{"$error":"#N/A"}]
["23-3-2021","07:59:00","2021-03-23T07:59:00",null,{"$f":"_xlfn.XLOOKUP(C482,Data!C:C,Data!I:I)","v":{"$error":"#N/A"}},{"$error":"#N/A"},{"$f":"_xlfn.XLOOKUP(C482,Data!C:C,Data!G:G,0)","v":0},{"$f":"_xlfn.XLOOKUP(C482,Data!C:C,Data!F:F,0)","v":0},{"$f":"_xlfn.XLOOKUP(C482,Data!C:C,Data!H:H,0)","v":0},null,"",{"$f":"_xlfn.XLOOKUP(C482,Data!C:C,Data!F:F,\"\")","v":""},null,{"$error":"#N/A"}]
["23-3-2021","08:00:00","2021-03-23T08:00:00",null,{"$f":"_xlfn.XLOOKUP(C483,Data!C:C,Data!I:I)","v":{"$error":"#N/A"}},{"$error":"#N/A"},{"$f":"_xlfn.XLOOKUP(C483,Data!C:C,Data!G:G,0)","v":0},{"$f":"_xlfn.XLOOKUP(C483,Data!C:C,Data!F:F,0)","v":0},{"$f":"_xlfn.XLOOKUP(C483,Data!C:C,Data!H:H,0)","v":0},null,"",{"$f":"_xlfn.XLOOKUP(C483,Data!C:C,Data!F:F,\"\")","v":""},null,{"$error":"#N/A"}]
["23-3-2021","08:01:00","2021-03-23T08:01:00",null,{"$f":"_xlfn.XLOOKUP(C484,Data!C:C,Data!I:I)","v":{"$error":"#N/A"}},{"$error":"#N/A"},{"$f":"_xlfn.XLOOKUP(C484,Data!C:C,Data!G:G,0)","v":0},{"$f":"_xlfn.XLOOKUP(C484,Data!C:C,Data!F:F,0)","v":0},{"$f":"_xlfn.XLOOKUP(C484,Data!C:C,Data!H:H,0)","v":0},null,"",{"$f":"_xlfn.XLOOKUP(C484,Data!C:C,Data!F:F,\"\")","v":""},null,{"$error":"#N/A"}]
["23-3-2021","08:02:00","2021-03-23T08:02:00",null,{"$f":"_xlfn.XLOOKUP(C485,Data!C:C,Data!I:I)","v":{"$error":"#N/A"}},{"$error":"#N/A"},{"$f":"_xlfn.XLOOKUP(C485,Data!C:C,Data!G:G,0)","v":0},{"$f":"_xlfn.XLOOKUP(C485,Data!C:C,Data!F:F,0)","v":0},{"$f":"_xlfn.XLOOKUP(C485,Data!C:C,Data!H:H,0)","v":0},null,"",{"$f":"_xlfn.XLOOKUP(C485,Data!C:C,Data!F:F,\"\")","v":""},null,{"$error":"#N/A"}]
["23-3-2021","08:03:00","2021-03-23T08:03:00",null,{"$f":"_xlfn.XLOOKUP(C486,Data!C:C,Data!I:I)","v":{"$error":"#N/A"}},{"$error":"#N/A"},{"$f":"_xlfn.XLOOKUP(C486,Data!C:C,Data!G:G,0)","v":0},{"$f":"_xlfn.XLOOKUP(C486,Data!C:C,Data!F:F,0)","v":0},{"$f":"_xlfn.XLOOKUP(C486,Data!C:C,Data!H:H,0)","v":0},null,"",{"$f":"_xlfn.XLOOKUP(C486,Data!C:C,Data!F:F,\"\")","v":""},null,{"$error":"#N/A"}]
["23-3-2021","08:04:00","2021-03-23T08:04:00",null,{"$f":"_xlfn.XLOOKUP(C487,Data!C:C,Data!I:I)","v":{"$error":"#N/A"}},{"$error":"#N/A"},{"$f":"_xlfn.XLOOKUP(C487,Data!C:C,Data!G:G,0)","v":0},{"$f":"_xlfn.XLOOKUP(C487,Data!C:C,Data!F:F,0)","v":0},{"$f":"_xlfn.XLOOKUP(C487,Data!C:C,Data!H:H,0)","v":0},null,"",{"$f":"_xlfn.XLOOKUP(C487,Data!C:C,Data!F:F,\"\")","v":""},null,{"$error":"#N/A"}]
["23-3-2021","08:05:00","2021-03-23T08:05:00",null,{"$f":"_xlfn.XLOOKUP(C488,Data!C:C,Data!I:I)","v":{"$error":"#N/A"}},{"$error":"#N/A"},{"$f":"_xlfn.XLOOKUP(C488,Data!C:C,Data!G:G,0)","v":0},{"$f":"_xlfn.XLOOKUP(C488,Data!C:C,Data!F:F,0)","v":0},{"$f":"_xlfn.XLOOKUP(C488,Data!C:C,Data!H:H,0)","v":0},null,"",{"$f":"_xlfn.XLOOKUP(C488,Data!C:C,Data!F:F,\"\")","v":""},null,{"$error":"#N/A"}]
["23-3-2021","08:06:00","2021-03-23T08:06:00",null,{"$f":"_xlfn.XLOOKUP(C489,Data!C:C,Data!I:I)","v":{"$error":"#N/A"}},{"$error":"#N/A"},{"$f":"_xlfn.XLOOKUP(C489,Data!C:C,Data!G:G,0)","v":0},{"$f":"_xlfn.XLOOKUP(C489,Data!C:C,Data!F:F,0)","v":0},{"$f":"_xlfn.XLOOKUP(C489,Data!C:C,Data!H:H,0)","v":0},null,"",{"$f":"_xlfn.XLOOKUP(C489,Data!C:C,Data!F:F,\"\")","v":""},null,{"$error":"#N/A"}]
["23-3-2021","08:07:00","2021-03-23T08:07:00",null,{"$f":"_xlfn.XLOOKUP(C490,Data!C:C,Data!I:I)","v":{"$error":"#N/A"}},{"$error":"#N/A"},{"$f":"_xlfn.XLOOKUP(C490,Data!C:C,Data!G:G,0)","v":0},{"$f":"_xlfn.XLOOKUP(C490,Data!C:C,Data!F:F,0)","v":0},{"$f":"_xlfn.XLOOKUP(C490,Data!C:C,Data!H:H,0)","v":0},null,"",{"$f":"_xlfn.XLOOKUP(C490,Data!C:C,Data!F:F,\"\")","v":""},null,{"$error":"#N/A"}]
["23-3-2021","08:08:00","2021-03-23T08:08:00",null,{"$f":"_xlfn.XLOOKUP(C491,Data!C:C,Data!I:I)","v":{"$error":"#N/A"}},{"$error":"#N/A"},{"$f":"_xlfn.XLOOKUP(C491,Data!C:C,Data!G:G,0)","v":0},{"$f":"_xlfn.XLOOKUP(C491,Data!C:C,Data!F:F,0)","v":0},{"$f":"_xlfn.XLOOKUP(C491,Data!C:C,Data!H:H,0)","v":0},null,"",{"$f":"_xlfn.XLOOKUP(C491,Data!C:C,Data!F:F,\"\")","v":""},null,{"$error":"#N/A"}]
["23-3-2021","08:09:00","2021-03-23T08:09:00",null,{"$f":"_xlfn.XLOOKUP(C492,Data!C:C,Data!I:I)","v":{"$error":"#N/A"}},{"$error":"#N/A"},{"$f":"_xlfn.XLOOKUP(C492,Data!C:C,Data!G:G,0)","v":0},{"$f":"_xlfn.XLOOKUP(C492,Data!C:C,Data!F:F,0)","v":0},{"$f":"_xlfn.XLOOKUP(C492,Data!C:C,Data!H:H,0)","v":0},null,"",{"$f":"_xlfn.XLOOKUP(C492,Data!C:C,Data!F:F,\"\")","v":""},null,{"$error":"#N/A"}]
["23-3-2021","08:10:00","2021-03-23T08:10:00",null,{"$f":"_xlfn.XLOOKUP(C493,Data!C:C,Data!I:I)","v":{"$error":"#N/A"}},{"$error":"#N/A"},{"$f":"_xlfn.XLOOKUP(C493,Data!C:C,Data!G:G,0)","v":0},{"$f":"_xlfn.XLOOKUP(C493,Data!C:C,Data!F:F,0)","v":0},{"$f":"_xlfn.XLOOKUP(C493,Data!C:C,Data!H:H,0)","v":0},null,"",{"$f":"_xlfn.XLOOKUP(C493,Data!C:C,Data!F:F,\"\")","v":""},null,{"$error":"#N/A"}]
["23-3-2021","08:11:00","2021-03-23T08:11:00",null,{"$f":"_xlfn.XLOOKUP(C494,Data!C:C,Data!I:I)","v":{"$error":"#N/A"}},{"$error":"#N/A"},{"$f":"_xlfn.XLOOKUP(C494,Data!C:C,Data!G:G,0)","v":0},{"$f":"_xlfn.XLOOKUP(C494,Data!C:C,Data!F:F,0)","v":0},{"$f":"_xlfn.XLOOKUP(C494,Data!C:C,Data!H:H,0)","v":0},null,"",{"$f":"_xlfn.XLOOKUP(C494,Data!C:C,Data!F:F,\"\")","v":""},null,{"$error":"#N/A"}]
["23-3-2021","08:12:00","2021-03-23T08:12:00",null,{"$f":"_xlfn.XLOOKUP(C495,Data!C:C,Data!I:I)","v":{"$error":"#N/A"}},{"$error":"#N/A"},{"$f":"_xlfn.XLOOKUP(C495,Data!C:C,Data!G:G,0)","v":0},{"$f":"_xlfn.XLOOKUP(C495,Data!C:C,Data!F:F,0)","v":0},{"$f":"_xlfn.XLOOKUP(C495,Data!C:C,Data!H:H,0)","v":0},null,"",{"$f":"_xlfn.XLOOKUP(C495,Data!C:C,Data!F:F,\"\")","v":""},null,{"$error":"#N/A"}]
["23-3-2021","08:13:00","2021-03-23T08:13:00",null,{"$f":"_xlfn.XLOOKUP(C496,Data!C:C,Data!I:I)","v":{"$error":"#N/A"}},{"$error":"#N/A"},{"$f":"_xlfn.XLOOKUP(C496,Data!C:C,Data!G:G,0)","v":0},{"$f":"_xlfn.XLOOKUP(C496,Data!C:C,Data!F:F,0)","v":0},{"$f":"_xlfn.XLOOKUP(C496,Data!C:C,Data!H:H,0)","v":0},null,"",{"$f":"_xlfn.XLOOKUP(C496,Data!C:C,Data!F:F,\"\")","v":""},null,{"$error":"#N/A"}]
["23-3-2021","08:14:00","2021-03-23T08:14:00",null,{"$f":"_xlfn.XLOOKUP(C497,Data!C:C,Data!I:I)","v":{"$error":"#N/A"}},{"$error":"#N/A"},{"$f":"_xlfn.XLOOKUP(C497,Data!C:C,Data!G:G,0)","v":0},{"$f":"_xlfn.XLOOKUP(C497,Data!C:C,Data!F:F,0)","v":0},{"$f":"_xlfn.XLOOKUP(C497,Data!C:C,Data!H:H,0)","v":0},null,"",{"$f":"_xlfn.XLOOKUP(C497,Data!C:C,Data!F:F,\"\")","v":""},null,{"$error":"#N/A"}]
["23-3-2021","08:15:00","2021-03-23T08:15:00",null,{"$f":"_xlfn.XLOOKUP(C498,Data!C:C,Data!I:I)","v":{"$error":"#N/A"}},{"$error":"#N/A"},{"$f":"_xlfn.XLOOKUP(C498,Data!C:C,Data!G:G,0)","v":0},{"$f":"_xlfn.XLOOKUP(C498,Data!C:C,Data!F:F,0)","v":0},{"$f":"_xlfn.XLOOKUP(C498,Data!C:C,Data!H:H,0)","v":0},null,"",{"$f":"_xlfn.XLOOKUP(C498,Data!C:C,Data!F:F,\"\")","v":""},null,{"$error":"#N/A"}]
["23-3-2021","08:16:00","2021-03-23T08:16:00",null,{"$f":"_xlfn.XLOOKUP(C499,Data!C:C,Data!I:I)","v":{"$error":"#N/A"}},{"$error":"#N/A"},{"$f":"_xlfn.XLOOKUP(C499,Data!C:C,Data!G:G,0)","v":0},{"$f":"_xlfn.XLOOKUP(C499,Data!C:C,Data!F:F,0)","v":0},{"$f":"_xlfn.XLOOKUP(C499,Data!C:C,Data!H:H,0)","v":0},null,"",{"$f":"_xlfn.XLOOKUP(C499,Data!C:C,Data!F:F,\"\")","v":""},null,{"$error":"#N/A"}]
["23-3-2021","08:17:00","2021-03-23T08:17:00",null,{"$f":"_xlfn.XLOOKUP(C500,Data!C:C,Data!I:I)","v":{"$error":"#N/A"}},{"$error":"#N/A"},{"$f":"_xlfn.XLOOKUP(C500,Data!C:C,Data!G:G,0)","v":0},{"$f":"_xlfn.XLOOKUP(C500,Data!C:C,Data!F:F,0)","v":0},{"$f":"_xlfn.XLOOKUP(C500,Data!C:C,Data!H:H,0)","v":0},null,"",{"$f":"_xlfn.XLOOKUP(C500,Data!C:C,Data!F:F,\"\")","v":""},null,{"$error":"#N/A"}]
["23-3-2021","08:18:00","2021-03-23T08:18:00",null,{"$f":"_xlfn.XLOOKUP(C501,Data!C:C,Data!I:I)","v":{"$error":"#N/A"}},{"$error":"#N/A"},{"$f":"_xlfn.XLOOKUP(C501,Data!C:C,Data!G:G,0)","v":0},{"$f":"_xlfn.XLOOKUP(C501,Data!C:C,Data!F:F,0)","v":0},{"$f":"_xlfn.XLOOKUP(C501,Data!C:C,Data!H:H,0)","v":0},null,"",{"$f":"_xlfn.XLOOKUP(C501,Data!C:C,Data!F:F,\"\")","v":""},null,{"$error":"#N/A"}]
["23-3-2021","08:19:00","2021-03-23T08:19:00",null,{"$f":"_xlfn.XLOOKUP(C502,Data!C:C,Data!I:I)","v":{"$error":"#N/A"}},{"$error":"#N/A"},{"$f":"_xlfn.XLOOKUP(C502,Data!C:C,Data!G:G,0)","v":0},{"$f":"_xlfn.XLOOKUP(C502,Data!C:C,Data!F:F,0)","v":0},{"$f":"_xlfn.XLOOKUP(C502,Data!C:C,Data!H:H,0)","v":0},null,"",{"$f":"_xlfn.XLOOKUP(C502,Data!C:C,Data!F:F,\"\")","v":""},null,{"$error":"#N/A"}]
["23-3-2021","08:20:00","2021-03-23T08:20:00",null,{"$f":"_xlfn.XLOOKUP(C503,Data!C:C,Data!I:I)","v":{"$error":"#N/A"}},{"$error":"#N/A"},{"$f":"_xlfn.XLOOKUP(C503,Data!C:C,Data!G:G,0)","v":0},{"$f":"_xlfn.XLOOKUP(C503,Data!C:C,Data!F:F,0)","v":0},{"$f":"_xlfn.XLOOKUP(C503,Data!C:C,Data!H:H,0)","v":0},null,"",{"$f":"_xlfn.XLOOKUP(C503,Data!C:C,Data!F:F,\"\")","v":""},null,{"$error":"#N/A"}]
["23-3-2021","08:21:00","2021-03-23T08:21:00",null,{"$f":"_xlfn.XLOOKUP(C504,Data!C:C,Data!I:I)","v":{"$error":"#N/A"}},{"$error":"#N/A"},{"$f":"_xlfn.XLOOKUP(C504,Data!C:C,Data!G:G,0)","v":0},{"$f":"_xlfn.XLOOKUP(C504,Data!C:C,Data!F:F,0)","v":0},{"$f":"_xlfn.XLOOKUP(C504,Data!C:C,Data!H:H,0)","v":0},null,"",{"$f":"_xlfn.XLOOKUP(C504,Data!C:C,Data!F:F,\"\")","v":""},null,{"$error":"#N/A"}]
["23-3-2021","08:22:00","2021-03-23T08:22:00",null,{"$f":"_xlfn.XLOOKUP(C505,Data!C:C,Data!I:I)","v":{"$error":"#N/A"}},{"$error":"#N/A"},{"$f":"_xlfn.XLOOKUP(C505,Data!C:C,Data!G:G,0)","v":0},{"$f":"_xlfn.XLOOKUP(C505,Data!C:C,Data!F:F,0)","v":0},{"$f":"_xlfn.XLOOKUP(C505,Data!C:C,Data!H:H,0)","v":0},null,"",{"$f":"_xlfn.XLOOKUP(C505,Data!C:C,Data!F:F,\"\")","v":""},null,{"$error":"#N/A"}]
["23-3-2021","08:23:00","2021-03-23T08:23:00",null,{"$f":"_xlfn.XLOOKUP(C506,Data!C:C,Data!I:I)","v":{"$error":"#N/A"}},{"$error":"#N/A"},{"$f":"_xlfn.XLOOKUP(C506,Data!C:C,Data!G:G,0)","v":0},{"$f":"_xlfn.XLOOKUP(C506,Data!C:C,Data!F:F,0)","v":0},{"$f":"_xlfn.XLOOKUP(C506,Data!C:C,Data!H:H,0)","v":0},null,"",{"$f":"_xlfn.XLOOKUP(C506,Data!C:C,Data!F:F,\"\")","v":""},null,{"$error":"#N/A"}]
["23-3-2021","08:24:00","2021-03-23T08:24:00",null,{"$f":"_xlfn.XLOOKUP(C507,Data!C:C,Data!I:I)","v":{"$error":"#N/A"}},{"$error":"#N/A"},{"$f":"_xlfn.XLOOKUP(C507,Data!C:C,Data!G:G,0)","v":0},{"$f":"_xlfn.XLOOKUP(C507,Data!C:C,Data!F:F,0)","v":0},{"$f":"_xlfn.XLOOKUP(C507,Data!C:C,Data!H:H,0)","v":0},null,"",{"$f":"_xlfn.XLOOKUP(C507,Data!C:C,Data!F:F,\"\")","v":""},null,{"$error":"#N/A"}]
["23-3-2021","08:25:00","2021-03-23T08:25:00",null,{"$f":"_xlfn.XLOOKUP(C508,Data!C:C,Data!I:I)","v":{"$error":"#N/A"}},{"$error":"#N/A"},{"$f":"_xlfn.XLOOKUP(C508,Data!C:C,Data!G:G,0)","v":0},{"$f":"_xlfn.XLOOKUP(C508,Data!C:C,Data!F:F,0)","v":0},{"$f":"_xlfn.XLOOKUP(C508,Data!C:C,Data!H:H,0)","v":0},null,"",{"$f":"_xlfn.XLOOKUP(C508,Data!C:C,Data!F:F,\"\")","v":""},null,{"$error":"#N/A"}]
["23-3-2021","08:26:00","2021-03-23T08:26:00",null,{"$f":"_xlfn.XLOOKUP(C509,Data!C:C,Data!I:I)","v":{"$error":"#N/A"}},{"$error":"#N/A"},{"$f":"_xlfn.XLOOKUP(C509,Data!C:C,Data!G:G,0)","v":0},{"$f":"_xlfn.XLOOKUP(C509,Data!C:C,Data!F:F,0)","v":0},{"$f":"_xlfn.XLOOKUP(C509,Data!C:C,Data!H:H,0)","v":0},null,"",{"$f":"_xlfn.XLOOKUP(C509,Data!C:C,Data!F:F,\"\")","v":""},null,{"$error":"#N/A"}]
["23-3-2021","08:27:00","2021-03-23T08:27:00",null,{"$f":"_xlfn.XLOOKUP(C510,Data!C:C,Data!I:I)","v":{"$error":"#N/A"}},{"$error":"#N/A"},{"$f":"_xlfn.XLOOKUP(C510,Data!C:C,Data!G:G,0)","v":0},{"$f":"_xlfn.XLOOKUP(C510,Data!C:C,Data!F:F,0)","v":0},{"$f":"_xlfn.XLOOKUP(C510,Data!C:C,Data!H:H,0)","v":0},null,"",{"$f":"_xlfn.XLOOKUP(C510,Data!C:C,Data!F:F,\"\")","v":""},null,{"$error":"#N/A"}]
["23-3-2021","08:28:00","2021-03-23T08:28:00",null,{"$f":"_xlfn.XLOOKUP(C511,Data!C:C,Data!I:I)","v":{"$error":"#N/A"}},{"$error":"#N/A"},{"$f":"_xlfn.XLOOKUP(C511,Data!C:C,Data!G:G,0)","v":0},{"$f":"_xlfn.XLOOKUP(C511,Data!C:C,Data!F:F,0)","v":0},{"$f":"_xlfn.XLOOKUP(C511,Data!C:C,Data!H:H,0)","v":0},null,"",{"$f":"_xlfn.XLOOKUP(C511,Data!C:C,Data!F:F,\"\")","v":""},null,{"$error":"#N/A"}]
["23-3-2021","08:29:00","2021-03-23T08:29:00",null,{"$f":"_xlfn.XLOOKUP(C512,Data!C:C,Data!I:I)","v":{"$error":"#N/A"}},{"$error":"#N/A"},{"$f":"_xlfn.XLOOKUP(C512,Data!C:C,Data!G:G,0)","v":0},{"$f":"_xlfn.XLOOKUP(C512,Data!C:C,Data!F:F,0)","v":0},{"$f":"_xlfn.XLOOKUP(C512,Data!C:C,Data!H:H,0)","v":0},null,"",{"$f":"_xlfn.XLOOKUP(C512,Data!C:C,Data!F:F,\"\")","v":""},null,{"$error":"#N/A"}]
["23-3-2021","08:30:00","2021-03-23T08:30:00",null,{"$f":"_xlfn.XLOOKUP(C513,Data!C:C,Data!I:I)","v":{"$error":"#N/A"}},{"$error":"#N/A"},{"$f":"_xlfn.XLOOKUP(C513,Data!C:C,Data!G:G,0)","v":0},{"$f":"_xlfn.XLOOKUP(C513,Data!C:C,Data!F:F,0)","v":0},{"$f":"_xlfn.XLOOKUP(C513,Data!C:C,Data!H:H,0)","v":0},null,"",{"$f":"_xlfn.XLOOKUP(C513,Data!C:C,Data!F:F,\"\")","v":""},null,{"$error":"#N/A"}]
["23-3-2021","08:31:00","2021-03-23T08:31:00",null,{"$f":"_xlfn.XLOOKUP(C514,Data!C:C,Data!I:I)","v":{"$error":"#N/A"}},{"$error":"#N/A"},{"$f":"_xlfn.XLOOKUP(C514,Data!C:C,Data!G:G,0)","v":0},{"$f":"_xlfn.XLOOKUP(C514,Data!C:C,Data!F:F,0)","v":0},{"$f":"_xlfn.XLOOKUP(C514,Data!C:C,Data!H:H,0)","v":0},null,"",{"$f":"_xlfn.XLOOKUP(C514,Data!C:C,Data!F:F,\"\")","v":""},null,{"$error":"#N/A"}]
["23-3-2021","08:32:00",{"$f":"A515+B515","v":"2021-03-23T08:32:00"},null,{"$f":"_xlfn.XLOOKUP(C515,Data!C:C,Data!I:I)","v":{"$error":"#N/A"}},{"$error":"#N/A"},{"$f":"_xlfn.XLOOKUP(C515,Data!C:C,Data!G:G,0)","v":0},{"$f":"_xlfn.XLOOKUP(C515,Data!C:C,Data!F:F,0)","v":0},{"$f":"_xlfn.XLOOKUP(C515,Data!C:C,Data!H:H,0)","v":0},null,"",{"$f":"_xlfn.XLOOKUP(C515,Data!C:C,Data!F:F,\"\")","v":""},null,{"$error":"#N/A"}]
[{"$f":"$A$3","v":"23-3-2021"},"08:33:00","2021-03-23T08:33:00",null,{"$f":"_xlfn.XLOOKUP(C516,Data!C:C,Data!I:I)","v":{"$error":"#N/A"}},{"$f":"IF(E516=255,F515,E516)","v":{"$error":"#N/A"}},{"$f":"_xlfn.XLOOKUP(C516,Data!C:C,Data!G:G,0)","v":0},{"$f":"_xlfn.XLOOKUP(C516,Data!C:C,Data!F:F,0)","v":0},{"$f":"_xlfn.XLOOKUP(C516,Data!C:C,Data!H:H,0)","v":0},null,{"$f":"IFERROR(IF(F516=\"#N/A\",\"\",F516),\"\")","v":""},{"$f":"_xlfn.XLOOKUP(C516,Data!C:C,Data!F:F,\"\")","v":""},null,{"$error":"#N/A"}]
["23-3-2021","08:34:00","2021-03-23T08:34:00",null,{"$f":"_xlfn.XLOOKUP(C517,Data!C:C,Data!I:I)","v":{"$error":"#N/A"}},{"$error":"#N/A"},{"$f":"_xlfn.XLOOKUP(C517,Data!C:C,Data!G:G,0)","v":0},{"$f":"_xlfn.XLOOKUP(C517,Data!C:C,Data!F:F,0)","v":0},{"$f":"_xlfn.XLOOKUP(C517,Data!C:C,Data!H:H,0)","v":0},null,"",{"$f":"_xlfn.XLOOKUP(C517,Data!C:C,Data!F:F,\"\")","v":""},null,{"$error":"#N/A"}]
["23-3-2021","08:35:00","2021-03-23T08:35:00",null,{"$f":"_xlfn.XLOOKUP(C518,Data!C:C,Data!I:I)","v":{"$error":"#N/A"}},{"$error":"#N/A"},{"$f":"_xlfn.XLOOKUP(C518,Data!C:C,Data!G:G,0)","v":0},{"$f":"_xlfn.XLOOKUP(C518,Data!C:C,Data!F:F,0)","v":0},{"$f":"_xlfn.XLOOKUP(C518,Data!C:C,Data!H:H,0)","v":0},null,"",{"$f":"_xlfn.XLOOKUP(C518,Data!C:C,Data!F:F,\"\")","v":""},null,{"$error":"#N/A"}]
["23-3-2021","08:36:00","2021-03-23T08:36:00",null,{"$f":"_xlfn.XLOOKUP(C519,Data!C:C,Data!I:I)","v":{"$error":"#N/A"}},{"$error":"#N/A"},{"$f":"_xlfn.XLOOKUP(C519,Data!C:C,Data!G:G,0)","v":0},{"$f":"_xlfn.XLOOKUP(C519,Data!C:C,Data!F:F,0)","v":0},{"$f":"_xlfn.XLOOKUP(C519,Data!C:C,Data!H:H,0)","v":0},null,"",{"$f":"_xlfn.XLOOKUP(C519,Data!C:C,Data!F:F,\"\")","v":""},null,{"$f":"IF(F519=\"\",\"\",AVERAGE(F515:F523))","v":{"$error":"#N/A"}}]
["23-3-2021","08:37:00","2021-03-23T08:37:00",null,{"$f":"_xlfn.XLOOKUP(C520,Data!C:C,Data!I:I)","v":{"$error":"#N/A"}},{"$error":"#N/A"},{"$f":"_xlfn.XLOOKUP(C520,Data!C:C,Data!G:G,0)","v":0},{"$f":"_xlfn.XLOOKUP(C520,Data!C:C,Data!F:F,0)","v":0},{"$f":"_xlfn.XLOOKUP(C520,Data!C:C,Data!H:H,0)","v":0},null,"",{"$f":"_xlfn.XLOOKUP(C520,Data!C:C,Data!F:F,\"\")","v":""},null,{"$error":"#N/A"}]
["23-3-2021","08:38:00","2021-03-23T08:38:00",null,{"$f":"_xlfn.XLOOKUP(C521,Data!C:C,Data!I:I)","v":{"$error":"#N/A"}},{"$error":"#N/A"},{"$f":"_xlfn.XLOOKUP(C521,Data!C:C,Data!G:G,0)","v":0},{"$f":"_xlfn.XLOOKUP(C521,Data!C:C,Data!F:F,0)","v":0},{"$f":"_xlfn.XLOOKUP(C521,Data!C:C,Data!H:H,0)","v":0},null,"",{"$f":"_xlfn.XLOOKUP(C521,Data!C:C,Data!F:F,\"\")","v":""},null,{"$error":"#N/A"}]
["23-3-2021","08:39:00","2021-03-23T08:39:00",null,{"$f":"_xlfn.XLOOKUP(C522,Data!C:C,Data!I:I)","v":{"$error":"#N/A"}},{"$error":"#N/A"},{"$f":"_xlfn.XLOOKUP(C522,Data!C:C,Data!G:G,0)","v":0},{"$f":"_xlfn.XLOOKUP(C522,Data!C:C,Data!F:F,0)","v":0},{"$f":"_xlfn.XLOOKUP(C522,Data!C:C,Data!H:H,0)","v":0},null,"",{"$f":"_xlfn.XLOOKUP(C522,Data!C:C,Data!F:F,\"\")","v":""},null,{"$error":"#N/A"}]
["23-3-2021","08:40:00","2021-03-23T08:40:00",null,{"$f":"_xlfn.XLOOKUP(C523,Data!C:C,Data!I:I)","v":{"$error":"#N/A"}},{"$error":"#N/A"},{"$f":"_xlfn.XLOOKUP(C523,Data!C:C,Data!G:G,0)","v":0},{"$f":"_xlfn.XLOOKUP(C523,Data!C:C,Data!F:F,0)","v":0},{"$f":"_xlfn.XLOOKUP(C523,Data!C:C,Data!H:H,0)","v":0},null,"",{"$f":"_xlfn.XLOOKUP(C523,Data!C:C,Data!F:F,\"\")","v":""},null,{"$error":"#N/A"}]
["23-3-2021","08:41:00","2021-03-23T08:41:00",null,{"$f":"_xlfn.XLOOKUP(C524,Data!C:C,Data!I:I)","v":{"$error":"#N/A"}},{"$error":"#N/A"},{"$f":"_xlfn.XLOOKUP(C524,Data!C:C,Data!G:G,0)","v":0},{"$f":"_xlfn.XLOOKUP(C524,Data!C:C,Data!F:F,0)","v":0},{"$f":"_xlfn.XLOOKUP(C524,Data!C:C,Data!H:H,0)","v":0},null,"",{"$f":"_xlfn.XLOOKUP(C524,Data!C:C,Data!F:F,\"\")","v":""},null,{"$error":"#N/A"}]
["23-3-2021","08:42:00","2021-03-23T08:42:00",null,{"$f":"_xlfn.XLOOKUP(C525,Data!C:C,Data!I:I)","v":{"$error":"#N/A"}},{"$error":"#N/A"},{"$f":"_xlfn.XLOOKUP(C525,Data!C:C,Data!G:G,0)","v":0},{"$f":"_xlfn.XLOOKUP(C525,Data!C:C,Data!F:F,0)","v":0},{"$f":"_xlfn.XLOOKUP(C525,Data!C:C,Data!H:H,0)","v":0},null,"",{"$f":"_xlfn.XLOOKUP(C525,Data!C:C,Data!F:F,\"\")","v":""},null,{"$error":"#N/A"}]
["23-3-2021","08:43:00","2021-03-23T08:43:00",null,{"$f":"_xlfn.XLOOKUP(C526,Data!C:C,Data!I:I)","v":{"$error":"#N/A"}},{"$error":"#N/A"},{"$f":"_xlfn.XLOOKUP(C526,Data!C:C,Data!G:G,0)","v":0},{"$f":"_xlfn.XLOOKUP(C526,Data!C:C,Data!F:F,0)","v":0},{"$f":"_xlfn.XLOOKUP(C526,Data!C:C,Data!H:H,0)","v":0},null,"",{"$f":"_xlfn.XLOOKUP(C526,Data!C:C,Data!F:F,\"\")","v":""},null,{"$error":"#N/A"}]
["23-3-2021","08:44:00","2021-03-23T08:44:00",null,{"$f":"_xlfn.XLOOKUP(C527,Data!C:C,Data!I:I)","v":{"$error":"#N/A"}},{"$error":"#N/A"},{"$f":"_xlfn.XLOOKUP(C527,Data!C:C,Data!G:G,0)","v":0},{"$f":"_xlfn.XLOOKUP(C527,Data!C:C,Data!F:F,0)","v":0},{"$f":"_xlfn.XLOOKUP(C527,Data!C:C,Data!H:H,0)","v":0},null,"",{"$f":"_xlfn.XLOOKUP(C527,Data!C:C,Data!F:F,\"\")","v":""},null,{"$error":"#N/A"}]
["23-3-2021","08:45:00","2021-03-23T08:45:00",null,{"$f":"_xlfn.XLOOKUP(C528,Data!C:C,Data!I:I)","v":{"$error":"#N/A"}},{"$error":"#N/A"},{"$f":"_xlfn.XLOOKUP(C528,Data!C:C,Data!G:G,0)","v":0},{"$f":"_xlfn.XLOOKUP(C528,Data!C:C,Data!F:F,0)","v":0},{"$f":"_xlfn.XLOOKUP(C528,Data!C:C,Data!H:H,0)","v":0},null,"",{"$f":"_xlfn.XLOOKUP(C528,Data!C:C,Data!F:F,\"\")","v":""},null,{"$error":"#N/A"}]
["23-3-2021","08:46:00","2021-03-23T08:46:00",null,{"$f":"_xlfn.XLOOKUP(C529,Data!C:C,Data!I:I)","v":{"$error":"#N/A"}},{"$error":"#N/A"},{"$f":"_xlfn.XLOOKUP(C529,Data!C:C,Data!G:G,0)","v":0},{"$f":"_xlfn.XLOOKUP(C529,Data!C:C,Data!F:F,0)","v":0},{"$f":"_xlfn.XLOOKUP(C529,Data!C:C,Data!H:H,0)","v":0},null,"",{"$f":"_xlfn.XLOOKUP(C529,Data!C:C,Data!F:F,\"\")","v":""},null,{"$error":"#N/A"}]
["23-3-2021","08:47:00","2021-03-23T08:47:00",null,{"$f":"_xlfn.XLOOKUP(C530,Data!C:C,Data!I:I)","v":{"$error":"#N/A"}},{"$error":"#N/A"},{"$f":"_xlfn.XLOOKUP(C530,Data!C:C,Data!G:G,0)","v":0},{"$f":"_xlfn.XLOOKUP(C530,Data!C:C,Data!F:F,0)","v":0},{"$f":"_xlfn.XLOOKUP(C530,Data!C:C,Data!H:H,0)","v":0},null,"",{"$f":"_xlfn.XLOOKUP(C530,Data!C:C,Data!F:F,\"\")","v":""},null,{"$error":"#N/A"}]
["23-3-2021","08:48:00","2021-03-23T08:48:00",null,{"$f":"_xlfn.XLOOKUP(C531,Data!C:C,Data!I:I)","v":{"$error":"#N/A"}},{"$error":"#N/A"},{"$f":"_xlfn.XLOOKUP(C531,Data!C:C,Data!G:G,0)","v":0},{"$f":"_xlfn.XLOOKUP(C531,Data!C:C,Data!F:F,0)","v":0},{"$f":"_xlfn.XLOOKUP(C531,Data!C:C,Data!H:H,0)","v":0},null,"",{"$f":"_xlfn.XLOOKUP(C531,Data!C:C,Data!F:F,\"\")","v":""},null,{"$error":"#N/A"}]
["23-3-2021","08:49:00","2021-03-23T08:49:00",null,{"$f":"_xlfn.XLOOKUP(C532,Data!C:C,Data!I:I)","v":{"$error":"#N/A"}},{"$error":"#N/A"},{"$f":"_xlfn.XLOOKUP(C532,Data!C:C,Data!G:G,0)","v":0},{"$f":"_xlfn.XLOOKUP(C532,Data!C:C,Data!F:F,0)","v":0},{"$f":"_xlfn.XLOOKUP(C532,Data!C:C,Data!H:H,0)","v":0},null,"",{"$f":"_xlfn.XLOOKUP(C532,Data!C:C,Data!F:F,\"\")","v":""},null,{"$error":"#N/A"}]
["23-3-2021","08:50:00","2021-03-23T08:50:00",null,{"$f":"_xlfn.XLOOKUP(C533,Data!C:C,Data!I:I)","v":{"$error":"#N/A"}},{"$error":"#N/A"},{"$f":"_xlfn.XLOOKUP(C533,Data!C:C,Data!G:G,0)","v":0},{"$f":"_xlfn.XLOOKUP(C533,Data!C:C,Data!F:F,0)","v":0},{"$f":"_xlfn.XLOOKUP(C533,Data!C:C,Data!H:H,0)","v":0},null,"",{"$f":"_xlfn.XLOOKUP(C533,Data!C:C,Data!F:F,\"\")","v":""},null,{"$error":"#N/A"}]
["23-3-2021","08:51:00","2021-03-23T08:51:00",null,{"$f":"_xlfn.XLOOKUP(C534,Data!C:C,Data!I:I)","v":{"$error":"#N/A"}},{"$error":"#N/A"},{"$f":"_xlfn.XLOOKUP(C534,Data!C:C,Data!G:G,0)","v":0},{"$f":"_xlfn.XLOOKUP(C534,Data!C:C,Data!F:F,0)","v":0},{"$f":"_xlfn.XLOOKUP(C534,Data!C:C,Data!H:H,0)","v":0},null,"",{"$f":"_xlfn.XLOOKUP(C534,Data!C:C,Data!F:F,\"\")","v":""},null,{"$error":"#N/A"}]
["23-3-2021","08:52:00","2021-03-23T08:52:00",null,{"$f":"_xlfn.XLOOKUP(C535,Data!C:C,Data!I:I)","v":{"$error":"#N/A"}},{"$error":"#N/A"},{"$f":"_xlfn.XLOOKUP(C535,Data!C:C,Data!G:G,0)","v":0},{"$f":"_xlfn.XLOOKUP(C535,Data!C:C,Data!F:F,0)","v":0},{"$f":"_xlfn.XLOOKUP(C535,Data!C:C,Data!H:H,0)","v":0},null,"",{"$f":"_xlfn.XLOOKUP(C535,Data!C:C,Data!F:F,\"\")","v":""},null,{"$error":"#N/A"}]
["23-3-2021","08:53:00","2021-03-23T08:53:00",null,{"$f":"_xlfn.XLOOKUP(C536,Data!C:C,Data!I:I)","v":{"$error":"#N/A"}},{"$error":"#N/A"},{"$f":"_xlfn.XLOOKUP(C536,Data!C:C,Data!G:G,0)","v":0},{"$f":"_xlfn.XLOOKUP(C536,Data!C:C,Data!F:F,0)","v":0},{"$f":"_xlfn.XLOOKUP(C536,Data!C:C,Data!H:H,0)","v":0},null,"",{"$f":"_xlfn.XLOOKUP(C536,Data!C:C,Data!F:F,\"\")","v":""},null,{"$error":"#N/A"}]
["23-3-2021","08:54:00","2021-03-23T08:54:00",null,{"$f":"_xlfn.XLOOKUP(C537,Data!C:C,Data!I:I)","v":{"$error":"#N/A"}},{"$error":"#N/A"},{"$f":"_xlfn.XLOOKUP(C537,Data!C:C,Data!G:G,0)","v":0},{"$f":"_xlfn.XLOOKUP(C537,Data!C:C,Data!F:F,0)","v":0},{"$f":"_xlfn.XLOOKUP(C537,Data!C:C,Data!H:H,0)","v":0},null,"",{"$f":"_xlfn.XLOOKUP(C537,Data!C:C,Data!F:F,\"\")","v":""},null,{"$error":"#N/A"}]
["23-3-2021","08:55:00","2021-03-23T08:55:00",null,{"$f":"_xlfn.XLOOKUP(C538,Data!C:C,Data!I:I)","v":{"$error":"#N/A"}},{"$error":"#N/A"},{"$f":"_xlfn.XLOOKUP(C538,Data!C:C,Data!G:G,0)","v":0},{"$f":"_xlfn.XLOOKUP(C538,Data!C:C,Data!F:F,0)","v":0},{"$f":"_xlfn.XLOOKUP(C538,Data!C:C,Data!H:H,0)","v":0},null,"",{"$f":"_xlfn.XLOOKUP(C538,Data!C:C,Data!F:F,\"\")","v":""},null,{"$error":"#N/A"}]
["23-3-2021","08:56:00","2021-03-23T08:56:00",null,{"$f":"_xlfn.XLOOKUP(C539,Data!C:C,Data!I:I)","v":{"$error":"#N/A"}},{"$error":"#N/A"},{"$f":"_xlfn.XLOOKUP(C539,Data!C:C,Data!G:G,0)","v":0},{"$f":"_xlfn.XLOOKUP(C539,Data!C:C,Data!F:F,0)","v":0},{"$f":"_xlfn.XLOOKUP(C539,Data!C:C,Data!H:H,0)","v":0},null,"",{"$f":"_xlfn.XLOOKUP(C539,Data!C:C,Data!F:F,\"\")","v":""},null,{"$error":"#N/A"}]
["23-3-2021","08:57:00","2021-03-23T08:57:00",null,{"$f":"_xlfn.XLOOKUP(C540,Data!C:C,Data!I:I)","v":{"$error":"#N/A"}},{"$error":"#N/A"},{"$f":"_xlfn.XLOOKUP(C540,Data!C:C,Data!G:G,0)","v":0},{"$f":"_xlfn.XLOOKUP(C540,Data!C:C,Data!F:F,0)","v":0},{"$f":"_xlfn.XLOOKUP(C540,Data!C:C,Data!H:H,0)","v":0},null,"",{"$f":"_xlfn.XLOOKUP(C540,Data!C:C,Data!F:F,\"\")","v":""},null,{"$error":"#N/A"}]
["23-3-2021","08:58:00","2021-03-23T08:58:00",null,{"$f":"_xlfn.XLOOKUP(C541,Data!C:C,Data!I:I)","v":{"$error":"#N/A"}},{"$error":"#N/A"},{"$f":"_xlfn.XLOOKUP(C541,Data!C:C,Data!G:G,0)","v":0},{"$f":"_xlfn.XLOOKUP(C541,Data!C:C,Data!F:F,0)","v":0},{"$f":"_xlfn.XLOOKUP(C541,Data!C:C,Data!H:H,0)","v":0},null,"",{"$f":"_xlfn.XLOOKUP(C541,Data!C:C,Data!F:F,\"\")","v":""},null,{"$error":"#N/A"}]
["23-3-2021","08:59:00","2021-03-23T08:59:00",null,{"$f":"_xlfn.XLOOKUP(C542,Data!C:C,Data!I:I)","v":{"$error":"#N/A"}},{"$error":"#N/A"},{"$f":"_xlfn.XLOOKUP(C542,Data!C:C,Data!G:G,0)","v":0},{"$f":"_xlfn.XLOOKUP(C542,Data!C:C,Data!F:F,0)","v":0},{"$f":"_xlfn.XLOOKUP(C542,Data!C:C,Data!H:H,0)","v":0},null,"",{"$f":"_xlfn.XLOOKUP(C542,Data!C:C,Data!F:F,\"\")","v":""},null,{"$error":"#N/A"}]
["23-3-2021","09:00:00","2021-03-23T09:00:00",null,{"$f":"_xlfn.XLOOKUP(C543,Data!C:C,Data!I:I)","v":{"$error":"#N/A"}},{"$error":"#N/A"},{"$f":"_xlfn.XLOOKUP(C543,Data!C:C,Data!G:G,0)","v":0},{"$f":"_xlfn.XLOOKUP(C543,Data!C:C,Data!F:F,0)","v":0},{"$f":"_xlfn.XLOOKUP(C543,Data!C:C,Data!H:H,0)","v":0},null,"",{"$f":"_xlfn.XLOOKUP(C543,Data!C:C,Data!F:F,\"\")","v":""},null,{"$error":"#N/A"}]
["23-3-2021","09:01:00","2021-03-23T09:01:00",null,{"$f":"_xlfn.XLOOKUP(C544,Data!C:C,Data!I:I)","v":{"$error":"#N/A"}},{"$error":"#N/A"},{"$f":"_xlfn.XLOOKUP(C544,Data!C:C,Data!G:G,0)","v":0},{"$f":"_xlfn.XLOOKUP(C544,Data!C:C,Data!F:F,0)","v":0},{"$f":"_xlfn.XLOOKUP(C544,Data!C:C,Data!H:H,0)","v":0},null,"",{"$f":"_xlfn.XLOOKUP(C544,Data!C:C,Data!F:F,\"\")","v":""},null,{"$error":"#N/A"}]
["23-3-2021","09:02:00","2021-03-23T09:02:00",null,{"$f":"_xlfn.XLOOKUP(C545,Data!C:C,Data!I:I)","v":{"$error":"#N/A"}},{"$error":"#N/A"},{"$f":"_xlfn.XLOOKUP(C545,Data!C:C,Data!G:G,0)","v":0},{"$f":"_xlfn.XLOOKUP(C545,Data!C:C,Data!F:F,0)","v":0},{"$f":"_xlfn.XLOOKUP(C545,Data!C:C,Data!H:H,0)","v":0},null,"",{"$f":"_xlfn.XLOOKUP(C545,Data!C:C,Data!F:F,\"\")","v":""},null,{"$error":"#N/A"}]
["23-3-2021","09:03:00","2021-03-23T09:03:00",null,{"$f":"_xlfn.XLOOKUP(C546,Data!C:C,Data!I:I)","v":{"$error":"#N/A"}},{"$error":"#N/A"},{"$f":"_xlfn.XLOOKUP(C546,Data!C:C,Data!G:G,0)","v":0},{"$f":"_xlfn.XLOOKUP(C546,Data!C:C,Data!F:F,0)","v":0},{"$f":"_xlfn.XLOOKUP(C546,Data!C:C,Data!H:H,0)","v":0},null,"",{"$f":"_xlfn.XLOOKUP(C546,Data!C:C,Data!F:F,\"\")","v":""},null,{"$error":"#N/A"}]
["23-3-2021","09:04:00","2021-03-23T09:04:00",null,{"$f":"_xlfn.XLOOKUP(C547,Data!C:C,Data!I:I)","v":{"$error":"#N/A"}},{"$error":"#N/A"},{"$f":"_xlfn.XLOOKUP(C547,Data!C:C,Data!G:G,0)","v":0},{"$f":"_xlfn.XLOOKUP(C547,Data!C:C,Data!F:F,0)","v":0},{"$f":"_xlfn.XLOOKUP(C547,Data!C:C,Data!H:H,0)","v":0},null,"",{"$f":"_xlfn.XLOOKUP(C547,Data!C:C,Data!F:F,\"\")","v":""},null,{"$error":"#N/A"}]
["23-3-2021","09:05:00","2021-03-23T09:05:00",null,{"$f":"_xlfn.XLOOKUP(C548,Data!C:C,Data!I:I)","v":{"$error":"#N/A"}},{"$error":"#N/A"},{"$f":"_xlfn.XLOOKUP(C548,Data!C:C,Data!G:G,0)","v":0},{"$f":"_xlfn.XLOOKUP(C548,Data!C:C,Data!F:F,0)","v":0},{"$f":"_xlfn.XLOOKUP(C548,Data!C:C,Data!H:H,0)","v":0},null,"",{"$f":"_xlfn.XLOOKUP(C548,Data!C:C,Data!F:F,\"\")","v":""},null,{"$error":"#N/A"}]
["23-3-2021","09:06:00","2021-03-23T09:06:00",null,{"$f":"_xlfn.XLOOKUP(C549,Data!C:C,Data!I:I)","v":{"$error":"#N/A"}},{"$error":"#N/A"},{"$f":"_xlfn.XLOOKUP(C549,Data!C:C,Data!G:G,0)","v":0},{"$f":"_xlfn.XLOOKUP(C549,Data!C:C,Data!F:F,0)","v":0},{"$f":"_xlfn.XLOOKUP(C549,Data!C:C,Data!H:H,0)","v":0},null,"",{"$f":"_xlfn.XLOOKUP(C549,Data!C:C,Data!F:F,\"\")","v":""},null,{"$error":"#N/A"}]
["23-3-2021","09:07:00","2021-03-23T09:07:00",null,{"$f":"_xlfn.XLOOKUP(C550,Data!C:C,Data!I:I)","v":{"$error":"#N/A"}},{"$error":"#N/A"},{"$f":"_xlfn.XLOOKUP(C550,Data!C:C,Data!G:G,0)","v":0},{"$f":"_xlfn.XLOOKUP(C550,Data!C:C,Data!F:F,0)","v":0},{"$f":"_xlfn.XLOOKUP(C550,Data!C:C,Data!H:H,0)","v":0},null,"",{"$f":"_xlfn.XLOOKUP(C550,Data!C:C,Data!F:F,\"\")","v":""},null,{"$error":"#N/A"}]
["23-3-2021","09:08:00","2021-03-23T09:08:00",null,{"$f":"_xlfn.XLOOKUP(C551,Data!C:C,Data!I:I)","v":{"$error":"#N/A"}},{"$error":"#N/A"},{"$f":"_xlfn.XLOOKUP(C551,Data!C:C,Data!G:G,0)","v":0},{"$f":"_xlfn.XLOOKUP(C551,Data!C:C,Data!F:F,0)","v":0},{"$f":"_xlfn.XLOOKUP(C551,Data!C:C,Data!H:H,0)","v":0},null,"",{"$f":"_xlfn.XLOOKUP(C551,Data!C:C,Data!F:F,\"\")","v":""},null,{"$error":"#N/A"}]
["23-3-2021","09:09:00","2021-03-23T09:09:00",null,{"$f":"_xlfn.XLOOKUP(C552,Data!C:C,Data!I:I)","v":{"$error":"#N/A"}},{"$error":"#N/A"},{"$f":"_xlfn.XLOOKUP(C552,Data!C:C,Data!G:G,0)","v":0},{"$f":"_xlfn.XLOOKUP(C552,Data!C:C,Data!F:F,0)","v":0},{"$f":"_xlfn.XLOOKUP(C552,Data!C:C,Data!H:H,0)","v":0},null,"",{"$f":"_xlfn.XLOOKUP(C552,Data!C:C,Data!F:F,\"\")","v":""},null,{"$error":"#N/A"}]
["23-3-2021","09:10:00","2021-03-23T09:10:00",null,{"$f":"_xlfn.XLOOKUP(C553,Data!C:C,Data!I:I)","v":{"$error":"#N/A"}},{"$error":"#N/A"},{"$f":"_xlfn.XLOOKUP(C553,Data!C:C,Data!G:G,0)","v":0},{"$f":"_xlfn.XLOOKUP(C553,Data!C:C,Data!F:F,0)","v":0},{"$f":"_xlfn.XLOOKUP(C553,Data!C:C,Data!H:H,0)","v":0},null,"",{"$f":"_xlfn.XLOOKUP(C553,Data!C:C,Data!F:F,\"\")","v":""},null,{"$error":"#N/A"}]
["23-3-2021","09:11:00","2021-03-23T09:11:00",null,{"$f":"_xlfn.XLOOKUP(C554,Data!C:C,Data!I:I)","v":{"$error":"#N/A"}},{"$error":"#N/A"},{"$f":"_xlfn.XLOOKUP(C554,Data!C:C,Data!G:G,0)","v":0},{"$f":"_xlfn.XLOOKUP(C554,Data!C:C,Data!F:F,0)","v":0},{"$f":"_xlfn.XLOOKUP(C554,Data!C:C,Data!H:H,0)","v":0},null,"",{"$f":"_xlfn.XLOOKUP(C554,Data!C:C,Data!F:F,\"\")","v":""},null,{"$error":"#N/A"}]
["23-3-2021","09:12:00","2021-03-23T09:12:00",null,{"$f":"_xlfn.XLOOKUP(C555,Data!C:C,Data!I:I)","v":{"$error":"#N/A"}},{"$error":"#N/A"},{"$f":"_xlfn.XLOOKUP(C555,Data!C:C,Data!G:G,0)","v":0},{"$f":"_xlfn.XLOOKUP(C555,Data!C:C,Data!F:F,0)","v":0},{"$f":"_xlfn.XLOOKUP(C555,Data!C:C,Data!H:H,0)","v":0},null,"",{"$f":"_xlfn.XLOOKUP(C555,Data!C:C,Data!F:F,\"\")","v":""},null,{"$error":"#N/A"}]
["23-3-2021","09:13:00","2021-03-23T09:13:00",null,{"$f":"_xlfn.XLOOKUP(C556,Data!C:C,Data!I:I)","v":{"$error":"#N/A"}},{"$error":"#N/A"},{"$f":"_xlfn.XLOOKUP(C556,Data!C:C,Data!G:G,0)","v":0},{"$f":"_xlfn.XLOOKUP(C556,Data!C:C,Data!F:F,0)","v":0},{"$f":"_xlfn.XLOOKUP(C556,Data!C:C,Data!H:H,0)","v":0},null,"",{"$f":"_xlfn.XLOOKUP(C556,Data!C:C,Data!F:F,\"\")","v":""},null,{"$error":"#N/A"}]
["23-3-2021","09:14:00","2021-03-23T09:14:00",null,{"$f":"_xlfn.XLOOKUP(C557,Data!C:C,Data!I:I)","v":{"$error":"#N/A"}},{"$error":"#N/A"},{"$f":"_xlfn.XLOOKUP(C557,Data!C:C,Data!G:G,0)","v":0},{"$f":"_xlfn.XLOOKUP(C557,Data!C:C,Data!F:F,0)","v":0},{"$f":"_xlfn.XLOOKUP(C557,Data!C:C,Data!H:H,0)","v":0},null,"",{"$f":"_xlfn.XLOOKUP(C557,Data!C:C,Data!F:F,\"\")","v":""},null,{"$error":"#N/A"}]
["23-3-2021","09:15:00","2021-03-23T09:15:00",null,{"$f":"_xlfn.XLOOKUP(C558,Data!C:C,Data!I:I)","v":{"$error":"#N/A"}},{"$error":"#N/A"},{"$f":"_xlfn.XLOOKUP(C558,Data!C:C,Data!G:G,0)","v":0},{"$f":"_xlfn.XLOOKUP(C558,Data!C:C,Data!F:F,0)","v":0},{"$f":"_xlfn.XLOOKUP(C558,Data!C:C,Data!H:H,0)","v":0},null,"",{"$f":"_xlfn.XLOOKUP(C558,Data!C:C,Data!F:F,\"\")","v":""},null,{"$error":"#N/A"}]
["23-3-2021","09:16:00","2021-03-23T09:16:00",null,{"$f":"_xlfn.XLOOKUP(C559,Data!C:C,Data!I:I)","v":{"$error":"#N/A"}},{"$error":"#N/A"},{"$f":"_xlfn.XLOOKUP(C559,Data!C:C,Data!G:G,0)","v":0},{"$f":"_xlfn.XLOOKUP(C559,Data!C:C,Data!F:F,0)","v":0},{"$f":"_xlfn.XLOOKUP(C559,Data!C:C,Data!H:H,0)","v":0},null,"",{"$f":"_xlfn.XLOOKUP(C559,Data!C:C,Data!F:F,\"\")","v":""},null,{"$error":"#N/A"}]
["23-3-2021","09:17:00","2021-03-23T09:17:00",null,{"$f":"_xlfn.XLOOKUP(C560,Data!C:C,Data!I:I)","v":{"$error":"#N/A"}},{"$error":"#N/A"},{"$f":"_xlfn.XLOOKUP(C560,Data!C:C,Data!G:G,0)","v":0},{"$f":"_xlfn.XLOOKUP(C560,Data!C:C,Data!F:F,0)","v":0},{"$f":"_xlfn.XLOOKUP(C560,Data!C:C,Data!H:H,0)","v":0},null,"",{"$f":"_xlfn.XLOOKUP(C560,Data!C:C,Data!F:F,\"\")","v":""},null,{"$error":"#N/A"}]
["23-3-2021","09:18:00","2021-03-23T09:18:00",null,{"$f":"_xlfn.XLOOKUP(C561,Data!C:C,Data!I:I)","v":{"$error":"#N/A"}},{"$error":"#N/A"},{"$f":"_xlfn.XLOOKUP(C561,Data!C:C,Data!G:G,0)","v":0},{"$f":"_xlfn.XLOOKUP(C561,Data!C:C,Data!F:F,0)","v":0},{"$f":"_xlfn.XLOOKUP(C561,Data!C:C,Data!H:H,0)","v":0},null,"",{"$f":"_xlfn.XLOOKUP(C561,Data!C:C,Data!F:F,\"\")","v":""},null,{"$error":"#N/A"}]
["23-3-2021","09:19:00","2021-03-23T09:19:00",null,{"$f":"_xlfn.XLOOKUP(C562,Data!C:C,Data!I:I)","v":{"$error":"#N/A"}},{"$error":"#N/A"},{"$f":"_xlfn.XLOOKUP(C562,Data!C:C,Data!G:G,0)","v":0},{"$f":"_xlfn.XLOOKUP(C562,Data!C:C,Data!F:F,0)","v":0},{"$f":"_xlfn.XLOOKUP(C562,Data!C:C,Data!H:H,0)","v":0},null,"",{"$f":"_xlfn.XLOOKUP(C562,Data!C:C,Data!F:F,\"\")","v":""},null,{"$error":"#N/A"}]
["23-3-2021","09:20:00","2021-03-23T09:20:00",null,{"$f":"_xlfn.XLOOKUP(C563,Data!C:C,Data!I:I)","v":{"$error":"#N/A"}},{"$error":"#N/A"},{"$f":"_xlfn.XLOOKUP(C563,Data!C:C,Data!G:G,0)","v":0},{"$f":"_xlfn.XLOOKUP(C563,Data!C:C,Data!F:F,0)","v":0},{"$f":"_xlfn.XLOOKUP(C563,Data!C:C,Data!H:H,0)","v":0},null,"",{"$f":"_xlfn.XLOOKUP(C563,Data!C:C,Data!F:F,\"\")","v":""},null,{"$error":"#N/A"}]
["23-3-2021","09:21:00","2021-03-23T09:21:00",null,{"$f":"_xlfn.XLOOKUP(C564,Data!C:C,Data!I:I)","v":{"$error":"#N/A"}},{"$error":"#N/A"},{"$f":"_xlfn.XLOOKUP(C564,Data!C:C,Data!G:G,0)","v":0},{"$f":"_xlfn.XLOOKUP(C564,Data!C:C,Data!F:F,0)","v":0},{"$f":"_xlfn.XLOOKUP(C564,Data!C:C,Data!H:H,0)","v":0},null,"",{"$f":"_xlfn.XLOOKUP(C564,Data!C:C,Data!F:F,\"\")","v":""},null,{"$error":"#N/A"}]
["23-3-2021","09:22:00","2021-03-23T09:22:00",null,{"$f":"_xlfn.XLOOKUP(C565,Data!C:C,Data!I:I)","v":{"$error":"#N/A"}},{"$error":"#N/A"},{"$f":"_xlfn.XLOOKUP(C565,Data!C:C,Data!G:G,0)","v":0},{"$f":"_xlfn.XLOOKUP(C565,Data!C:C,Data!F:F,0)","v":0},{"$f":"_xlfn.XLOOKUP(C565,Data!C:C,Data!H:H,0)","v":0},null,"",{"$f":"_xlfn.XLOOKUP(C565,Data!C:C,Data!F:F,\"\")","v":""},null,{"$error":"#N/A"}]
["23-3-2021","09:23:00","2021-03-23T09:23:00",null,{"$f":"_xlfn.XLOOKUP(C566,Data!C:C,Data!I:I)","v":{"$error":"#N/A"}},{"$error":"#N/A"},{"$f":"_xlfn.XLOOKUP(C566,Data!C:C,Data!G:G,0)","v":0},{"$f":"_xlfn.XLOOKUP(C566,Data!C:C,Data!F:F,0)","v":0},{"$f":"_xlfn.XLOOKUP(C566,Data!C:C,Data!H:H,0)","v":0},null,"",{"$f":"_xlfn.XLOOKUP(C566,Data!C:C,Data!F:F,\"\")","v":""},null,{"$error":"#N/A"}]
["23-3-2021","09:24:00","2021-03-23T09:24:00",null,{"$f":"_xlfn.XLOOKUP(C567,Data!C:C,Data!I:I)","v":{"$error":"#N/A"}},{"$error":"#N/A"},{"$f":"_xlfn.XLOOKUP(C567,Data!C:C,Data!G:G,0)","v":0},{"$f":"_xlfn.XLOOKUP(C567,Data!C:C,Data!F:F,0)","v":0},{"$f":"_xlfn.XLOOKUP(C567,Data!C:C,Data!H:H,0)","v":0},null,"",{"$f":"_xlfn.XLOOKUP(C567,Data!C:C,Data!F:F,\"\")","v":""},null,{"$error":"#N/A"}]
["23-3-2021","09:25:00","2021-03-23T09:25:00",null,{"$f":"_xlfn.XLOOKUP(C568,Data!C:C,Data!I:I)","v":{"$error":"#N/A"}},{"$error":"#N/A"},{"$f":"_xlfn.XLOOKUP(C568,Data!C:C,Data!G:G,0)","v":0},{"$f":"_xlfn.XLOOKUP(C568,Data!C:C,Data!F:F,0)","v":0},{"$f":"_xlfn.XLOOKUP(C568,Data!C:C,Data!H:H,0)","v":0},null,"",{"$f":"_xlfn.XLOOKUP(C568,Data!C:C,Data!F:F,\"\")","v":""},null,{"$error":"#N/A"}]
["23-3-2021","09:26:00","2021-03-23T09:26:00",null,{"$f":"_xlfn.XLOOKUP(C569,Data!C:C,Data!I:I)","v":{"$error":"#N/A"}},{"$error":"#N/A"},{"$f":"_xlfn.XLOOKUP(C569,Data!C:C,Data!G:G,0)","v":0},{"$f":"_xlfn.XLOOKUP(C569,Data!C:C,Data!F:F,0)","v":0},{"$f":"_xlfn.XLOOKUP(C569,Data!C:C,Data!H:H,0)","v":0},null,"",{"$f":"_xlfn.XLOOKUP(C569,Data!C:C,Data!F:F,\"\")","v":""},null,{"$error":"#N/A"}]
["23-3-2021","09:27:00","2021-03-23T09:27:00",null,{"$f":"_xlfn.XLOOKUP(C570,Data!C:C,Data!I:I)","v":{"$error":"#N/A"}},{"$error":"#N/A"},{"$f":"_xlfn.XLOOKUP(C570,Data!C:C,Data!G:G,0)","v":0},{"$f":"_xlfn.XLOOKUP(C570,Data!C:C,Data!F:F,0)","v":0},{"$f":"_xlfn.XLOOKUP(C570,Data!C:C,Data!H:H,0)","v":0},null,"",{"$f":"_xlfn.XLOOKUP(C570,Data!C:C,Data!F:F,\"\")","v":""},null,{"$error":"#N/A"}]
["23-3-2021","09:28:00","2021-03-23T09:28:00",null,{"$f":"_xlfn.XLOOKUP(C571,Data!C:C,Data!I:I)","v":{"$error":"#N/A"}},{"$error":"#N/A"},{"$f":"_xlfn.XLOOKUP(C571,Data!C:C,Data!G:G,0)","v":0},{"$f":"_xlfn.XLOOKUP(C571,Data!C:C,Data!F:F,0)","v":0},{"$f":"_xlfn.XLOOKUP(C571,Data!C:C,Data!H:H,0)","v":0},null,"",{"$f":"_xlfn.XLOOKUP(C571,Data!C:C,Data!F:F,\"\")","v":""},null,{"$error":"#N/A"}]
["23-3-2021","09:29:00","2021-03-23T09:29:00",null,{"$f":"_xlfn.XLOOKUP(C572,Data!C:C,Data!I:I)","v":{"$error":"#N/A"}},{"$error":"#N/A"},{"$f":"_xlfn.XLOOKUP(C572,Data!C:C,Data!G:G,0)","v":0},{"$f":"_xlfn.XLOOKUP(C572,Data!C:C,Data!F:F,0)","v":0},{"$f":"_xlfn.XLOOKUP(C572,Data!C:C,Data!H:H,0)","v":0},null,"",{"$f":"_xlfn.XLOOKUP(C572,Data!C:C,Data!F:F,\"\")","v":""},null,{"$error":"#N/A"}]
["23-3-2021","09:30:00","2021-03-23T09:30:00",null,{"$f":"_xlfn.XLOOKUP(C573,Data!C:C,Data!I:I)","v":{"$error":"#N/A"}},{"$error":"#N/A"},{"$f":"_xlfn.XLOOKUP(C573,Data!C:C,Data!G:G,0)","v":0},{"$f":"_xlfn.XLOOKUP(C573,Data!C:C,Data!F:F,0)","v":0},{"$f":"_xlfn.XLOOKUP(C573,Data!C:C,Data!H:H,0)","v":0},null,"",{"$f":"_xlfn.XLOOKUP(C573,Data!C:C,Data!F:F,\"\")","v":""},null,{"$error":"#N/A"}]
["23-3-2021","09:31:00","2021-03-23T09:31:00",null,{"$f":"_xlfn.XLOOKUP(C574,Data!C:C,Data!I:I)","v":{"$error":"#N/A"}},{"$error":"#N/A"},{"$f":"_xlfn.XLOOKUP(C574,Data!C:C,Data!G:G,0)","v":0},{"$f":"_xlfn.XLOOKUP(C574,Data!C:C,Data!F:F,0)","v":0},{"$f":"_xlfn.XLOOKUP(C574,Data!C:C,Data!H:H,0)","v":0},null,"",{"$f":"_xlfn.XLOOKUP(C574,Data!C:C,Data!F:F,\"\")","v":""},null,{"$error":"#N/A"}]
["23-3-2021","09:32:00","2021-03-23T09:32:00",null,{"$f":"_xlfn.XLOOKUP(C575,Data!C:C,Data!I:I)","v":{"$error":"#N/A"}},{"$error":"#N/A"},{"$f":"_xlfn.XLOOKUP(C575,Data!C:C,Data!G:G,0)","v":0},{"$f":"_xlfn.XLOOKUP(C575,Data!C:C,Data!F:F,0)","v":0},{"$f":"_xlfn.XLOOKUP(C575,Data!C:C,Data!H:H,0)","v":0},null,"",{"$f":"_xlfn.XLOOKUP(C575,Data!C:C,Data!F:F,\"\")","v":""},null,{"$error":"#N/A"}]
["23-3-2021","09:33:00","2021-03-23T09:33:00",null,{"$f":"_xlfn.XLOOKUP(C576,Data!C:C,Data!I:I)","v":{"$error":"#N/A"}},{"$error":"#N/A"},{"$f":"_xlfn.XLOOKUP(C576,Data!C:C,Data!G:G,0)","v":0},{"$f":"_xlfn.XLOOKUP(C576,Data!C:C,Data!F:F,0)","v":0},{"$f":"_xlfn.XLOOKUP(C576,Data!C:C,Data!H:H,0)","v":0},null,"",{"$f":"_xlfn.XLOOKUP(C576,Data!C:C,Data!F:F,\"\")","v":""},null,{"$error":"#N/A"}]
["23-3-2021","09:34:00","2021-03-23T09:34:00",null,{"$f":"_xlfn.XLOOKUP(C577,Data!C:C,Data!I:I)","v":{"$error":"#N/A"}},{"$error":"#N/A"},{"$f":"_xlfn.XLOOKUP(C577,Data!C:C,Data!G:G,0)","v":0},{"$f":"_xlfn.XLOOKUP(C577,Data!C:C,Data!F:F,0)","v":0},{"$f":"_xlfn.XLOOKUP(C577,Data!C:C,Data!H:H,0)","v":0},null,"",{"$f":"_xlfn.XLOOKUP(C577,Data!C:C,Data!F:F,\"\")","v":""},null,{"$error":"#N/A"}]
["23-3-2021","09:35:00","2021-03-23T09:35:00",null,{"$f":"_xlfn.XLOOKUP(C578,Data!C:C,Data!I:I)","v":{"$error":"#N/A"}},{"$error":"#N/A"},{"$f":"_xlfn.XLOOKUP(C578,Data!C:C,Data!G:G,0)","v":0},{"$f":"_xlfn.XLOOKUP(C578,Data!C:C,Data!F:F,0)","v":0},{"$f":"_xlfn.XLOOKUP(C578,Data!C:C,Data!H:H,0)","v":0},null,"",{"$f":"_xlfn.XLOOKUP(C578,Data!C:C,Data!F:F,\"\")","v":""},null,{"$error":"#N/A"}]
["23-3-2021","09:36:00",{"$f":"A579+B579","v":"2021-03-23T09:36:00"},null,{"$f":"_xlfn.XLOOKUP(C579,Data!C:C,Data!I:I)","v":{"$error":"#N/A"}},{"$error":"#N/A"},{"$f":"_xlfn.XLOOKUP(C579,Data!C:C,Data!G:G,0)","v":0},{"$f":"_xlfn.XLOOKUP(C579,Data!C:C,Data!F:F,0)","v":0},{"$f":"_xlfn.XLOOKUP(C579,Data!C:C,Data!H:H,0)","v":0},null,"",{"$f":"_xlfn.XLOOKUP(C579,Data!C:C,Data!F:F,\"\")","v":""},null,{"$error":"#N/A"}]
[{"$f":"$A$3","v":"23-3-2021"},"09:37:00","2021-03-23T09:37:00",null,{"$f":"_xlfn.XLOOKUP(C580,Data!C:C,Data!I:I)","v":{"$error":"#N/A"}},{"$f":"IF(E580=255,F579,E580)","v":{"$error":"#N/A"}},{"$f":"_xlfn.XLOOKUP(C580,Data!C:C,Data!G:G,0)","v":0},{"$f":"_xlfn.XLOOKUP(C580,Data!C:C,Data!F:F,0)","v":0},{"$f":"_xlfn.XLOOKUP(C580,Data!C:C,Data!H:H,0)","v":0},null,{"$f":"IFERROR(IF(F580=\"#N/A\",\"\",F580),\"\")","v":""},{"$f":"_xlfn.XLOOKUP(C580,Data!C:C,Data!F:F,\"\")","v":""},null,{"$error":"#N/A"}]
["23-3-2021","09:38:00","2021-03-23T09:38:00",null,{"$f":"_xlfn.XLOOKUP(C581,Data!C:C,Data!I:I)","v":{"$error":"#N/A"}},{"$error":"#N/A"},{"$f":"_xlfn.XLOOKUP(C581,Data!C:C,Data!G:G,0)","v":0},{"$f":"_xlfn.XLOOKUP(C581,Data!C:C,Data!F:F,0)","v":0},{"$f":"_xlfn.XLOOKUP(C581,Data!C:C,Data!H:H,0)","v":0},null,"",{"$f":"_xlfn.XLOOKUP(C581,Data!C:C,Data!F:F,\"\")","v":""},null,{"$error":"#N/A"}]
["23-3-2021","09:39:00","2021-03-23T09:39:00",null,{"$f":"_xlfn.XLOOKUP(C582,Data!C:C,Data!I:I)","v":{"$error":"#N/A"}},{"$error":"#N/A"},{"$f":"_xlfn.XLOOKUP(C582,Data!C:C,Data!G:G,0)","v":0},{"$f":"_xlfn.XLOOKUP(C582,Data!C:C,Data!F:F,0)","v":0},{"$f":"_xlfn.XLOOKUP(C582,Data!C:C,Data!H:H,0)","v":0},null,"",{"$f":"_xlfn.XLOOKUP(C582,Data!C:C,Data!F:F,\"\")","v":""},null,{"$error":"#N/A"}]
["23-3-2021","09:40:00","2021-03-23T09:40:00",null,{"$f":"_xlfn.XLOOKUP(C583,Data!C:C,Data!I:I)","v":{"$error":"#N/A"}},{"$error":"#N/A"},{"$f":"_xlfn.XLOOKUP(C583,Data!C:C,Data!G:G,0)","v":0},{"$f":"_xlfn.XLOOKUP(C583,Data!C:C,Data!F:F,0)","v":0},{"$f":"_xlfn.XLOOKUP(C583,Data!C:C,Data!H:H,0)","v":0},null,"",{"$f":"_xlfn.XLOOKUP(C583,Data!C:C,Data!F:F,\"\")","v":""},null,{"$f":"IF(F583=\"\",\"\",AVERAGE(F579:F587))","v":{"$error":"#N/A"}}]
["23-3-2021","09:41:00","2021-03-23T09:41:00",null,{"$f":"_xlfn.XLOOKUP(C584,Data!C:C,Data!I:I)","v":{"$error":"#N/A"}},{"$error":"#N/A"},{"$f":"_xlfn.XLOOKUP(C584,Data!C:C,Data!G:G,0)","v":0},{"$f":"_xlfn.XLOOKUP(C584,Data!C:C,Data!F:F,0)","v":0},{"$f":"_xlfn.XLOOKUP(C584,Data!C:C,Data!H:H,0)","v":0},null,"",{"$f":"_xlfn.XLOOKUP(C584,Data!C:C,Data!F:F,\"\")","v":""},null,{"$error":"#N/A"}]
["23-3-2021","09:42:00","2021-03-23T09:42:00",null,{"$f":"_xlfn.XLOOKUP(C585,Data!C:C,Data!I:I)","v":{"$error":"#N/A"}},{"$error":"#N/A"},{"$f":"_xlfn.XLOOKUP(C585,Data!C:C,Data!G:G,0)","v":0},{"$f":"_xlfn.XLOOKUP(C585,Data!C:C,Data!F:F,0)","v":0},{"$f":"_xlfn.XLOOKUP(C585,Data!C:C,Data!H:H,0)","v":0},null,"",{"$f":"_xlfn.XLOOKUP(C585,Data!C:C,Data!F:F,\"\")","v":""},null,{"$error":"#N/A"}]
["23-3-2021","09:43:00","2021-03-23T09:43:00",null,{"$f":"_xlfn.XLOOKUP(C586,Data!C:C,Data!I:I)","v":{"$error":"#N/A"}},{"$error":"#N/A"},{"$f":"_xlfn.XLOOKUP(C586,Data!C:C,Data!G:G,0)","v":0},{"$f":"_xlfn.XLOOKUP(C586,Data!C:C,Data!F:F,0)","v":0},{"$f":"_xlfn.XLOOKUP(C586,Data!C:C,Data!H:H,0)","v":0},null,"",{"$f":"_xlfn.XLOOKUP(C586,Data!C:C,Data!F:F,\"\")","v":""},null,{"$error":"#N/A"}]
["23-3-2021","09:44:00","2021-03-23T09:44:00",null,{"$f":"_xlfn.XLOOKUP(C587,Data!C:C,Data!I:I)","v":{"$error":"#N/A"}},{"$error":"#N/A"},{"$f":"_xlfn.XLOOKUP(C587,Data!C:C,Data!G:G,0)","v":0},{"$f":"_xlfn.XLOOKUP(C587,Data!C:C,Data!F:F,0)","v":0},{"$f":"_xlfn.XLOOKUP(C587,Data!C:C,Data!H:H,0)","v":0},null,"",{"$f":"_xlfn.XLOOKUP(C587,Data!C:C,Data!F:F,\"\")","v":""},null,{"$error":"#N/A"}]
["23-3-2021","09:45:00","2021-03-23T09:45:00",null,{"$f":"_xlfn.XLOOKUP(C588,Data!C:C,Data!I:I)","v":{"$error":"#N/A"}},{"$error":"#N/A"},{"$f":"_xlfn.XLOOKUP(C588,Data!C:C,Data!G:G,0)","v":0},{"$f":"_xlfn.XLOOKUP(C588,Data!C:C,Data!F:F,0)","v":0},{"$f":"_xlfn.XLOOKUP(C588,Data!C:C,Data!H:H,0)","v":0},null,"",{"$f":"_xlfn.XLOOKUP(C588,Data!C:C,Data!F:F,\"\")","v":""},null,{"$error":"#N/A"}]
["23-3-2021","09:46:00","2021-03-23T09:46:00",null,{"$f":"_xlfn.XLOOKUP(C589,Data!C:C,Data!I:I)","v":{"$error":"#N/A"}},{"$error":"#N/A"},{"$f":"_xlfn.XLOOKUP(C589,Data!C:C,Data!G:G,0)","v":0},{"$f":"_xlfn.XLOOKUP(C589,Data!C:C,Data!F:F,0)","v":0},{"$f":"_xlfn.XLOOKUP(C589,Data!C:C,Data!H:H,0)","v":0},null,"",{"$f":"_xlfn.XLOOKUP(C589,Data!C:C,Data!F:F,\"\")","v":""},null,{"$error":"#N/A"}]
["23-3-2021","09:47:00","2021-03-23T09:47:00",null,{"$f":"_xlfn.XLOOKUP(C590,Data!C:C,Data!I:I)","v":{"$error":"#N/A"}},{"$error":"#N/A"},{"$f":"_xlfn.XLOOKUP(C590,Data!C:C,Data!G:G,0)","v":0},{"$f":"_xlfn.XLOOKUP(C590,Data!C:C,Data!F:F,0)","v":0},{"$f":"_xlfn.XLOOKUP(C590,Data!C:C,Data!H:H,0)","v":0},null,"",{"$f":"_xlfn.XLOOKUP(C590,Data!C:C,Data!F:F,\"\")","v":""},null,{"$error":"#N/A"}]
["23-3-2021","09:48:00","2021-03-23T09:48:00",null,{"$f":"_xlfn.XLOOKUP(C591,Data!C:C,Data!I:I)","v":{"$error":"#N/A"}},{"$error":"#N/A"},{"$f":"_xlfn.XLOOKUP(C591,Data!C:C,Data!G:G,0)","v":0},{"$f":"_xlfn.XLOOKUP(C591,Data!C:C,Data!F:F,0)","v":0},{"$f":"_xlfn.XLOOKUP(C591,Data!C:C,Data!H:H,0)","v":0},null,"",{"$f":"_xlfn.XLOOKUP(C591,Data!C:C,Data!F:F,\"\")","v":""},null,{"$error":"#N/A"}]
["23-3-2021","09:49:00","2021-03-23T09:49:00",null,{"$f":"_xlfn.XLOOKUP(C592,Data!C:C,Data!I:I)","v":{"$error":"#N/A"}},{"$error":"#N/A"},{"$f":"_xlfn.XLOOKUP(C592,Data!C:C,Data!G:G,0)","v":0},{"$f":"_xlfn.XLOOKUP(C592,Data!C:C,Data!F:F,0)","v":0},{"$f":"_xlfn.XLOOKUP(C592,Data!C:C,Data!H:H,0)","v":0},null,"",{"$f":"_xlfn.XLOOKUP(C592,Data!C:C,Data!F:F,\"\")","v":""},null,{"$error":"#N/A"}]
["23-3-2021","09:50:00","2021-03-23T09:50:00",null,{"$f":"_xlfn.XLOOKUP(C593,Data!C:C,Data!I:I)","v":{"$error":"#N/A"}},{"$error":"#N/A"},{"$f":"_xlfn.XLOOKUP(C593,Data!C:C,Data!G:G,0)","v":0},{"$f":"_xlfn.XLOOKUP(C593,Data!C:C,Data!F:F,0)","v":0},{"$f":"_xlfn.XLOOKUP(C593,Data!C:C,Data!H:H,0)","v":0},null,"",{"$f":"_xlfn.XLOOKUP(C593,Data!C:C,Data!F:F,\"\")","v":""},null,{"$error":"#N/A"}]
["23-3-2021","09:51:00","2021-03-23T09:51:00",null,{"$f":"_xlfn.XLOOKUP(C594,Data!C:C,Data!I:I)","v":{"$error":"#N/A"}},{"$error":"#N/A"},{"$f":"_xlfn.XLOOKUP(C594,Data!C:C,Data!G:G,0)","v":0},{"$f":"_xlfn.XLOOKUP(C594,Data!C:C,Data!F:F,0)","v":0},{"$f":"_xlfn.XLOOKUP(C594,Data!C:C,Data!H:H,0)","v":0},null,"",{"$f":"_xlfn.XLOOKUP(C594,Data!C:C,Data!F:F,\"\")","v":""},null,{"$error":"#N/A"}]
["23-3-2021","09:52:00","2021-03-23T09:52:00",null,{"$f":"_xlfn.XLOOKUP(C595,Data!C:C,Data!I:I)","v":{"$error":"#N/A"}},{"$error":"#N/A"},{"$f":"_xlfn.XLOOKUP(C595,Data!C:C,Data!G:G,0)","v":0},{"$f":"_xlfn.XLOOKUP(C595,Data!C:C,Data!F:F,0)","v":0},{"$f":"_xlfn.XLOOKUP(C595,Data!C:C,Data!H:H,0)","v":0},null,"",{"$f":"_xlfn.XLOOKUP(C595,Data!C:C,Data!F:F,\"\")","v":""},null,{"$error":"#N/A"}]
["23-3-2021","09:53:00","2021-03-23T09:53:00",null,{"$f":"_xlfn.XLOOKUP(C596,Data!C:C,Data!I:I)","v":{"$error":"#N/A"}},{"$error":"#N/A"},{"$f":"_xlfn.XLOOKUP(C596,Data!C:C,Data!G:G,0)","v":0},{"$f":"_xlfn.XLOOKUP(C596,Data!C:C,Data!F:F,0)","v":0},{"$f":"_xlfn.XLOOKUP(C596,Data!C:C,Data!H:H,0)","v":0},null,"",{"$f":"_xlfn.XLOOKUP(C596,Data!C:C,Data!F:F,\"\")","v":""},null,{"$error":"#N/A"}]
["23-3-2021","09:54:00","2021-03-23T09:54:00",null,{"$f":"_xlfn.XLOOKUP(C597,Data!C:C,Data!I:I)","v":{"$error":"#N/A"}},{"$error":"#N/A"},{"$f":"_xlfn.XLOOKUP(C597,Data!C:C,Data!G:G,0)","v":0},{"$f":"_xlfn.XLOOKUP(C597,Data!C:C,Data!F:F,0)","v":0},{"$f":"_xlfn.XLOOKUP(C597,Data!C:C,Data!H:H,0)","v":0},null,"",{"$f":"_xlfn.XLOOKUP(C597,Data!C:C,Data!F:F,\"\")","v":""},null,{"$error":"#N/A"}]
["23-3-2021","09:55:00","2021-03-23T09:55:00",null,{"$f":"_xlfn.XLOOKUP(C598,Data!C:C,Data!I:I)","v":{"$error":"#N/A"}},{"$error":"#N/A"},{"$f":"_xlfn.XLOOKUP(C598,Data!C:C,Data!G:G,0)","v":0},{"$f":"_xlfn.XLOOKUP(C598,Data!C:C,Data!F:F,0)","v":0},{"$f":"_xlfn.XLOOKUP(C598,Data!C:C,Data!H:H,0)","v":0},null,"",{"$f":"_xlfn.XLOOKUP(C598,Data!C:C,Data!F:F,\"\")","v":""},null,{"$error":"#N/A"}]
["23-3-2021","09:56:00","2021-03-23T09:56:00",null,{"$f":"_xlfn.XLOOKUP(C599,Data!C:C,Data!I:I)","v":{"$error":"#N/A"}},{"$error":"#N/A"},{"$f":"_xlfn.XLOOKUP(C599,Data!C:C,Data!G:G,0)","v":0},{"$f":"_xlfn.XLOOKUP(C599,Data!C:C,Data!F:F,0)","v":0},{"$f":"_xlfn.XLOOKUP(C599,Data!C:C,Data!H:H,0)","v":0},null,"",{"$f":"_xlfn.XLOOKUP(C599,Data!C:C,Data!F:F,\"\")","v":""},null,{"$error":"#N/A"}]
["23-3-2021","09:57:00","2021-03-23T09:57:00",null,{"$f":"_xlfn.XLOOKUP(C600,Data!C:C,Data!I:I)","v":{"$error":"#N/A"}},{"$error":"#N/A"},{"$f":"_xlfn.XLOOKUP(C600,Data!C:C,Data!G:G,0)","v":0},{"$f":"_xlfn.XLOOKUP(C600,Data!C:C,Data!F:F,0)","v":0},{"$f":"_xlfn.XLOOKUP(C600,Data!C:C,Data!H:H,0)","v":0},null,"",{"$f":"_xlfn.XLOOKUP(C600,Data!C:C,Data!F:F,\"\")","v":""},null,{"$error":"#N/A"}]
["23-3-2021","09:58:00","2021-03-23T09:58:00",null,{"$f":"_xlfn.XLOOKUP(C601,Data!C:C,Data!I:I)","v":{"$error":"#N/A"}},{"$error":"#N/A"},{"$f":"_xlfn.XLOOKUP(C601,Data!C:C,Data!G:G,0)","v":0},{"$f":"_xlfn.XLOOKUP(C601,Data!C:C,Data!F:F,0)","v":0},{"$f":"_xlfn.XLOOKUP(C601,Data!C:C,Data!H:H,0)","v":0},null,"",{"$f":"_xlfn.XLOOKUP(C601,Data!C:C,Data!F:F,\"\")","v":""},null,{"$error":"#N/A"}]
["23-3-2021","09:59:00","2021-03-23T09:59:00",null,{"$f":"_xlfn.XLOOKUP(C602,Data!C:C,Data!I:I)","v":{"$error":"#N/A"}},{"$error":"#N/A"},{"$f":"_xlfn.XLOOKUP(C602,Data!C:C,Data!G:G,0)","v":0},{"$f":"_xlfn.XLOOKUP(C602,Data!C:C,Data!F:F,0)","v":0},{"$f":"_xlfn.XLOOKUP(C602,Data!C:C,Data!H:H,0)","v":0},null,"",{"$f":"_xlfn.XLOOKUP(C602,Data!C:C,Data!F:F,\"\")","v":""},null,{"$error":"#N/A"}]
["23-3-2021","10:00:00","2021-03-23T10:00:00",null,{"$f":"_xlfn.XLOOKUP(C603,Data!C:C,Data!I:I)","v":{"$error":"#N/A"}},{"$error":"#N/A"},{"$f":"_xlfn.XLOOKUP(C603,Data!C:C,Data!G:G,0)","v":0},{"$f":"_xlfn.XLOOKUP(C603,Data!C:C,Data!F:F,0)","v":0},{"$f":"_xlfn.XLOOKUP(C603,Data!C:C,Data!H:H,0)","v":0},null,"",{"$f":"_xlfn.XLOOKUP(C603,Data!C:C,Data!F:F,\"\")","v":""},null,{"$error":"#N/A"}]
["23-3-2021","10:01:00","2021-03-23T10:01:00",null,{"$f":"_xlfn.XLOOKUP(C604,Data!C:C,Data!I:I)","v":{"$error":"#N/A"}},{"$error":"#N/A"},{"$f":"_xlfn.XLOOKUP(C604,Data!C:C,Data!G:G,0)","v":0},{"$f":"_xlfn.XLOOKUP(C604,Data!C:C,Data!F:F,0)","v":0},{"$f":"_xlfn.XLOOKUP(C604,Data!C:C,Data!H:H,0)","v":0},null,"",{"$f":"_xlfn.XLOOKUP(C604,Data!C:C,Data!F:F,\"\")","v":""},null,{"$error":"#N/A"}]
["23-3-2021","10:02:00","2021-03-23T10:02:00",null,{"$f":"_xlfn.XLOOKUP(C605,Data!C:C,Data!I:I)","v":{"$error":"#N/A"}},{"$error":"#N/A"},{"$f":"_xlfn.XLOOKUP(C605,Data!C:C,Data!G:G,0)","v":0},{"$f":"_xlfn.XLOOKUP(C605,Data!C:C,Data!F:F,0)","v":0},{"$f":"_xlfn.XLOOKUP(C605,Data!C:C,Data!H:H,0)","v":0},null,"",{"$f":"_xlfn.XLOOKUP(C605,Data!C:C,Data!F:F,\"\")","v":""},null,{"$error":"#N/A"}]
["23-3-2021","10:03:00","2021-03-23T10:03:00",null,{"$f":"_xlfn.XLOOKUP(C606,Data!C:C,Data!I:I)","v":{"$error":"#N/A"}},{"$error":"#N/A"},{"$f":"_xlfn.XLOOKUP(C606,Data!C:C,Data!G:G,0)","v":0},{"$f":"_xlfn.XLOOKUP(C606,Data!C:C,Data!F:F,0)","v":0},{"$f":"_xlfn.XLOOKUP(C606,Data!C:C,Data!H:H,0)","v":0},null,"",{"$f":"_xlfn.XLOOKUP(C606,Data!C:C,Data!F:F,\"\")","v":""},null,{"$error":"#N/A"}]
["23-3-2021","10:04:00","2021-03-23T10:04:00",null,{"$f":"_xlfn.XLOOKUP(C607,Data!C:C,Data!I:I)","v":{"$error":"#N/A"}},{"$error":"#N/A"},{"$f":"_xlfn.XLOOKUP(C607,Data!C:C,Data!G:G,0)","v":0},{"$f":"_xlfn.XLOOKUP(C607,Data!C:C,Data!F:F,0)","v":0},{"$f":"_xlfn.XLOOKUP(C607,Data!C:C,Data!H:H,0)","v":0},null,"",{"$f":"_xlfn.XLOOKUP(C607,Data!C:C,Data!F:F,\"\")","v":""},null,{"$error":"#N/A"}]
["23-3-2021","10:05:00","2021-03-23T10:05:00",null,{"$f":"_xlfn.XLOOKUP(C608,Data!C:C,Data!I:I)","v":{"$error":"#N/A"}},{"$error":"#N/A"},{"$f":"_xlfn.XLOOKUP(C608,Data!C:C,Data!G:G,0)","v":0},{"$f":"_xlfn.XLOOKUP(C608,Data!C:C,Data!F:F,0)","v":0},{"$f":"_xlfn.XLOOKUP(C608,Data!C:C,Data!H:H,0)","v":0},null,"",{"$f":"_xlfn.XLOOKUP(C608,Data!C:C,Data!F:F,\"\")","v":""},null,{"$error":"#N/A"}]
["23-3-2021","10:06:00","2021-03-23T10:06:00",null,{"$f":"_xlfn.XLOOKUP(C609,Data!C:C,Data!I:I)","v":{"$error":"#N/A"}},{"$error":"#N/A"},{"$f":"_xlfn.XLOOKUP(C609,Data!C:C,Data!G:G,0)","v":0},{"$f":"_xlfn.XLOOKUP(C609,Data!C:C,Data!F:F,0)","v":0},{"$f":"_xlfn.XLOOKUP(C609,Data!C:C,Data!H:H,0)","v":0},null,"",{"$f":"_xlfn.XLOOKUP(C609,Data!C:C,Data!F:F,\"\")","v":""},null,{"$error":"#N/A"}]
["23-3-2021","10:07:00","2021-03-23T10:07:00",null,{"$f":"_xlfn.XLOOKUP(C610,Data!C:C,Data!I:I)","v":{"$error":"#N/A"}},{"$error":"#N/A"},{"$f":"_xlfn.XLOOKUP(C610,Data!C:C,Data!G:G,0)","v":0},{"$f":"_xlfn.XLOOKUP(C610,Data!C:C,Data!F:F,0)","v":0},{"$f":"_xlfn.XLOOKUP(C610,Data!C:C,Data!H:H,0)","v":0},null,"",{"$f":"_xlfn.XLOOKUP(C610,Data!C:C,Data!F:F,\"\")","v":""},null,{"$error":"#N/A"}]
["23-3-2021","10:08:00","2021-03-23T10:08:00",null,{"$f":"_xlfn.XLOOKUP(C611,Data!C:C,Data!I:I)","v":{"$error":"#N/A"}},{"$error":"#N/A"},{"$f":"_xlfn.XLOOKUP(C611,Data!C:C,Data!G:G,0)","v":0},{"$f":"_xlfn.XLOOKUP(C611,Data!C:C,Data!F:F,0)","v":0},{"$f":"_xlfn.XLOOKUP(C611,Data!C:C,Data!H:H,0)","v":0},null,"",{"$f":"_xlfn.XLOOKUP(C611,Data!C:C,Data!F:F,\"\")","v":""},null,{"$error":"#N/A"}]
["23-3-2021","10:09:00","2021-03-23T10:09:00",null,{"$f":"_xlfn.XLOOKUP(C612,Data!C:C,Data!I:I)","v":{"$error":"#N/A"}},{"$error":"#N/A"},{"$f":"_xlfn.XLOOKUP(C612,Data!C:C,Data!G:G,0)","v":0},{"$f":"_xlfn.XLOOKUP(C612,Data!C:C,Data!F:F,0)","v":0},{"$f":"_xlfn.XLOOKUP(C612,Data!C:C,Data!H:H,0)","v":0},null,"",{"$f":"_xlfn.XLOOKUP(C612,Data!C:C,Data!F:F,\"\")","v":""},null,{"$error":"#N/A"}]
["23-3-2021","10:10:00","2021-03-23T10:10:00",null,{"$f":"_xlfn.XLOOKUP(C613,Data!C:C,Data!I:I)","v":{"$error":"#N/A"}},{"$error":"#N/A"},{"$f":"_xlfn.XLOOKUP(C613,Data!C:C,Data!G:G,0)","v":0},{"$f":"_xlfn.XLOOKUP(C613,Data!C:C,Data!F:F,0)","v":0},{"$f":"_xlfn.XLOOKUP(C613,Data!C:C,Data!H:H,0)","v":0},null,"",{"$f":"_xlfn.XLOOKUP(C613,Data!C:C,Data!F:F,\"\")","v":""},null,{"$error":"#N/A"}]
["23-3-2021","10:11:00","2021-03-23T10:11:00",null,{"$f":"_xlfn.XLOOKUP(C614,Data!C:C,Data!I:I)","v":{"$error":"#N/A"}},{"$error":"#N/A"},{"$f":"_xlfn.XLOOKUP(C614,Data!C:C,Data!G:G,0)","v":0},{"$f":"_xlfn.XLOOKUP(C614,Data!C:C,Data!F:F,0)","v":0},{"$f":"_xlfn.XLOOKUP(C614,Data!C:C,Data!H:H,0)","v":0},null,"",{"$f":"_xlfn.XLOOKUP(C614,Data!C:C,Data!F:F,\"\")","v":""},null,{"$error":"#N/A"}]
["23-3-2021","10:12:00","2021-03-23T10:12:00",null,{"$f":"_xlfn.XLOOKUP(C615,Data!C:C,Data!I:I)","v":{"$error":"#N/A"}},{"$error":"#N/A"},{"$f":"_xlfn.XLOOKUP(C615,Data!C:C,Data!G:G,0)","v":0},{"$f":"_xlfn.XLOOKUP(C615,Data!C:C,Data!F:F,0)","v":0},{"$f":"_xlfn.XLOOKUP(C615,Data!C:C,Data!H:H,0)","v":0},null,"",{"$f":"_xlfn.XLOOKUP(C615,Data!C:C,Data!F:F,\"\")","v":""},null,{"$error":"#N/A"}]
["23-3-2021","10:13:00","2021-03-23T10:13:00",null,{"$f":"_xlfn.XLOOKUP(C616,Data!C:C,Data!I:I)","v":{"$error":"#N/A"}},{"$error":"#N/A"},{"$f":"_xlfn.XLOOKUP(C616,Data!C:C,Data!G:G,0)","v":0},{"$f":"_xlfn.XLOOKUP(C616,Data!C:C,Data!F:F,0)","v":0},{"$f":"_xlfn.XLOOKUP(C616,Data!C:C,Data!H:H,0)","v":0},null,"",{"$f":"_xlfn.XLOOKUP(C616,Data!C:C,Data!F:F,\"\")","v":""},null,{"$error":"#N/A"}]
["23-3-2021","10:14:00","2021-03-23T10:14:00",null,{"$f":"_xlfn.XLOOKUP(C617,Data!C:C,Data!I:I)","v":{"$error":"#N/A"}},{"$error":"#N/A"},{"$f":"_xlfn.XLOOKUP(C617,Data!C:C,Data!G:G,0)","v":0},{"$f":"_xlfn.XLOOKUP(C617,Data!C:C,Data!F:F,0)","v":0},{"$f":"_xlfn.XLOOKUP(C617,Data!C:C,Data!H:H,0)","v":0},null,"",{"$f":"_xlfn.XLOOKUP(C617,Data!C:C,Data!F:F,\"\")","v":""},null,{"$error":"#N/A"}]
["23-3-2021","10:15:00","2021-03-23T10:15:00",null,{"$f":"_xlfn.XLOOKUP(C618,Data!C:C,Data!I:I)","v":{"$error":"#N/A"}},{"$error":"#N/A"},{"$f":"_xlfn.XLOOKUP(C618,Data!C:C,Data!G:G,0)","v":0},{"$f":"_xlfn.XLOOKUP(C618,Data!C:C,Data!F:F,0)","v":0},{"$f":"_xlfn.XLOOKUP(C618,Data!C:C,Data!H:H,0)","v":0},null,"",{"$f":"_xlfn.XLOOKUP(C618,Data!C:C,Data!F:F,\"\")","v":""},null,{"$error":"#N/A"}]
["23-3-2021","10:16:00","2021-03-23T10:16:00",null,{"$f":"_xlfn.XLOOKUP(C619,Data!C:C,Data!I:I)","v":{"$error":"#N/A"}},{"$error":"#N/A"},{"$f":"_xlfn.XLOOKUP(C619,Data!C:C,Data!G:G,0)","v":0},{"$f":"_xlfn.XLOOKUP(C619,Data!C:C,Data!F:F,0)","v":0},{"$f":"_xlfn.XLOOKUP(C619,Data!C:C,Data!H:H,0)","v":0},null,"",{"$f":"_xlfn.XLOOKUP(C619,Data!C:C,Data!F:F,\"\")","v":""},null,{"$error":"#N/A"}]
["23-3-2021","10:17:00","2021-03-23T10:17:00",null,{"$f":"_xlfn.XLOOKUP(C620,Data!C:C,Data!I:I)","v":{"$error":"#N/A"}},{"$error":"#N/A"},{"$f":"_xlfn.XLOOKUP(C620,Data!C:C,Data!G:G,0)","v":0},{"$f":"_xlfn.XLOOKUP(C620,Data!C:C,Data!F:F,0)","v":0},{"$f":"_xlfn.XLOOKUP(C620,Data!C:C,Data!H:H,0)","v":0},null,"",{"$f":"_xlfn.XLOOKUP(C620,Data!C:C,Data!F:F,\"\")","v":""},null,{"$error":"#N/A"}]
["23-3-2021","10:18:00","2021-03-23T10:18:00",null,{"$f":"_xlfn.XLOOKUP(C621,Data!C:C,Data!I:I)","v":{"$error":"#N/A"}},{"$error":"#N/A"},{"$f":"_xlfn.XLOOKUP(C621,Data!C:C,Data!G:G,0)","v":0},{"$f":"_xlfn.XLOOKUP(C621,Data!C:C,Data!F:F,0)","v":0},{"$f":"_xlfn.XLOOKUP(C621,Data!C:C,Data!H:H,0)","v":0},null,"",{"$f":"_xlfn.XLOOKUP(C621,Data!C:C,Data!F:F,\"\")","v":""},null,{"$error":"#N/A"}]
["23-3-2021","10:19:00","2021-03-23T10:19:00",null,{"$f":"_xlfn.XLOOKUP(C622,Data!C:C,Data!I:I)","v":{"$error":"#N/A"}},{"$error":"#N/A"},{"$f":"_xlfn.XLOOKUP(C622,Data!C:C,Data!G:G,0)","v":0},{"$f":"_xlfn.XLOOKUP(C622,Data!C:C,Data!F:F,0)","v":0},{"$f":"_xlfn.XLOOKUP(C622,Data!C:C,Data!H:H,0)","v":0},null,"",{"$f":"_xlfn.XLOOKUP(C622,Data!C:C,Data!F:F,\"\")","v":""},null,{"$error":"#N/A"}]
["23-3-2021","10:20:00","2021-03-23T10:20:00",null,{"$f":"_xlfn.XLOOKUP(C623,Data!C:C,Data!I:I)","v":{"$error":"#N/A"}},{"$error":"#N/A"},{"$f":"_xlfn.XLOOKUP(C623,Data!C:C,Data!G:G,0)","v":0},{"$f":"_xlfn.XLOOKUP(C623,Data!C:C,Data!F:F,0)","v":0},{"$f":"_xlfn.XLOOKUP(C623,Data!C:C,Data!H:H,0)","v":0},null,"",{"$f":"_xlfn.XLOOKUP(C623,Data!C:C,Data!F:F,\"\")","v":""},null,{"$error":"#N/A"}]
["23-3-2021","10:21:00","2021-03-23T10:21:00",null,{"$f":"_xlfn.XLOOKUP(C624,Data!C:C,Data!I:I)","v":{"$error":"#N/A"}},{"$error":"#N/A"},{"$f":"_xlfn.XLOOKUP(C624,Data!C:C,Data!G:G,0)","v":0},{"$f":"_xlfn.XLOOKUP(C624,Data!C:C,Data!F:F,0)","v":0},{"$f":"_xlfn.XLOOKUP(C624,Data!C:C,Data!H:H,0)","v":0},null,"",{"$f":"_xlfn.XLOOKUP(C624,Data!C:C,Data!F:F,\"\")","v":""},null,{"$error":"#N/A"}]
["23-3-2021","10:22:00","2021-03-23T10:22:00",null,{"$f":"_xlfn.XLOOKUP(C625,Data!C:C,Data!I:I)","v":{"$error":"#N/A"}},{"$error":"#N/A"},{"$f":"_xlfn.XLOOKUP(C625,Data!C:C,Data!G:G,0)","v":0},{"$f":"_xlfn.XLOOKUP(C625,Data!C:C,Data!F:F,0)","v":0},{"$f":"_xlfn.XLOOKUP(C625,Data!C:C,Data!H:H,0)","v":0},null,"",{"$f":"_xlfn.XLOOKUP(C625,Data!C:C,Data!F:F,\"\")","v":""},null,{"$error":"#N/A"}]
["23-3-2021","10:23:00","2021-03-23T10:23:00",null,{"$f":"_xlfn.XLOOKUP(C626,Data!C:C,Data!I:I)","v":{"$error":"#N/A"}},{"$error":"#N/A"},{"$f":"_xlfn.XLOOKUP(C626,Data!C:C,Data!G:G,0)","v":0},{"$f":"_xlfn.XLOOKUP(C626,Data!C:C,Data!F:F,0)","v":0},{"$f":"_xlfn.XLOOKUP(C626,Data!C:C,Data!H:H,0)","v":0},null,"",{"$f":"_xlfn.XLOOKUP(C626,Data!C:C,Data!F:F,\"\")","v":""},null,{"$error":"#N/A"}]
["23-3-2021","10:24:00","2021-03-23T10:24:00",null,{"$f":"_xlfn.XLOOKUP(C627,Data!C:C,Data!I:I)","v":{"$error":"#N/A"}},{"$error":"#N/A"},{"$f":"_xlfn.XLOOKUP(C627,Data!C:C,Data!G:G,0)","v":0},{"$f":"_xlfn.XLOOKUP(C627,Data!C:C,Data!F:F,0)","v":0},{"$f":"_xlfn.XLOOKUP(C627,Data!C:C,Data!H:H,0)","v":0},null,"",{"$f":"_xlfn.XLOOKUP(C627,Data!C:C,Data!F:F,\"\")","v":""},null,{"$error":"#N/A"}]
["23-3-2021","10:25:00","2021-03-23T10:25:00",null,{"$f":"_xlfn.XLOOKUP(C628,Data!C:C,Data!I:I)","v":{"$error":"#N/A"}},{"$error":"#N/A"},{"$f":"_xlfn.XLOOKUP(C628,Data!C:C,Data!G:G,0)","v":0},{"$f":"_xlfn.XLOOKUP(C628,Data!C:C,Data!F:F,0)","v":0},{"$f":"_xlfn.XLOOKUP(C628,Data!C:C,Data!H:H,0)","v":0},null,"",{"$f":"_xlfn.XLOOKUP(C628,Data!C:C,Data!F:F,\"\")","v":""},null,{"$error":"#N/A"}]
["23-3-2021","10:26:00","2021-03-23T10:26:00",null,{"$f":"_xlfn.XLOOKUP(C629,Data!C:C,Data!I:I)","v":{"$error":"#N/A"}},{"$error":"#N/A"},{"$f":"_xlfn.XLOOKUP(C629,Data!C:C,Data!G:G,0)","v":0},{"$f":"_xlfn.XLOOKUP(C629,Data!C:C,Data!F:F,0)","v":0},{"$f":"_xlfn.XLOOKUP(C629,Data!C:C,Data!H:H,0)","v":0},null,"",{"$f":"_xlfn.XLOOKUP(C629,Data!C:C,Data!F:F,\"\")","v":""},null,{"$error":"#N/A"}]
["23-3-2021","10:27:00","2021-03-23T10:27:00",null,{"$f":"_xlfn.XLOOKUP(C630,Data!C:C,Data!I:I)","v":{"$error":"#N/A"}},{"$error":"#N/A"},{"$f":"_xlfn.XLOOKUP(C630,Data!C:C,Data!G:G,0)","v":0},{"$f":"_xlfn.XLOOKUP(C630,Data!C:C,Data!F:F,0)","v":0},{"$f":"_xlfn.XLOOKUP(C630,Data!C:C,Data!H:H,0)","v":0},null,"",{"$f":"_xlfn.XLOOKUP(C630,Data!C:C,Data!F:F,\"\")","v":""},null,{"$error":"#N/A"}]
["23-3-2021","10:28:00","2021-03-23T10:28:00",null,{"$f":"_xlfn.XLOOKUP(C631,Data!C:C,Data!I:I)","v":{"$error":"#N/A"}},{"$error":"#N/A"},{"$f":"_xlfn.XLOOKUP(C631,Data!C:C,Data!G:G,0)","v":0},{"$f":"_xlfn.XLOOKUP(C631,Data!C:C,Data!F:F,0)","v":0},{"$f":"_xlfn.XLOOKUP(C631,Data!C:C,Data!H:H,0)","v":0},null,"",{"$f":"_xlfn.XLOOKUP(C631,Data!C:C,Data!F:F,\"\")","v":""},null,{"$error":"#N/A"}]
["23-3-2021","10:29:00","2021-03-23T10:29:00",null,{"$f":"_xlfn.XLOOKUP(C632,Data!C:C,Data!I:I)","v":{"$error":"#N/A"}},{"$error":"#N/A"},{"$f":"_xlfn.XLOOKUP(C632,Data!C:C,Data!G:G,0)","v":0},{"$f":"_xlfn.XLOOKUP(C632,Data!C:C,Data!F:F,0)","v":0},{"$f":"_xlfn.XLOOKUP(C632,Data!C:C,Data!H:H,0)","v":0},null,"",{"$f":"_xlfn.XLOOKUP(C632,Data!C:C,Data!F:F,\"\")","v":""},null,{"$error":"#N/A"}]
["23-3-2021","10:30:00","2021-03-23T10:30:00",null,{"$f":"_xlfn.XLOOKUP(C633,Data!C:C,Data!I:I)","v":{"$error":"#N/A"}},{"$error":"#N/A"},{"$f":"_xlfn.XLOOKUP(C633,Data!C:C,Data!G:G,0)","v":0},{"$f":"_xlfn.XLOOKUP(C633,Data!C:C,Data!F:F,0)","v":0},{"$f":"_xlfn.XLOOKUP(C633,Data!C:C,Data!H:H,0)","v":0},null,"",{"$f":"_xlfn.XLOOKUP(C633,Data!C:C,Data!F:F,\"\")","v":""},null,{"$error":"#N/A"}]
["23-3-2021","10:31:00","2021-03-23T10:31:00",null,{"$f":"_xlfn.XLOOKUP(C634,Data!C:C,Data!I:I)","v":{"$error":"#N/A"}},{"$error":"#N/A"},{"$f":"_xlfn.XLOOKUP(C634,Data!C:C,Data!G:G,0)","v":0},{"$f":"_xlfn.XLOOKUP(C634,Data!C:C,Data!F:F,0)","v":0},{"$f":"_xlfn.XLOOKUP(C634,Data!C:C,Data!H:H,0)","v":0},null,"",{"$f":"_xlfn.XLOOKUP(C634,Data!C:C,Data!F:F,\"\")","v":""},null,{"$error":"#N/A"}]
["23-3-2021","10:32:00","2021-03-23T10:32:00",null,{"$f":"_xlfn.XLOOKUP(C635,Data!C:C,Data!I:I)","v":{"$error":"#N/A"}},{"$error":"#N/A"},{"$f":"_xlfn.XLOOKUP(C635,Data!C:C,Data!G:G,0)","v":0},{"$f":"_xlfn.XLOOKUP(C635,Data!C:C,Data!F:F,0)","v":0},{"$f":"_xlfn.XLOOKUP(C635,Data!C:C,Data!H:H,0)","v":0},null,"",{"$f":"_xlfn.XLOOKUP(C635,Data!C:C,Data!F:F,\"\")","v":""},null,{"$error":"#N/A"}]
["23-3-2021","10:33:00","2021-03-23T10:33:00",null,{"$f":"_xlfn.XLOOKUP(C636,Data!C:C,Data!I:I)","v":{"$error":"#N/A"}},{"$error":"#N/A"},{"$f":"_xlfn.XLOOKUP(C636,Data!C:C,Data!G:G,0)","v":0},{"$f":"_xlfn.XLOOKUP(C636,Data!C:C,Data!F:F,0)","v":0},{"$f":"_xlfn.XLOOKUP(C636,Data!C:C,Data!H:H,0)","v":0},null,"",{"$f":"_xlfn.XLOOKUP(C636,Data!C:C,Data!F:F,\"\")","v":""},null,{"$error":"#N/A"}]
["23-3-2021","10:34:00","2021-03-23T10:34:00",null,{"$f":"_xlfn.XLOOKUP(C637,Data!C:C,Data!I:I)","v":{"$error":"#N/A"}},{"$error":"#N/A"},{"$f":"_xlfn.XLOOKUP(C637,Data!C:C,Data!G:G,0)","v":0},{"$f":"_xlfn.XLOOKUP(C637,Data!C:C,Data!F:F,0)","v":0},{"$f":"_xlfn.XLOOKUP(C637,Data!C:C,Data!H:H,0)","v":0},null,"",{"$f":"_xlfn.XLOOKUP(C637,Data!C:C,Data!F:F,\"\")","v":""},null,{"$error":"#N/A"}]
["23-3-2021","10:35:00","2021-03-23T10:35:00",null,{"$f":"_xlfn.XLOOKUP(C638,Data!C:C,Data!I:I)","v":{"$error":"#N/A"}},{"$error":"#N/A"},{"$f":"_xlfn.XLOOKUP(C638,Data!C:C,Data!G:G,0)","v":0},{"$f":"_xlfn.XLOOKUP(C638,Data!C:C,Data!F:F,0)","v":0},{"$f":"_xlfn.XLOOKUP(C638,Data!C:C,Data!H:H,0)","v":0},null,"",{"$f":"_xlfn.XLOOKUP(C638,Data!C:C,Data!F:F,\"\")","v":""},null,{"$error":"#N/A"}]
["23-3-2021","10:36:00","2021-03-23T10:36:00",null,{"$f":"_xlfn.XLOOKUP(C639,Data!C:C,Data!I:I)","v":{"$error":"#N/A"}},{"$error":"#N/A"},{"$f":"_xlfn.XLOOKUP(C639,Data!C:C,Data!G:G,0)","v":0},{"$f":"_xlfn.XLOOKUP(C639,Data!C:C,Data!F:F,0)","v":0},{"$f":"_xlfn.XLOOKUP(C639,Data!C:C,Data!H:H,0)","v":0},null,"",{"$f":"_xlfn.XLOOKUP(C639,Data!C:C,Data!F:F,\"\")","v":""},null,{"$error":"#N/A"}]
["23-3-2021","10:37:00","2021-03-23T10:37:00",null,{"$f":"_xlfn.XLOOKUP(C640,Data!C:C,Data!I:I)","v":{"$error":"#N/A"}},{"$error":"#N/A"},{"$f":"_xlfn.XLOOKUP(C640,Data!C:C,Data!G:G,0)","v":0},{"$f":"_xlfn.XLOOKUP(C640,Data!C:C,Data!F:F,0)","v":0},{"$f":"_xlfn.XLOOKUP(C640,Data!C:C,Data!H:H,0)","v":0},null,"",{"$f":"_xlfn.XLOOKUP(C640,Data!C:C,Data!F:F,\"\")","v":""},null,{"$error":"#N/A"}]
["23-3-2021","10:38:00","2021-03-23T10:38:00",null,{"$f":"_xlfn.XLOOKUP(C641,Data!C:C,Data!I:I)","v":{"$error":"#N/A"}},{"$error":"#N/A"},{"$f":"_xlfn.XLOOKUP(C641,Data!C:C,Data!G:G,0)","v":0},{"$f":"_xlfn.XLOOKUP(C641,Data!C:C,Data!F:F,0)","v":0},{"$f":"_xlfn.XLOOKUP(C641,Data!C:C,Data!H:H,0)","v":0},null,"",{"$f":"_xlfn.XLOOKUP(C641,Data!C:C,Data!F:F,\"\")","v":""},null,{"$error":"#N/A"}]
["23-3-2021","10:39:00","2021-03-23T10:39:00",null,{"$f":"_xlfn.XLOOKUP(C642,Data!C:C,Data!I:I)","v":{"$error":"#N/A"}},{"$error":"#N/A"},{"$f":"_xlfn.XLOOKUP(C642,Data!C:C,Data!G:G,0)","v":0},{"$f":"_xlfn.XLOOKUP(C642,Data!C:C,Data!F:F,0)","v":0},{"$f":"_xlfn.XLOOKUP(C642,Data!C:C,Data!H:H,0)","v":0},null,"",{"$f":"_xlfn.XLOOKUP(C642,Data!C:C,Data!F:F,\"\")","v":""},null,{"$error":"#N/A"}]
["23-3-2021","10:40:00",{"$f":"A643+B643","v":"2021-03-23T10:40:00"},null,{"$f":"_xlfn.XLOOKUP(C643,Data!C:C,Data!I:I)","v":{"$error":"#N/A"}},{"$error":"#N/A"},{"$f":"_xlfn.XLOOKUP(C643,Data!C:C,Data!G:G,0)","v":0},{"$f":"_xlfn.XLOOKUP(C643,Data!C:C,Data!F:F,0)","v":0},{"$f":"_xlfn.XLOOKUP(C643,Data!C:C,Data!H:H,0)","v":0},null,"",{"$f":"_xlfn.XLOOKUP(C643,Data!C:C,Data!F:F,\"\")","v":""},null,{"$error":"#N/A"}]
[{"$f":"$A$3","v":"23-3-2021"},"10:41:00","2021-03-23T10:41:00",null,{"$f":"_xlfn.XLOOKUP(C644,Data!C:C,Data!I:I)","v":{"$error":"#N/A"}},{"$f":"IF(E644=255,F643,E644)","v":{"$error":"#N/A"}},{"$f":"_xlfn.XLOOKUP(C644,Data!C:C,Data!G:G,0)","v":0},{"$f":"_xlfn.XLOOKUP(C644,Data!C:C,Data!F:F,0)","v":0},{"$f":"_xlfn.XLOOKUP(C644,Data!C:C,Data!H:H,0)","v":0},null,{"$f":"IFERROR(IF(F644=\"#N/A\",\"\",F644),\"\")","v":""},{"$f":"_xlfn.XLOOKUP(C644,Data!C:C,Data!F:F,\"\")","v":""},null,{"$error":"#N/A"}]
["23-3-2021","10:42:00","2021-03-23T10:42:00",null,{"$f":"_xlfn.XLOOKUP(C645,Data!C:C,Data!I:I)","v":{"$error":"#N/A"}},{"$error":"#N/A"},{"$f":"_xlfn.XLOOKUP(C645,Data!C:C,Data!G:G,0)","v":0},{"$f":"_xlfn.XLOOKUP(C645,Data!C:C,Data!F:F,0)","v":0},{"$f":"_xlfn.XLOOKUP(C645,Data!C:C,Data!H:H,0)","v":0},null,"",{"$f":"_xlfn.XLOOKUP(C645,Data!C:C,Data!F:F,\"\")","v":""},null,{"$error":"#N/A"}]
["23-3-2021","10:43:00","2021-03-23T10:43:00",null,{"$f":"_xlfn.XLOOKUP(C646,Data!C:C,Data!I:I)","v":{"$error":"#N/A"}},{"$error":"#N/A"},{"$f":"_xlfn.XLOOKUP(C646,Data!C:C,Data!G:G,0)","v":0},{"$f":"_xlfn.XLOOKUP(C646,Data!C:C,Data!F:F,0)","v":0},{"$f":"_xlfn.XLOOKUP(C646,Data!C:C,Data!H:H,0)","v":0},null,"",{"$f":"_xlfn.XLOOKUP(C646,Data!C:C,Data!F:F,\"\")","v":""},null,{"$error":"#N/A"}]
["23-3-2021","10:44:00","2021-03-23T10:44:00",null,{"$f":"_xlfn.XLOOKUP(C647,Data!C:C,Data!I:I)","v":{"$error":"#N/A"}},{"$error":"#N/A"},{"$f":"_xlfn.XLOOKUP(C647,Data!C:C,Data!G:G,0)","v":0},{"$f":"_xlfn.XLOOKUP(C647,Data!C:C,Data!F:F,0)","v":0},{"$f":"_xlfn.XLOOKUP(C647,Data!C:C,Data!H:H,0)","v":0},null,"",{"$f":"_xlfn.XLOOKUP(C647,Data!C:C,Data!F:F,\"\")","v":""},null,{"$f":"IF(F647=\"\",\"\",AVERAGE(F643:F651))","v":{"$error":"#N/A"}}]
["23-3-2021","10:45:00","2021-03-23T10:45:00",null,{"$f":"_xlfn.XLOOKUP(C648,Data!C:C,Data!I:I)","v":{"$error":"#N/A"}},{"$error":"#N/A"},{"$f":"_xlfn.XLOOKUP(C648,Data!C:C,Data!G:G,0)","v":0},{"$f":"_xlfn.XLOOKUP(C648,Data!C:C,Data!F:F,0)","v":0},{"$f":"_xlfn.XLOOKUP(C648,Data!C:C,Data!H:H,0)","v":0},null,"",{"$f":"_xlfn.XLOOKUP(C648,Data!C:C,Data!F:F,\"\")","v":""},null,{"$error":"#N/A"}]
["23-3-2021","10:46:00","2021-03-23T10:46:00",null,{"$f":"_xlfn.XLOOKUP(C649,Data!C:C,Data!I:I)","v":{"$error":"#N/A"}},{"$error":"#N/A"},{"$f":"_xlfn.XLOOKUP(C649,Data!C:C,Data!G:G,0)","v":0},{"$f":"_xlfn.XLOOKUP(C649,Data!C:C,Data!F:F,0)","v":0},{"$f":"_xlfn.XLOOKUP(C649,Data!C:C,Data!H:H,0)","v":0},null,"",{"$f":"_xlfn.XLOOKUP(C649,Data!C:C,Data!F:F,\"\")","v":""},null,{"$error":"#N/A"}]
["23-3-2021","10:47:00","2021-03-23T10:47:00",null,{"$f":"_xlfn.XLOOKUP(C650,Data!C:C,Data!I:I)","v":{"$error":"#N/A"}},{"$error":"#N/A"},{"$f":"_xlfn.XLOOKUP(C650,Data!C:C,Data!G:G,0)","v":0},{"$f":"_xlfn.XLOOKUP(C650,Data!C:C,Data!F:F,0)","v":0},{"$f":"_xlfn.XLOOKUP(C650,Data!C:C,Data!H:H,0)","v":0},null,"",{"$f":"_xlfn.XLOOKUP(C650,Data!C:C,Data!F:F,\"\")","v":""},null,{"$error":"#N/A"}]
["23-3-2021","10:48:00","2021-03-23T10:48:00",null,{"$f":"_xlfn.XLOOKUP(C651,Data!C:C,Data!I:I)","v":{"$error":"#N/A"}},{"$error":"#N/A"},{"$f":"_xlfn.XLOOKUP(C651,Data!C:C,Data!G:G,0)","v":0},{"$f":"_xlfn.XLOOKUP(C651,Data!C:C,Data!F:F,0)","v":0},{"$f":"_xlfn.XLOOKUP(C651,Data!C:C,Data!H:H,0)","v":0},null,"",{"$f":"_xlfn.XLOOKUP(C651,Data!C:C,Data!F:F,\"\")","v":""},null,{"$error":"#N/A"}]
["23-3-2021","10:49:00","2021-03-23T10:49:00",null,{"$f":"_xlfn.XLOOKUP(C652,Data!C:C,Data!I:I)","v":{"$error":"#N/A"}},{"$error":"#N/A"},{"$f":"_xlfn.XLOOKUP(C652,Data!C:C,Data!G:G,0)","v":0},{"$f":"_xlfn.XLOOKUP(C652,Data!C:C,Data!F:F,0)","v":0},{"$f":"_xlfn.XLOOKUP(C652,Data!C:C,Data!H:H,0)","v":0},null,"",{"$f":"_xlfn.XLOOKUP(C652,Data!C:C,Data!F:F,\"\")","v":""},null,{"$error":"#N/A"}]
["23-3-2021","10:50:00","2021-03-23T10:50:00",null,{"$f":"_xlfn.XLOOKUP(C653,Data!C:C,Data!I:I)","v":{"$error":"#N/A"}},{"$error":"#N/A"},{"$f":"_xlfn.XLOOKUP(C653,Data!C:C,Data!G:G,0)","v":0},{"$f":"_xlfn.XLOOKUP(C653,Data!C:C,Data!F:F,0)","v":0},{"$f":"_xlfn.XLOOKUP(C653,Data!C:C,Data!H:H,0)","v":0},null,"",{"$f":"_xlfn.XLOOKUP(C653,Data!C:C,Data!F:F,\"\")","v":""},null,{"$error":"#N/A"}]
["23-3-2021","10:51:00","2021-03-23T10:51:00",null,{"$f":"_xlfn.XLOOKUP(C654,Data!C:C,Data!I:I)","v":{"$error":"#N/A"}},{"$error":"#N/A"},{"$f":"_xlfn.XLOOKUP(C654,Data!C:C,Data!G:G,0)","v":0},{"$f":"_xlfn.XLOOKUP(C654,Data!C:C,Data!F:F,0)","v":0},{"$f":"_xlfn.XLOOKUP(C654,Data!C:C,Data!H:H,0)","v":0},null,"",{"$f":"_xlfn.XLOOKUP(C654,Data!C:C,Data!F:F,\"\")","v":""},null,{"$error":"#N/A"}]
["23-3-2021","10:52:00","2021-03-23T10:52:00",null,{"$f":"_xlfn.XLOOKUP(C655,Data!C:C,Data!I:I)","v":{"$error":"#N/A"}},{"$error":"#N/A"},{"$f":"_xlfn.XLOOKUP(C655,Data!C:C,Data!G:G,0)","v":0},{"$f":"_xlfn.XLOOKUP(C655,Data!C:C,Data!F:F,0)","v":0},{"$f":"_xlfn.XLOOKUP(C655,Data!C:C,Data!H:H,0)","v":0},null,"",{"$f":"_xlfn.XLOOKUP(C655,Data!C:C,Data!F:F,\"\")","v":""},null,{"$error":"#N/A"}]
["23-3-2021","10:53:00","2021-03-23T10:53:00",null,{"$f":"_xlfn.XLOOKUP(C656,Data!C:C,Data!I:I)","v":{"$error":"#N/A"}},{"$error":"#N/A"},{"$f":"_xlfn.XLOOKUP(C656,Data!C:C,Data!G:G,0)","v":0},{"$f":"_xlfn.XLOOKUP(C656,Data!C:C,Data!F:F,0)","v":0},{"$f":"_xlfn.XLOOKUP(C656,Data!C:C,Data!H:H,0)","v":0},null,"",{"$f":"_xlfn.XLOOKUP(C656,Data!C:C,Data!F:F,\"\")","v":""},null,{"$error":"#N/A"}]
["23-3-2021","10:54:00","2021-03-23T10:54:00",null,{"$f":"_xlfn.XLOOKUP(C657,Data!C:C,Data!I:I)","v":{"$error":"#N/A"}},{"$error":"#N/A"},{"$f":"_xlfn.XLOOKUP(C657,Data!C:C,Data!G:G,0)","v":0},{"$f":"_xlfn.XLOOKUP(C657,Data!C:C,Data!F:F,0)","v":0},{"$f":"_xlfn.XLOOKUP(C657,Data!C:C,Data!H:H,0)","v":0},null,"",{"$f":"_xlfn.XLOOKUP(C657,Data!C:C,Data!F:F,\"\")","v":""},null,{"$error":"#N/A"}]
["23-3-2021","10:55:00","2021-03-23T10:55:00",null,{"$f":"_xlfn.XLOOKUP(C658,Data!C:C,Data!I:I)","v":{"$error":"#N/A"}},{"$error":"#N/A"},{"$f":"_xlfn.XLOOKUP(C658,Data!C:C,Data!G:G,0)","v":0},{"$f":"_xlfn.XLOOKUP(C658,Data!C:C,Data!F:F,0)","v":0},{"$f":"_xlfn.XLOOKUP(C658,Data!C:C,Data!H:H,0)","v":0},null,"",{"$f":"_xlfn.XLOOKUP(C658,Data!C:C,Data!F:F,\"\")","v":""},null,{"$error":"#N/A"}]
["23-3-2021","10:56:00","2021-03-23T10:56:00",null,{"$f":"_xlfn.XLOOKUP(C659,Data!C:C,Data!I:I)","v":{"$error":"#N/A"}},{"$error":"#N/A"},{"$f":"_xlfn.XLOOKUP(C659,Data!C:C,Data!G:G,0)","v":0},{"$f":"_xlfn.XLOOKUP(C659,Data!C:C,Data!F:F,0)","v":0},{"$f":"_xlfn.XLOOKUP(C659,Data!C:C,Data!H:H,0)","v":0},null,"",{"$f":"_xlfn.XLOOKUP(C659,Data!C:C,Data!F:F,\"\")","v":""},null,{"$error":"#N/A"}]
["23-3-2021","10:57:00","2021-03-23T10:57:00",null,{"$f":"_xlfn.XLOOKUP(C660,Data!C:C,Data!I:I)","v":{"$error":"#N/A"}},{"$error":"#N/A"},{"$f":"_xlfn.XLOOKUP(C660,Data!C:C,Data!G:G,0)","v":0},{"$f":"_xlfn.XLOOKUP(C660,Data!C:C,Data!F:F,0)","v":0},{"$f":"_xlfn.XLOOKUP(C660,Data!C:C,Data!H:H,0)","v":0},null,"",{"$f":"_xlfn.XLOOKUP(C660,Data!C:C,Data!F:F,\"\")","v":""},null,{"$error":"#N/A"}]
["23-3-2021","10:58:00","2021-03-23T10:58:00",null,{"$f":"_xlfn.XLOOKUP(C661,Data!C:C,Data!I:I)","v":{"$error":"#N/A"}},{"$error":"#N/A"},{"$f":"_xlfn.XLOOKUP(C661,Data!C:C,Data!G:G,0)","v":0},{"$f":"_xlfn.XLOOKUP(C661,Data!C:C,Data!F:F,0)","v":0},{"$f":"_xlfn.XLOOKUP(C661,Data!C:C,Data!H:H,0)","v":0},null,"",{"$f":"_xlfn.XLOOKUP(C661,Data!C:C,Data!F:F,\"\")","v":""},null,{"$error":"#N/A"}]
["23-3-2021","10:59:00","2021-03-23T10:59:00",null,{"$f":"_xlfn.XLOOKUP(C662,Data!C:C,Data!I:I)","v":{"$error":"#N/A"}},{"$error":"#N/A"},{"$f":"_xlfn.XLOOKUP(C662,Data!C:C,Data!G:G,0)","v":0},{"$f":"_xlfn.XLOOKUP(C662,Data!C:C,Data!F:F,0)","v":0},{"$f":"_xlfn.XLOOKUP(C662,Data!C:C,Data!H:H,0)","v":0},null,"",{"$f":"_xlfn.XLOOKUP(C662,Data!C:C,Data!F:F,\"\")","v":""},null,{"$error":"#N/A"}]
["23-3-2021","11:00:00","2021-03-23T11:00:00",null,{"$f":"_xlfn.XLOOKUP(C663,Data!C:C,Data!I:I)","v":{"$error":"#N/A"}},{"$error":"#N/A"},{"$f":"_xlfn.XLOOKUP(C663,Data!C:C,Data!G:G,0)","v":0},{"$f":"_xlfn.XLOOKUP(C663,Data!C:C,Data!F:F,0)","v":0},{"$f":"_xlfn.XLOOKUP(C663,Data!C:C,Data!H:H,0)","v":0},null,"",{"$f":"_xlfn.XLOOKUP(C663,Data!C:C,Data!F:F,\"\")","v":""},null,{"$error":"#N/A"}]
["23-3-2021","11:01:00","2021-03-23T11:01:00",null,{"$f":"_xlfn.XLOOKUP(C664,Data!C:C,Data!I:I)","v":{"$error":"#N/A"}},{"$error":"#N/A"},{"$f":"_xlfn.XLOOKUP(C664,Data!C:C,Data!G:G,0)","v":0},{"$f":"_xlfn.XLOOKUP(C664,Data!C:C,Data!F:F,0)","v":0},{"$f":"_xlfn.XLOOKUP(C664,Data!C:C,Data!H:H,0)","v":0},null,"",{"$f":"_xlfn.XLOOKUP(C664,Data!C:C,Data!F:F,\"\")","v":""},null,{"$error":"#N/A"}]
["23-3-2021","11:02:00","2021-03-23T11:02:00",null,{"$f":"_xlfn.XLOOKUP(C665,Data!C:C,Data!I:I)","v":{"$error":"#N/A"}},{"$error":"#N/A"},{"$f":"_xlfn.XLOOKUP(C665,Data!C:C,Data!G:G,0)","v":0},{"$f":"_xlfn.XLOOKUP(C665,Data!C:C,Data!F:F,0)","v":0},{"$f":"_xlfn.XLOOKUP(C665,Data!C:C,Data!H:H,0)","v":0},null,"",{"$f":"_xlfn.XLOOKUP(C665,Data!C:C,Data!F:F,\"\")","v":""},null,{"$error":"#N/A"}]
["23-3-2021","11:03:00","2021-03-23T11:03:00",null,{"$f":"_xlfn.XLOOKUP(C666,Data!C:C,Data!I:I)","v":{"$error":"#N/A"}},{"$error":"#N/A"},{"$f":"_xlfn.XLOOKUP(C666,Data!C:C,Data!G:G,0)","v":0},{"$f":"_xlfn.XLOOKUP(C666,Data!C:C,Data!F:F,0)","v":0},{"$f":"_xlfn.XLOOKUP(C666,Data!C:C,Data!H:H,0)","v":0},null,"",{"$f":"_xlfn.XLOOKUP(C666,Data!C:C,Data!F:F,\"\")","v":""},null,{"$error":"#N/A"}]
["23-3-2021","11:04:00","2021-03-23T11:04:00",null,{"$f":"_xlfn.XLOOKUP(C667,Data!C:C,Data!I:I)","v":{"$error":"#N/A"}},{"$error":"#N/A"},{"$f":"_xlfn.XLOOKUP(C667,Data!C:C,Data!G:G,0)","v":0},{"$f":"_xlfn.XLOOKUP(C667,Data!C:C,Data!F:F,0)","v":0},{"$f":"_xlfn.XLOOKUP(C667,Data!C:C,Data!H:H,0)","v":0},null,"",{"$f":"_xlfn.XLOOKUP(C667,Data!C:C,Data!F:F,\"\")","v":""},null,{"$error":"#N/A"}]
["23-3-2021","11:05:00","2021-03-23T11:05:00",null,{"$f":"_xlfn.XLOOKUP(C668,Data!C:C,Data!I:I)","v":{"$error":"#N/A"}},{"$error":"#N/A"},{"$f":"_xlfn.XLOOKUP(C668,Data!C:C,Data!G:G,0)","v":0},{"$f":"_xlfn.XLOOKUP(C668,Data!C:C,Data!F:F,0)","v":0},{"$f":"_xlfn.XLOOKUP(C668,Data!C:C,Data!H:H,0)","v":0},null,"",{"$f":"_xlfn.XLOOKUP(C668,Data!C:C,Data!F:F,\"\")","v":""},null,{"$error":"#N/A"}]
["23-3-2021","11:06:00","2021-03-23T11:06:00",null,{"$f":"_xlfn.XLOOKUP(C669,Data!C:C,Data!I:I)","v":{"$error":"#N/A"}},{"$error":"#N/A"},{"$f":"_xlfn.XLOOKUP(C669,Data!C:C,Data!G:G,0)","v":0},{"$f":"_xlfn.XLOOKUP(C669,Data!C:C,Data!F:F,0)","v":0},{"$f":"_xlfn.XLOOKUP(C669,Data!C:C,Data!H:H,0)","v":0},null,"",{"$f":"_xlfn.XLOOKUP(C669,Data!C:C,Data!F:F,\"\")","v":""},null,{"$error":"#N/A"}]
["23-3-2021","11:07:00","2021-03-23T11:07:00",null,{"$f":"_xlfn.XLOOKUP(C670,Data!C:C,Data!I:I)","v":{"$error":"#N/A"}},{"$error":"#N/A"},{"$f":"_xlfn.XLOOKUP(C670,Data!C:C,Data!G:G,0)","v":0},{"$f":"_xlfn.XLOOKUP(C670,Data!C:C,Data!F:F,0)","v":0},{"$f":"_xlfn.XLOOKUP(C670,Data!C:C,Data!H:H,0)","v":0},null,"",{"$f":"_xlfn.XLOOKUP(C670,Data!C:C,Data!F:F,\"\")","v":""},null,{"$error":"#N/A"}]
["23-3-2021","11:08:00","2021-03-23T11:08:00",null,{"$f":"_xlfn.XLOOKUP(C671,Data!C:C,Data!I:I)","v":{"$error":"#N/A"}},{"$error":"#N/A"},{"$f":"_xlfn.XLOOKUP(C671,Data!C:C,Data!G:G,0)","v":0},{"$f":"_xlfn.XLOOKUP(C671,Data!C:C,Data!F:F,0)","v":0},{"$f":"_xlfn.XLOOKUP(C671,Data!C:C,Data!H:H,0)","v":0},null,"",{"$f":"_xlfn.XLOOKUP(C671,Data!C:C,Data!F:F,\"\")","v":""},null,{"$error":"#N/A"}]
["23-3-2021","11:09:00","2021-03-23T11:09:00",null,{"$f":"_xlfn.XLOOKUP(C672,Data!C:C,Data!I:I)","v":{"$error":"#N/A"}},{"$error":"#N/A"},{"$f":"_xlfn.XLOOKUP(C672,Data!C:C,Data!G:G,0)","v":0},{"$f":"_xlfn.XLOOKUP(C672,Data!C:C,Data!F:F,0)","v":0},{"$f":"_xlfn.XLOOKUP(C672,Data!C:C,Data!H:H,0)","v":0},null,"",{"$f":"_xlfn.XLOOKUP(C672,Data!C:C,Data!F:F,\"\")","v":""},null,{"$error":"#N/A"}]
["23-3-2021","11:10:00","2021-03-23T11:10:00",null,{"$f":"_xlfn.XLOOKUP(C673,Data!C:C,Data!I:I)","v":{"$error":"#N/A"}},{"$error":"#N/A"},{"$f":"_xlfn.XLOOKUP(C673,Data!C:C,Data!G:G,0)","v":0},{"$f":"_xlfn.XLOOKUP(C673,Data!C:C,Data!F:F,0)","v":0},{"$f":"_xlfn.XLOOKUP(C673,Data!C:C,Data!H:H,0)","v":0},null,"",{"$f":"_xlfn.XLOOKUP(C673,Data!C:C,Data!F:F,\"\")","v":""},null,{"$error":"#N/A"}]
["23-3-2021","11:11:00","2021-03-23T11:11:00",null,{"$f":"_xlfn.XLOOKUP(C674,Data!C:C,Data!I:I)","v":{"$error":"#N/A"}},{"$error":"#N/A"},{"$f":"_xlfn.XLOOKUP(C674,Data!C:C,Data!G:G,0)","v":0},{"$f":"_xlfn.XLOOKUP(C674,Data!C:C,Data!F:F,0)","v":0},{"$f":"_xlfn.XLOOKUP(C674,Data!C:C,Data!H:H,0)","v":0},null,"",{"$f":"_xlfn.XLOOKUP(C674,Data!C:C,Data!F:F,\"\")","v":""},null,{"$error":"#N/A"}]
["23-3-2021","11:12:00","2021-03-23T11:12:00",null,{"$f":"_xlfn.XLOOKUP(C675,Data!C:C,Data!I:I)","v":{"$error":"#N/A"}},{"$error":"#N/A"},{"$f":"_xlfn.XLOOKUP(C675,Data!C:C,Data!G:G,0)","v":0},{"$f":"_xlfn.XLOOKUP(C675,Data!C:C,Data!F:F,0)","v":0},{"$f":"_xlfn.XLOOKUP(C675,Data!C:C,Data!H:H,0)","v":0},null,"",{"$f":"_xlfn.XLOOKUP(C675,Data!C:C,Data!F:F,\"\")","v":""},null,{"$error":"#N/A"}]
["23-3-2021","11:13:00","2021-03-23T11:13:00",null,{"$f":"_xlfn.XLOOKUP(C676,Data!C:C,Data!I:I)","v":{"$error":"#N/A"}},{"$error":"#N/A"},{"$f":"_xlfn.XLOOKUP(C676,Data!C:C,Data!G:G,0)","v":0},{"$f":"_xlfn.XLOOKUP(C676,Data!C:C,Data!F:F,0)","v":0},{"$f":"_xlfn.XLOOKUP(C676,Data!C:C,Data!H:H,0)","v":0},null,"",{"$f":"_xlfn.XLOOKUP(C676,Data!C:C,Data!F:F,\"\")","v":""},null,{"$error":"#N/A"}]
["23-3-2021","11:14:00","2021-03-23T11:14:00",null,{"$f":"_xlfn.XLOOKUP(C677,Data!C:C,Data!I:I)","v":{"$error":"#N/A"}},{"$error":"#N/A"},{"$f":"_xlfn.XLOOKUP(C677,Data!C:C,Data!G:G,0)","v":0},{"$f":"_xlfn.XLOOKUP(C677,Data!C:C,Data!F:F,0)","v":0},{"$f":"_xlfn.XLOOKUP(C677,Data!C:C,Data!H:H,0)","v":0},null,"",{"$f":"_xlfn.XLOOKUP(C677,Data!C:C,Data!F:F,\"\")","v":""},null,{"$error":"#N/A"}]
["23-3-2021","11:15:00","2021-03-23T11:15:00",null,{"$f":"_xlfn.XLOOKUP(C678,Data!C:C,Data!I:I)","v":{"$error":"#N/A"}},{"$error":"#N/A"},{"$f":"_xlfn.XLOOKUP(C678,Data!C:C,Data!G:G,0)","v":0},{"$f":"_xlfn.XLOOKUP(C678,Data!C:C,Data!F:F,0)","v":0},{"$f":"_xlfn.XLOOKUP(C678,Data!C:C,Data!H:H,0)","v":0},null,"",{"$f":"_xlfn.XLOOKUP(C678,Data!C:C,Data!F:F,\"\")","v":""},null,{"$error":"#N/A"}]
["23-3-2021","11:16:00","2021-03-23T11:16:00",null,{"$f":"_xlfn.XLOOKUP(C679,Data!C:C,Data!I:I)","v":{"$error":"#N/A"}},{"$error":"#N/A"},{"$f":"_xlfn.XLOOKUP(C679,Data!C:C,Data!G:G,0)","v":0},{"$f":"_xlfn.XLOOKUP(C679,Data!C:C,Data!F:F,0)","v":0},{"$f":"_xlfn.XLOOKUP(C679,Data!C:C,Data!H:H,0)","v":0},null,"",{"$f":"_xlfn.XLOOKUP(C679,Data!C:C,Data!F:F,\"\")","v":""},null,{"$error":"#N/A"}]
["23-3-2021","11:17:00","2021-03-23T11:17:00",null,{"$f":"_xlfn.XLOOKUP(C680,Data!C:C,Data!I:I)","v":{"$error":"#N/A"}},{"$error":"#N/A"},{"$f":"_xlfn.XLOOKUP(C680,Data!C:C,Data!G:G,0)","v":0},{"$f":"_xlfn.XLOOKUP(C680,Data!C:C,Data!F:F,0)","v":0},{"$f":"_xlfn.XLOOKUP(C680,Data!C:C,Data!H:H,0)","v":0},null,"",{"$f":"_xlfn.XLOOKUP(C680,Data!C:C,Data!F:F,\"\")","v":""},null,{"$error":"#N/A"}]
["23-3-2021","11:18:00","2021-03-23T11:18:00",null,{"$f":"_xlfn.XLOOKUP(C681,Data!C:C,Data!I:I)","v":{"$error":"#N/A"}},{"$error":"#N/A"},{"$f":"_xlfn.XLOOKUP(C681,Data!C:C,Data!G:G,0)","v":0},{"$f":"_xlfn.XLOOKUP(C681,Data!C:C,Data!F:F,0)","v":0},{"$f":"_xlfn.XLOOKUP(C681,Data!C:C,Data!H:H,0)","v":0},null,"",{"$f":"_xlfn.XLOOKUP(C681,Data!C:C,Data!F:F,\"\")","v":""},null,{"$error":"#N/A"}]
["23-3-2021","11:19:00","2021-03-23T11:19:00",null,{"$f":"_xlfn.XLOOKUP(C682,Data!C:C,Data!I:I)","v":{"$error":"#N/A"}},{"$error":"#N/A"},{"$f":"_xlfn.XLOOKUP(C682,Data!C:C,Data!G:G,0)","v":0},{"$f":"_xlfn.XLOOKUP(C682,Data!C:C,Data!F:F,0)","v":0},{"$f":"_xlfn.XLOOKUP(C682,Data!C:C,Data!H:H,0)","v":0},null,"",{"$f":"_xlfn.XLOOKUP(C682,Data!C:C,Data!F:F,\"\")","v":""},null,{"$error":"#N/A"}]
["23-3-2021","11:20:00","2021-03-23T11:20:00",null,{"$f":"_xlfn.XLOOKUP(C683,Data!C:C,Data!I:I)","v":{"$error":"#N/A"}},{"$error":"#N/A"},{"$f":"_xlfn.XLOOKUP(C683,Data!C:C,Data!G:G,0)","v":0},{"$f":"_xlfn.XLOOKUP(C683,Data!C:C,Data!F:F,0)","v":0},{"$f":"_xlfn.XLOOKUP(C683,Data!C:C,Data!H:H,0)","v":0},null,"",{"$f":"_xlfn.XLOOKUP(C683,Data!C:C,Data!F:F,\"\")","v":""},null,{"$error":"#N/A"}]
["23-3-2021","11:21:00","2021-03-23T11:21:00",null,{"$f":"_xlfn.XLOOKUP(C684,Data!C:C,Data!I:I)","v":{"$error":"#N/A"}},{"$error":"#N/A"},{"$f":"_xlfn.XLOOKUP(C684,Data!C:C,Data!G:G,0)","v":0},{"$f":"_xlfn.XLOOKUP(C684,Data!C:C,Data!F:F,0)","v":0},{"$f":"_xlfn.XLOOKUP(C684,Data!C:C,Data!H:H,0)","v":0},null,"",{"$f":"_xlfn.XLOOKUP(C684,Data!C:C,Data!F:F,\"\")","v":""},null,{"$error":"#N/A"}]
["23-3-2021","11:22:00","2021-03-23T11:22:00",null,{"$f":"_xlfn.XLOOKUP(C685,Data!C:C,Data!I:I)","v":{"$error":"#N/A"}},{"$error":"#N/A"},{"$f":"_xlfn.XLOOKUP(C685,Data!C:C,Data!G:G,0)","v":0},{"$f":"_xlfn.XLOOKUP(C685,Data!C:C,Data!F:F,0)","v":0},{"$f":"_xlfn.XLOOKUP(C685,Data!C:C,Data!H:H,0)","v":0},null,"",{"$f":"_xlfn.XLOOKUP(C685,Data!C:C,Data!F:F,\"\")","v":""},null,{"$error":"#N/A"}]
["23-3-2021","11:23:00","2021-03-23T11:23:00",null,{"$f":"_xlfn.XLOOKUP(C686,Data!C:C,Data!I:I)","v":{"$error":"#N/A"}},{"$error":"#N/A"},{"$f":"_xlfn.XLOOKUP(C686,Data!C:C,Data!G:G,0)","v":0},{"$f":"_xlfn.XLOOKUP(C686,Data!C:C,Data!F:F,0)","v":0},{"$f":"_xlfn.XLOOKUP(C686,Data!C:C,Data!H:H,0)","v":0},null,"",{"$f":"_xlfn.XLOOKUP(C686,Data!C:C,Data!F:F,\"\")","v":""},null,{"$error":"#N/A"}]
["23-3-2021","11:24:00","2021-03-23T11:24:00",null,{"$f":"_xlfn.XLOOKUP(C687,Data!C:C,Data!I:I)","v":{"$error":"#N/A"}},{"$error":"#N/A"},{"$f":"_xlfn.XLOOKUP(C687,Data!C:C,Data!G:G,0)","v":0},{"$f":"_xlfn.XLOOKUP(C687,Data!C:C,Data!F:F,0)","v":0},{"$f":"_xlfn.XLOOKUP(C687,Data!C:C,Data!H:H,0)","v":0},null,"",{"$f":"_xlfn.XLOOKUP(C687,Data!C:C,Data!F:F,\"\")","v":""},null,{"$error":"#N/A"}]
["23-3-2021","11:25:00","2021-03-23T11:25:00",null,{"$f":"_xlfn.XLOOKUP(C688,Data!C:C,Data!I:I)","v":{"$error":"#N/A"}},{"$error":"#N/A"},{"$f":"_xlfn.XLOOKUP(C688,Data!C:C,Data!G:G,0)","v":0},{"$f":"_xlfn.XLOOKUP(C688,Data!C:C,Data!F:F,0)","v":0},{"$f":"_xlfn.XLOOKUP(C688,Data!C:C,Data!H:H,0)","v":0},null,"",{"$f":"_xlfn.XLOOKUP(C688,Data!C:C,Data!F:F,\"\")","v":""},null,{"$error":"#N/A"}]
["23-3-2021","11:26:00","2021-03-23T11:26:00",null,{"$f":"_xlfn.XLOOKUP(C689,Data!C:C,Data!I:I)","v":{"$error":"#N/A"}},{"$error":"#N/A"},{"$f":"_xlfn.XLOOKUP(C689,Data!C:C,Data!G:G,0)","v":0},{"$f":"_xlfn.XLOOKUP(C689,Data!C:C,Data!F:F,0)","v":0},{"$f":"_xlfn.XLOOKUP(C689,Data!C:C,Data!H:H,0)","v":0},null,"",{"$f":"_xlfn.XLOOKUP(C689,Data!C:C,Data!F:F,\"\")","v":""},null,{"$error":"#N/A"}]
["23-3-2021","11:27:00","2021-03-23T11:27:00",null,{"$f":"_xlfn.XLOOKUP(C690,Data!C:C,Data!I:I)","v":{"$error":"#N/A"}},{"$error":"#N/A"},{"$f":"_xlfn.XLOOKUP(C690,Data!C:C,Data!G:G,0)","v":0},{"$f":"_xlfn.XLOOKUP(C690,Data!C:C,Data!F:F,0)","v":0},{"$f":"_xlfn.XLOOKUP(C690,Data!C:C,Data!H:H,0)","v":0},null,"",{"$f":"_xlfn.XLOOKUP(C690,Data!C:C,Data!F:F,\"\")","v":""},null,{"$error":"#N/A"}]
["23-3-2021","11:28:00","2021-03-23T11:28:00",null,{"$f":"_xlfn.XLOOKUP(C691,Data!C:C,Data!I:I)","v":{"$error":"#N/A"}},{"$error":"#N/A"},{"$f":"_xlfn.XLOOKUP(C691,Data!C:C,Data!G:G,0)","v":0},{"$f":"_xlfn.XLOOKUP(C691,Data!C:C,Data!F:F,0)","v":0},{"$f":"_xlfn.XLOOKUP(C691,Data!C:C,Data!H:H,0)","v":0},null,"",{"$f":"_xlfn.XLOOKUP(C691,Data!C:C,Data!F:F,\"\")","v":""},null,{"$error":"#N/A"}]
["23-3-2021","11:29:00","2021-03-23T11:29:00",null,{"$f":"_xlfn.XLOOKUP(C692,Data!C:C,Data!I:I)","v":{"$error":"#N/A"}},{"$error":"#N/A"},{"$f":"_xlfn.XLOOKUP(C692,Data!C:C,Data!G:G,0)","v":0},{"$f":"_xlfn.XLOOKUP(C692,Data!C:C,Data!F:F,0)","v":0},{"$f":"_xlfn.XLOOKUP(C692,Data!C:C,Data!H:H,0)","v":0},null,"",{"$f":"_xlfn.XLOOKUP(C692,Data!C:C,Data!F:F,\"\")","v":""},null,{"$error":"#N/A"}]
["23-3-2021","11:30:00","2021-03-23T11:30:00",null,{"$f":"_xlfn.XLOOKUP(C693,Data!C:C,Data!I:I)","v":{"$error":"#N/A"}},{"$error":"#N/A"},{"$f":"_xlfn.XLOOKUP(C693,Data!C:C,Data!G:G,0)","v":0},{"$f":"_xlfn.XLOOKUP(C693,Data!C:C,Data!F:F,0)","v":0},{"$f":"_xlfn.XLOOKUP(C693,Data!C:C,Data!H:H,0)","v":0},null,"",{"$f":"_xlfn.XLOOKUP(C693,Data!C:C,Data!F:F,\"\")","v":""},null,{"$error":"#N/A"}]
["23-3-2021","11:31:00","2021-03-23T11:31:00",null,{"$f":"_xlfn.XLOOKUP(C694,Data!C:C,Data!I:I)","v":{"$error":"#N/A"}},{"$error":"#N/A"},{"$f":"_xlfn.XLOOKUP(C694,Data!C:C,Data!G:G,0)","v":0},{"$f":"_xlfn.XLOOKUP(C694,Data!C:C,Data!F:F,0)","v":0},{"$f":"_xlfn.XLOOKUP(C694,Data!C:C,Data!H:H,0)","v":0},null,"",{"$f":"_xlfn.XLOOKUP(C694,Data!C:C,Data!F:F,\"\")","v":""},null,{"$error":"#N/A"}]
["23-3-2021","11:32:00","2021-03-23T11:32:00",null,{"$f":"_xlfn.XLOOKUP(C695,Data!C:C,Data!I:I)","v":{"$error":"#N/A"}},{"$error":"#N/A"},{"$f":"_xlfn.XLOOKUP(C695,Data!C:C,Data!G:G,0)","v":0},{"$f":"_xlfn.XLOOKUP(C695,Data!C:C,Data!F:F,0)","v":0},{"$f":"_xlfn.XLOOKUP(C695,Data!C:C,Data!H:H,0)","v":0},null,"",{"$f":"_xlfn.XLOOKUP(C695,Data!C:C,Data!F:F,\"\")","v":""},null,{"$error":"#N/A"}]
["23-3-2021","11:33:00","2021-03-23T11:33:00",null,{"$f":"_xlfn.XLOOKUP(C696,Data!C:C,Data!I:I)","v":{"$error":"#N/A"}},{"$error":"#N/A"},{"$f":"_xlfn.XLOOKUP(C696,Data!C:C,Data!G:G,0)","v":0},{"$f":"_xlfn.XLOOKUP(C696,Data!C:C,Data!F:F,0)","v":0},{"$f":"_xlfn.XLOOKUP(C696,Data!C:C,Data!H:H,0)","v":0},null,"",{"$f":"_xlfn.XLOOKUP(C696,Data!C:C,Data!F:F,\"\")","v":""},null,{"$error":"#N/A"}]
["23-3-2021","11:34:00","2021-03-23T11:34:00",null,{"$f":"_xlfn.XLOOKUP(C697,Data!C:C,Data!I:I)","v":{"$error":"#N/A"}},{"$error":"#N/A"},{"$f":"_xlfn.XLOOKUP(C697,Data!C:C,Data!G:G,0)","v":0},{"$f":"_xlfn.XLOOKUP(C697,Data!C:C,Data!F:F,0)","v":0},{"$f":"_xlfn.XLOOKUP(C697,Data!C:C,Data!H:H,0)","v":0},null,"",{"$f":"_xlfn.XLOOKUP(C697,Data!C:C,Data!F:F,\"\")","v":""},null,{"$error":"#N/A"}]
["23-3-2021","11:35:00","2021-03-23T11:35:00",null,{"$f":"_xlfn.XLOOKUP(C698,Data!C:C,Data!I:I)","v":{"$error":"#N/A"}},{"$error":"#N/A"},{"$f":"_xlfn.XLOOKUP(C698,Data!C:C,Data!G:G,0)","v":0},{"$f":"_xlfn.XLOOKUP(C698,Data!C:C,Data!F:F,0)","v":0},{"$f":"_xlfn.XLOOKUP(C698,Data!C:C,Data!H:H,0)","v":0},null,"",{"$f":"_xlfn.XLOOKUP(C698,Data!C:C,Data!F:F,\"\")","v":""},null,{"$error":"#N/A"}]
["23-3-2021","11:36:00","2021-03-23T11:36:00",null,{"$f":"_xlfn.XLOOKUP(C699,Data!C:C,Data!I:I)","v":{"$error":"#N/A"}},{"$error":"#N/A"},{"$f":"_xlfn.XLOOKUP(C699,Data!C:C,Data!G:G,0)","v":0},{"$f":"_xlfn.XLOOKUP(C699,Data!C:C,Data!F:F,0)","v":0},{"$f":"_xlfn.XLOOKUP(C699,Data!C:C,Data!H:H,0)","v":0},null,"",{"$f":"_xlfn.XLOOKUP(C699,Data!C:C,Data!F:F,\"\")","v":""},null,{"$error":"#N/A"}]
["23-3-2021","11:37:00","2021-03-23T11:37:00",null,{"$f":"_xlfn.XLOOKUP(C700,Data!C:C,Data!I:I)","v":{"$error":"#N/A"}},{"$error":"#N/A"},{"$f":"_xlfn.XLOOKUP(C700,Data!C:C,Data!G:G,0)","v":0},{"$f":"_xlfn.XLOOKUP(C700,Data!C:C,Data!F:F,0)","v":0},{"$f":"_xlfn.XLOOKUP(C700,Data!C:C,Data!H:H,0)","v":0},null,"",{"$f":"_xlfn.XLOOKUP(C700,Data!C:C,Data!F:F,\"\")","v":""},null,{"$error":"#N/A"}]
["23-3-2021","11:38:00","2021-03-23T11:38:00",null,{"$f":"_xlfn.XLOOKUP(C701,Data!C:C,Data!I:I)","v":{"$error":"#N/A"}},{"$error":"#N/A"},{"$f":"_xlfn.XLOOKUP(C701,Data!C:C,Data!G:G,0)","v":0},{"$f":"_xlfn.XLOOKUP(C701,Data!C:C,Data!F:F,0)","v":0},{"$f":"_xlfn.XLOOKUP(C701,Data!C:C,Data!H:H,0)","v":0},null,"",{"$f":"_xlfn.XLOOKUP(C701,Data!C:C,Data!F:F,\"\")","v":""},null,{"$error":"#N/A"}]
["23-3-2021","11:39:00","2021-03-23T11:39:00",null,{"$f":"_xlfn.XLOOKUP(C702,Data!C:C,Data!I:I)","v":{"$error":"#N/A"}},{"$error":"#N/A"},{"$f":"_xlfn.XLOOKUP(C702,Data!C:C,Data!G:G,0)","v":0},{"$f":"_xlfn.XLOOKUP(C702,Data!C:C,Data!F:F,0)","v":0},{"$f":"_xlfn.XLOOKUP(C702,Data!C:C,Data!H:H,0)","v":0},null,"",{"$f":"_xlfn.XLOOKUP(C702,Data!C:C,Data!F:F,\"\")","v":""},null,{"$error":"#N/A"}]
["23-3-2021","11:40:00","2021-03-23T11:40:00",null,{"$f":"_xlfn.XLOOKUP(C703,Data!C:C,Data!I:I)","v":{"$error":"#N/A"}},{"$error":"#N/A"},{"$f":"_xlfn.XLOOKUP(C703,Data!C:C,Data!G:G,0)","v":0},{"$f":"_xlfn.XLOOKUP(C703,Data!C:C,Data!F:F,0)","v":0},{"$f":"_xlfn.XLOOKUP(C703,Data!C:C,Data!H:H,0)","v":0},null,"",{"$f":"_xlfn.XLOOKUP(C703,Data!C:C,Data!F:F,\"\")","v":""},null,{"$error":"#N/A"}]
["23-3-2021","11:41:00","2021-03-23T11:41:00",null,{"$f":"_xlfn.XLOOKUP(C704,Data!C:C,Data!I:I)","v":{"$error":"#N/A"}},{"$error":"#N/A"},{"$f":"_xlfn.XLOOKUP(C704,Data!C:C,Data!G:G,0)","v":0},{"$f":"_xlfn.XLOOKUP(C704,Data!C:C,Data!F:F,0)","v":0},{"$f":"_xlfn.XLOOKUP(C704,Data!C:C,Data!H:H,0)","v":0},null,"",{"$f":"_xlfn.XLOOKUP(C704,Data!C:C,Data!F:F,\"\")","v":""},null,{"$error":"#N/A"}]
["23-3-2021","11:42:00","2021-03-23T11:42:00",null,{"$f":"_xlfn.XLOOKUP(C705,Data!C:C,Data!I:I)","v":{"$error":"#N/A"}},{"$error":"#N/A"},{"$f":"_xlfn.XLOOKUP(C705,Data!C:C,Data!G:G,0)","v":0},{"$f":"_xlfn.XLOOKUP(C705,Data!C:C,Data!F:F,0)","v":0},{"$f":"_xlfn.XLOOKUP(C705,Data!C:C,Data!H:H,0)","v":0},null,"",{"$f":"_xlfn.XLOOKUP(C705,Data!C:C,Data!F:F,\"\")","v":""},null,{"$error":"#N/A"}]
["23-3-2021","11:43:00","2021-03-23T11:43:00",null,{"$f":"_xlfn.XLOOKUP(C706,Data!C:C,Data!I:I)","v":{"$error":"#N/A"}},{"$error":"#N/A"},{"$f":"_xlfn.XLOOKUP(C706,Data!C:C,Data!G:G,0)","v":0},{"$f":"_xlfn.XLOOKUP(C706,Data!C:C,Data!F:F,0)","v":0},{"$f":"_xlfn.XLOOKUP(C706,Data!C:C,Data!H:H,0)","v":0},null,"",{"$f":"_xlfn.XLOOKUP(C706,Data!C:C,Data!F:F,\"\")","v":""},null,{"$error":"#N/A"}]
["23-3-2021","11:44:00",{"$f":"A707+B707","v":"2021-03-23T11:44:00"},null,{"$f":"_xlfn.XLOOKUP(C707,Data!C:C,Data!I:I)","v":{"$error":"#N/A"}},{"$error":"#N/A"},{"$f":"_xlfn.XLOOKUP(C707,Data!C:C,Data!G:G,0)","v":0},{"$f":"_xlfn.XLOOKUP(C707,Data!C:C,Data!F:F,0)","v":0},{"$f":"_xlfn.XLOOKUP(C707,Data!C:C,Data!H:H,0)","v":0},null,"",{"$f":"_xlfn.XLOOKUP(C707,Data!C:C,Data!F:F,\"\")","v":""},null,{"$error":"#N/A"}]
[{"$f":"$A$3","v":"23-3-2021"},"11:45:00","2021-03-23T11:45:00",null,{"$f":"_xlfn.XLOOKUP(C708,Data!C:C,Data!I:I)","v":{"$error":"#N/A"}},{"$f":"IF(E708=255,F707,E708)","v":{"$error":"#N/A"}},{"$f":"_xlfn.XLOOKUP(C708,Data!C:C,Data!G:G,0)","v":0},{"$f":"_xlfn.XLOOKUP(C708,Data!C:C,Data!F:F,0)","v":0},{"$f":"_xlfn.XLOOKUP(C708,Data!C:C,Data!H:H,0)","v":0},null,{"$f":"IFERROR(IF(F708=\"#N/A\",\"\",F708),\"\")","v":""},{"$f":"_xlfn.XLOOKUP(C708,Data!C:C,Data!F:F,\"\")","v":""},null,{"$error":"#N/A"}]
["23-3-2021","11:46:00","2021-03-23T11:46:00",null,{"$f":"_xlfn.XLOOKUP(C709,Data!C:C,Data!I:I)","v":{"$error":"#N/A"}},{"$error":"#N/A"},{"$f":"_xlfn.XLOOKUP(C709,Data!C:C,Data!G:G,0)","v":0},{"$f":"_xlfn.XLOOKUP(C709,Data!C:C,Data!F:F,0)","v":0},{"$f":"_xlfn.XLOOKUP(C709,Data!C:C,Data!H:H,0)","v":0},null,"",{"$f":"_xlfn.XLOOKUP(C709,Data!C:C,Data!F:F,\"\")","v":""},null,{"$error":"#N/A"}]
["23-3-2021","11:47:00","2021-03-23T11:47:00",null,{"$f":"_xlfn.XLOOKUP(C710,Data!C:C,Data!I:I)","v":{"$error":"#N/A"}},{"$error":"#N/A"},{"$f":"_xlfn.XLOOKUP(C710,Data!C:C,Data!G:G,0)","v":0},{"$f":"_xlfn.XLOOKUP(C710,Data!C:C,Data!F:F,0)","v":0},{"$f":"_xlfn.XLOOKUP(C710,Data!C:C,Data!H:H,0)","v":0},null,"",{"$f":"_xlfn.XLOOKUP(C710,Data!C:C,Data!F:F,\"\")","v":""},null,{"$error":"#N/A"}]
["23-3-2021","11:48:00","2021-03-23T11:48:00",null,{"$f":"_xlfn.XLOOKUP(C711,Data!C:C,Data!I:I)","v":{"$error":"#N/A"}},{"$error":"#N/A"},{"$f":"_xlfn.XLOOKUP(C711,Data!C:C,Data!G:G,0)","v":0},{"$f":"_xlfn.XLOOKUP(C711,Data!C:C,Data!F:F,0)","v":0},{"$f":"_xlfn.XLOOKUP(C711,Data!C:C,Data!H:H,0)","v":0},null,"",{"$f":"_xlfn.XLOOKUP(C711,Data!C:C,Data!F:F,\"\")","v":""},null,{"$f":"IF(F711=\"\",\"\",AVERAGE(F707:F715))","v":{"$error":"#N/A"}}]
["23-3-2021","11:49:00","2021-03-23T11:49:00",null,{"$f":"_xlfn.XLOOKUP(C712,Data!C:C,Data!I:I)","v":{"$error":"#N/A"}},{"$error":"#N/A"},{"$f":"_xlfn.XLOOKUP(C712,Data!C:C,Data!G:G,0)","v":0},{"$f":"_xlfn.XLOOKUP(C712,Data!C:C,Data!F:F,0)","v":0},{"$f":"_xlfn.XLOOKUP(C712,Data!C:C,Data!H:H,0)","v":0},null,"",{"$f":"_xlfn.XLOOKUP(C712,Data!C:C,Data!F:F,\"\")","v":""},null,{"$error":"#N/A"}]
["23-3-2021","11:50:00","2021-03-23T11:50:00",null,{"$f":"_xlfn.XLOOKUP(C713,Data!C:C,Data!I:I)","v":{"$error":"#N/A"}},{"$error":"#N/A"},{"$f":"_xlfn.XLOOKUP(C713,Data!C:C,Data!G:G,0)","v":0},{"$f":"_xlfn.XLOOKUP(C713,Data!C:C,Data!F:F,0)","v":0},{"$f":"_xlfn.XLOOKUP(C713,Data!C:C,Data!H:H,0)","v":0},null,"",{"$f":"_xlfn.XLOOKUP(C713,Data!C:C,Data!F:F,\"\")","v":""},null,{"$error":"#N/A"}]
["23-3-2021","11:51:00","2021-03-23T11:51:00",null,{"$f":"_xlfn.XLOOKUP(C714,Data!C:C,Data!I:I)","v":{"$error":"#N/A"}},{"$error":"#N/A"},{"$f":"_xlfn.XLOOKUP(C714,Data!C:C,Data!G:G,0)","v":0},{"$f":"_xlfn.XLOOKUP(C714,Data!C:C,Data!F:F,0)","v":0},{"$f":"_xlfn.XLOOKUP(C714,Data!C:C,Data!H:H,0)","v":0},null,"",{"$f":"_xlfn.XLOOKUP(C714,Data!C:C,Data!F:F,\"\")","v":""},null,{"$error":"#N/A"}]
["23-3-2021","11:52:00","2021-03-23T11:52:00",null,{"$f":"_xlfn.XLOOKUP(C715,Data!C:C,Data!I:I)","v":{"$error":"#N/A"}},{"$error":"#N/A"},{"$f":"_xlfn.XLOOKUP(C715,Data!C:C,Data!G:G,0)","v":0},{"$f":"_xlfn.XLOOKUP(C715,Data!C:C,Data!F:F,0)","v":0},{"$f":"_xlfn.XLOOKUP(C715,Data!C:C,Data!H:H,0)","v":0},null,"",{"$f":"_xlfn.XLOOKUP(C715,Data!C:C,Data!F:F,\"\")","v":""},null,{"$error":"#N/A"}]
["23-3-2021","11:53:00","2021-03-23T11:53:00",null,{"$f":"_xlfn.XLOOKUP(C716,Data!C:C,Data!I:I)","v":{"$error":"#N/A"}},{"$error":"#N/A"},{"$f":"_xlfn.XLOOKUP(C716,Data!C:C,Data!G:G,0)","v":0},{"$f":"_xlfn.XLOOKUP(C716,Data!C:C,Data!F:F,0)","v":0},{"$f":"_xlfn.XLOOKUP(C716,Data!C:C,Data!H:H,0)","v":0},null,"",{"$f":"_xlfn.XLOOKUP(C716,Data!C:C,Data!F:F,\"\")","v":""},null,{"$error":"#N/A"}]
["23-3-2021","11:54:00","2021-03-23T11:54:00",null,{"$f":"_xlfn.XLOOKUP(C717,Data!C:C,Data!I:I)","v":{"$error":"#N/A"}},{"$error":"#N/A"},{"$f":"_xlfn.XLOOKUP(C717,Data!C:C,Data!G:G,0)","v":0},{"$f":"_xlfn.XLOOKUP(C717,Data!C:C,Data!F:F,0)","v":0},{"$f":"_xlfn.XLOOKUP(C717,Data!C:C,Data!H:H,0)","v":0},null,"",{"$f":"_xlfn.XLOOKUP(C717,Data!C:C,Data!F:F,\"\")","v":""},null,{"$error":"#N/A"}]
["23-3-2021","11:55:00","2021-03-23T11:55:00",null,{"$f":"_xlfn.XLOOKUP(C718,Data!C:C,Data!I:I)","v":{"$error":"#N/A"}},{"$error":"#N/A"},{"$f":"_xlfn.XLOOKUP(C718,Data!C:C,Data!G:G,0)","v":0},{"$f":"_xlfn.XLOOKUP(C718,Data!C:C,Data!F:F,0)","v":0},{"$f":"_xlfn.XLOOKUP(C718,Data!C:C,Data!H:H,0)","v":0},null,"",{"$f":"_xlfn.XLOOKUP(C718,Data!C:C,Data!F:F,\"\")","v":""},null,{"$error":"#N/A"}]
["23-3-2021","11:56:00","2021-03-23T11:56:00",null,{"$f":"_xlfn.XLOOKUP(C719,Data!C:C,Data!I:I)","v":{"$error":"#N/A"}},{"$error":"#N/A"},{"$f":"_xlfn.XLOOKUP(C719,Data!C:C,Data!G:G,0)","v":0},{"$f":"_xlfn.XLOOKUP(C719,Data!C:C,Data!F:F,0)","v":0},{"$f":"_xlfn.XLOOKUP(C719,Data!C:C,Data!H:H,0)","v":0},null,"",{"$f":"_xlfn.XLOOKUP(C719,Data!C:C,Data!F:F,\"\")","v":""},null,{"$error":"#N/A"}]
["23-3-2021","11:57:00","2021-03-23T11:57:00",null,{"$f":"_xlfn.XLOOKUP(C720,Data!C:C,Data!I:I)","v":{"$error":"#N/A"}},{"$error":"#N/A"},{"$f":"_xlfn.XLOOKUP(C720,Data!C:C,Data!G:G,0)","v":0},{"$f":"_xlfn.XLOOKUP(C720,Data!C:C,Data!F:F,0)","v":0},{"$f":"_xlfn.XLOOKUP(C720,Data!C:C,Data!H:H,0)","v":0},null,"",{"$f":"_xlfn.XLOOKUP(C720,Data!C:C,Data!F:F,\"\")","v":""},null,{"$error":"#N/A"}]
["23-3-2021","11:58:00","2021-03-23T11:58:00",null,{"$f":"_xlfn.XLOOKUP(C721,Data!C:C,Data!I:I)","v":{"$error":"#N/A"}},{"$error":"#N/A"},{"$f":"_xlfn.XLOOKUP(C721,Data!C:C,Data!G:G,0)","v":0},{"$f":"_xlfn.XLOOKUP(C721,Data!C:C,Data!F:F,0)","v":0},{"$f":"_xlfn.XLOOKUP(C721,Data!C:C,Data!H:H,0)","v":0},null,"",{"$f":"_xlfn.XLOOKUP(C721,Data!C:C,Data!F:F,\"\")","v":""},null,{"$error":"#N/A"}]
["23-3-2021","11:59:00","2021-03-23T11:59:00",null,{"$f":"_xlfn.XLOOKUP(C722,Data!C:C,Data!I:I)","v":{"$error":"#N/A"}},{"$error":"#N/A"},{"$f":"_xlfn.XLOOKUP(C722,Data!C:C,Data!G:G,0)","v":0},{"$f":"_xlfn.XLOOKUP(C722,Data!C:C,Data!F:F,0)","v":0},{"$f":"_xlfn.XLOOKUP(C722,Data!C:C,Data!H:H,0)","v":0},null,"",{"$f":"_xlfn.XLOOKUP(C722,Data!C:C,Data!F:F,\"\")","v":""},null,{"$error":"#N/A"}]
["23-3-2021","12:00:00","2021-03-23T12:00:00",null,{"$f":"_xlfn.XLOOKUP(C723,Data!C:C,Data!I:I)","v":{"$error":"#N/A"}},{"$error":"#N/A"},{"$f":"_xlfn.XLOOKUP(C723,Data!C:C,Data!G:G,0)","v":0},{"$f":"_xlfn.XLOOKUP(C723,Data!C:C,Data!F:F,0)","v":0},{"$f":"_xlfn.XLOOKUP(C723,Data!C:C,Data!H:H,0)","v":0},null,"",{"$f":"_xlfn.XLOOKUP(C723,Data!C:C,Data!F:F,\"\")","v":""},null,{"$error":"#N/A"}]
["23-3-2021","12:01:00","2021-03-23T12:01:00",null,{"$f":"_xlfn.XLOOKUP(C724,Data!C:C,Data!I:I)","v":{"$error":"#N/A"}},{"$error":"#N/A"},{"$f":"_xlfn.XLOOKUP(C724,Data!C:C,Data!G:G,0)","v":0},{"$f":"_xlfn.XLOOKUP(C724,Data!C:C,Data!F:F,0)","v":0},{"$f":"_xlfn.XLOOKUP(C724,Data!C:C,Data!H:H,0)","v":0},null,"",{"$f":"_xlfn.XLOOKUP(C724,Data!C:C,Data!F:F,\"\")","v":""},null,{"$error":"#N/A"}]
["23-3-2021","12:02:00","2021-03-23T12:02:00",null,{"$f":"_xlfn.XLOOKUP(C725,Data!C:C,Data!I:I)","v":{"$error":"#N/A"}},{"$error":"#N/A"},{"$f":"_xlfn.XLOOKUP(C725,Data!C:C,Data!G:G,0)","v":0},{"$f":"_xlfn.XLOOKUP(C725,Data!C:C,Data!F:F,0)","v":0},{"$f":"_xlfn.XLOOKUP(C725,Data!C:C,Data!H:H,0)","v":0},null,"",{"$f":"_xlfn.XLOOKUP(C725,Data!C:C,Data!F:F,\"\")","v":""},null,{"$error":"#N/A"}]
["23-3-2021","12:03:00","2021-03-23T12:03:00",null,{"$f":"_xlfn.XLOOKUP(C726,Data!C:C,Data!I:I)","v":{"$error":"#N/A"}},{"$error":"#N/A"},{"$f":"_xlfn.XLOOKUP(C726,Data!C:C,Data!G:G,0)","v":0},{"$f":"_xlfn.XLOOKUP(C726,Data!C:C,Data!F:F,0)","v":0},{"$f":"_xlfn.XLOOKUP(C726,Data!C:C,Data!H:H,0)","v":0},null,"",{"$f":"_xlfn.XLOOKUP(C726,Data!C:C,Data!F:F,\"\")","v":""},null,{"$error":"#N/A"}]
["23-3-2021","12:04:00","2021-03-23T12:04:00",null,{"$f":"_xlfn.XLOOKUP(C727,Data!C:C,Data!I:I)","v":{"$error":"#N/A"}},{"$error":"#N/A"},{"$f":"_xlfn.XLOOKUP(C727,Data!C:C,Data!G:G,0)","v":0},{"$f":"_xlfn.XLOOKUP(C727,Data!C:C,Data!F:F,0)","v":0},{"$f":"_xlfn.XLOOKUP(C727,Data!C:C,Data!H:H,0)","v":0},null,"",{"$f":"_xlfn.XLOOKUP(C727,Data!C:C,Data!F:F,\"\")","v":""},null,{"$error":"#N/A"}]
["23-3-2021","12:05:00","2021-03-23T12:05:00",null,{"$f":"_xlfn.XLOOKUP(C728,Data!C:C,Data!I:I)","v":{"$error":"#N/A"}},{"$error":"#N/A"},{"$f":"_xlfn.XLOOKUP(C728,Data!C:C,Data!G:G,0)","v":0},{"$f":"_xlfn.XLOOKUP(C728,Data!C:C,Data!F:F,0)","v":0},{"$f":"_xlfn.XLOOKUP(C728,Data!C:C,Data!H:H,0)","v":0},null,"",{"$f":"_xlfn.XLOOKUP(C728,Data!C:C,Data!F:F,\"\")","v":""},null,{"$error":"#N/A"}]
["23-3-2021","12:06:00","2021-03-23T12:06:00",null,{"$f":"_xlfn.XLOOKUP(C729,Data!C:C,Data!I:I)","v":{"$error":"#N/A"}},{"$error":"#N/A"},{"$f":"_xlfn.XLOOKUP(C729,Data!C:C,Data!G:G,0)","v":0},{"$f":"_xlfn.XLOOKUP(C729,Data!C:C,Data!F:F,0)","v":0},{"$f":"_xlfn.XLOOKUP(C729,Data!C:C,Data!H:H,0)","v":0},null,"",{"$f":"_xlfn.XLOOKUP(C729,Data!C:C,Data!F:F,\"\")","v":""},null,{"$error":"#N/A"}]
["23-3-2021","12:07:00","2021-03-23T12:07:00",null,{"$f":"_xlfn.XLOOKUP(C730,Data!C:C,Data!I:I)","v":{"$error":"#N/A"}},{"$error":"#N/A"},{"$f":"_xlfn.XLOOKUP(C730,Data!C:C,Data!G:G,0)","v":0},{"$f":"_xlfn.XLOOKUP(C730,Data!C:C,Data!F:F,0)","v":0},{"$f":"_xlfn.XLOOKUP(C730,Data!C:C,Data!H:H,0)","v":0},null,"",{"$f":"_xlfn.XLOOKUP(C730,Data!C:C,Data!F:F,\"\")","v":""},null,{"$error":"#N/A"}]
["23-3-2021","12:08:00","2021-03-23T12:08:00",null,{"$f":"_xlfn.XLOOKUP(C731,Data!C:C,Data!I:I)","v":{"$error":"#N/A"}},{"$error":"#N/A"},{"$f":"_xlfn.XLOOKUP(C731,Data!C:C,Data!G:G,0)","v":0},{"$f":"_xlfn.XLOOKUP(C731,Data!C:C,Data!F:F,0)","v":0},{"$f":"_xlfn.XLOOKUP(C731,Data!C:C,Data!H:H,0)","v":0},null,"",{"$f":"_xlfn.XLOOKUP(C731,Data!C:C,Data!F:F,\"\")","v":""},null,{"$error":"#N/A"}]
["23-3-2021","12:09:00","2021-03-23T12:09:00",null,{"$f":"_xlfn.XLOOKUP(C732,Data!C:C,Data!I:I)","v":{"$error":"#N/A"}},{"$error":"#N/A"},{"$f":"_xlfn.XLOOKUP(C732,Data!C:C,Data!G:G,0)","v":0},{"$f":"_xlfn.XLOOKUP(C732,Data!C:C,Data!F:F,0)","v":0},{"$f":"_xlfn.XLOOKUP(C732,Data!C:C,Data!H:H,0)","v":0},null,"",{"$f":"_xlfn.XLOOKUP(C732,Data!C:C,Data!F:F,\"\")","v":""},null,{"$error":"#N/A"}]
["23-3-2021","12:10:00","2021-03-23T12:10:00",null,{"$f":"_xlfn.XLOOKUP(C733,Data!C:C,Data!I:I)","v":{"$error":"#N/A"}},{"$error":"#N/A"},{"$f":"_xlfn.XLOOKUP(C733,Data!C:C,Data!G:G,0)","v":0},{"$f":"_xlfn.XLOOKUP(C733,Data!C:C,Data!F:F,0)","v":0},{"$f":"_xlfn.XLOOKUP(C733,Data!C:C,Data!H:H,0)","v":0},null,"",{"$f":"_xlfn.XLOOKUP(C733,Data!C:C,Data!F:F,\"\")","v":""},null,{"$error":"#N/A"}]
["23-3-2021","12:11:00","2021-03-23T12:11:00",null,{"$f":"_xlfn.XLOOKUP(C734,Data!C:C,Data!I:I)","v":{"$error":"#N/A"}},{"$error":"#N/A"},{"$f":"_xlfn.XLOOKUP(C734,Data!C:C,Data!G:G,0)","v":0},{"$f":"_xlfn.XLOOKUP(C734,Data!C:C,Data!F:F,0)","v":0},{"$f":"_xlfn.XLOOKUP(C734,Data!C:C,Data!H:H,0)","v":0},null,"",{"$f":"_xlfn.XLOOKUP(C734,Data!C:C,Data!F:F,\"\")","v":""},null,{"$error":"#N/A"}]
["23-3-2021","12:12:00","2021-03-23T12:12:00",null,{"$f":"_xlfn.XLOOKUP(C735,Data!C:C,Data!I:I)","v":{"$error":"#N/A"}},{"$error":"#N/A"},{"$f":"_xlfn.XLOOKUP(C735,Data!C:C,Data!G:G,0)","v":0},{"$f":"_xlfn.XLOOKUP(C735,Data!C:C,Data!F:F,0)","v":0},{"$f":"_xlfn.XLOOKUP(C735,Data!C:C,Data!H:H,0)","v":0},null,"",{"$f":"_xlfn.XLOOKUP(C735,Data!C:C,Data!F:F,\"\")","v":""},null,{"$error":"#N/A"}]
["23-3-2021","12:13:00","2021-03-23T12:13:00",null,{"$f":"_xlfn.XLOOKUP(C736,Data!C:C,Data!I:I)","v":{"$error":"#N/A"}},{"$error":"#N/A"},{"$f":"_xlfn.XLOOKUP(C736,Data!C:C,Data!G:G,0)","v":0},{"$f":"_xlfn.XLOOKUP(C736,Data!C:C,Data!F:F,0)","v":0},{"$f":"_xlfn.XLOOKUP(C736,Data!C:C,Data!H:H,0)","v":0},null,"",{"$f":"_xlfn.XLOOKUP(C736,Data!C:C,Data!F:F,\"\")","v":""},null,{"$error":"#N/A"}]
["23-3-2021","12:14:00","2021-03-23T12:14:00",null,{"$f":"_xlfn.XLOOKUP(C737,Data!C:C,Data!I:I)","v":{"$error":"#N/A"}},{"$error":"#N/A"},{"$f":"_xlfn.XLOOKUP(C737,Data!C:C,Data!G:G,0)","v":0},{"$f":"_xlfn.XLOOKUP(C737,Data!C:C,Data!F:F,0)","v":0},{"$f":"_xlfn.XLOOKUP(C737,Data!C:C,Data!H:H,0)","v":0},null,"",{"$f":"_xlfn.XLOOKUP(C737,Data!C:C,Data!F:F,\"\")","v":""},null,{"$error":"#N/A"}]
["23-3-2021","12:15:00","2021-03-23T12:15:00",null,{"$f":"_xlfn.XLOOKUP(C738,Data!C:C,Data!I:I)","v":{"$error":"#N/A"}},{"$error":"#N/A"},{"$f":"_xlfn.XLOOKUP(C738,Data!C:C,Data!G:G,0)","v":0},{"$f":"_xlfn.XLOOKUP(C738,Data!C:C,Data!F:F,0)","v":0},{"$f":"_xlfn.XLOOKUP(C738,Data!C:C,Data!H:H,0)","v":0},null,"",{"$f":"_xlfn.XLOOKUP(C738,Data!C:C,Data!F:F,\"\")","v":""},null,{"$error":"#N/A"}]
["23-3-2021","12:16:00","2021-03-23T12:16:00",null,{"$f":"_xlfn.XLOOKUP(C739,Data!C:C,Data!I:I)","v":{"$error":"#N/A"}},{"$error":"#N/A"},{"$f":"_xlfn.XLOOKUP(C739,Data!C:C,Data!G:G,0)","v":0},{"$f":"_xlfn.XLOOKUP(C739,Data!C:C,Data!F:F,0)","v":0},{"$f":"_xlfn.XLOOKUP(C739,Data!C:C,Data!H:H,0)","v":0},null,"",{"$f":"_xlfn.XLOOKUP(C739,Data!C:C,Data!F:F,\"\")","v":""},null,{"$error":"#N/A"}]
["23-3-2021","12:17:00","2021-03-23T12:17:00",null,{"$f":"_xlfn.XLOOKUP(C740,Data!C:C,Data!I:I)","v":{"$error":"#N/A"}},{"$error":"#N/A"},{"$f":"_xlfn.XLOOKUP(C740,Data!C:C,Data!G:G,0)","v":0},{"$f":"_xlfn.XLOOKUP(C740,Data!C:C,Data!F:F,0)","v":0},{"$f":"_xlfn.XLOOKUP(C740,Data!C:C,Data!H:H,0)","v":0},null,"",{"$f":"_xlfn.XLOOKUP(C740,Data!C:C,Data!F:F,\"\")","v":""},null,{"$error":"#N/A"}]
["23-3-2021","12:18:00","2021-03-23T12:18:00",null,{"$f":"_xlfn.XLOOKUP(C741,Data!C:C,Data!I:I)","v":{"$error":"#N/A"}},{"$error":"#N/A"},{"$f":"_xlfn.XLOOKUP(C741,Data!C:C,Data!G:G,0)","v":0},{"$f":"_xlfn.XLOOKUP(C741,Data!C:C,Data!F:F,0)","v":0},{"$f":"_xlfn.XLOOKUP(C741,Data!C:C,Data!H:H,0)","v":0},null,"",{"$f":"_xlfn.XLOOKUP(C741,Data!C:C,Data!F:F,\"\")","v":""},null,{"$error":"#N/A"}]
["23-3-2021","12:19:00","2021-03-23T12:19:00",null,{"$f":"_xlfn.XLOOKUP(C742,Data!C:C,Data!I:I)","v":{"$error":"#N/A"}},{"$error":"#N/A"},{"$f":"_xlfn.XLOOKUP(C742,Data!C:C,Data!G:G,0)","v":0},{"$f":"_xlfn.XLOOKUP(C742,Data!C:C,Data!F:F,0)","v":0},{"$f":"_xlfn.XLOOKUP(C742,Data!C:C,Data!H:H,0)","v":0},null,"",{"$f":"_xlfn.XLOOKUP(C742,Data!C:C,Data!F:F,\"\")","v":""},null,{"$error":"#N/A"}]
["23-3-2021","12:20:00","2021-03-23T12:20:00",null,{"$f":"_xlfn.XLOOKUP(C743,Data!C:C,Data!I:I)","v":{"$error":"#N/A"}},{"$error":"#N/A"},{"$f":"_xlfn.XLOOKUP(C743,Data!C:C,Data!G:G,0)","v":0},{"$f":"_xlfn.XLOOKUP(C743,Data!C:C,Data!F:F,0)","v":0},{"$f":"_xlfn.XLOOKUP(C743,Data!C:C,Data!H:H,0)","v":0},null,"",{"$f":"_xlfn.XLOOKUP(C743,Data!C:C,Data!F:F,\"\")","v":""},null,{"$error":"#N/A"}]
["23-3-2021","12:21:00","2021-03-23T12:21:00",null,{"$f":"_xlfn.XLOOKUP(C744,Data!C:C,Data!I:I)","v":{"$error":"#N/A"}},{"$error":"#N/A"},{"$f":"_xlfn.XLOOKUP(C744,Data!C:C,Data!G:G,0)","v":0},{"$f":"_xlfn.XLOOKUP(C744,Data!C:C,Data!F:F,0)","v":0},{"$f":"_xlfn.XLOOKUP(C744,Data!C:C,Data!H:H,0)","v":0},null,"",{"$f":"_xlfn.XLOOKUP(C744,Data!C:C,Data!F:F,\"\")","v":""},null,{"$error":"#N/A"}]
["23-3-2021","12:22:00","2021-03-23T12:22:00",null,{"$f":"_xlfn.XLOOKUP(C745,Data!C:C,Data!I:I)","v":{"$error":"#N/A"}},{"$error":"#N/A"},{"$f":"_xlfn.XLOOKUP(C745,Data!C:C,Data!G:G,0)","v":0},{"$f":"_xlfn.XLOOKUP(C745,Data!C:C,Data!F:F,0)","v":0},{"$f":"_xlfn.XLOOKUP(C745,Data!C:C,Data!H:H,0)","v":0},null,"",{"$f":"_xlfn.XLOOKUP(C745,Data!C:C,Data!F:F,\"\")","v":""},null,{"$error":"#N/A"}]
["23-3-2021","12:23:00","2021-03-23T12:23:00",null,{"$f":"_xlfn.XLOOKUP(C746,Data!C:C,Data!I:I)","v":{"$error":"#N/A"}},{"$error":"#N/A"},{"$f":"_xlfn.XLOOKUP(C746,Data!C:C,Data!G:G,0)","v":0},{"$f":"_xlfn.XLOOKUP(C746,Data!C:C,Data!F:F,0)","v":0},{"$f":"_xlfn.XLOOKUP(C746,Data!C:C,Data!H:H,0)","v":0},null,"",{"$f":"_xlfn.XLOOKUP(C746,Data!C:C,Data!F:F,\"\")","v":""},null,{"$error":"#N/A"}]
["23-3-2021","12:24:00","2021-03-23T12:24:00",null,{"$f":"_xlfn.XLOOKUP(C747,Data!C:C,Data!I:I)","v":{"$error":"#N/A"}},{"$error":"#N/A"},{"$f":"_xlfn.XLOOKUP(C747,Data!C:C,Data!G:G,0)","v":0},{"$f":"_xlfn.XLOOKUP(C747,Data!C:C,Data!F:F,0)","v":0},{"$f":"_xlfn.XLOOKUP(C747,Data!C:C,Data!H:H,0)","v":0},null,"",{"$f":"_xlfn.XLOOKUP(C747,Data!C:C,Data!F:F,\"\")","v":""},null,{"$error":"#N/A"}]
["23-3-2021","12:25:00","2021-03-23T12:25:00",null,{"$f":"_xlfn.XLOOKUP(C748,Data!C:C,Data!I:I)","v":{"$error":"#N/A"}},{"$error":"#N/A"},{"$f":"_xlfn.XLOOKUP(C748,Data!C:C,Data!G:G,0)","v":0},{"$f":"_xlfn.XLOOKUP(C748,Data!C:C,Data!F:F,0)","v":0},{"$f":"_xlfn.XLOOKUP(C748,Data!C:C,Data!H:H,0)","v":0},null,"",{"$f":"_xlfn.XLOOKUP(C748,Data!C:C,Data!F:F,\"\")","v":""},null,{"$error":"#N/A"}]
["23-3-2021","12:26:00","2021-03-23T12:26:00",null,{"$f":"_xlfn.XLOOKUP(C749,Data!C:C,Data!I:I)","v":{"$error":"#N/A"}},{"$error":"#N/A"},{"$f":"_xlfn.XLOOKUP(C749,Data!C:C,Data!G:G,0)","v":0},{"$f":"_xlfn.XLOOKUP(C749,Data!C:C,Data!F:F,0)","v":0},{"$f":"_xlfn.XLOOKUP(C749,Data!C:C,Data!H:H,0)","v":0},null,"",{"$f":"_xlfn.XLOOKUP(C749,Data!C:C,Data!F:F,\"\")","v":""},null,{"$error":"#N/A"}]
["23-3-2021","12:27:00","2021-03-23T12:27:00",null,{"$f":"_xlfn.XLOOKUP(C750,Data!C:C,Data!I:I)","v":{"$error":"#N/A"}},{"$error":"#N/A"},{"$f":"_xlfn.XLOOKUP(C750,Data!C:C,Data!G:G,0)","v":0},{"$f":"_xlfn.XLOOKUP(C750,Data!C:C,Data!F:F,0)","v":0},{"$f":"_xlfn.XLOOKUP(C750,Data!C:C,Data!H:H,0)","v":0},null,"",{"$f":"_xlfn.XLOOKUP(C750,Data!C:C,Data!F:F,\"\")","v":""},null,{"$error":"#N/A"}]
["23-3-2021","12:28:00","2021-03-23T12:28:00",null,{"$f":"_xlfn.XLOOKUP(C751,Data!C:C,Data!I:I)","v":{"$error":"#N/A"}},{"$error":"#N/A"},{"$f":"_xlfn.XLOOKUP(C751,Data!C:C,Data!G:G,0)","v":0},{"$f":"_xlfn.XLOOKUP(C751,Data!C:C,Data!F:F,0)","v":0},{"$f":"_xlfn.XLOOKUP(C751,Data!C:C,Data!H:H,0)","v":0},null,"",{"$f":"_xlfn.XLOOKUP(C751,Data!C:C,Data!F:F,\"\")","v":""},null,{"$error":"#N/A"}]
["23-3-2021","12:29:00","2021-03-23T12:29:00",null,{"$f":"_xlfn.XLOOKUP(C752,Data!C:C,Data!I:I)","v":{"$error":"#N/A"}},{"$error":"#N/A"},{"$f":"_xlfn.XLOOKUP(C752,Data!C:C,Data!G:G,0)","v":0},{"$f":"_xlfn.XLOOKUP(C752,Data!C:C,Data!F:F,0)","v":0},{"$f":"_xlfn.XLOOKUP(C752,Data!C:C,Data!H:H,0)","v":0},null,"",{"$f":"_xlfn.XLOOKUP(C752,Data!C:C,Data!F:F,\"\")","v":""},null,{"$error":"#N/A"}]
["23-3-2021","12:30:00","2021-03-23T12:30:00",null,{"$f":"_xlfn.XLOOKUP(C753,Data!C:C,Data!I:I)","v":{"$error":"#N/A"}},{"$error":"#N/A"},{"$f":"_xlfn.XLOOKUP(C753,Data!C:C,Data!G:G,0)","v":0},{"$f":"_xlfn.XLOOKUP(C753,Data!C:C,Data!F:F,0)","v":0},{"$f":"_xlfn.XLOOKUP(C753,Data!C:C,Data!H:H,0)","v":0},null,"",{"$f":"_xlfn.XLOOKUP(C753,Data!C:C,Data!F:F,\"\")","v":""},null,{"$error":"#N/A"}]
["23-3-2021","12:31:00","2021-03-23T12:31:00",null,{"$f":"_xlfn.XLOOKUP(C754,Data!C:C,Data!I:I)","v":{"$error":"#N/A"}},{"$error":"#N/A"},{"$f":"_xlfn.XLOOKUP(C754,Data!C:C,Data!G:G,0)","v":0},{"$f":"_xlfn.XLOOKUP(C754,Data!C:C,Data!F:F,0)","v":0},{"$f":"_xlfn.XLOOKUP(C754,Data!C:C,Data!H:H,0)","v":0},null,"",{"$f":"_xlfn.XLOOKUP(C754,Data!C:C,Data!F:F,\"\")","v":""},null,{"$error":"#N/A"}]
["23-3-2021","12:32:00","2021-03-23T12:32:00",null,{"$f":"_xlfn.XLOOKUP(C755,Data!C:C,Data!I:I)","v":{"$error":"#N/A"}},{"$error":"#N/A"},{"$f":"_xlfn.XLOOKUP(C755,Data!C:C,Data!G:G,0)","v":0},{"$f":"_xlfn.XLOOKUP(C755,Data!C:C,Data!F:F,0)","v":0},{"$f":"_xlfn.XLOOKUP(C755,Data!C:C,Data!H:H,0)","v":0},null,"",{"$f":"_xlfn.XLOOKUP(C755,Data!C:C,Data!F:F,\"\")","v":""},null,{"$error":"#N/A"}]
["23-3-2021","12:33:00","2021-03-23T12:33:00",null,{"$f":"_xlfn.XLOOKUP(C756,Data!C:C,Data!I:I)","v":{"$error":"#N/A"}},{"$error":"#N/A"},{"$f":"_xlfn.XLOOKUP(C756,Data!C:C,Data!G:G,0)","v":0},{"$f":"_xlfn.XLOOKUP(C756,Data!C:C,Data!F:F,0)","v":0},{"$f":"_xlfn.XLOOKUP(C756,Data!C:C,Data!H:H,0)","v":0},null,"",{"$f":"_xlfn.XLOOKUP(C756,Data!C:C,Data!F:F,\"\")","v":""},null,{"$error":"#N/A"}]
["23-3-2021","12:34:00","2021-03-23T12:34:00",null,{"$f":"_xlfn.XLOOKUP(C757,Data!C:C,Data!I:I)","v":{"$error":"#N/A"}},{"$error":"#N/A"},{"$f":"_xlfn.XLOOKUP(C757,Data!C:C,Data!G:G,0)","v":0},{"$f":"_xlfn.XLOOKUP(C757,Data!C:C,Data!F:F,0)","v":0},{"$f":"_xlfn.XLOOKUP(C757,Data!C:C,Data!H:H,0)","v":0},null,"",{"$f":"_xlfn.XLOOKUP(C757,Data!C:C,Data!F:F,\"\")","v":""},null,{"$error":"#N/A"}]
["23-3-2021","12:35:00","2021-03-23T12:35:00",null,{"$f":"_xlfn.XLOOKUP(C758,Data!C:C,Data!I:I)","v":{"$error":"#N/A"}},{"$error":"#N/A"},{"$f":"_xlfn.XLOOKUP(C758,Data!C:C,Data!G:G,0)","v":0},{"$f":"_xlfn.XLOOKUP(C758,Data!C:C,Data!F:F,0)","v":0},{"$f":"_xlfn.XLOOKUP(C758,Data!C:C,Data!H:H,0)","v":0},null,"",{"$f":"_xlfn.XLOOKUP(C758,Data!C:C,Data!F:F,\"\")","v":""},null,{"$error":"#N/A"}]
["23-3-2021","12:36:00","2021-03-23T12:36:00",null,{"$f":"_xlfn.XLOOKUP(C759,Data!C:C,Data!I:I)","v":{"$error":"#N/A"}},{"$error":"#N/A"},{"$f":"_xlfn.XLOOKUP(C759,Data!C:C,Data!G:G,0)","v":0},{"$f":"_xlfn.XLOOKUP(C759,Data!C:C,Data!F:F,0)","v":0},{"$f":"_xlfn.XLOOKUP(C759,Data!C:C,Data!H:H,0)","v":0},null,"",{"$f":"_xlfn.XLOOKUP(C759,Data!C:C,Data!F:F,\"\")","v":""},null,{"$error":"#N/A"}]
["23-3-2021","12:37:00","2021-03-23T12:37:00",null,{"$f":"_xlfn.XLOOKUP(C760,Data!C:C,Data!I:I)","v":{"$error":"#N/A"}},{"$error":"#N/A"},{"$f":"_xlfn.XLOOKUP(C760,Data!C:C,Data!G:G,0)","v":0},{"$f":"_xlfn.XLOOKUP(C760,Data!C:C,Data!F:F,0)","v":0},{"$f":"_xlfn.XLOOKUP(C760,Data!C:C,Data!H:H,0)","v":0},null,"",{"$f":"_xlfn.XLOOKUP(C760,Data!C:C,Data!F:F,\"\")","v":""},null,{"$error":"#N/A"}]
["23-3-2021","12:38:00","2021-03-23T12:38:00",null,{"$f":"_xlfn.XLOOKUP(C761,Data!C:C,Data!I:I)","v":{"$error":"#N/A"}},{"$error":"#N/A"},{"$f":"_xlfn.XLOOKUP(C761,Data!C:C,Data!G:G,0)","v":0},{"$f":"_xlfn.XLOOKUP(C761,Data!C:C,Data!F:F,0)","v":0},{"$f":"_xlfn.XLOOKUP(C761,Data!C:C,Data!H:H,0)","v":0},null,"",{"$f":"_xlfn.XLOOKUP(C761,Data!C:C,Data!F:F,\"\")","v":""},null,{"$error":"#N/A"}]
["23-3-2021","12:39:00","2021-03-23T12:39:00",null,{"$f":"_xlfn.XLOOKUP(C762,Data!C:C,Data!I:I)","v":{"$error":"#N/A"}},{"$error":"#N/A"},{"$f":"_xlfn.XLOOKUP(C762,Data!C:C,Data!G:G,0)","v":0},{"$f":"_xlfn.XLOOKUP(C762,Data!C:C,Data!F:F,0)","v":0},{"$f":"_xlfn.XLOOKUP(C762,Data!C:C,Data!H:H,0)","v":0},null,"",{"$f":"_xlfn.XLOOKUP(C762,Data!C:C,Data!F:F,\"\")","v":""},null,{"$error":"#N/A"}]
["23-3-2021","12:40:00","2021-03-23T12:40:00",null,{"$f":"_xlfn.XLOOKUP(C763,Data!C:C,Data!I:I)","v":{"$error":"#N/A"}},{"$error":"#N/A"},{"$f":"_xlfn.XLOOKUP(C763,Data!C:C,Data!G:G,0)","v":0},{"$f":"_xlfn.XLOOKUP(C763,Data!C:C,Data!F:F,0)","v":0},{"$f":"_xlfn.XLOOKUP(C763,Data!C:C,Data!H:H,0)","v":0},null,"",{"$f":"_xlfn.XLOOKUP(C763,Data!C:C,Data!F:F,\"\")","v":""},null,{"$error":"#N/A"}]
["23-3-2021","12:41:00","2021-03-23T12:41:00",null,{"$f":"_xlfn.XLOOKUP(C764,Data!C:C,Data!I:I)","v":{"$error":"#N/A"}},{"$error":"#N/A"},{"$f":"_xlfn.XLOOKUP(C764,Data!C:C,Data!G:G,0)","v":0},{"$f":"_xlfn.XLOOKUP(C764,Data!C:C,Data!F:F,0)","v":0},{"$f":"_xlfn.XLOOKUP(C764,Data!C:C,Data!H:H,0)","v":0},null,"",{"$f":"_xlfn.XLOOKUP(C764,Data!C:C,Data!F:F,\"\")","v":""},null,{"$error":"#N/A"}]
["23-3-2021","12:42:00","2021-03-23T12:42:00",null,{"$f":"_xlfn.XLOOKUP(C765,Data!C:C,Data!I:I)","v":{"$error":"#N/A"}},{"$error":"#N/A"},{"$f":"_xlfn.XLOOKUP(C765,Data!C:C,Data!G:G,0)","v":0},{"$f":"_xlfn.XLOOKUP(C765,Data!C:C,Data!F:F,0)","v":0},{"$f":"_xlfn.XLOOKUP(C765,Data!C:C,Data!H:H,0)","v":0},null,"",{"$f":"_xlfn.XLOOKUP(C765,Data!C:C,Data!F:F,\"\")","v":""},null,{"$error":"#N/A"}]
["23-3-2021","12:43:00","2021-03-23T12:43:00",null,{"$f":"_xlfn.XLOOKUP(C766,Data!C:C,Data!I:I)","v":{"$error":"#N/A"}},{"$error":"#N/A"},{"$f":"_xlfn.XLOOKUP(C766,Data!C:C,Data!G:G,0)","v":0},{"$f":"_xlfn.XLOOKUP(C766,Data!C:C,Data!F:F,0)","v":0},{"$f":"_xlfn.XLOOKUP(C766,Data!C:C,Data!H:H,0)","v":0},null,"",{"$f":"_xlfn.XLOOKUP(C766,Data!C:C,Data!F:F,\"\")","v":""},null,{"$error":"#N/A"}]
["23-3-2021","12:44:00","2021-03-23T12:44:00",null,{"$f":"_xlfn.XLOOKUP(C767,Data!C:C,Data!I:I)","v":{"$error":"#N/A"}},{"$error":"#N/A"},{"$f":"_xlfn.XLOOKUP(C767,Data!C:C,Data!G:G,0)","v":0},{"$f":"_xlfn.XLOOKUP(C767,Data!C:C,Data!F:F,0)","v":0},{"$f":"_xlfn.XLOOKUP(C767,Data!C:C,Data!H:H,0)","v":0},null,"",{"$f":"_xlfn.XLOOKUP(C767,Data!C:C,Data!F:F,\"\")","v":""},null,{"$error":"#N/A"}]
["23-3-2021","12:45:00","2021-03-23T12:45:00",null,{"$f":"_xlfn.XLOOKUP(C768,Data!C:C,Data!I:I)","v":{"$error":"#N/A"}},{"$error":"#N/A"},{"$f":"_xlfn.XLOOKUP(C768,Data!C:C,Data!G:G,0)","v":0},{"$f":"_xlfn.XLOOKUP(C768,Data!C:C,Data!F:F,0)","v":0},{"$f":"_xlfn.XLOOKUP(C768,Data!C:C,Data!H:H,0)","v":0},null,"",{"$f":"_xlfn.XLOOKUP(C768,Data!C:C,Data!F:F,\"\")","v":""},null,{"$error":"#N/A"}]
["23-3-2021","12:46:00","2021-03-23T12:46:00",null,{"$f":"_xlfn.XLOOKUP(C769,Data!C:C,Data!I:I)","v":{"$error":"#N/A"}},{"$error":"#N/A"},{"$f":"_xlfn.XLOOKUP(C769,Data!C:C,Data!G:G,0)","v":0},{"$f":"_xlfn.XLOOKUP(C769,Data!C:C,Data!F:F,0)","v":0},{"$f":"_xlfn.XLOOKUP(C769,Data!C:C,Data!H:H,0)","v":0},null,"",{"$f":"_xlfn.XLOOKUP(C769,Data!C:C,Data!F:F,\"\")","v":""},null,{"$error":"#N/A"}]
["23-3-2021","12:47:00","2021-03-23T12:47:00",null,{"$f":"_xlfn.XLOOKUP(C770,Data!C:C,Data!I:I)","v":{"$error":"#N/A"}},{"$error":"#N/A"},{"$f":"_xlfn.XLOOKUP(C770,Data!C:C,Data!G:G,0)","v":0},{"$f":"_xlfn.XLOOKUP(C770,Data!C:C,Data!F:F,0)","v":0},{"$f":"_xlfn.XLOOKUP(C770,Data!C:C,Data!H:H,0)","v":0},null,"",{"$f":"_xlfn.XLOOKUP(C770,Data!C:C,Data!F:F,\"\")","v":""},null,{"$error":"#N/A"}]
["23-3-2021","12:48:00",{"$f":"A771+B771","v":"2021-03-23T12:48:00"},null,{"$f":"_xlfn.XLOOKUP(C771,Data!C:C,Data!I:I)","v":{"$error":"#N/A"}},{"$error":"#N/A"},{"$f":"_xlfn.XLOOKUP(C771,Data!C:C,Data!G:G,0)","v":0},{"$f":"_xlfn.XLOOKUP(C771,Data!C:C,Data!F:F,0)","v":0},{"$f":"_xlfn.XLOOKUP(C771,Data!C:C,Data!H:H,0)","v":0},null,"",{"$f":"_xlfn.XLOOKUP(C771,Data!C:C,Data!F:F,\"\")","v":""},null,{"$error":"#N/A"}]
[{"$f":"$A$3","v":"23-3-2021"},"12:49:00","2021-03-23T12:49:00",null,{"$f":"_xlfn.XLOOKUP(C772,Data!C:C,Data!I:I)","v":{"$error":"#N/A"}},{"$f":"IF(E772=255,F771,E772)","v":{"$error":"#N/A"}},{"$f":"_xlfn.XLOOKUP(C772,Data!C:C,Data!G:G,0)","v":0},{"$f":"_xlfn.XLOOKUP(C772,Data!C:C,Data!F:F,0)","v":0},{"$f":"_xlfn.XLOOKUP(C772,Data!C:C,Data!H:H,0)","v":0},null,{"$f":"IFERROR(IF(F772=\"#N/A\",\"\",F772),\"\")","v":""},{"$f":"_xlfn.XLOOKUP(C772,Data!C:C,Data!F:F,\"\")","v":""},null,{"$error":"#N/A"}]
["23-3-2021","12:50:00","2021-03-23T12:50:00",null,{"$f":"_xlfn.XLOOKUP(C773,Data!C:C,Data!I:I)","v":{"$error":"#N/A"}},{"$error":"#N/A"},{"$f":"_xlfn.XLOOKUP(C773,Data!C:C,Data!G:G,0)","v":0},{"$f":"_xlfn.XLOOKUP(C773,Data!C:C,Data!F:F,0)","v":0},{"$f":"_xlfn.XLOOKUP(C773,Data!C:C,Data!H:H,0)","v":0},null,"",{"$f":"_xlfn.XLOOKUP(C773,Data!C:C,Data!F:F,\"\")","v":""},null,{"$error":"#N/A"}]
["23-3-2021","12:51:00","2021-03-23T12:51:00",null,{"$f":"_xlfn.XLOOKUP(C774,Data!C:C,Data!I:I)","v":{"$error":"#N/A"}},{"$error":"#N/A"},{"$f":"_xlfn.XLOOKUP(C774,Data!C:C,Data!G:G,0)","v":0},{"$f":"_xlfn.XLOOKUP(C774,Data!C:C,Data!F:F,0)","v":0},{"$f":"_xlfn.XLOOKUP(C774,Data!C:C,Data!H:H,0)","v":0},null,"",{"$f":"_xlfn.XLOOKUP(C774,Data!C:C,Data!F:F,\"\")","v":""},null,{"$error":"#N/A"}]
["23-3-2021","12:52:00","2021-03-23T12:52:00",null,{"$f":"_xlfn.XLOOKUP(C775,Data!C:C,Data!I:I)","v":{"$error":"#N/A"}},{"$error":"#N/A"},{"$f":"_xlfn.XLOOKUP(C775,Data!C:C,Data!G:G,0)","v":0},{"$f":"_xlfn.XLOOKUP(C775,Data!C:C,Data!F:F,0)","v":0},{"$f":"_xlfn.XLOOKUP(C775,Data!C:C,Data!H:H,0)","v":0},null,"",{"$f":"_xlfn.XLOOKUP(C775,Data!C:C,Data!F:F,\"\")","v":""},null,{"$f":"IF(F775=\"\",\"\",AVERAGE(F771:F779))","v":{"$error":"#N/A"}}]
["23-3-2021","12:53:00","2021-03-23T12:53:00",null,{"$f":"_xlfn.XLOOKUP(C776,Data!C:C,Data!I:I)","v":{"$error":"#N/A"}},{"$error":"#N/A"},{"$f":"_xlfn.XLOOKUP(C776,Data!C:C,Data!G:G,0)","v":0},{"$f":"_xlfn.XLOOKUP(C776,Data!C:C,Data!F:F,0)","v":0},{"$f":"_xlfn.XLOOKUP(C776,Data!C:C,Data!H:H,0)","v":0},null,"",{"$f":"_xlfn.XLOOKUP(C776,Data!C:C,Data!F:F,\"\")","v":""},null,{"$error":"#N/A"}]
["23-3-2021","12:54:00","2021-03-23T12:54:00",null,{"$f":"_xlfn.XLOOKUP(C777,Data!C:C,Data!I:I)","v":{"$error":"#N/A"}},{"$error":"#N/A"},{"$f":"_xlfn.XLOOKUP(C777,Data!C:C,Data!G:G,0)","v":0},{"$f":"_xlfn.XLOOKUP(C777,Data!C:C,Data!F:F,0)","v":0},{"$f":"_xlfn.XLOOKUP(C777,Data!C:C,Data!H:H,0)","v":0},null,"",{"$f":"_xlfn.XLOOKUP(C777,Data!C:C,Data!F:F,\"\")","v":""},null,{"$error":"#N/A"}]
["23-3-2021","12:55:00","2021-03-23T12:55:00",null,{"$f":"_xlfn.XLOOKUP(C778,Data!C:C,Data!I:I)","v":{"$error":"#N/A"}},{"$error":"#N/A"},{"$f":"_xlfn.XLOOKUP(C778,Data!C:C,Data!G:G,0)","v":0},{"$f":"_xlfn.XLOOKUP(C778,Data!C:C,Data!F:F,0)","v":0},{"$f":"_xlfn.XLOOKUP(C778,Data!C:C,Data!H:H,0)","v":0},null,"",{"$f":"_xlfn.XLOOKUP(C778,Data!C:C,Data!F:F,\"\")","v":""},null,{"$error":"#N/A"}]
["23-3-2021","12:56:00","2021-03-23T12:56:00",null,{"$f":"_xlfn.XLOOKUP(C779,Data!C:C,Data!I:I)","v":{"$error":"#N/A"}},{"$error":"#N/A"},{"$f":"_xlfn.XLOOKUP(C779,Data!C:C,Data!G:G,0)","v":0},{"$f":"_xlfn.XLOOKUP(C779,Data!C:C,Data!F:F,0)","v":0},{"$f":"_xlfn.XLOOKUP(C779,Data!C:C,Data!H:H,0)","v":0},null,"",{"$f":"_xlfn.XLOOKUP(C779,Data!C:C,Data!F:F,\"\")","v":""},null,{"$error":"#N/A"}]
["23-3-2021","12:57:00","2021-03-23T12:57:00",null,{"$f":"_xlfn.XLOOKUP(C780,Data!C:C,Data!I:I)","v":{"$error":"#N/A"}},{"$error":"#N/A"},{"$f":"_xlfn.XLOOKUP(C780,Data!C:C,Data!G:G,0)","v":0},{"$f":"_xlfn.XLOOKUP(C780,Data!C:C,Data!F:F,0)","v":0},{"$f":"_xlfn.XLOOKUP(C780,Data!C:C,Data!H:H,0)","v":0},null,"",{"$f":"_xlfn.XLOOKUP(C780,Data!C:C,Data!F:F,\"\")","v":""},null,{"$error":"#N/A"}]
["23-3-2021","12:58:00","2021-03-23T12:58:00",null,{"$f":"_xlfn.XLOOKUP(C781,Data!C:C,Data!I:I)","v":{"$error":"#N/A"}},{"$error":"#N/A"},{"$f":"_xlfn.XLOOKUP(C781,Data!C:C,Data!G:G,0)","v":0},{"$f":"_xlfn.XLOOKUP(C781,Data!C:C,Data!F:F,0)","v":0},{"$f":"_xlfn.XLOOKUP(C781,Data!C:C,Data!H:H,0)","v":0},null,"",{"$f":"_xlfn.XLOOKUP(C781,Data!C:C,Data!F:F,\"\")","v":""},null,{"$error":"#N/A"}]
["23-3-2021","12:59:00","2021-03-23T12:59:00",null,{"$f":"_xlfn.XLOOKUP(C782,Data!C:C,Data!I:I)","v":{"$error":"#N/A"}},{"$error":"#N/A"},{"$f":"_xlfn.XLOOKUP(C782,Data!C:C,Data!G:G,0)","v":0},{"$f":"_xlfn.XLOOKUP(C782,Data!C:C,Data!F:F,0)","v":0},{"$f":"_xlfn.XLOOKUP(C782,Data!C:C,Data!H:H,0)","v":0},null,"",{"$f":"_xlfn.XLOOKUP(C782,Data!C:C,Data!F:F,\"\")","v":""},null,{"$error":"#N/A"}]
["23-3-2021","13:00:00","2021-03-23T13:00:00",null,{"$f":"_xlfn.XLOOKUP(C783,Data!C:C,Data!I:I)","v":{"$error":"#N/A"}},{"$error":"#N/A"},{"$f":"_xlfn.XLOOKUP(C783,Data!C:C,Data!G:G,0)","v":0},{"$f":"_xlfn.XLOOKUP(C783,Data!C:C,Data!F:F,0)","v":0},{"$f":"_xlfn.XLOOKUP(C783,Data!C:C,Data!H:H,0)","v":0},null,"",{"$f":"_xlfn.XLOOKUP(C783,Data!C:C,Data!F:F,\"\")","v":""},null,{"$error":"#N/A"}]
["23-3-2021","13:01:00","2021-03-23T13:01:00",null,{"$f":"_xlfn.XLOOKUP(C784,Data!C:C,Data!I:I)","v":{"$error":"#N/A"}},{"$error":"#N/A"},{"$f":"_xlfn.XLOOKUP(C784,Data!C:C,Data!G:G,0)","v":0},{"$f":"_xlfn.XLOOKUP(C784,Data!C:C,Data!F:F,0)","v":0},{"$f":"_xlfn.XLOOKUP(C784,Data!C:C,Data!H:H,0)","v":0},null,"",{"$f":"_xlfn.XLOOKUP(C784,Data!C:C,Data!F:F,\"\")","v":""},null,{"$error":"#N/A"}]
["23-3-2021","13:02:00","2021-03-23T13:02:00",null,{"$f":"_xlfn.XLOOKUP(C785,Data!C:C,Data!I:I)","v":{"$error":"#N/A"}},{"$error":"#N/A"},{"$f":"_xlfn.XLOOKUP(C785,Data!C:C,Data!G:G,0)","v":0},{"$f":"_xlfn.XLOOKUP(C785,Data!C:C,Data!F:F,0)","v":0},{"$f":"_xlfn.XLOOKUP(C785,Data!C:C,Data!H:H,0)","v":0},null,"",{"$f":"_xlfn.XLOOKUP(C785,Data!C:C,Data!F:F,\"\")","v":""},null,{"$error":"#N/A"}]
["23-3-2021","13:03:00","2021-03-23T13:03:00",null,{"$f":"_xlfn.XLOOKUP(C786,Data!C:C,Data!I:I)","v":{"$error":"#N/A"}},{"$error":"#N/A"},{"$f":"_xlfn.XLOOKUP(C786,Data!C:C,Data!G:G,0)","v":0},{"$f":"_xlfn.XLOOKUP(C786,Data!C:C,Data!F:F,0)","v":0},{"$f":"_xlfn.XLOOKUP(C786,Data!C:C,Data!H:H,0)","v":0},null,"",{"$f":"_xlfn.XLOOKUP(C786,Data!C:C,Data!F:F,\"\")","v":""},null,{"$error":"#N/A"}]
["23-3-2021","13:04:00","2021-03-23T13:04:00",null,{"$f":"_xlfn.XLOOKUP(C787,Data!C:C,Data!I:I)","v":{"$error":"#N/A"}},{"$error":"#N/A"},{"$f":"_xlfn.XLOOKUP(C787,Data!C:C,Data!G:G,0)","v":0},{"$f":"_xlfn.XLOOKUP(C787,Data!C:C,Data!F:F,0)","v":0},{"$f":"_xlfn.XLOOKUP(C787,Data!C:C,Data!H:H,0)","v":0},null,"",{"$f":"_xlfn.XLOOKUP(C787,Data!C:C,Data!F:F,\"\")","v":""},null,{"$error":"#N/A"}]
["23-3-2021","13:05:00","2021-03-23T13:05:00",null,{"$f":"_xlfn.XLOOKUP(C788,Data!C:C,Data!I:I)","v":{"$error":"#N/A"}},{"$error":"#N/A"},{"$f":"_xlfn.XLOOKUP(C788,Data!C:C,Data!G:G,0)","v":0},{"$f":"_xlfn.XLOOKUP(C788,Data!C:C,Data!F:F,0)","v":0},{"$f":"_xlfn.XLOOKUP(C788,Data!C:C,Data!H:H,0)","v":0},null,"",{"$f":"_xlfn.XLOOKUP(C788,Data!C:C,Data!F:F,\"\")","v":""},null,{"$error":"#N/A"}]
["23-3-2021","13:06:00","2021-03-23T13:06:00",null,{"$f":"_xlfn.XLOOKUP(C789,Data!C:C,Data!I:I)","v":{"$error":"#N/A"}},{"$error":"#N/A"},{"$f":"_xlfn.XLOOKUP(C789,Data!C:C,Data!G:G,0)","v":0},{"$f":"_xlfn.XLOOKUP(C789,Data!C:C,Data!F:F,0)","v":0},{"$f":"_xlfn.XLOOKUP(C789,Data!C:C,Data!H:H,0)","v":0},null,"",{"$f":"_xlfn.XLOOKUP(C789,Data!C:C,Data!F:F,\"\")","v":""},null,{"$error":"#N/A"}]
["23-3-2021","13:07:00","2021-03-23T13:07:00",null,{"$f":"_xlfn.XLOOKUP(C790,Data!C:C,Data!I:I)","v":{"$error":"#N/A"}},{"$error":"#N/A"},{"$f":"_xlfn.XLOOKUP(C790,Data!C:C,Data!G:G,0)","v":0},{"$f":"_xlfn.XLOOKUP(C790,Data!C:C,Data!F:F,0)","v":0},{"$f":"_xlfn.XLOOKUP(C790,Data!C:C,Data!H:H,0)","v":0},null,"",{"$f":"_xlfn.XLOOKUP(C790,Data!C:C,Data!F:F,\"\")","v":""},null,{"$error":"#N/A"}]
["23-3-2021","13:08:00","2021-03-23T13:08:00",null,{"$f":"_xlfn.XLOOKUP(C791,Data!C:C,Data!I:I)","v":{"$error":"#N/A"}},{"$error":"#N/A"},{"$f":"_xlfn.XLOOKUP(C791,Data!C:C,Data!G:G,0)","v":0},{"$f":"_xlfn.XLOOKUP(C791,Data!C:C,Data!F:F,0)","v":0},{"$f":"_xlfn.XLOOKUP(C791,Data!C:C,Data!H:H,0)","v":0},null,"",{"$f":"_xlfn.XLOOKUP(C791,Data!C:C,Data!F:F,\"\")","v":""},null,{"$error":"#N/A"}]
["23-3-2021","13:09:00","2021-03-23T13:09:00",null,{"$f":"_xlfn.XLOOKUP(C792,Data!C:C,Data!I:I)","v":{"$error":"#N/A"}},{"$error":"#N/A"},{"$f":"_xlfn.XLOOKUP(C792,Data!C:C,Data!G:G,0)","v":0},{"$f":"_xlfn.XLOOKUP(C792,Data!C:C,Data!F:F,0)","v":0},{"$f":"_xlfn.XLOOKUP(C792,Data!C:C,Data!H:H,0)","v":0},null,"",{"$f":"_xlfn.XLOOKUP(C792,Data!C:C,Data!F:F,\"\")","v":""},null,{"$error":"#N/A"}]
["23-3-2021","13:10:00","2021-03-23T13:10:00",null,{"$f":"_xlfn.XLOOKUP(C793,Data!C:C,Data!I:I)","v":{"$error":"#N/A"}},{"$error":"#N/A"},{"$f":"_xlfn.XLOOKUP(C793,Data!C:C,Data!G:G,0)","v":0},{"$f":"_xlfn.XLOOKUP(C793,Data!C:C,Data!F:F,0)","v":0},{"$f":"_xlfn.XLOOKUP(C793,Data!C:C,Data!H:H,0)","v":0},null,"",{"$f":"_xlfn.XLOOKUP(C793,Data!C:C,Data!F:F,\"\")","v":""},null,{"$error":"#N/A"}]
["23-3-2021","13:11:00","2021-03-23T13:11:00",null,{"$f":"_xlfn.XLOOKUP(C794,Data!C:C,Data!I:I)","v":{"$error":"#N/A"}},{"$error":"#N/A"},{"$f":"_xlfn.XLOOKUP(C794,Data!C:C,Data!G:G,0)","v":0},{"$f":"_xlfn.XLOOKUP(C794,Data!C:C,Data!F:F,0)","v":0},{"$f":"_xlfn.XLOOKUP(C794,Data!C:C,Data!H:H,0)","v":0},null,"",{"$f":"_xlfn.XLOOKUP(C794,Data!C:C,Data!F:F,\"\")","v":""},null,{"$error":"#N/A"}]
["23-3-2021","13:12:00","2021-03-23T13:12:00",null,{"$f":"_xlfn.XLOOKUP(C795,Data!C:C,Data!I:I)","v":{"$error":"#N/A"}},{"$error":"#N/A"},{"$f":"_xlfn.XLOOKUP(C795,Data!C:C,Data!G:G,0)","v":0},{"$f":"_xlfn.XLOOKUP(C795,Data!C:C,Data!F:F,0)","v":0},{"$f":"_xlfn.XLOOKUP(C795,Data!C:C,Data!H:H,0)","v":0},null,"",{"$f":"_xlfn.XLOOKUP(C795,Data!C:C,Data!F:F,\"\")","v":""},null,{"$error":"#N/A"}]
["23-3-2021","13:13:00","2021-03-23T13:13:00",null,{"$f":"_xlfn.XLOOKUP(C796,Data!C:C,Data!I:I)","v":{"$error":"#N/A"}},{"$error":"#N/A"},{"$f":"_xlfn.XLOOKUP(C796,Data!C:C,Data!G:G,0)","v":0},{"$f":"_xlfn.XLOOKUP(C796,Data!C:C,Data!F:F,0)","v":0},{"$f":"_xlfn.XLOOKUP(C796,Data!C:C,Data!H:H,0)","v":0},null,"",{"$f":"_xlfn.XLOOKUP(C796,Data!C:C,Data!F:F,\"\")","v":""},null,{"$error":"#N/A"}]
["23-3-2021","13:14:00","2021-03-23T13:14:00",null,{"$f":"_xlfn.XLOOKUP(C797,Data!C:C,Data!I:I)","v":{"$error":"#N/A"}},{"$error":"#N/A"},{"$f":"_xlfn.XLOOKUP(C797,Data!C:C,Data!G:G,0)","v":0},{"$f":"_xlfn.XLOOKUP(C797,Data!C:C,Data!F:F,0)","v":0},{"$f":"_xlfn.XLOOKUP(C797,Data!C:C,Data!H:H,0)","v":0},null,"",{"$f":"_xlfn.XLOOKUP(C797,Data!C:C,Data!F:F,\"\")","v":""},null,{"$error":"#N/A"}]
["23-3-2021","13:15:00","2021-03-23T13:15:00",null,{"$f":"_xlfn.XLOOKUP(C798,Data!C:C,Data!I:I)","v":{"$error":"#N/A"}},{"$error":"#N/A"},{"$f":"_xlfn.XLOOKUP(C798,Data!C:C,Data!G:G,0)","v":0},{"$f":"_xlfn.XLOOKUP(C798,Data!C:C,Data!F:F,0)","v":0},{"$f":"_xlfn.XLOOKUP(C798,Data!C:C,Data!H:H,0)","v":0},null,"",{"$f":"_xlfn.XLOOKUP(C798,Data!C:C,Data!F:F,\"\")","v":""},null,{"$error":"#N/A"}]
["23-3-2021","13:16:00","2021-03-23T13:16:00",null,{"$f":"_xlfn.XLOOKUP(C799,Data!C:C,Data!I:I)","v":{"$error":"#N/A"}},{"$error":"#N/A"},{"$f":"_xlfn.XLOOKUP(C799,Data!C:C,Data!G:G,0)","v":0},{"$f":"_xlfn.XLOOKUP(C799,Data!C:C,Data!F:F,0)","v":0},{"$f":"_xlfn.XLOOKUP(C799,Data!C:C,Data!H:H,0)","v":0},null,"",{"$f":"_xlfn.XLOOKUP(C799,Data!C:C,Data!F:F,\"\")","v":""},null,{"$error":"#N/A"}]
["23-3-2021","13:17:00","2021-03-23T13:17:00",null,{"$f":"_xlfn.XLOOKUP(C800,Data!C:C,Data!I:I)","v":{"$error":"#N/A"}},{"$error":"#N/A"},{"$f":"_xlfn.XLOOKUP(C800,Data!C:C,Data!G:G,0)","v":0},{"$f":"_xlfn.XLOOKUP(C800,Data!C:C,Data!F:F,0)","v":0},{"$f":"_xlfn.XLOOKUP(C800,Data!C:C,Data!H:H,0)","v":0},null,"",{"$f":"_xlfn.XLOOKUP(C800,Data!C:C,Data!F:F,\"\")","v":""},null,{"$error":"#N/A"}]
["23-3-2021","13:18:00","2021-03-23T13:18:00",null,{"$f":"_xlfn.XLOOKUP(C801,Data!C:C,Data!I:I)","v":{"$error":"#N/A"}},{"$error":"#N/A"},{"$f":"_xlfn.XLOOKUP(C801,Data!C:C,Data!G:G,0)","v":0},{"$f":"_xlfn.XLOOKUP(C801,Data!C:C,Data!F:F,0)","v":0},{"$f":"_xlfn.XLOOKUP(C801,Data!C:C,Data!H:H,0)","v":0},null,"",{"$f":"_xlfn.XLOOKUP(C801,Data!C:C,Data!F:F,\"\")","v":""},null,{"$error":"#N/A"}]
["23-3-2021","13:19:00","2021-03-23T13:19:00",null,{"$f":"_xlfn.XLOOKUP(C802,Data!C:C,Data!I:I)","v":{"$error":"#N/A"}},{"$error":"#N/A"},{"$f":"_xlfn.XLOOKUP(C802,Data!C:C,Data!G:G,0)","v":0},{"$f":"_xlfn.XLOOKUP(C802,Data!C:C,Data!F:F,0)","v":0},{"$f":"_xlfn.XLOOKUP(C802,Data!C:C,Data!H:H,0)","v":0},null,"",{"$f":"_xlfn.XLOOKUP(C802,Data!C:C,Data!F:F,\"\")","v":""},null,{"$error":"#N/A"}]
["23-3-2021","13:20:00","2021-03-23T13:20:00",null,{"$f":"_xlfn.XLOOKUP(C803,Data!C:C,Data!I:I)","v":{"$error":"#N/A"}},{"$error":"#N/A"},{"$f":"_xlfn.XLOOKUP(C803,Data!C:C,Data!G:G,0)","v":0},{"$f":"_xlfn.XLOOKUP(C803,Data!C:C,Data!F:F,0)","v":0},{"$f":"_xlfn.XLOOKUP(C803,Data!C:C,Data!H:H,0)","v":0},null,"",{"$f":"_xlfn.XLOOKUP(C803,Data!C:C,Data!F:F,\"\")","v":""},null,{"$error":"#N/A"}]
["23-3-2021","13:21:00","2021-03-23T13:21:00",null,{"$f":"_xlfn.XLOOKUP(C804,Data!C:C,Data!I:I)","v":{"$error":"#N/A"}},{"$error":"#N/A"},{"$f":"_xlfn.XLOOKUP(C804,Data!C:C,Data!G:G,0)","v":0},{"$f":"_xlfn.XLOOKUP(C804,Data!C:C,Data!F:F,0)","v":0},{"$f":"_xlfn.XLOOKUP(C804,Data!C:C,Data!H:H,0)","v":0},null,"",{"$f":"_xlfn.XLOOKUP(C804,Data!C:C,Data!F:F,\"\")","v":""},null,{"$error":"#N/A"}]
["23-3-2021","13:22:00","2021-03-23T13:22:00",null,{"$f":"_xlfn.XLOOKUP(C805,Data!C:C,Data!I:I)","v":{"$error":"#N/A"}},{"$error":"#N/A"},{"$f":"_xlfn.XLOOKUP(C805,Data!C:C,Data!G:G,0)","v":0},{"$f":"_xlfn.XLOOKUP(C805,Data!C:C,Data!F:F,0)","v":0},{"$f":"_xlfn.XLOOKUP(C805,Data!C:C,Data!H:H,0)","v":0},null,"",{"$f":"_xlfn.XLOOKUP(C805,Data!C:C,Data!F:F,\"\")","v":""},null,{"$error":"#N/A"}]
["23-3-2021","13:23:00","2021-03-23T13:23:00",null,{"$f":"_xlfn.XLOOKUP(C806,Data!C:C,Data!I:I)","v":{"$error":"#N/A"}},{"$error":"#N/A"},{"$f":"_xlfn.XLOOKUP(C806,Data!C:C,Data!G:G,0)","v":0},{"$f":"_xlfn.XLOOKUP(C806,Data!C:C,Data!F:F,0)","v":0},{"$f":"_xlfn.XLOOKUP(C806,Data!C:C,Data!H:H,0)","v":0},null,"",{"$f":"_xlfn.XLOOKUP(C806,Data!C:C,Data!F:F,\"\")","v":""},null,{"$error":"#N/A"}]
["23-3-2021","13:24:00","2021-03-23T13:24:00",null,{"$f":"_xlfn.XLOOKUP(C807,Data!C:C,Data!I:I)","v":{"$error":"#N/A"}},{"$error":"#N/A"},{"$f":"_xlfn.XLOOKUP(C807,Data!C:C,Data!G:G,0)","v":0},{"$f":"_xlfn.XLOOKUP(C807,Data!C:C,Data!F:F,0)","v":0},{"$f":"_xlfn.XLOOKUP(C807,Data!C:C,Data!H:H,0)","v":0},null,"",{"$f":"_xlfn.XLOOKUP(C807,Data!C:C,Data!F:F,\"\")","v":""},null,{"$error":"#N/A"}]
["23-3-2021","13:25:00","2021-03-23T13:25:00",null,{"$f":"_xlfn.XLOOKUP(C808,Data!C:C,Data!I:I)","v":{"$error":"#N/A"}},{"$error":"#N/A"},{"$f":"_xlfn.XLOOKUP(C808,Data!C:C,Data!G:G,0)","v":0},{"$f":"_xlfn.XLOOKUP(C808,Data!C:C,Data!F:F,0)","v":0},{"$f":"_xlfn.XLOOKUP(C808,Data!C:C,Data!H:H,0)","v":0},null,"",{"$f":"_xlfn.XLOOKUP(C808,Data!C:C,Data!F:F,\"\")","v":""},null,{"$error":"#N/A"}]
["23-3-2021","13:26:00","2021-03-23T13:26:00",null,{"$f":"_xlfn.XLOOKUP(C809,Data!C:C,Data!I:I)","v":{"$error":"#N/A"}},{"$error":"#N/A"},{"$f":"_xlfn.XLOOKUP(C809,Data!C:C,Data!G:G,0)","v":0},{"$f":"_xlfn.XLOOKUP(C809,Data!C:C,Data!F:F,0)","v":0},{"$f":"_xlfn.XLOOKUP(C809,Data!C:C,Data!H:H,0)","v":0},null,"",{"$f":"_xlfn.XLOOKUP(C809,Data!C:C,Data!F:F,\"\")","v":""},null,{"$error":"#N/A"}]
["23-3-2021","13:27:00","2021-03-23T13:27:00",null,{"$f":"_xlfn.XLOOKUP(C810,Data!C:C,Data!I:I)","v":{"$error":"#N/A"}},{"$error":"#N/A"},{"$f":"_xlfn.XLOOKUP(C810,Data!C:C,Data!G:G,0)","v":0},{"$f":"_xlfn.XLOOKUP(C810,Data!C:C,Data!F:F,0)","v":0},{"$f":"_xlfn.XLOOKUP(C810,Data!C:C,Data!H:H,0)","v":0},null,"",{"$f":"_xlfn.XLOOKUP(C810,Data!C:C,Data!F:F,\"\")","v":""},null,{"$error":"#N/A"}]
["23-3-2021","13:28:00","2021-03-23T13:28:00",null,{"$f":"_xlfn.XLOOKUP(C811,Data!C:C,Data!I:I)","v":{"$error":"#N/A"}},{"$error":"#N/A"},{"$f":"_xlfn.XLOOKUP(C811,Data!C:C,Data!G:G,0)","v":0},{"$f":"_xlfn.XLOOKUP(C811,Data!C:C,Data!F:F,0)","v":0},{"$f":"_xlfn.XLOOKUP(C811,Data!C:C,Data!H:H,0)","v":0},null,"",{"$f":"_xlfn.XLOOKUP(C811,Data!C:C,Data!F:F,\"\")","v":""},null,{"$error":"#N/A"}]
["23-3-2021","13:29:00","2021-03-23T13:29:00",null,{"$f":"_xlfn.XLOOKUP(C812,Data!C:C,Data!I:I)","v":{"$error":"#N/A"}},{"$error":"#N/A"},{"$f":"_xlfn.XLOOKUP(C812,Data!C:C,Data!G:G,0)","v":0},{"$f":"_xlfn.XLOOKUP(C812,Data!C:C,Data!F:F,0)","v":0},{"$f":"_xlfn.XLOOKUP(C812,Data!C:C,Data!H:H,0)","v":0},null,"",{"$f":"_xlfn.XLOOKUP(C812,Data!C:C,Data!F:F,\"\")","v":""},null,{"$error":"#N/A"}]
["23-3-2021","13:30:00","2021-03-23T13:30:00",null,{"$f":"_xlfn.XLOOKUP(C813,Data!C:C,Data!I:I)","v":{"$error":"#N/A"}},{"$error":"#N/A"},{"$f":"_xlfn.XLOOKUP(C813,Data!C:C,Data!G:G,0)","v":0},{"$f":"_xlfn.XLOOKUP(C813,Data!C:C,Data!F:F,0)","v":0},{"$f":"_xlfn.XLOOKUP(C813,Data!C:C,Data!H:H,0)","v":0},null,"",{"$f":"_xlfn.XLOOKUP(C813,Data!C:C,Data!F:F,\"\")","v":""},null,{"$error":"#N/A"}]
["23-3-2021","13:31:00","2021-03-23T13:31:00",null,{"$f":"_xlfn.XLOOKUP(C814,Data!C:C,Data!I:I)","v":{"$error":"#N/A"}},{"$error":"#N/A"},{"$f":"_xlfn.XLOOKUP(C814,Data!C:C,Data!G:G,0)","v":0},{"$f":"_xlfn.XLOOKUP(C814,Data!C:C,Data!F:F,0)","v":0},{"$f":"_xlfn.XLOOKUP(C814,Data!C:C,Data!H:H,0)","v":0},null,"",{"$f":"_xlfn.XLOOKUP(C814,Data!C:C,Data!F:F,\"\")","v":""},null,{"$error":"#N/A"}]
["23-3-2021","13:32:00","2021-03-23T13:32:00",null,{"$f":"_xlfn.XLOOKUP(C815,Data!C:C,Data!I:I)","v":{"$error":"#N/A"}},{"$error":"#N/A"},{"$f":"_xlfn.XLOOKUP(C815,Data!C:C,Data!G:G,0)","v":0},{"$f":"_xlfn.XLOOKUP(C815,Data!C:C,Data!F:F,0)","v":0},{"$f":"_xlfn.XLOOKUP(C815,Data!C:C,Data!H:H,0)","v":0},null,"",{"$f":"_xlfn.XLOOKUP(C815,Data!C:C,Data!F:F,\"\")","v":""},null,{"$error":"#N/A"}]
["23-3-2021","13:33:00","2021-03-23T13:33:00",null,{"$f":"_xlfn.XLOOKUP(C816,Data!C:C,Data!I:I)","v":{"$error":"#N/A"}},{"$error":"#N/A"},{"$f":"_xlfn.XLOOKUP(C816,Data!C:C,Data!G:G,0)","v":0},{"$f":"_xlfn.XLOOKUP(C816,Data!C:C,Data!F:F,0)","v":0},{"$f":"_xlfn.XLOOKUP(C816,Data!C:C,Data!H:H,0)","v":0},null,"",{"$f":"_xlfn.XLOOKUP(C816,Data!C:C,Data!F:F,\"\")","v":""},null,{"$error":"#N/A"}]
["23-3-2021","13:34:00","2021-03-23T13:34:00",null,{"$f":"_xlfn.XLOOKUP(C817,Data!C:C,Data!I:I)","v":{"$error":"#N/A"}},{"$error":"#N/A"},{"$f":"_xlfn.XLOOKUP(C817,Data!C:C,Data!G:G,0)","v":0},{"$f":"_xlfn.XLOOKUP(C817,Data!C:C,Data!F:F,0)","v":0},{"$f":"_xlfn.XLOOKUP(C817,Data!C:C,Data!H:H,0)","v":0},null,"",{"$f":"_xlfn.XLOOKUP(C817,Data!C:C,Data!F:F,\"\")","v":""},null,{"$error":"#N/A"}]
["23-3-2021","13:35:00","2021-03-23T13:35:00",null,{"$f":"_xlfn.XLOOKUP(C818,Data!C:C,Data!I:I)","v":{"$error":"#N/A"}},{"$error":"#N/A"},{"$f":"_xlfn.XLOOKUP(C818,Data!C:C,Data!G:G,0)","v":0},{"$f":"_xlfn.XLOOKUP(C818,Data!C:C,Data!F:F,0)","v":0},{"$f":"_xlfn.XLOOKUP(C818,Data!C:C,Data!H:H,0)","v":0},null,"",{"$f":"_xlfn.XLOOKUP(C818,Data!C:C,Data!F:F,\"\")","v":""},null,{"$error":"#N/A"}]
["23-3-2021","13:36:00","2021-03-23T13:36:00",null,{"$f":"_xlfn.XLOOKUP(C819,Data!C:C,Data!I:I)","v":{"$error":"#N/A"}},{"$error":"#N/A"},{"$f":"_xlfn.XLOOKUP(C819,Data!C:C,Data!G:G,0)","v":0},{"$f":"_xlfn.XLOOKUP(C819,Data!C:C,Data!F:F,0)","v":0},{"$f":"_xlfn.XLOOKUP(C819,Data!C:C,Data!H:H,0)","v":0},null,"",{"$f":"_xlfn.XLOOKUP(C819,Data!C:C,Data!F:F,\"\")","v":""},null,{"$error":"#N/A"}]
["23-3-2021","13:37:00","2021-03-23T13:37:00",null,{"$f":"_xlfn.XLOOKUP(C820,Data!C:C,Data!I:I)","v":{"$error":"#N/A"}},{"$error":"#N/A"},{"$f":"_xlfn.XLOOKUP(C820,Data!C:C,Data!G:G,0)","v":0},{"$f":"_xlfn.XLOOKUP(C820,Data!C:C,Data!F:F,0)","v":0},{"$f":"_xlfn.XLOOKUP(C820,Data!C:C,Data!H:H,0)","v":0},null,"",{"$f":"_xlfn.XLOOKUP(C820,Data!C:C,Data!F:F,\"\")","v":""},null,{"$error":"#N/A"}]
["23-3-2021","13:38:00","2021-03-23T13:38:00",null,{"$f":"_xlfn.XLOOKUP(C821,Data!C:C,Data!I:I)","v":{"$error":"#N/A"}},{"$error":"#N/A"},{"$f":"_xlfn.XLOOKUP(C821,Data!C:C,Data!G:G,0)","v":0},{"$f":"_xlfn.XLOOKUP(C821,Data!C:C,Data!F:F,0)","v":0},{"$f":"_xlfn.XLOOKUP(C821,Data!C:C,Data!H:H,0)","v":0},null,"",{"$f":"_xlfn.XLOOKUP(C821,Data!C:C,Data!F:F,\"\")","v":""},null,{"$error":"#N/A"}]
["23-3-2021","13:39:00","2021-03-23T13:39:00",null,{"$f":"_xlfn.XLOOKUP(C822,Data!C:C,Data!I:I)","v":{"$error":"#N/A"}},{"$error":"#N/A"},{"$f":"_xlfn.XLOOKUP(C822,Data!C:C,Data!G:G,0)","v":0},{"$f":"_xlfn.XLOOKUP(C822,Data!C:C,Data!F:F,0)","v":0},{"$f":"_xlfn.XLOOKUP(C822,Data!C:C,Data!H:H,0)","v":0},null,"",{"$f":"_xlfn.XLOOKUP(C822,Data!C:C,Data!F:F,\"\")","v":""},null,{"$error":"#N/A"}]
["23-3-2021","13:40:00","2021-03-23T13:40:00",null,{"$f":"_xlfn.XLOOKUP(C823,Data!C:C,Data!I:I)","v":{"$error":"#N/A"}},{"$error":"#N/A"},{"$f":"_xlfn.XLOOKUP(C823,Data!C:C,Data!G:G,0)","v":0},{"$f":"_xlfn.XLOOKUP(C823,Data!C:C,Data!F:F,0)","v":0},{"$f":"_xlfn.XLOOKUP(C823,Data!C:C,Data!H:H,0)","v":0},null,"",{"$f":"_xlfn.XLOOKUP(C823,Data!C:C,Data!F:F,\"\")","v":""},null,{"$error":"#N/A"}]
["23-3-2021","13:41:00","2021-03-23T13:41:00",null,{"$f":"_xlfn.XLOOKUP(C824,Data!C:C,Data!I:I)","v":{"$error":"#N/A"}},{"$error":"#N/A"},{"$f":"_xlfn.XLOOKUP(C824,Data!C:C,Data!G:G,0)","v":0},{"$f":"_xlfn.XLOOKUP(C824,Data!C:C,Data!F:F,0)","v":0},{"$f":"_xlfn.XLOOKUP(C824,Data!C:C,Data!H:H,0)","v":0},null,"",{"$f":"_xlfn.XLOOKUP(C824,Data!C:C,Data!F:F,\"\")","v":""},null,{"$error":"#N/A"}]
["23-3-2021","13:42:00","2021-03-23T13:42:00",null,{"$f":"_xlfn.XLOOKUP(C825,Data!C:C,Data!I:I)","v":{"$error":"#N/A"}},{"$error":"#N/A"},{"$f":"_xlfn.XLOOKUP(C825,Data!C:C,Data!G:G,0)","v":0},{"$f":"_xlfn.XLOOKUP(C825,Data!C:C,Data!F:F,0)","v":0},{"$f":"_xlfn.XLOOKUP(C825,Data!C:C,Data!H:H,0)","v":0},null,"",{"$f":"_xlfn.XLOOKUP(C825,Data!C:C,Data!F:F,\"\")","v":""},null,{"$error":"#N/A"}]
["23-3-2021","13:43:00","2021-03-23T13:43:00",null,{"$f":"_xlfn.XLOOKUP(C826,Data!C:C,Data!I:I)","v":{"$error":"#N/A"}},{"$error":"#N/A"},{"$f":"_xlfn.XLOOKUP(C826,Data!C:C,Data!G:G,0)","v":0},{"$f":"_xlfn.XLOOKUP(C826,Data!C:C,Data!F:F,0)","v":0},{"$f":"_xlfn.XLOOKUP(C826,Data!C:C,Data!H:H,0)","v":0},null,"",{"$f":"_xlfn.XLOOKUP(C826,Data!C:C,Data!F:F,\"\")","v":""},null,{"$error":"#N/A"}]
["23-3-2021","13:44:00","2021-03-23T13:44:00",null,{"$f":"_xlfn.XLOOKUP(C827,Data!C:C,Data!I:I)","v":{"$error":"#N/A"}},{"$error":"#N/A"},{"$f":"_xlfn.XLOOKUP(C827,Data!C:C,Data!G:G,0)","v":0},{"$f":"_xlfn.XLOOKUP(C827,Data!C:C,Data!F:F,0)","v":0},{"$f":"_xlfn.XLOOKUP(C827,Data!C:C,Data!H:H,0)","v":0},null,"",{"$f":"_xlfn.XLOOKUP(C827,Data!C:C,Data!F:F,\"\")","v":""},null,{"$error":"#N/A"}]
["23-3-2021","13:45:00","2021-03-23T13:45:00",null,{"$f":"_xlfn.XLOOKUP(C828,Data!C:C,Data!I:I)","v":{"$error":"#N/A"}},{"$error":"#N/A"},{"$f":"_xlfn.XLOOKUP(C828,Data!C:C,Data!G:G,0)","v":0},{"$f":"_xlfn.XLOOKUP(C828,Data!C:C,Data!F:F,0)","v":0},{"$f":"_xlfn.XLOOKUP(C828,Data!C:C,Data!H:H,0)","v":0},null,"",{"$f":"_xlfn.XLOOKUP(C828,Data!C:C,Data!F:F,\"\")","v":""},null,{"$error":"#N/A"}]
["23-3-2021","13:46:00","2021-03-23T13:46:00",null,{"$f":"_xlfn.XLOOKUP(C829,Data!C:C,Data!I:I)","v":{"$error":"#N/A"}},{"$error":"#N/A"},{"$f":"_xlfn.XLOOKUP(C829,Data!C:C,Data!G:G,0)","v":0},{"$f":"_xlfn.XLOOKUP(C829,Data!C:C,Data!F:F,0)","v":0},{"$f":"_xlfn.XLOOKUP(C829,Data!C:C,Data!H:H,0)","v":0},null,"",{"$f":"_xlfn.XLOOKUP(C829,Data!C:C,Data!F:F,\"\")","v":""},null,{"$error":"#N/A"}]
["23-3-2021","13:47:00","2021-03-23T13:47:00",null,{"$f":"_xlfn.XLOOKUP(C830,Data!C:C,Data!I:I)","v":{"$error":"#N/A"}},{"$error":"#N/A"},{"$f":"_xlfn.XLOOKUP(C830,Data!C:C,Data!G:G,0)","v":0},{"$f":"_xlfn.XLOOKUP(C830,Data!C:C,Data!F:F,0)","v":0},{"$f":"_xlfn.XLOOKUP(C830,Data!C:C,Data!H:H,0)","v":0},null,"",{"$f":"_xlfn.XLOOKUP(C830,Data!C:C,Data!F:F,\"\")","v":""},null,{"$error":"#N/A"}]
["23-3-2021","13:48:00","2021-03-23T13:48:00",null,{"$f":"_xlfn.XLOOKUP(C831,Data!C:C,Data!I:I)","v":{"$error":"#N/A"}},{"$error":"#N/A"},{"$f":"_xlfn.XLOOKUP(C831,Data!C:C,Data!G:G,0)","v":0},{"$f":"_xlfn.XLOOKUP(C831,Data!C:C,Data!F:F,0)","v":0},{"$f":"_xlfn.XLOOKUP(C831,Data!C:C,Data!H:H,0)","v":0},null,"",{"$f":"_xlfn.XLOOKUP(C831,Data!C:C,Data!F:F,\"\")","v":""},null,{"$error":"#N/A"}]
["23-3-2021","13:49:00","2021-03-23T13:49:00",null,{"$f":"_xlfn.XLOOKUP(C832,Data!C:C,Data!I:I)","v":{"$error":"#N/A"}},{"$error":"#N/A"},{"$f":"_xlfn.XLOOKUP(C832,Data!C:C,Data!G:G,0)","v":0},{"$f":"_xlfn.XLOOKUP(C832,Data!C:C,Data!F:F,0)","v":0},{"$f":"_xlfn.XLOOKUP(C832,Data!C:C,Data!H:H,0)","v":0},null,"",{"$f":"_xlfn.XLOOKUP(C832,Data!C:C,Data!F:F,\"\")","v":""},null,{"$error":"#N/A"}]
["23-3-2021","13:50:00","2021-03-23T13:50:00",null,{"$f":"_xlfn.XLOOKUP(C833,Data!C:C,Data!I:I)","v":{"$error":"#N/A"}},{"$error":"#N/A"},{"$f":"_xlfn.XLOOKUP(C833,Data!C:C,Data!G:G,0)","v":0},{"$f":"_xlfn.XLOOKUP(C833,Data!C:C,Data!F:F,0)","v":0},{"$f":"_xlfn.XLOOKUP(C833,Data!C:C,Data!H:H,0)","v":0},null,"",{"$f":"_xlfn.XLOOKUP(C833,Data!C:C,Data!F:F,\"\")","v":""},null,{"$error":"#N/A"}]
["23-3-2021","13:51:00","2021-03-23T13:51:00",null,{"$f":"_xlfn.XLOOKUP(C834,Data!C:C,Data!I:I)","v":{"$error":"#N/A"}},{"$error":"#N/A"},{"$f":"_xlfn.XLOOKUP(C834,Data!C:C,Data!G:G,0)","v":0},{"$f":"_xlfn.XLOOKUP(C834,Data!C:C,Data!F:F,0)","v":0},{"$f":"_xlfn.XLOOKUP(C834,Data!C:C,Data!H:H,0)","v":0},null,"",{"$f":"_xlfn.XLOOKUP(C834,Data!C:C,Data!F:F,\"\")","v":""},null,{"$error":"#N/A"}]
["23-3-2021","13:52:00",{"$f":"A835+B835","v":"2021-03-23T13:52:00"},null,{"$f":"_xlfn.XLOOKUP(C835,Data!C:C,Data!I:I)","v":{"$error":"#N/A"}},{"$error":"#N/A"},{"$f":"_xlfn.XLOOKUP(C835,Data!C:C,Data!G:G,0)","v":0},{"$f":"_xlfn.XLOOKUP(C835,Data!C:C,Data!F:F,0)","v":0},{"$f":"_xlfn.XLOOKUP(C835,Data!C:C,Data!H:H,0)","v":0},null,"",{"$f":"_xlfn.XLOOKUP(C835,Data!C:C,Data!F:F,\"\")","v":""},null,{"$error":"#N/A"}]
[{"$f":"$A$3","v":"23-3-2021"},"13:53:00","2021-03-23T13:53:00",null,{"$f":"_xlfn.XLOOKUP(C836,Data!C:C,Data!I:I)","v":{"$error":"#N/A"}},{"$f":"IF(E836=255,F835,E836)","v":{"$error":"#N/A"}},{"$f":"_xlfn.XLOOKUP(C836,Data!C:C,Data!G:G,0)","v":0},{"$f":"_xlfn.XLOOKUP(C836,Data!C:C,Data!F:F,0)","v":0},{"$f":"_xlfn.XLOOKUP(C836,Data!C:C,Data!H:H,0)","v":0},null,{"$f":"IFERROR(IF(F836=\"#N/A\",\"\",F836),\"\")","v":""},{"$f":"_xlfn.XLOOKUP(C836,Data!C:C,Data!F:F,\"\")","v":""},null,{"$error":"#N/A"}]
["23-3-2021","13:54:00","2021-03-23T13:54:00",null,{"$f":"_xlfn.XLOOKUP(C837,Data!C:C,Data!I:I)","v":{"$error":"#N/A"}},{"$error":"#N/A"},{"$f":"_xlfn.XLOOKUP(C837,Data!C:C,Data!G:G,0)","v":0},{"$f":"_xlfn.XLOOKUP(C837,Data!C:C,Data!F:F,0)","v":0},{"$f":"_xlfn.XLOOKUP(C837,Data!C:C,Data!H:H,0)","v":0},null,"",{"$f":"_xlfn.XLOOKUP(C837,Data!C:C,Data!F:F,\"\")","v":""},null,{"$error":"#N/A"}]
["23-3-2021","13:55:00","2021-03-23T13:55:00",null,{"$f":"_xlfn.XLOOKUP(C838,Data!C:C,Data!I:I)","v":{"$error":"#N/A"}},{"$error":"#N/A"},{"$f":"_xlfn.XLOOKUP(C838,Data!C:C,Data!G:G,0)","v":0},{"$f":"_xlfn.XLOOKUP(C838,Data!C:C,Data!F:F,0)","v":0},{"$f":"_xlfn.XLOOKUP(C838,Data!C:C,Data!H:H,0)","v":0},null,"",{"$f":"_xlfn.XLOOKUP(C838,Data!C:C,Data!F:F,\"\")","v":""},null,{"$error":"#N/A"}]
["23-3-2021","13:56:00","2021-03-23T13:56:00",null,{"$f":"_xlfn.XLOOKUP(C839,Data!C:C,Data!I:I)","v":{"$error":"#N/A"}},{"$error":"#N/A"},{"$f":"_xlfn.XLOOKUP(C839,Data!C:C,Data!G:G,0)","v":0},{"$f":"_xlfn.XLOOKUP(C839,Data!C:C,Data!F:F,0)","v":0},{"$f":"_xlfn.XLOOKUP(C839,Data!C:C,Data!H:H,0)","v":0},null,"",{"$f":"_xlfn.XLOOKUP(C839,Data!C:C,Data!F:F,\"\")","v":""},null,{"$f":"IF(F839=\"\",\"\",AVERAGE(F835:F843))","v":{"$error":"#N/A"}}]
["23-3-2021","13:57:00","2021-03-23T13:57:00",null,{"$f":"_xlfn.XLOOKUP(C840,Data!C:C,Data!I:I)","v":{"$error":"#N/A"}},{"$error":"#N/A"},{"$f":"_xlfn.XLOOKUP(C840,Data!C:C,Data!G:G,0)","v":0},{"$f":"_xlfn.XLOOKUP(C840,Data!C:C,Data!F:F,0)","v":0},{"$f":"_xlfn.XLOOKUP(C840,Data!C:C,Data!H:H,0)","v":0},null,"",{"$f":"_xlfn.XLOOKUP(C840,Data!C:C,Data!F:F,\"\")","v":""},null,{"$error":"#N/A"}]
["23-3-2021","13:58:00","2021-03-23T13:58:00",null,{"$f":"_xlfn.XLOOKUP(C841,Data!C:C,Data!I:I)","v":{"$error":"#N/A"}},{"$error":"#N/A"},{"$f":"_xlfn.XLOOKUP(C841,Data!C:C,Data!G:G,0)","v":0},{"$f":"_xlfn.XLOOKUP(C841,Data!C:C,Data!F:F,0)","v":0},{"$f":"_xlfn.XLOOKUP(C841,Data!C:C,Data!H:H,0)","v":0},null,"",{"$f":"_xlfn.XLOOKUP(C841,Data!C:C,Data!F:F,\"\")","v":""},null,{"$error":"#N/A"}]
["23-3-2021","13:59:00","2021-03-23T13:59:00",null,{"$f":"_xlfn.XLOOKUP(C842,Data!C:C,Data!I:I)","v":{"$error":"#N/A"}},{"$error":"#N/A"},{"$f":"_xlfn.XLOOKUP(C842,Data!C:C,Data!G:G,0)","v":0},{"$f":"_xlfn.XLOOKUP(C842,Data!C:C,Data!F:F,0)","v":0},{"$f":"_xlfn.XLOOKUP(C842,Data!C:C,Data!H:H,0)","v":0},null,"",{"$f":"_xlfn.XLOOKUP(C842,Data!C:C,Data!F:F,\"\")","v":""},null,{"$error":"#N/A"}]
["23-3-2021","14:00:00","2021-03-23T14:00:00",null,{"$f":"_xlfn.XLOOKUP(C843,Data!C:C,Data!I:I)","v":{"$error":"#N/A"}},{"$error":"#N/A"},{"$f":"_xlfn.XLOOKUP(C843,Data!C:C,Data!G:G,0)","v":0},{"$f":"_xlfn.XLOOKUP(C843,Data!C:C,Data!F:F,0)","v":0},{"$f":"_xlfn.XLOOKUP(C843,Data!C:C,Data!H:H,0)","v":0},null,"",{"$f":"_xlfn.XLOOKUP(C843,Data!C:C,Data!F:F,\"\")","v":""},null,{"$error":"#N/A"}]
["23-3-2021","14:01:00","2021-03-23T14:01:00",null,{"$f":"_xlfn.XLOOKUP(C844,Data!C:C,Data!I:I)","v":{"$error":"#N/A"}},{"$error":"#N/A"},{"$f":"_xlfn.XLOOKUP(C844,Data!C:C,Data!G:G,0)","v":0},{"$f":"_xlfn.XLOOKUP(C844,Data!C:C,Data!F:F,0)","v":0},{"$f":"_xlfn.XLOOKUP(C844,Data!C:C,Data!H:H,0)","v":0},null,"",{"$f":"_xlfn.XLOOKUP(C844,Data!C:C,Data!F:F,\"\")","v":""},null,{"$error":"#N/A"}]
["23-3-2021","14:02:00","2021-03-23T14:02:00",null,{"$f":"_xlfn.XLOOKUP(C845,Data!C:C,Data!I:I)","v":{"$error":"#N/A"}},{"$error":"#N/A"},{"$f":"_xlfn.XLOOKUP(C845,Data!C:C,Data!G:G,0)","v":0},{"$f":"_xlfn.XLOOKUP(C845,Data!C:C,Data!F:F,0)","v":0},{"$f":"_xlfn.XLOOKUP(C845,Data!C:C,Data!H:H,0)","v":0},null,"",{"$f":"_xlfn.XLOOKUP(C845,Data!C:C,Data!F:F,\"\")","v":""},null,{"$error":"#N/A"}]
["23-3-2021","14:03:00","2021-03-23T14:03:00",null,{"$f":"_xlfn.XLOOKUP(C846,Data!C:C,Data!I:I)","v":{"$error":"#N/A"}},{"$error":"#N/A"},{"$f":"_xlfn.XLOOKUP(C846,Data!C:C,Data!G:G,0)","v":0},{"$f":"_xlfn.XLOOKUP(C846,Data!C:C,Data!F:F,0)","v":0},{"$f":"_xlfn.XLOOKUP(C846,Data!C:C,Data!H:H,0)","v":0},null,"",{"$f":"_xlfn.XLOOKUP(C846,Data!C:C,Data!F:F,\"\")","v":""},null,{"$error":"#N/A"}]
["23-3-2021","14:04:00","2021-03-23T14:04:00",null,{"$f":"_xlfn.XLOOKUP(C847,Data!C:C,Data!I:I)","v":{"$error":"#N/A"}},{"$error":"#N/A"},{"$f":"_xlfn.XLOOKUP(C847,Data!C:C,Data!G:G,0)","v":0},{"$f":"_xlfn.XLOOKUP(C847,Data!C:C,Data!F:F,0)","v":0},{"$f":"_xlfn.XLOOKUP(C847,Data!C:C,Data!H:H,0)","v":0},null,"",{"$f":"_xlfn.XLOOKUP(C847,Data!C:C,Data!F:F,\"\")","v":""},null,{"$error":"#N/A"}]
["23-3-2021","14:05:00","2021-03-23T14:05:00",null,{"$f":"_xlfn.XLOOKUP(C848,Data!C:C,Data!I:I)","v":{"$error":"#N/A"}},{"$error":"#N/A"},{"$f":"_xlfn.XLOOKUP(C848,Data!C:C,Data!G:G,0)","v":0},{"$f":"_xlfn.XLOOKUP(C848,Data!C:C,Data!F:F,0)","v":0},{"$f":"_xlfn.XLOOKUP(C848,Data!C:C,Data!H:H,0)","v":0},null,"",{"$f":"_xlfn.XLOOKUP(C848,Data!C:C,Data!F:F,\"\")","v":""},null,{"$error":"#N/A"}]
["23-3-2021","14:06:00","2021-03-23T14:06:00",null,{"$f":"_xlfn.XLOOKUP(C849,Data!C:C,Data!I:I)","v":{"$error":"#N/A"}},{"$error":"#N/A"},{"$f":"_xlfn.XLOOKUP(C849,Data!C:C,Data!G:G,0)","v":0},{"$f":"_xlfn.XLOOKUP(C849,Data!C:C,Data!F:F,0)","v":0},{"$f":"_xlfn.XLOOKUP(C849,Data!C:C,Data!H:H,0)","v":0},null,"",{"$f":"_xlfn.XLOOKUP(C849,Data!C:C,Data!F:F,\"\")","v":""},null,{"$error":"#N/A"}]
["23-3-2021","14:07:00","2021-03-23T14:07:00",null,{"$f":"_xlfn.XLOOKUP(C850,Data!C:C,Data!I:I)","v":{"$error":"#N/A"}},{"$error":"#N/A"},{"$f":"_xlfn.XLOOKUP(C850,Data!C:C,Data!G:G,0)","v":0},{"$f":"_xlfn.XLOOKUP(C850,Data!C:C,Data!F:F,0)","v":0},{"$f":"_xlfn.XLOOKUP(C850,Data!C:C,Data!H:H,0)","v":0},null,"",{"$f":"_xlfn.XLOOKUP(C850,Data!C:C,Data!F:F,\"\")","v":""},null,{"$error":"#N/A"}]
["23-3-2021","14:08:00","2021-03-23T14:08:00",null,{"$f":"_xlfn.XLOOKUP(C851,Data!C:C,Data!I:I)","v":{"$error":"#N/A"}},{"$error":"#N/A"},{"$f":"_xlfn.XLOOKUP(C851,Data!C:C,Data!G:G,0)","v":0},{"$f":"_xlfn.XLOOKUP(C851,Data!C:C,Data!F:F,0)","v":0},{"$f":"_xlfn.XLOOKUP(C851,Data!C:C,Data!H:H,0)","v":0},null,"",{"$f":"_xlfn.XLOOKUP(C851,Data!C:C,Data!F:F,\"\")","v":""},null,{"$error":"#N/A"}]
["23-3-2021","14:09:00","2021-03-23T14:09:00",null,{"$f":"_xlfn.XLOOKUP(C852,Data!C:C,Data!I:I)","v":{"$error":"#N/A"}},{"$error":"#N/A"},{"$f":"_xlfn.XLOOKUP(C852,Data!C:C,Data!G:G,0)","v":0},{"$f":"_xlfn.XLOOKUP(C852,Data!C:C,Data!F:F,0)","v":0},{"$f":"_xlfn.XLOOKUP(C852,Data!C:C,Data!H:H,0)","v":0},null,"",{"$f":"_xlfn.XLOOKUP(C852,Data!C:C,Data!F:F,\"\")","v":""},null,{"$error":"#N/A"}]
["23-3-2021","14:10:00","2021-03-23T14:10:00",null,{"$f":"_xlfn.XLOOKUP(C853,Data!C:C,Data!I:I)","v":{"$error":"#N/A"}},{"$error":"#N/A"},{"$f":"_xlfn.XLOOKUP(C853,Data!C:C,Data!G:G,0)","v":0},{"$f":"_xlfn.XLOOKUP(C853,Data!C:C,Data!F:F,0)","v":0},{"$f":"_xlfn.XLOOKUP(C853,Data!C:C,Data!H:H,0)","v":0},null,"",{"$f":"_xlfn.XLOOKUP(C853,Data!C:C,Data!F:F,\"\")","v":""},null,{"$error":"#N/A"}]
["23-3-2021","14:11:00","2021-03-23T14:11:00",null,{"$f":"_xlfn.XLOOKUP(C854,Data!C:C,Data!I:I)","v":{"$error":"#N/A"}},{"$error":"#N/A"},{"$f":"_xlfn.XLOOKUP(C854,Data!C:C,Data!G:G,0)","v":0},{"$f":"_xlfn.XLOOKUP(C854,Data!C:C,Data!F:F,0)","v":0},{"$f":"_xlfn.XLOOKUP(C854,Data!C:C,Data!H:H,0)","v":0},null,"",{"$f":"_xlfn.XLOOKUP(C854,Data!C:C,Data!F:F,\"\")","v":""},null,{"$error":"#N/A"}]
["23-3-2021","14:12:00","2021-03-23T14:12:00",null,{"$f":"_xlfn.XLOOKUP(C855,Data!C:C,Data!I:I)","v":{"$error":"#N/A"}},{"$error":"#N/A"},{"$f":"_xlfn.XLOOKUP(C855,Data!C:C,Data!G:G,0)","v":0},{"$f":"_xlfn.XLOOKUP(C855,Data!C:C,Data!F:F,0)","v":0},{"$f":"_xlfn.XLOOKUP(C855,Data!C:C,Data!H:H,0)","v":0},null,"",{"$f":"_xlfn.XLOOKUP(C855,Data!C:C,Data!F:F,\"\")","v":""},null,{"$error":"#N/A"}]
["23-3-2021","14:13:00","2021-03-23T14:13:00",null,{"$f":"_xlfn.XLOOKUP(C856,Data!C:C,Data!I:I)","v":{"$error":"#N/A"}},{"$error":"#N/A"},{"$f":"_xlfn.XLOOKUP(C856,Data!C:C,Data!G:G,0)","v":0},{"$f":"_xlfn.XLOOKUP(C856,Data!C:C,Data!F:F,0)","v":0},{"$f":"_xlfn.XLOOKUP(C856,Data!C:C,Data!H:H,0)","v":0},null,"",{"$f":"_xlfn.XLOOKUP(C856,Data!C:C,Data!F:F,\"\")","v":""},null,{"$error":"#N/A"}]
["23-3-2021","14:14:00","2021-03-23T14:14:00",null,{"$f":"_xlfn.XLOOKUP(C857,Data!C:C,Data!I:I)","v":{"$error":"#N/A"}},{"$error":"#N/A"},{"$f":"_xlfn.XLOOKUP(C857,Data!C:C,Data!G:G,0)","v":0},{"$f":"_xlfn.XLOOKUP(C857,Data!C:C,Data!F:F,0)","v":0},{"$f":"_xlfn.XLOOKUP(C857,Data!C:C,Data!H:H,0)","v":0},null,"",{"$f":"_xlfn.XLOOKUP(C857,Data!C:C,Data!F:F,\"\")","v":""},null,{"$error":"#N/A"}]
["23-3-2021","14:15:00","2021-03-23T14:15:00",null,{"$f":"_xlfn.XLOOKUP(C858,Data!C:C,Data!I:I)","v":{"$error":"#N/A"}},{"$error":"#N/A"},{"$f":"_xlfn.XLOOKUP(C858,Data!C:C,Data!G:G,0)","v":0},{"$f":"_xlfn.XLOOKUP(C858,Data!C:C,Data!F:F,0)","v":0},{"$f":"_xlfn.XLOOKUP(C858,Data!C:C,Data!H:H,0)","v":0},null,"",{"$f":"_xlfn.XLOOKUP(C858,Data!C:C,Data!F:F,\"\")","v":""},null,{"$error":"#N/A"}]
["23-3-2021","14:16:00","2021-03-23T14:16:00",null,{"$f":"_xlfn.XLOOKUP(C859,Data!C:C,Data!I:I)","v":{"$error":"#N/A"}},{"$error":"#N/A"},{"$f":"_xlfn.XLOOKUP(C859,Data!C:C,Data!G:G,0)","v":0},{"$f":"_xlfn.XLOOKUP(C859,Data!C:C,Data!F:F,0)","v":0},{"$f":"_xlfn.XLOOKUP(C859,Data!C:C,Data!H:H,0)","v":0},null,"",{"$f":"_xlfn.XLOOKUP(C859,Data!C:C,Data!F:F,\"\")","v":""},null,{"$error":"#N/A"}]
["23-3-2021","14:17:00","2021-03-23T14:17:00",null,{"$f":"_xlfn.XLOOKUP(C860,Data!C:C,Data!I:I)","v":{"$error":"#N/A"}},{"$error":"#N/A"},{"$f":"_xlfn.XLOOKUP(C860,Data!C:C,Data!G:G,0)","v":0},{"$f":"_xlfn.XLOOKUP(C860,Data!C:C,Data!F:F,0)","v":0},{"$f":"_xlfn.XLOOKUP(C860,Data!C:C,Data!H:H,0)","v":0},null,"",{"$f":"_xlfn.XLOOKUP(C860,Data!C:C,Data!F:F,\"\")","v":""},null,{"$error":"#N/A"}]
["23-3-2021","14:18:00","2021-03-23T14:18:00",null,{"$f":"_xlfn.XLOOKUP(C861,Data!C:C,Data!I:I)","v":{"$error":"#N/A"}},{"$error":"#N/A"},{"$f":"_xlfn.XLOOKUP(C861,Data!C:C,Data!G:G,0)","v":0},{"$f":"_xlfn.XLOOKUP(C861,Data!C:C,Data!F:F,0)","v":0},{"$f":"_xlfn.XLOOKUP(C861,Data!C:C,Data!H:H,0)","v":0},null,"",{"$f":"_xlfn.XLOOKUP(C861,Data!C:C,Data!F:F,\"\")","v":""},null,{"$error":"#N/A"}]
["23-3-2021","14:19:00","2021-03-23T14:19:00",null,{"$f":"_xlfn.XLOOKUP(C862,Data!C:C,Data!I:I)","v":{"$error":"#N/A"}},{"$error":"#N/A"},{"$f":"_xlfn.XLOOKUP(C862,Data!C:C,Data!G:G,0)","v":0},{"$f":"_xlfn.XLOOKUP(C862,Data!C:C,Data!F:F,0)","v":0},{"$f":"_xlfn.XLOOKUP(C862,Data!C:C,Data!H:H,0)","v":0},null,"",{"$f":"_xlfn.XLOOKUP(C862,Data!C:C,Data!F:F,\"\")","v":""},null,{"$error":"#N/A"}]
["23-3-2021","14:20:00","2021-03-23T14:20:00",null,{"$f":"_xlfn.XLOOKUP(C863,Data!C:C,Data!I:I)","v":{"$error":"#N/A"}},{"$error":"#N/A"},{"$f":"_xlfn.XLOOKUP(C863,Data!C:C,Data!G:G,0)","v":0},{"$f":"_xlfn.XLOOKUP(C863,Data!C:C,Data!F:F,0)","v":0},{"$f":"_xlfn.XLOOKUP(C863,Data!C:C,Data!H:H,0)","v":0},null,"",{"$f":"_xlfn.XLOOKUP(C863,Data!C:C,Data!F:F,\"\")","v":""},null,{"$error":"#N/A"}]
["23-3-2021","14:21:00","2021-03-23T14:21:00",null,{"$f":"_xlfn.XLOOKUP(C864,Data!C:C,Data!I:I)","v":{"$error":"#N/A"}},{"$error":"#N/A"},{"$f":"_xlfn.XLOOKUP(C864,Data!C:C,Data!G:G,0)","v":0},{"$f":"_xlfn.XLOOKUP(C864,Data!C:C,Data!F:F,0)","v":0},{"$f":"_xlfn.XLOOKUP(C864,Data!C:C,Data!H:H,0)","v":0},null,"",{"$f":"_xlfn.XLOOKUP(C864,Data!C:C,Data!F:F,\"\")","v":""},null,{"$error":"#N/A"}]
["23-3-2021","14:22:00","2021-03-23T14:22:00",null,{"$f":"_xlfn.XLOOKUP(C865,Data!C:C,Data!I:I)","v":{"$error":"#N/A"}},{"$error":"#N/A"},{"$f":"_xlfn.XLOOKUP(C865,Data!C:C,Data!G:G,0)","v":0},{"$f":"_xlfn.XLOOKUP(C865,Data!C:C,Data!F:F,0)","v":0},{"$f":"_xlfn.XLOOKUP(C865,Data!C:C,Data!H:H,0)","v":0},null,"",{"$f":"_xlfn.XLOOKUP(C865,Data!C:C,Data!F:F,\"\")","v":""},null,{"$error":"#N/A"}]
["23-3-2021","14:23:00","2021-03-23T14:23:00",null,{"$f":"_xlfn.XLOOKUP(C866,Data!C:C,Data!I:I)","v":{"$error":"#N/A"}},{"$error":"#N/A"},{"$f":"_xlfn.XLOOKUP(C866,Data!C:C,Data!G:G,0)","v":0},{"$f":"_xlfn.XLOOKUP(C866,Data!C:C,Data!F:F,0)","v":0},{"$f":"_xlfn.XLOOKUP(C866,Data!C:C,Data!H:H,0)","v":0},null,"",{"$f":"_xlfn.XLOOKUP(C866,Data!C:C,Data!F:F,\"\")","v":""},null,{"$error":"#N/A"}]
["23-3-2021","14:24:00","2021-03-23T14:24:00",null,{"$f":"_xlfn.XLOOKUP(C867,Data!C:C,Data!I:I)","v":{"$error":"#N/A"}},{"$error":"#N/A"},{"$f":"_xlfn.XLOOKUP(C867,Data!C:C,Data!G:G,0)","v":0},{"$f":"_xlfn.XLOOKUP(C867,Data!C:C,Data!F:F,0)","v":0},{"$f":"_xlfn.XLOOKUP(C867,Data!C:C,Data!H:H,0)","v":0},null,"",{"$f":"_xlfn.XLOOKUP(C867,Data!C:C,Data!F:F,\"\")","v":""},null,{"$error":"#N/A"}]
["23-3-2021","14:25:00","2021-03-23T14:25:00",null,{"$f":"_xlfn.XLOOKUP(C868,Data!C:C,Data!I:I)","v":{"$error":"#N/A"}},{"$error":"#N/A"},{"$f":"_xlfn.XLOOKUP(C868,Data!C:C,Data!G:G,0)","v":0},{"$f":"_xlfn.XLOOKUP(C868,Data!C:C,Data!F:F,0)","v":0},{"$f":"_xlfn.XLOOKUP(C868,Data!C:C,Data!H:H,0)","v":0},null,"",{"$f":"_xlfn.XLOOKUP(C868,Data!C:C,Data!F:F,\"\")","v":""},null,{"$error":"#N/A"}]
["23-3-2021","14:26:00","2021-03-23T14:26:00",null,{"$f":"_xlfn.XLOOKUP(C869,Data!C:C,Data!I:I)","v":{"$error":"#N/A"}},{"$error":"#N/A"},{"$f":"_xlfn.XLOOKUP(C869,Data!C:C,Data!G:G,0)","v":0},{"$f":"_xlfn.XLOOKUP(C869,Data!C:C,Data!F:F,0)","v":0},{"$f":"_xlfn.XLOOKUP(C869,Data!C:C,Data!H:H,0)","v":0},null,"",{"$f":"_xlfn.XLOOKUP(C869,Data!C:C,Data!F:F,\"\")","v":""},null,{"$error":"#N/A"}]
["23-3-2021","14:27:00","2021-03-23T14:27:00",null,{"$f":"_xlfn.XLOOKUP(C870,Data!C:C,Data!I:I)","v":{"$error":"#N/A"}},{"$error":"#N/A"},{"$f":"_xlfn.XLOOKUP(C870,Data!C:C,Data!G:G,0)","v":0},{"$f":"_xlfn.XLOOKUP(C870,Data!C:C,Data!F:F,0)","v":0},{"$f":"_xlfn.XLOOKUP(C870,Data!C:C,Data!H:H,0)","v":0},null,"",{"$f":"_xlfn.XLOOKUP(C870,Data!C:C,Data!F:F,\"\")","v":""},null,{"$error":"#N/A"}]
["23-3-2021","14:28:00","2021-03-23T14:28:00",null,{"$f":"_xlfn.XLOOKUP(C871,Data!C:C,Data!I:I)","v":{"$error":"#N/A"}},{"$error":"#N/A"},{"$f":"_xlfn.XLOOKUP(C871,Data!C:C,Data!G:G,0)","v":0},{"$f":"_xlfn.XLOOKUP(C871,Data!C:C,Data!F:F,0)","v":0},{"$f":"_xlfn.XLOOKUP(C871,Data!C:C,Data!H:H,0)","v":0},null,"",{"$f":"_xlfn.XLOOKUP(C871,Data!C:C,Data!F:F,\"\")","v":""},null,{"$error":"#N/A"}]
["23-3-2021","14:29:00","2021-03-23T14:29:00",null,{"$f":"_xlfn.XLOOKUP(C872,Data!C:C,Data!I:I)","v":{"$error":"#N/A"}},{"$error":"#N/A"},{"$f":"_xlfn.XLOOKUP(C872,Data!C:C,Data!G:G,0)","v":0},{"$f":"_xlfn.XLOOKUP(C872,Data!C:C,Data!F:F,0)","v":0},{"$f":"_xlfn.XLOOKUP(C872,Data!C:C,Data!H:H,0)","v":0},null,"",{"$f":"_xlfn.XLOOKUP(C872,Data!C:C,Data!F:F,\"\")","v":""},null,{"$error":"#N/A"}]
["23-3-2021","14:30:00","2021-03-23T14:30:00",null,{"$f":"_xlfn.XLOOKUP(C873,Data!C:C,Data!I:I)","v":{"$error":"#N/A"}},{"$error":"#N/A"},{"$f":"_xlfn.XLOOKUP(C873,Data!C:C,Data!G:G,0)","v":0},{"$f":"_xlfn.XLOOKUP(C873,Data!C:C,Data!F:F,0)","v":0},{"$f":"_xlfn.XLOOKUP(C873,Data!C:C,Data!H:H,0)","v":0},null,"",{"$f":"_xlfn.XLOOKUP(C873,Data!C:C,Data!F:F,\"\")","v":""},null,{"$error":"#N/A"}]
["23-3-2021","14:31:00","2021-03-23T14:31:00",null,{"$f":"_xlfn.XLOOKUP(C874,Data!C:C,Data!I:I)","v":{"$error":"#N/A"}},{"$error":"#N/A"},{"$f":"_xlfn.XLOOKUP(C874,Data!C:C,Data!G:G,0)","v":0},{"$f":"_xlfn.XLOOKUP(C874,Data!C:C,Data!F:F,0)","v":0},{"$f":"_xlfn.XLOOKUP(C874,Data!C:C,Data!H:H,0)","v":0},null,"",{"$f":"_xlfn.XLOOKUP(C874,Data!C:C,Data!F:F,\"\")","v":""},null,{"$error":"#N/A"}]
["23-3-2021","14:32:00","2021-03-23T14:32:00",null,{"$f":"_xlfn.XLOOKUP(C875,Data!C:C,Data!I:I)","v":{"$error":"#N/A"}},{"$error":"#N/A"},{"$f":"_xlfn.XLOOKUP(C875,Data!C:C,Data!G:G,0)","v":0},{"$f":"_xlfn.XLOOKUP(C875,Data!C:C,Data!F:F,0)","v":0},{"$f":"_xlfn.XLOOKUP(C875,Data!C:C,Data!H:H,0)","v":0},null,"",{"$f":"_xlfn.XLOOKUP(C875,Data!C:C,Data!F:F,\"\")","v":""},null,{"$error":"#N/A"}]
["23-3-2021","14:33:00","2021-03-23T14:33:00",null,{"$f":"_xlfn.XLOOKUP(C876,Data!C:C,Data!I:I)","v":{"$error":"#N/A"}},{"$error":"#N/A"},{"$f":"_xlfn.XLOOKUP(C876,Data!C:C,Data!G:G,0)","v":0},{"$f":"_xlfn.XLOOKUP(C876,Data!C:C,Data!F:F,0)","v":0},{"$f":"_xlfn.XLOOKUP(C876,Data!C:C,Data!H:H,0)","v":0},null,"",{"$f":"_xlfn.XLOOKUP(C876,Data!C:C,Data!F:F,\"\")","v":""},null,{"$error":"#N/A"}]
["23-3-2021","14:34:00","2021-03-23T14:34:00",null,{"$f":"_xlfn.XLOOKUP(C877,Data!C:C,Data!I:I)","v":{"$error":"#N/A"}},{"$error":"#N/A"},{"$f":"_xlfn.XLOOKUP(C877,Data!C:C,Data!G:G,0)","v":0},{"$f":"_xlfn.XLOOKUP(C877,Data!C:C,Data!F:F,0)","v":0},{"$f":"_xlfn.XLOOKUP(C877,Data!C:C,Data!H:H,0)","v":0},null,"",{"$f":"_xlfn.XLOOKUP(C877,Data!C:C,Data!F:F,\"\")","v":""},null,{"$error":"#N/A"}]
["23-3-2021","14:35:00","2021-03-23T14:35:00",null,{"$f":"_xlfn.XLOOKUP(C878,Data!C:C,Data!I:I)","v":{"$error":"#N/A"}},{"$error":"#N/A"},{"$f":"_xlfn.XLOOKUP(C878,Data!C:C,Data!G:G,0)","v":0},{"$f":"_xlfn.XLOOKUP(C878,Data!C:C,Data!F:F,0)","v":0},{"$f":"_xlfn.XLOOKUP(C878,Data!C:C,Data!H:H,0)","v":0},null,"",{"$f":"_xlfn.XLOOKUP(C878,Data!C:C,Data!F:F,\"\")","v":""},null,{"$error":"#N/A"}]
["23-3-2021","14:36:00","2021-03-23T14:36:00",null,{"$f":"_xlfn.XLOOKUP(C879,Data!C:C,Data!I:I)","v":{"$error":"#N/A"}},{"$error":"#N/A"},{"$f":"_xlfn.XLOOKUP(C879,Data!C:C,Data!G:G,0)","v":0},{"$f":"_xlfn.XLOOKUP(C879,Data!C:C,Data!F:F,0)","v":0},{"$f":"_xlfn.XLOOKUP(C879,Data!C:C,Data!H:H,0)","v":0},null,"",{"$f":"_xlfn.XLOOKUP(C879,Data!C:C,Data!F:F,\"\")","v":""},null,{"$error":"#N/A"}]
["23-3-2021","14:37:00","2021-03-23T14:37:00",null,{"$f":"_xlfn.XLOOKUP(C880,Data!C:C,Data!I:I)","v":{"$error":"#N/A"}},{"$error":"#N/A"},{"$f":"_xlfn.XLOOKUP(C880,Data!C:C,Data!G:G,0)","v":0},{"$f":"_xlfn.XLOOKUP(C880,Data!C:C,Data!F:F,0)","v":0},{"$f":"_xlfn.XLOOKUP(C880,Data!C:C,Data!H:H,0)","v":0},null,"",{"$f":"_xlfn.XLOOKUP(C880,Data!C:C,Data!F:F,\"\")","v":""},null,{"$error":"#N/A"}]
["23-3-2021","14:38:00","2021-03-23T14:38:00",null,{"$f":"_xlfn.XLOOKUP(C881,Data!C:C,Data!I:I)","v":{"$error":"#N/A"}},{"$error":"#N/A"},{"$f":"_xlfn.XLOOKUP(C881,Data!C:C,Data!G:G,0)","v":0},{"$f":"_xlfn.XLOOKUP(C881,Data!C:C,Data!F:F,0)","v":0},{"$f":"_xlfn.XLOOKUP(C881,Data!C:C,Data!H:H,0)","v":0},null,"",{"$f":"_xlfn.XLOOKUP(C881,Data!C:C,Data!F:F,\"\")","v":""},null,{"$error":"#N/A"}]
["23-3-2021","14:39:00","2021-03-23T14:39:00",null,{"$f":"_xlfn.XLOOKUP(C882,Data!C:C,Data!I:I)","v":{"$error":"#N/A"}},{"$error":"#N/A"},{"$f":"_xlfn.XLOOKUP(C882,Data!C:C,Data!G:G,0)","v":0},{"$f":"_xlfn.XLOOKUP(C882,Data!C:C,Data!F:F,0)","v":0},{"$f":"_xlfn.XLOOKUP(C882,Data!C:C,Data!H:H,0)","v":0},null,"",{"$f":"_xlfn.XLOOKUP(C882,Data!C:C,Data!F:F,\"\")","v":""},null,{"$error":"#N/A"}]
["23-3-2021","14:40:00","2021-03-23T14:40:00",null,{"$f":"_xlfn.XLOOKUP(C883,Data!C:C,Data!I:I)","v":{"$error":"#N/A"}},{"$error":"#N/A"},{"$f":"_xlfn.XLOOKUP(C883,Data!C:C,Data!G:G,0)","v":0},{"$f":"_xlfn.XLOOKUP(C883,Data!C:C,Data!F:F,0)","v":0},{"$f":"_xlfn.XLOOKUP(C883,Data!C:C,Data!H:H,0)","v":0},null,"",{"$f":"_xlfn.XLOOKUP(C883,Data!C:C,Data!F:F,\"\")","v":""},null,{"$error":"#N/A"}]
["23-3-2021","14:41:00","2021-03-23T14:41:00",null,{"$f":"_xlfn.XLOOKUP(C884,Data!C:C,Data!I:I)","v":{"$error":"#N/A"}},{"$error":"#N/A"},{"$f":"_xlfn.XLOOKUP(C884,Data!C:C,Data!G:G,0)","v":0},{"$f":"_xlfn.XLOOKUP(C884,Data!C:C,Data!F:F,0)","v":0},{"$f":"_xlfn.XLOOKUP(C884,Data!C:C,Data!H:H,0)","v":0},null,"",{"$f":"_xlfn.XLOOKUP(C884,Data!C:C,Data!F:F,\"\")","v":""},null,{"$error":"#N/A"}]
["23-3-2021","14:42:00","2021-03-23T14:42:00",null,{"$f":"_xlfn.XLOOKUP(C885,Data!C:C,Data!I:I)","v":{"$error":"#N/A"}},{"$error":"#N/A"},{"$f":"_xlfn.XLOOKUP(C885,Data!C:C,Data!G:G,0)","v":0},{"$f":"_xlfn.XLOOKUP(C885,Data!C:C,Data!F:F,0)","v":0},{"$f":"_xlfn.XLOOKUP(C885,Data!C:C,Data!H:H,0)","v":0},null,"",{"$f":"_xlfn.XLOOKUP(C885,Data!C:C,Data!F:F,\"\")","v":""},null,{"$error":"#N/A"}]
["23-3-2021","14:43:00","2021-03-23T14:43:00",null,{"$f":"_xlfn.XLOOKUP(C886,Data!C:C,Data!I:I)","v":{"$error":"#N/A"}},{"$error":"#N/A"},{"$f":"_xlfn.XLOOKUP(C886,Data!C:C,Data!G:G,0)","v":0},{"$f":"_xlfn.XLOOKUP(C886,Data!C:C,Data!F:F,0)","v":0},{"$f":"_xlfn.XLOOKUP(C886,Data!C:C,Data!H:H,0)","v":0},null,"",{"$f":"_xlfn.XLOOKUP(C886,Data!C:C,Data!F:F,\"\")","v":""},null,{"$error":"#N/A"}]
["23-3-2021","14:44:00","2021-03-23T14:44:00",null,{"$f":"_xlfn.XLOOKUP(C887,Data!C:C,Data!I:I)","v":{"$error":"#N/A"}},{"$error":"#N/A"},{"$f":"_xlfn.XLOOKUP(C887,Data!C:C,Data!G:G,0)","v":0},{"$f":"_xlfn.XLOOKUP(C887,Data!C:C,Data!F:F,0)","v":0},{"$f":"_xlfn.XLOOKUP(C887,Data!C:C,Data!H:H,0)","v":0},null,"",{"$f":"_xlfn.XLOOKUP(C887,Data!C:C,Data!F:F,\"\")","v":""},null,{"$error":"#N/A"}]
["23-3-2021","14:45:00","2021-03-23T14:45:00",null,{"$f":"_xlfn.XLOOKUP(C888,Data!C:C,Data!I:I)","v":{"$error":"#N/A"}},{"$error":"#N/A"},{"$f":"_xlfn.XLOOKUP(C888,Data!C:C,Data!G:G,0)","v":0},{"$f":"_xlfn.XLOOKUP(C888,Data!C:C,Data!F:F,0)","v":0},{"$f":"_xlfn.XLOOKUP(C888,Data!C:C,Data!H:H,0)","v":0},null,"",{"$f":"_xlfn.XLOOKUP(C888,Data!C:C,Data!F:F,\"\")","v":""},null,{"$error":"#N/A"}]
["23-3-2021","14:46:00","2021-03-23T14:46:00",null,{"$f":"_xlfn.XLOOKUP(C889,Data!C:C,Data!I:I)","v":{"$error":"#N/A"}},{"$error":"#N/A"},{"$f":"_xlfn.XLOOKUP(C889,Data!C:C,Data!G:G,0)","v":0},{"$f":"_xlfn.XLOOKUP(C889,Data!C:C,Data!F:F,0)","v":0},{"$f":"_xlfn.XLOOKUP(C889,Data!C:C,Data!H:H,0)","v":0},null,"",{"$f":"_xlfn.XLOOKUP(C889,Data!C:C,Data!F:F,\"\")","v":""},null,{"$error":"#N/A"}]
["23-3-2021","14:47:00","2021-03-23T14:47:00",null,{"$f":"_xlfn.XLOOKUP(C890,Data!C:C,Data!I:I)","v":{"$error":"#N/A"}},{"$error":"#N/A"},{"$f":"_xlfn.XLOOKUP(C890,Data!C:C,Data!G:G,0)","v":0},{"$f":"_xlfn.XLOOKUP(C890,Data!C:C,Data!F:F,0)","v":0},{"$f":"_xlfn.XLOOKUP(C890,Data!C:C,Data!H:H,0)","v":0},null,"",{"$f":"_xlfn.XLOOKUP(C890,Data!C:C,Data!F:F,\"\")","v":""},null,{"$error":"#N/A"}]
["23-3-2021","14:48:00","2021-03-23T14:48:00",null,{"$f":"_xlfn.XLOOKUP(C891,Data!C:C,Data!I:I)","v":{"$error":"#N/A"}},{"$error":"#N/A"},{"$f":"_xlfn.XLOOKUP(C891,Data!C:C,Data!G:G,0)","v":0},{"$f":"_xlfn.XLOOKUP(C891,Data!C:C,Data!F:F,0)","v":0},{"$f":"_xlfn.XLOOKUP(C891,Data!C:C,Data!H:H,0)","v":0},null,"",{"$f":"_xlfn.XLOOKUP(C891,Data!C:C,Data!F:F,\"\")","v":""},null,{"$error":"#N/A"}]
["23-3-2021","14:49:00","2021-03-23T14:49:00",null,{"$f":"_xlfn.XLOOKUP(C892,Data!C:C,Data!I:I)","v":{"$error":"#N/A"}},{"$error":"#N/A"},{"$f":"_xlfn.XLOOKUP(C892,Data!C:C,Data!G:G,0)","v":0},{"$f":"_xlfn.XLOOKUP(C892,Data!C:C,Data!F:F,0)","v":0},{"$f":"_xlfn.XLOOKUP(C892,Data!C:C,Data!H:H,0)","v":0},null,"",{"$f":"_xlfn.XLOOKUP(C892,Data!C:C,Data!F:F,\"\")","v":""},null,{"$error":"#N/A"}]
["23-3-2021","14:50:00","2021-03-23T14:50:00",null,{"$f":"_xlfn.XLOOKUP(C893,Data!C:C,Data!I:I)","v":{"$error":"#N/A"}},{"$error":"#N/A"},{"$f":"_xlfn.XLOOKUP(C893,Data!C:C,Data!G:G,0)","v":0},{"$f":"_xlfn.XLOOKUP(C893,Data!C:C,Data!F:F,0)","v":0},{"$f":"_xlfn.XLOOKUP(C893,Data!C:C,Data!H:H,0)","v":0},null,"",{"$f":"_xlfn.XLOOKUP(C893,Data!C:C,Data!F:F,\"\")","v":""},null,{"$error":"#N/A"}]
["23-3-2021","14:51:00","2021-03-23T14:51:00",null,{"$f":"_xlfn.XLOOKUP(C894,Data!C:C,Data!I:I)","v":{"$error":"#N/A"}},{"$error":"#N/A"},{"$f":"_xlfn.XLOOKUP(C894,Data!C:C,Data!G:G,0)","v":0},{"$f":"_xlfn.XLOOKUP(C894,Data!C:C,Data!F:F,0)","v":0},{"$f":"_xlfn.XLOOKUP(C894,Data!C:C,Data!H:H,0)","v":0},null,"",{"$f":"_xlfn.XLOOKUP(C894,Data!C:C,Data!F:F,\"\")","v":""},null,{"$error":"#N/A"}]
["23-3-2021","14:52:00","2021-03-23T14:52:00",null,{"$f":"_xlfn.XLOOKUP(C895,Data!C:C,Data!I:I)","v":{"$error":"#N/A"}},{"$error":"#N/A"},{"$f":"_xlfn.XLOOKUP(C895,Data!C:C,Data!G:G,0)","v":0},{"$f":"_xlfn.XLOOKUP(C895,Data!C:C,Data!F:F,0)","v":0},{"$f":"_xlfn.XLOOKUP(C895,Data!C:C,Data!H:H,0)","v":0},null,"",{"$f":"_xlfn.XLOOKUP(C895,Data!C:C,Data!F:F,\"\")","v":""},null,{"$error":"#N/A"}]
["23-3-2021","14:53:00","2021-03-23T14:53:00",null,{"$f":"_xlfn.XLOOKUP(C896,Data!C:C,Data!I:I)","v":{"$error":"#N/A"}},{"$error":"#N/A"},{"$f":"_xlfn.XLOOKUP(C896,Data!C:C,Data!G:G,0)","v":0},{"$f":"_xlfn.XLOOKUP(C896,Data!C:C,Data!F:F,0)","v":0},{"$f":"_xlfn.XLOOKUP(C896,Data!C:C,Data!H:H,0)","v":0},null,"",{"$f":"_xlfn.XLOOKUP(C896,Data!C:C,Data!F:F,\"\")","v":""},null,{"$error":"#N/A"}]
["23-3-2021","14:54:00","2021-03-23T14:54:00",null,{"$f":"_xlfn.XLOOKUP(C897,Data!C:C,Data!I:I)","v":{"$error":"#N/A"}},{"$error":"#N/A"},{"$f":"_xlfn.XLOOKUP(C897,Data!C:C,Data!G:G,0)","v":0},{"$f":"_xlfn.XLOOKUP(C897,Data!C:C,Data!F:F,0)","v":0},{"$f":"_xlfn.XLOOKUP(C897,Data!C:C,Data!H:H,0)","v":0},null,"",{"$f":"_xlfn.XLOOKUP(C897,Data!C:C,Data!F:F,\"\")","v":""},null,{"$error":"#N/A"}]
["23-3-2021","14:55:00","2021-03-23T14:55:00",null,{"$f":"_xlfn.XLOOKUP(C898,Data!C:C,Data!I:I)","v":{"$error":"#N/A"}},{"$error":"#N/A"},{"$f":"_xlfn.XLOOKUP(C898,Data!C:C,Data!G:G,0)","v":0},{"$f":"_xlfn.XLOOKUP(C898,Data!C:C,Data!F:F,0)","v":0},{"$f":"_xlfn.XLOOKUP(C898,Data!C:C,Data!H:H,0)","v":0},null,"",{"$f":"_xlfn.XLOOKUP(C898,Data!C:C,Data!F:F,\"\")","v":""},null,{"$error":"#N/A"}]
["23-3-2021","14:56:00",{"$f":"A899+B899","v":"2021-03-23T14:56:00"},null,{"$f":"_xlfn.XLOOKUP(C899,Data!C:C,Data!I:I)","v":{"$error":"#N/A"}},{"$error":"#N/A"},{"$f":"_xlfn.XLOOKUP(C899,Data!C:C,Data!G:G,0)","v":0},{"$f":"_xlfn.XLOOKUP(C899,Data!C:C,Data!F:F,0)","v":0},{"$f":"_xlfn.XLOOKUP(C899,Data!C:C,Data!H:H,0)","v":0},null,"",{"$f":"_xlfn.XLOOKUP(C899,Data!C:C,Data!F:F,\"\")","v":""},null,{"$error":"#N/A"}]
[{"$f":"$A$3","v":"23-3-2021"},"14:57:00","2021-03-23T14:57:00",null,{"$f":"_xlfn.XLOOKUP(C900,Data!C:C,Data!I:I)","v":{"$error":"#N/A"}},{"$f":"IF(E900=255,F899,E900)","v":{"$error":"#N/A"}},{"$f":"_xlfn.XLOOKUP(C900,Data!C:C,Data!G:G,0)","v":0},{"$f":"_xlfn.XLOOKUP(C900,Data!C:C,Data!F:F,0)","v":0},{"$f":"_xlfn.XLOOKUP(C900,Data!C:C,Data!H:H,0)","v":0},null,{"$f":"IFERROR(IF(F900=\"#N/A\",\"\",F900),\"\")","v":""},{"$f":"_xlfn.XLOOKUP(C900,Data!C:C,Data!F:F,\"\")","v":""},null,{"$error":"#N/A"}]
["23-3-2021","14:58:00","2021-03-23T14:58:00",null,{"$f":"_xlfn.XLOOKUP(C901,Data!C:C,Data!I:I)","v":{"$error":"#N/A"}},{"$error":"#N/A"},{"$f":"_xlfn.XLOOKUP(C901,Data!C:C,Data!G:G,0)","v":0},{"$f":"_xlfn.XLOOKUP(C901,Data!C:C,Data!F:F,0)","v":0},{"$f":"_xlfn.XLOOKUP(C901,Data!C:C,Data!H:H,0)","v":0},null,"",{"$f":"_xlfn.XLOOKUP(C901,Data!C:C,Data!F:F,\"\")","v":""},null,{"$error":"#N/A"}]
["23-3-2021","14:59:00","2021-03-23T14:59:00",null,{"$f":"_xlfn.XLOOKUP(C902,Data!C:C,Data!I:I)","v":{"$error":"#N/A"}},{"$error":"#N/A"},{"$f":"_xlfn.XLOOKUP(C902,Data!C:C,Data!G:G,0)","v":0},{"$f":"_xlfn.XLOOKUP(C902,Data!C:C,Data!F:F,0)","v":0},{"$f":"_xlfn.XLOOKUP(C902,Data!C:C,Data!H:H,0)","v":0},null,"",{"$f":"_xlfn.XLOOKUP(C902,Data!C:C,Data!F:F,\"\")","v":""},null,{"$error":"#N/A"}]
["23-3-2021","15:00:00","2021-03-23T15:00:00",null,{"$f":"_xlfn.XLOOKUP(C903,Data!C:C,Data!I:I)","v":{"$error":"#N/A"}},{"$error":"#N/A"},{"$f":"_xlfn.XLOOKUP(C903,Data!C:C,Data!G:G,0)","v":0},{"$f":"_xlfn.XLOOKUP(C903,Data!C:C,Data!F:F,0)","v":0},{"$f":"_xlfn.XLOOKUP(C903,Data!C:C,Data!H:H,0)","v":0},null,"",{"$f":"_xlfn.XLOOKUP(C903,Data!C:C,Data!F:F,\"\")","v":""},null,{"$f":"IF(F903=\"\",\"\",AVERAGE(F899:F907))","v":{"$error":"#N/A"}}]
["23-3-2021","15:01:00","2021-03-23T15:01:00",null,{"$f":"_xlfn.XLOOKUP(C904,Data!C:C,Data!I:I)","v":{"$error":"#N/A"}},{"$error":"#N/A"},{"$f":"_xlfn.XLOOKUP(C904,Data!C:C,Data!G:G,0)","v":0},{"$f":"_xlfn.XLOOKUP(C904,Data!C:C,Data!F:F,0)","v":0},{"$f":"_xlfn.XLOOKUP(C904,Data!C:C,Data!H:H,0)","v":0},null,"",{"$f":"_xlfn.XLOOKUP(C904,Data!C:C,Data!F:F,\"\")","v":""},null,{"$error":"#N/A"}]
["23-3-2021","15:02:00","2021-03-23T15:02:00",null,{"$f":"_xlfn.XLOOKUP(C905,Data!C:C,Data!I:I)","v":{"$error":"#N/A"}},{"$error":"#N/A"},{"$f":"_xlfn.XLOOKUP(C905,Data!C:C,Data!G:G,0)","v":0},{"$f":"_xlfn.XLOOKUP(C905,Data!C:C,Data!F:F,0)","v":0},{"$f":"_xlfn.XLOOKUP(C905,Data!C:C,Data!H:H,0)","v":0},null,"",{"$f":"_xlfn.XLOOKUP(C905,Data!C:C,Data!F:F,\"\")","v":""},null,{"$error":"#N/A"}]
["23-3-2021","15:03:00","2021-03-23T15:03:00",null,{"$f":"_xlfn.XLOOKUP(C906,Data!C:C,Data!I:I)","v":{"$error":"#N/A"}},{"$error":"#N/A"},{"$f":"_xlfn.XLOOKUP(C906,Data!C:C,Data!G:G,0)","v":0},{"$f":"_xlfn.XLOOKUP(C906,Data!C:C,Data!F:F,0)","v":0},{"$f":"_xlfn.XLOOKUP(C906,Data!C:C,Data!H:H,0)","v":0},null,"",{"$f":"_xlfn.XLOOKUP(C906,Data!C:C,Data!F:F,\"\")","v":""},null,{"$error":"#N/A"}]
["23-3-2021","15:04:00","2021-03-23T15:04:00",null,{"$f":"_xlfn.XLOOKUP(C907,Data!C:C,Data!I:I)","v":{"$error":"#N/A"}},{"$error":"#N/A"},{"$f":"_xlfn.XLOOKUP(C907,Data!C:C,Data!G:G,0)","v":0},{"$f":"_xlfn.XLOOKUP(C907,Data!C:C,Data!F:F,0)","v":0},{"$f":"_xlfn.XLOOKUP(C907,Data!C:C,Data!H:H,0)","v":0},null,"",{"$f":"_xlfn.XLOOKUP(C907,Data!C:C,Data!F:F,\"\")","v":""},null,{"$error":"#N/A"}]
["23-3-2021","15:05:00","2021-03-23T15:05:00",null,{"$f":"_xlfn.XLOOKUP(C908,Data!C:C,Data!I:I)","v":{"$error":"#N/A"}},{"$error":"#N/A"},{"$f":"_xlfn.XLOOKUP(C908,Data!C:C,Data!G:G,0)","v":0},{"$f":"_xlfn.XLOOKUP(C908,Data!C:C,Data!F:F,0)","v":0},{"$f":"_xlfn.XLOOKUP(C908,Data!C:C,Data!H:H,0)","v":0},null,"",{"$f":"_xlfn.XLOOKUP(C908,Data!C:C,Data!F:F,\"\")","v":""},null,{"$error":"#N/A"}]
["23-3-2021","15:06:00","2021-03-23T15:06:00",null,{"$f":"_xlfn.XLOOKUP(C909,Data!C:C,Data!I:I)","v":{"$error":"#N/A"}},{"$error":"#N/A"},{"$f":"_xlfn.XLOOKUP(C909,Data!C:C,Data!G:G,0)","v":0},{"$f":"_xlfn.XLOOKUP(C909,Data!C:C,Data!F:F,0)","v":0},{"$f":"_xlfn.XLOOKUP(C909,Data!C:C,Data!H:H,0)","v":0},null,"",{"$f":"_xlfn.XLOOKUP(C909,Data!C:C,Data!F:F,\"\")","v":""},null,{"$error":"#N/A"}]
["23-3-2021","15:07:00","2021-03-23T15:07:00",null,{"$f":"_xlfn.XLOOKUP(C910,Data!C:C,Data!I:I)","v":{"$error":"#N/A"}},{"$error":"#N/A"},{"$f":"_xlfn.XLOOKUP(C910,Data!C:C,Data!G:G,0)","v":0},{"$f":"_xlfn.XLOOKUP(C910,Data!C:C,Data!F:F,0)","v":0},{"$f":"_xlfn.XLOOKUP(C910,Data!C:C,Data!H:H,0)","v":0},null,"",{"$f":"_xlfn.XLOOKUP(C910,Data!C:C,Data!F:F,\"\")","v":""},null,{"$error":"#N/A"}]
["23-3-2021","15:08:00","2021-03-23T15:08:00",null,{"$f":"_xlfn.XLOOKUP(C911,Data!C:C,Data!I:I)","v":{"$error":"#N/A"}},{"$error":"#N/A"},{"$f":"_xlfn.XLOOKUP(C911,Data!C:C,Data!G:G,0)","v":0},{"$f":"_xlfn.XLOOKUP(C911,Data!C:C,Data!F:F,0)","v":0},{"$f":"_xlfn.XLOOKUP(C911,Data!C:C,Data!H:H,0)","v":0},null,"",{"$f":"_xlfn.XLOOKUP(C911,Data!C:C,Data!F:F,\"\")","v":""},null,{"$error":"#N/A"}]
["23-3-2021","15:09:00","2021-03-23T15:09:00",null,{"$f":"_xlfn.XLOOKUP(C912,Data!C:C,Data!I:I)","v":{"$error":"#N/A"}},{"$error":"#N/A"},{"$f":"_xlfn.XLOOKUP(C912,Data!C:C,Data!G:G,0)","v":0},{"$f":"_xlfn.XLOOKUP(C912,Data!C:C,Data!F:F,0)","v":0},{"$f":"_xlfn.XLOOKUP(C912,Data!C:C,Data!H:H,0)","v":0},null,"",{"$f":"_xlfn.XLOOKUP(C912,Data!C:C,Data!F:F,\"\")","v":""},null,{"$error":"#N/A"}]
["23-3-2021","15:10:00","2021-03-23T15:10:00",null,{"$f":"_xlfn.XLOOKUP(C913,Data!C:C,Data!I:I)","v":{"$error":"#N/A"}},{"$error":"#N/A"},{"$f":"_xlfn.XLOOKUP(C913,Data!C:C,Data!G:G,0)","v":0},{"$f":"_xlfn.XLOOKUP(C913,Data!C:C,Data!F:F,0)","v":0},{"$f":"_xlfn.XLOOKUP(C913,Data!C:C,Data!H:H,0)","v":0},null,"",{"$f":"_xlfn.XLOOKUP(C913,Data!C:C,Data!F:F,\"\")","v":""},null,{"$error":"#N/A"}]
["23-3-2021","15:11:00","2021-03-23T15:11:00",null,{"$f":"_xlfn.XLOOKUP(C914,Data!C:C,Data!I:I)","v":{"$error":"#N/A"}},{"$error":"#N/A"},{"$f":"_xlfn.XLOOKUP(C914,Data!C:C,Data!G:G,0)","v":0},{"$f":"_xlfn.XLOOKUP(C914,Data!C:C,Data!F:F,0)","v":0},{"$f":"_xlfn.XLOOKUP(C914,Data!C:C,Data!H:H,0)","v":0},null,"",{"$f":"_xlfn.XLOOKUP(C914,Data!C:C,Data!F:F,\"\")","v":""},null,{"$error":"#N/A"}]
["23-3-2021","15:12:00","2021-03-23T15:12:00",null,{"$f":"_xlfn.XLOOKUP(C915,Data!C:C,Data!I:I)","v":{"$error":"#N/A"}},{"$error":"#N/A"},{"$f":"_xlfn.XLOOKUP(C915,Data!C:C,Data!G:G,0)","v":0},{"$f":"_xlfn.XLOOKUP(C915,Data!C:C,Data!F:F,0)","v":0},{"$f":"_xlfn.XLOOKUP(C915,Data!C:C,Data!H:H,0)","v":0},null,"",{"$f":"_xlfn.XLOOKUP(C915,Data!C:C,Data!F:F,\"\")","v":""},null,{"$error":"#N/A"}]
["23-3-2021","15:13:00","2021-03-23T15:13:00",null,{"$f":"_xlfn.XLOOKUP(C916,Data!C:C,Data!I:I)","v":{"$error":"#N/A"}},{"$error":"#N/A"},{"$f":"_xlfn.XLOOKUP(C916,Data!C:C,Data!G:G,0)","v":0},{"$f":"_xlfn.XLOOKUP(C916,Data!C:C,Data!F:F,0)","v":0},{"$f":"_xlfn.XLOOKUP(C916,Data!C:C,Data!H:H,0)","v":0},null,"",{"$f":"_xlfn.XLOOKUP(C916,Data!C:C,Data!F:F,\"\")","v":""},null,{"$error":"#N/A"}]
["23-3-2021","15:14:00","2021-03-23T15:14:00",null,{"$f":"_xlfn.XLOOKUP(C917,Data!C:C,Data!I:I)","v":{"$error":"#N/A"}},{"$error":"#N/A"},{"$f":"_xlfn.XLOOKUP(C917,Data!C:C,Data!G:G,0)","v":0},{"$f":"_xlfn.XLOOKUP(C917,Data!C:C,Data!F:F,0)","v":0},{"$f":"_xlfn.XLOOKUP(C917,Data!C:C,Data!H:H,0)","v":0},null,"",{"$f":"_xlfn.XLOOKUP(C917,Data!C:C,Data!F:F,\"\")","v":""},null,{"$error":"#N/A"}]
["23-3-2021","15:15:00","2021-03-23T15:15:00",null,{"$f":"_xlfn.XLOOKUP(C918,Data!C:C,Data!I:I)","v":{"$error":"#N/A"}},{"$error":"#N/A"},{"$f":"_xlfn.XLOOKUP(C918,Data!C:C,Data!G:G,0)","v":0},{"$f":"_xlfn.XLOOKUP(C918,Data!C:C,Data!F:F,0)","v":0},{"$f":"_xlfn.XLOOKUP(C918,Data!C:C,Data!H:H,0)","v":0},null,"",{"$f":"_xlfn.XLOOKUP(C918,Data!C:C,Data!F:F,\"\")","v":""},null,{"$error":"#N/A"}]
["23-3-2021","15:16:00","2021-03-23T15:16:00",null,{"$f":"_xlfn.XLOOKUP(C919,Data!C:C,Data!I:I)","v":{"$error":"#N/A"}},{"$error":"#N/A"},{"$f":"_xlfn.XLOOKUP(C919,Data!C:C,Data!G:G,0)","v":0},{"$f":"_xlfn.XLOOKUP(C919,Data!C:C,Data!F:F,0)","v":0},{"$f":"_xlfn.XLOOKUP(C919,Data!C:C,Data!H:H,0)","v":0},null,"",{"$f":"_xlfn.XLOOKUP(C919,Data!C:C,Data!F:F,\"\")","v":""},null,{"$error":"#N/A"}]
["23-3-2021","15:17:00","2021-03-23T15:17:00",null,{"$f":"_xlfn.XLOOKUP(C920,Data!C:C,Data!I:I)","v":{"$error":"#N/A"}},{"$error":"#N/A"},{"$f":"_xlfn.XLOOKUP(C920,Data!C:C,Data!G:G,0)","v":0},{"$f":"_xlfn.XLOOKUP(C920,Data!C:C,Data!F:F,0)","v":0},{"$f":"_xlfn.XLOOKUP(C920,Data!C:C,Data!H:H,0)","v":0},null,"",{"$f":"_xlfn.XLOOKUP(C920,Data!C:C,Data!F:F,\"\")","v":""},null,{"$error":"#N/A"}]
["23-3-2021","15:18:00","2021-03-23T15:18:00",null,{"$f":"_xlfn.XLOOKUP(C921,Data!C:C,Data!I:I)","v":{"$error":"#N/A"}},{"$error":"#N/A"},{"$f":"_xlfn.XLOOKUP(C921,Data!C:C,Data!G:G,0)","v":0},{"$f":"_xlfn.XLOOKUP(C921,Data!C:C,Data!F:F,0)","v":0},{"$f":"_xlfn.XLOOKUP(C921,Data!C:C,Data!H:H,0)","v":0},null,"",{"$f":"_xlfn.XLOOKUP(C921,Data!C:C,Data!F:F,\"\")","v":""},null,{"$error":"#N/A"}]
["23-3-2021","15:19:00","2021-03-23T15:19:00",null,{"$f":"_xlfn.XLOOKUP(C922,Data!C:C,Data!I:I)","v":{"$error":"#N/A"}},{"$error":"#N/A"},{"$f":"_xlfn.XLOOKUP(C922,Data!C:C,Data!G:G,0)","v":0},{"$f":"_xlfn.XLOOKUP(C922,Data!C:C,Data!F:F,0)","v":0},{"$f":"_xlfn.XLOOKUP(C922,Data!C:C,Data!H:H,0)","v":0},null,"",{"$f":"_xlfn.XLOOKUP(C922,Data!C:C,Data!F:F,\"\")","v":""},null,{"$error":"#N/A"}]
["23-3-2021","15:20:00","2021-03-23T15:20:00",null,{"$f":"_xlfn.XLOOKUP(C923,Data!C:C,Data!I:I)","v":{"$error":"#N/A"}},{"$error":"#N/A"},{"$f":"_xlfn.XLOOKUP(C923,Data!C:C,Data!G:G,0)","v":0},{"$f":"_xlfn.XLOOKUP(C923,Data!C:C,Data!F:F,0)","v":0},{"$f":"_xlfn.XLOOKUP(C923,Data!C:C,Data!H:H,0)","v":0},null,"",{"$f":"_xlfn.XLOOKUP(C923,Data!C:C,Data!F:F,\"\")","v":""},null,{"$error":"#N/A"}]
["23-3-2021","15:21:00","2021-03-23T15:21:00",null,{"$f":"_xlfn.XLOOKUP(C924,Data!C:C,Data!I:I)","v":{"$error":"#N/A"}},{"$error":"#N/A"},{"$f":"_xlfn.XLOOKUP(C924,Data!C:C,Data!G:G,0)","v":0},{"$f":"_xlfn.XLOOKUP(C924,Data!C:C,Data!F:F,0)","v":0},{"$f":"_xlfn.XLOOKUP(C924,Data!C:C,Data!H:H,0)","v":0},null,"",{"$f":"_xlfn.XLOOKUP(C924,Data!C:C,Data!F:F,\"\")","v":""},null,{"$error":"#N/A"}]
["23-3-2021","15:22:00","2021-03-23T15:22:00",null,{"$f":"_xlfn.XLOOKUP(C925,Data!C:C,Data!I:I)","v":{"$error":"#N/A"}},{"$error":"#N/A"},{"$f":"_xlfn.XLOOKUP(C925,Data!C:C,Data!G:G,0)","v":0},{"$f":"_xlfn.XLOOKUP(C925,Data!C:C,Data!F:F,0)","v":0},{"$f":"_xlfn.XLOOKUP(C925,Data!C:C,Data!H:H,0)","v":0},null,"",{"$f":"_xlfn.XLOOKUP(C925,Data!C:C,Data!F:F,\"\")","v":""},null,{"$error":"#N/A"}]
["23-3-2021","15:23:00","2021-03-23T15:23:00",null,{"$f":"_xlfn.XLOOKUP(C926,Data!C:C,Data!I:I)","v":{"$error":"#N/A"}},{"$error":"#N/A"},{"$f":"_xlfn.XLOOKUP(C926,Data!C:C,Data!G:G,0)","v":0},{"$f":"_xlfn.XLOOKUP(C926,Data!C:C,Data!F:F,0)","v":0},{"$f":"_xlfn.XLOOKUP(C926,Data!C:C,Data!H:H,0)","v":0},null,"",{"$f":"_xlfn.XLOOKUP(C926,Data!C:C,Data!F:F,\"\")","v":""},null,{"$error":"#N/A"}]
["23-3-2021","15:24:00","2021-03-23T15:24:00",null,{"$f":"_xlfn.XLOOKUP(C927,Data!C:C,Data!I:I)","v":{"$error":"#N/A"}},{"$error":"#N/A"},{"$f":"_xlfn.XLOOKUP(C927,Data!C:C,Data!G:G,0)","v":0},{"$f":"_xlfn.XLOOKUP(C927,Data!C:C,Data!F:F,0)","v":0},{"$f":"_xlfn.XLOOKUP(C927,Data!C:C,Data!H:H,0)","v":0},null,"",{"$f":"_xlfn.XLOOKUP(C927,Data!C:C,Data!F:F,\"\")","v":""},null,{"$error":"#N/A"}]
["23-3-2021","15:25:00","2021-03-23T15:25:00",null,{"$f":"_xlfn.XLOOKUP(C928,Data!C:C,Data!I:I)","v":{"$error":"#N/A"}},{"$error":"#N/A"},{"$f":"_xlfn.XLOOKUP(C928,Data!C:C,Data!G:G,0)","v":0},{"$f":"_xlfn.XLOOKUP(C928,Data!C:C,Data!F:F,0)","v":0},{"$f":"_xlfn.XLOOKUP(C928,Data!C:C,Data!H:H,0)","v":0},null,"",{"$f":"_xlfn.XLOOKUP(C928,Data!C:C,Data!F:F,\"\")","v":""},null,{"$error":"#N/A"}]
["23-3-2021","15:26:00","2021-03-23T15:26:00",null,{"$f":"_xlfn.XLOOKUP(C929,Data!C:C,Data!I:I)","v":{"$error":"#N/A"}},{"$error":"#N/A"},{"$f":"_xlfn.XLOOKUP(C929,Data!C:C,Data!G:G,0)","v":0},{"$f":"_xlfn.XLOOKUP(C929,Data!C:C,Data!F:F,0)","v":0},{"$f":"_xlfn.XLOOKUP(C929,Data!C:C,Data!H:H,0)","v":0},null,"",{"$f":"_xlfn.XLOOKUP(C929,Data!C:C,Data!F:F,\"\")","v":""},null,{"$error":"#N/A"}]
["23-3-2021","15:27:00","2021-03-23T15:27:00",null,{"$f":"_xlfn.XLOOKUP(C930,Data!C:C,Data!I:I)","v":{"$error":"#N/A"}},{"$error":"#N/A"},{"$f":"_xlfn.XLOOKUP(C930,Data!C:C,Data!G:G,0)","v":0},{"$f":"_xlfn.XLOOKUP(C930,Data!C:C,Data!F:F,0)","v":0},{"$f":"_xlfn.XLOOKUP(C930,Data!C:C,Data!H:H,0)","v":0},null,"",{"$f":"_xlfn.XLOOKUP(C930,Data!C:C,Data!F:F,\"\")","v":""},null,{"$error":"#N/A"}]
["23-3-2021","15:28:00","2021-03-23T15:28:00",null,{"$f":"_xlfn.XLOOKUP(C931,Data!C:C,Data!I:I)","v":{"$error":"#N/A"}},{"$error":"#N/A"},{"$f":"_xlfn.XLOOKUP(C931,Data!C:C,Data!G:G,0)","v":0},{"$f":"_xlfn.XLOOKUP(C931,Data!C:C,Data!F:F,0)","v":0},{"$f":"_xlfn.XLOOKUP(C931,Data!C:C,Data!H:H,0)","v":0},null,"",{"$f":"_xlfn.XLOOKUP(C931,Data!C:C,Data!F:F,\"\")","v":""},null,{"$error":"#N/A"}]
["23-3-2021","15:29:00","2021-03-23T15:29:00",null,{"$f":"_xlfn.XLOOKUP(C932,Data!C:C,Data!I:I)","v":{"$error":"#N/A"}},{"$error":"#N/A"},{"$f":"_xlfn.XLOOKUP(C932,Data!C:C,Data!G:G,0)","v":0},{"$f":"_xlfn.XLOOKUP(C932,Data!C:C,Data!F:F,0)","v":0},{"$f":"_xlfn.XLOOKUP(C932,Data!C:C,Data!H:H,0)","v":0},null,"",{"$f":"_xlfn.XLOOKUP(C932,Data!C:C,Data!F:F,\"\")","v":""},null,{"$error":"#N/A"}]
["23-3-2021","15:30:00","2021-03-23T15:30:00",null,{"$f":"_xlfn.XLOOKUP(C933,Data!C:C,Data!I:I)","v":{"$error":"#N/A"}},{"$error":"#N/A"},{"$f":"_xlfn.XLOOKUP(C933,Data!C:C,Data!G:G,0)","v":0},{"$f":"_xlfn.XLOOKUP(C933,Data!C:C,Data!F:F,0)","v":0},{"$f":"_xlfn.XLOOKUP(C933,Data!C:C,Data!H:H,0)","v":0},null,"",{"$f":"_xlfn.XLOOKUP(C933,Data!C:C,Data!F:F,\"\")","v":""},null,{"$error":"#N/A"}]
["23-3-2021","15:31:00","2021-03-23T15:31:00",null,{"$f":"_xlfn.XLOOKUP(C934,Data!C:C,Data!I:I)","v":{"$error":"#N/A"}},{"$error":"#N/A"},{"$f":"_xlfn.XLOOKUP(C934,Data!C:C,Data!G:G,0)","v":0},{"$f":"_xlfn.XLOOKUP(C934,Data!C:C,Data!F:F,0)","v":0},{"$f":"_xlfn.XLOOKUP(C934,Data!C:C,Data!H:H,0)","v":0},null,"",{"$f":"_xlfn.XLOOKUP(C934,Data!C:C,Data!F:F,\"\")","v":""},null,{"$error":"#N/A"}]
["23-3-2021","15:32:00","2021-03-23T15:32:00",null,{"$f":"_xlfn.XLOOKUP(C935,Data!C:C,Data!I:I)","v":{"$error":"#N/A"}},{"$error":"#N/A"},{"$f":"_xlfn.XLOOKUP(C935,Data!C:C,Data!G:G,0)","v":0},{"$f":"_xlfn.XLOOKUP(C935,Data!C:C,Data!F:F,0)","v":0},{"$f":"_xlfn.XLOOKUP(C935,Data!C:C,Data!H:H,0)","v":0},null,"",{"$f":"_xlfn.XLOOKUP(C935,Data!C:C,Data!F:F,\"\")","v":""},null,{"$error":"#N/A"}]
["23-3-2021","15:33:00","2021-03-23T15:33:00",null,{"$f":"_xlfn.XLOOKUP(C936,Data!C:C,Data!I:I)","v":{"$error":"#N/A"}},{"$error":"#N/A"},{"$f":"_xlfn.XLOOKUP(C936,Data!C:C,Data!G:G,0)","v":0},{"$f":"_xlfn.XLOOKUP(C936,Data!C:C,Data!F:F,0)","v":0},{"$f":"_xlfn.XLOOKUP(C936,Data!C:C,Data!H:H,0)","v":0},null,"",{"$f":"_xlfn.XLOOKUP(C936,Data!C:C,Data!F:F,\"\")","v":""},null,{"$error":"#N/A"}]
["23-3-2021","15:34:00","2021-03-23T15:34:00",null,{"$f":"_xlfn.XLOOKUP(C937,Data!C:C,Data!I:I)","v":{"$error":"#N/A"}},{"$error":"#N/A"},{"$f":"_xlfn.XLOOKUP(C937,Data!C:C,Data!G:G,0)","v":0},{"$f":"_xlfn.XLOOKUP(C937,Data!C:C,Data!F:F,0)","v":0},{"$f":"_xlfn.XLOOKUP(C937,Data!C:C,Data!H:H,0)","v":0},null,"",{"$f":"_xlfn.XLOOKUP(C937,Data!C:C,Data!F:F,\"\")","v":""},null,{"$error":"#N/A"}]
["23-3-2021","15:35:00","2021-03-23T15:35:00",null,{"$f":"_xlfn.XLOOKUP(C938,Data!C:C,Data!I:I)","v":{"$error":"#N/A"}},{"$error":"#N/A"},{"$f":"_xlfn.XLOOKUP(C938,Data!C:C,Data!G:G,0)","v":0},{"$f":"_xlfn.XLOOKUP(C938,Data!C:C,Data!F:F,0)","v":0},{"$f":"_xlfn.XLOOKUP(C938,Data!C:C,Data!H:H,0)","v":0},null,"",{"$f":"_xlfn.XLOOKUP(C938,Data!C:C,Data!F:F,\"\")","v":""},null,{"$error":"#N/A"}]
["23-3-2021","15:36:00","2021-03-23T15:36:00",null,{"$f":"_xlfn.XLOOKUP(C939,Data!C:C,Data!I:I)","v":{"$error":"#N/A"}},{"$error":"#N/A"},{"$f":"_xlfn.XLOOKUP(C939,Data!C:C,Data!G:G,0)","v":0},{"$f":"_xlfn.XLOOKUP(C939,Data!C:C,Data!F:F,0)","v":0},{"$f":"_xlfn.XLOOKUP(C939,Data!C:C,Data!H:H,0)","v":0},null,"",{"$f":"_xlfn.XLOOKUP(C939,Data!C:C,Data!F:F,\"\")","v":""},null,{"$error":"#N/A"}]
["23-3-2021","15:37:00","2021-03-23T15:37:00",null,{"$f":"_xlfn.XLOOKUP(C940,Data!C:C,Data!I:I)","v":{"$error":"#N/A"}},{"$error":"#N/A"},{"$f":"_xlfn.XLOOKUP(C940,Data!C:C,Data!G:G,0)","v":0},{"$f":"_xlfn.XLOOKUP(C940,Data!C:C,Data!F:F,0)","v":0},{"$f":"_xlfn.XLOOKUP(C940,Data!C:C,Data!H:H,0)","v":0},null,"",{"$f":"_xlfn.XLOOKUP(C940,Data!C:C,Data!F:F,\"\")","v":""},null,{"$error":"#N/A"}]
["23-3-2021","15:38:00","2021-03-23T15:38:00",null,{"$f":"_xlfn.XLOOKUP(C941,Data!C:C,Data!I:I)","v":{"$error":"#N/A"}},{"$error":"#N/A"},{"$f":"_xlfn.XLOOKUP(C941,Data!C:C,Data!G:G,0)","v":0},{"$f":"_xlfn.XLOOKUP(C941,Data!C:C,Data!F:F,0)","v":0},{"$f":"_xlfn.XLOOKUP(C941,Data!C:C,Data!H:H,0)","v":0},null,"",{"$f":"_xlfn.XLOOKUP(C941,Data!C:C,Data!F:F,\"\")","v":""},null,{"$error":"#N/A"}]
["23-3-2021","15:39:00","2021-03-23T15:39:00",null,{"$f":"_xlfn.XLOOKUP(C942,Data!C:C,Data!I:I)","v":{"$error":"#N/A"}},{"$error":"#N/A"},{"$f":"_xlfn.XLOOKUP(C942,Data!C:C,Data!G:G,0)","v":0},{"$f":"_xlfn.XLOOKUP(C942,Data!C:C,Data!F:F,0)","v":0},{"$f":"_xlfn.XLOOKUP(C942,Data!C:C,Data!H:H,0)","v":0},null,"",{"$f":"_xlfn.XLOOKUP(C942,Data!C:C,Data!F:F,\"\")","v":""},null,{"$error":"#N/A"}]
["23-3-2021","15:40:00","2021-03-23T15:40:00",null,{"$f":"_xlfn.XLOOKUP(C943,Data!C:C,Data!I:I)","v":{"$error":"#N/A"}},{"$error":"#N/A"},{"$f":"_xlfn.XLOOKUP(C943,Data!C:C,Data!G:G,0)","v":0},{"$f":"_xlfn.XLOOKUP(C943,Data!C:C,Data!F:F,0)","v":0},{"$f":"_xlfn.XLOOKUP(C943,Data!C:C,Data!H:H,0)","v":0},null,"",{"$f":"_xlfn.XLOOKUP(C943,Data!C:C,Data!F:F,\"\")","v":""},null,{"$error":"#N/A"}]
["23-3-2021","15:41:00","2021-03-23T15:41:00",null,{"$f":"_xlfn.XLOOKUP(C944,Data!C:C,Data!I:I)","v":{"$error":"#N/A"}},{"$error":"#N/A"},{"$f":"_xlfn.XLOOKUP(C944,Data!C:C,Data!G:G,0)","v":0},{"$f":"_xlfn.XLOOKUP(C944,Data!C:C,Data!F:F,0)","v":0},{"$f":"_xlfn.XLOOKUP(C944,Data!C:C,Data!H:H,0)","v":0},null,"",{"$f":"_xlfn.XLOOKUP(C944,Data!C:C,Data!F:F,\"\")","v":""},null,{"$error":"#N/A"}]
["23-3-2021","15:42:00","2021-03-23T15:42:00",null,{"$f":"_xlfn.XLOOKUP(C945,Data!C:C,Data!I:I)","v":{"$error":"#N/A"}},{"$error":"#N/A"},{"$f":"_xlfn.XLOOKUP(C945,Data!C:C,Data!G:G,0)","v":0},{"$f":"_xlfn.XLOOKUP(C945,Data!C:C,Data!F:F,0)","v":0},{"$f":"_xlfn.XLOOKUP(C945,Data!C:C,Data!H:H,0)","v":0},null,"",{"$f":"_xlfn.XLOOKUP(C945,Data!C:C,Data!F:F,\"\")","v":""},null,{"$error":"#N/A"}]
["23-3-2021","15:43:00","2021-03-23T15:43:00",null,{"$f":"_xlfn.XLOOKUP(C946,Data!C:C,Data!I:I)","v":{"$error":"#N/A"}},{"$error":"#N/A"},{"$f":"_xlfn.XLOOKUP(C946,Data!C:C,Data!G:G,0)","v":0},{"$f":"_xlfn.XLOOKUP(C946,Data!C:C,Data!F:F,0)","v":0},{"$f":"_xlfn.XLOOKUP(C946,Data!C:C,Data!H:H,0)","v":0},null,"",{"$f":"_xlfn.XLOOKUP(C946,Data!C:C,Data!F:F,\"\")","v":""},null,{"$error":"#N/A"}]
["23-3-2021","15:44:00","2021-03-23T15:44:00",null,{"$f":"_xlfn.XLOOKUP(C947,Data!C:C,Data!I:I)","v":{"$error":"#N/A"}},{"$error":"#N/A"},{"$f":"_xlfn.XLOOKUP(C947,Data!C:C,Data!G:G,0)","v":0},{"$f":"_xlfn.XLOOKUP(C947,Data!C:C,Data!F:F,0)","v":0},{"$f":"_xlfn.XLOOKUP(C947,Data!C:C,Data!H:H,0)","v":0},null,"",{"$f":"_xlfn.XLOOKUP(C947,Data!C:C,Data!F:F,\"\")","v":""},null,{"$error":"#N/A"}]
["23-3-2021","15:45:00","2021-03-23T15:45:00",null,{"$f":"_xlfn.XLOOKUP(C948,Data!C:C,Data!I:I)","v":{"$error":"#N/A"}},{"$error":"#N/A"},{"$f":"_xlfn.XLOOKUP(C948,Data!C:C,Data!G:G,0)","v":0},{"$f":"_xlfn.XLOOKUP(C948,Data!C:C,Data!F:F,0)","v":0},{"$f":"_xlfn.XLOOKUP(C948,Data!C:C,Data!H:H,0)","v":0},null,"",{"$f":"_xlfn.XLOOKUP(C948,Data!C:C,Data!F:F,\"\")","v":""},null,{"$error":"#N/A"}]
["23-3-2021","15:46:00","2021-03-23T15:46:00",null,{"$f":"_xlfn.XLOOKUP(C949,Data!C:C,Data!I:I)","v":{"$error":"#N/A"}},{"$error":"#N/A"},{"$f":"_xlfn.XLOOKUP(C949,Data!C:C,Data!G:G,0)","v":0},{"$f":"_xlfn.XLOOKUP(C949,Data!C:C,Data!F:F,0)","v":0},{"$f":"_xlfn.XLOOKUP(C949,Data!C:C,Data!H:H,0)","v":0},null,"",{"$f":"_xlfn.XLOOKUP(C949,Data!C:C,Data!F:F,\"\")","v":""},null,{"$error":"#N/A"}]
["23-3-2021","15:47:00","2021-03-23T15:47:00",null,{"$f":"_xlfn.XLOOKUP(C950,Data!C:C,Data!I:I)","v":{"$error":"#N/A"}},{"$error":"#N/A"},{"$f":"_xlfn.XLOOKUP(C950,Data!C:C,Data!G:G,0)","v":0},{"$f":"_xlfn.XLOOKUP(C950,Data!C:C,Data!F:F,0)","v":0},{"$f":"_xlfn.XLOOKUP(C950,Data!C:C,Data!H:H,0)","v":0},null,"",{"$f":"_xlfn.XLOOKUP(C950,Data!C:C,Data!F:F,\"\")","v":""},null,{"$error":"#N/A"}]
["23-3-2021","15:48:00","2021-03-23T15:48:00",null,{"$f":"_xlfn.XLOOKUP(C951,Data!C:C,Data!I:I)","v":{"$error":"#N/A"}},{"$error":"#N/A"},{"$f":"_xlfn.XLOOKUP(C951,Data!C:C,Data!G:G,0)","v":0},{"$f":"_xlfn.XLOOKUP(C951,Data!C:C,Data!F:F,0)","v":0},{"$f":"_xlfn.XLOOKUP(C951,Data!C:C,Data!H:H,0)","v":0},null,"",{"$f":"_xlfn.XLOOKUP(C951,Data!C:C,Data!F:F,\"\")","v":""},null,{"$error":"#N/A"}]
["23-3-2021","15:49:00","2021-03-23T15:49:00",null,{"$f":"_xlfn.XLOOKUP(C952,Data!C:C,Data!I:I)","v":{"$error":"#N/A"}},{"$error":"#N/A"},{"$f":"_xlfn.XLOOKUP(C952,Data!C:C,Data!G:G,0)","v":0},{"$f":"_xlfn.XLOOKUP(C952,Data!C:C,Data!F:F,0)","v":0},{"$f":"_xlfn.XLOOKUP(C952,Data!C:C,Data!H:H,0)","v":0},null,"",{"$f":"_xlfn.XLOOKUP(C952,Data!C:C,Data!F:F,\"\")","v":""},null,{"$error":"#N/A"}]
["23-3-2021","15:50:00","2021-03-23T15:50:00",null,{"$f":"_xlfn.XLOOKUP(C953,Data!C:C,Data!I:I)","v":{"$error":"#N/A"}},{"$error":"#N/A"},{"$f":"_xlfn.XLOOKUP(C953,Data!C:C,Data!G:G,0)","v":0},{"$f":"_xlfn.XLOOKUP(C953,Data!C:C,Data!F:F,0)","v":0},{"$f":"_xlfn.XLOOKUP(C953,Data!C:C,Data!H:H,0)","v":0},null,"",{"$f":"_xlfn.XLOOKUP(C953,Data!C:C,Data!F:F,\"\")","v":""},null,{"$error":"#N/A"}]
["23-3-2021","15:51:00","2021-03-23T15:51:00",null,{"$f":"_xlfn.XLOOKUP(C954,Data!C:C,Data!I:I)","v":{"$error":"#N/A"}},{"$error":"#N/A"},{"$f":"_xlfn.XLOOKUP(C954,Data!C:C,Data!G:G,0)","v":0},{"$f":"_xlfn.XLOOKUP(C954,Data!C:C,Data!F:F,0)","v":0},{"$f":"_xlfn.XLOOKUP(C954,Data!C:C,Data!H:H,0)","v":0},null,"",{"$f":"_xlfn.XLOOKUP(C954,Data!C:C,Data!F:F,\"\")","v":""},null,{"$error":"#N/A"}]
["23-3-2021","15:52:00","2021-03-23T15:52:00",null,{"$f":"_xlfn.XLOOKUP(C955,Data!C:C,Data!I:I)","v":{"$error":"#N/A"}},{"$error":"#N/A"},{"$f":"_xlfn.XLOOKUP(C955,Data!C:C,Data!G:G,0)","v":0},{"$f":"_xlfn.XLOOKUP(C955,Data!C:C,Data!F:F,0)","v":0},{"$f":"_xlfn.XLOOKUP(C955,Data!C:C,Data!H:H,0)","v":0},null,"",{"$f":"_xlfn.XLOOKUP(C955,Data!C:C,Data!F:F,\"\")","v":""},null,{"$error":"#N/A"}]
["23-3-2021","15:53:00","2021-03-23T15:53:00",null,{"$f":"_xlfn.XLOOKUP(C956,Data!C:C,Data!I:I)","v":{"$error":"#N/A"}},{"$error":"#N/A"},{"$f":"_xlfn.XLOOKUP(C956,Data!C:C,Data!G:G,0)","v":0},{"$f":"_xlfn.XLOOKUP(C956,Data!C:C,Data!F:F,0)","v":0},{"$f":"_xlfn.XLOOKUP(C956,Data!C:C,Data!H:H,0)","v":0},null,"",{"$f":"_xlfn.XLOOKUP(C956,Data!C:C,Data!F:F,\"\")","v":""},null,{"$error":"#N/A"}]
["23-3-2021","15:54:00","2021-03-23T15:54:00",null,{"$f":"_xlfn.XLOOKUP(C957,Data!C:C,Data!I:I)","v":{"$error":"#N/A"}},{"$error":"#N/A"},{"$f":"_xlfn.XLOOKUP(C957,Data!C:C,Data!G:G,0)","v":0},{"$f":"_xlfn.XLOOKUP(C957,Data!C:C,Data!F:F,0)","v":0},{"$f":"_xlfn.XLOOKUP(C957,Data!C:C,Data!H:H,0)","v":0},null,"",{"$f":"_xlfn.XLOOKUP(C957,Data!C:C,Data!F:F,\"\")","v":""},null,{"$error":"#N/A"}]
["23-3-2021","15:55:00","2021-03-23T15:55:00",null,{"$f":"_xlfn.XLOOKUP(C958,Data!C:C,Data!I:I)","v":{"$error":"#N/A"}},{"$error":"#N/A"},{"$f":"_xlfn.XLOOKUP(C958,Data!C:C,Data!G:G,0)","v":0},{"$f":"_xlfn.XLOOKUP(C958,Data!C:C,Data!F:F,0)","v":0},{"$f":"_xlfn.XLOOKUP(C958,Data!C:C,Data!H:H,0)","v":0},null,"",{"$f":"_xlfn.XLOOKUP(C958,Data!C:C,Data!F:F,\"\")","v":""},null,{"$error":"#N/A"}]
["23-3-2021","15:56:00","2021-03-23T15:56:00",null,{"$f":"_xlfn.XLOOKUP(C959,Data!C:C,Data!I:I)","v":{"$error":"#N/A"}},{"$error":"#N/A"},{"$f":"_xlfn.XLOOKUP(C959,Data!C:C,Data!G:G,0)","v":0},{"$f":"_xlfn.XLOOKUP(C959,Data!C:C,Data!F:F,0)","v":0},{"$f":"_xlfn.XLOOKUP(C959,Data!C:C,Data!H:H,0)","v":0},null,"",{"$f":"_xlfn.XLOOKUP(C959,Data!C:C,Data!F:F,\"\")","v":""},null,{"$error":"#N/A"}]
["23-3-2021","15:57:00","2021-03-23T15:57:00",null,{"$f":"_xlfn.XLOOKUP(C960,Data!C:C,Data!I:I)","v":{"$error":"#N/A"}},{"$error":"#N/A"},{"$f":"_xlfn.XLOOKUP(C960,Data!C:C,Data!G:G,0)","v":0},{"$f":"_xlfn.XLOOKUP(C960,Data!C:C,Data!F:F,0)","v":0},{"$f":"_xlfn.XLOOKUP(C960,Data!C:C,Data!H:H,0)","v":0},null,"",{"$f":"_xlfn.XLOOKUP(C960,Data!C:C,Data!F:F,\"\")","v":""},null,{"$error":"#N/A"}]
["23-3-2021","15:58:00","2021-03-23T15:58:00",null,{"$f":"_xlfn.XLOOKUP(C961,Data!C:C,Data!I:I)","v":{"$error":"#N/A"}},{"$error":"#N/A"},{"$f":"_xlfn.XLOOKUP(C961,Data!C:C,Data!G:G,0)","v":0},{"$f":"_xlfn.XLOOKUP(C961,Data!C:C,Data!F:F,0)","v":0},{"$f":"_xlfn.XLOOKUP(C961,Data!C:C,Data!H:H,0)","v":0},null,"",{"$f":"_xlfn.XLOOKUP(C961,Data!C:C,Data!F:F,\"\")","v":""},null,{"$error":"#N/A"}]
["23-3-2021","15:59:00","2021-03-23T15:59:00",null,{"$f":"_xlfn.XLOOKUP(C962,Data!C:C,Data!I:I)","v":{"$error":"#N/A"}},{"$error":"#N/A"},{"$f":"_xlfn.XLOOKUP(C962,Data!C:C,Data!G:G,0)","v":0},{"$f":"_xlfn.XLOOKUP(C962,Data!C:C,Data!F:F,0)","v":0},{"$f":"_xlfn.XLOOKUP(C962,Data!C:C,Data!H:H,0)","v":0},null,"",{"$f":"_xlfn.XLOOKUP(C962,Data!C:C,Data!F:F,\"\")","v":""},null,{"$error":"#N/A"}]
["23-3-2021","16:00:00",{"$f":"A963+B963","v":"2021-03-23T16:00:00"},null,{"$f":"_xlfn.XLOOKUP(C963,Data!C:C,Data!I:I)","v":{"$error":"#N/A"}},{"$error":"#N/A"},{"$f":"_xlfn.XLOOKUP(C963,Data!C:C,Data!G:G,0)","v":0},{"$f":"_xlfn.XLOOKUP(C963,Data!C:C,Data!F:F,0)","v":0},{"$f":"_xlfn.XLOOKUP(C963,Data!C:C,Data!H:H,0)","v":0},null,"",{"$f":"_xlfn.XLOOKUP(C963,Data!C:C,Data!F:F,\"\")","v":""},null,{"$error":"#N/A"}]
[{"$f":"$A$3","v":"23-3-2021"},"16:01:00","2021-03-23T16:01:00",null,{"$f":"_xlfn.XLOOKUP(C964,Data!C:C,Data!I:I)","v":{"$error":"#N/A"}},{"$f":"IF(E964=255,F963,E964)","v":{"$error":"#N/A"}},{"$f":"_xlfn.XLOOKUP(C964,Data!C:C,Data!G:G,0)","v":0},{"$f":"_xlfn.XLOOKUP(C964,Data!C:C,Data!F:F,0)","v":0},{"$f":"_xlfn.XLOOKUP(C964,Data!C:C,Data!H:H,0)","v":0},null,{"$f":"IFERROR(IF(F964=\"#N/A\",\"\",F964),\"\")","v":""},{"$f":"_xlfn.XLOOKUP(C964,Data!C:C,Data!F:F,\"\")","v":""},null,{"$error":"#N/A"}]
["23-3-2021","16:02:00","2021-03-23T16:02:00",null,{"$f":"_xlfn.XLOOKUP(C965,Data!C:C,Data!I:I)","v":{"$error":"#N/A"}},{"$error":"#N/A"},{"$f":"_xlfn.XLOOKUP(C965,Data!C:C,Data!G:G,0)","v":0},{"$f":"_xlfn.XLOOKUP(C965,Data!C:C,Data!F:F,0)","v":0},{"$f":"_xlfn.XLOOKUP(C965,Data!C:C,Data!H:H,0)","v":0},null,"",{"$f":"_xlfn.XLOOKUP(C965,Data!C:C,Data!F:F,\"\")","v":""},null,{"$error":"#N/A"}]
["23-3-2021","16:03:00","2021-03-23T16:03:00",null,{"$f":"_xlfn.XLOOKUP(C966,Data!C:C,Data!I:I)","v":{"$error":"#N/A"}},{"$error":"#N/A"},{"$f":"_xlfn.XLOOKUP(C966,Data!C:C,Data!G:G,0)","v":0},{"$f":"_xlfn.XLOOKUP(C966,Data!C:C,Data!F:F,0)","v":0},{"$f":"_xlfn.XLOOKUP(C966,Data!C:C,Data!H:H,0)","v":0},null,"",{"$f":"_xlfn.XLOOKUP(C966,Data!C:C,Data!F:F,\"\")","v":""},null,{"$error":"#N/A"}]
["23-3-2021","16:04:00","2021-03-23T16:04:00",null,{"$f":"_xlfn.XLOOKUP(C967,Data!C:C,Data!I:I)","v":{"$error":"#N/A"}},{"$error":"#N/A"},{"$f":"_xlfn.XLOOKUP(C967,Data!C:C,Data!G:G,0)","v":0},{"$f":"_xlfn.XLOOKUP(C967,Data!C:C,Data!F:F,0)","v":0},{"$f":"_xlfn.XLOOKUP(C967,Data!C:C,Data!H:H,0)","v":0},null,"",{"$f":"_xlfn.XLOOKUP(C967,Data!C:C,Data!F:F,\"\")","v":""},null,{"$f":"IF(F967=\"\",\"\",AVERAGE(F963:F971))","v":{"$error":"#N/A"}}]
["23-3-2021","16:05:00","2021-03-23T16:05:00",null,{"$f":"_xlfn.XLOOKUP(C968,Data!C:C,Data!I:I)","v":{"$error":"#N/A"}},{"$error":"#N/A"},{"$f":"_xlfn.XLOOKUP(C968,Data!C:C,Data!G:G,0)","v":0},{"$f":"_xlfn.XLOOKUP(C968,Data!C:C,Data!F:F,0)","v":0},{"$f":"_xlfn.XLOOKUP(C968,Data!C:C,Data!H:H,0)","v":0},null,"",{"$f":"_xlfn.XLOOKUP(C968,Data!C:C,Data!F:F,\"\")","v":""},null,{"$error":"#N/A"}]
["23-3-2021","16:06:00","2021-03-23T16:06:00",null,{"$f":"_xlfn.XLOOKUP(C969,Data!C:C,Data!I:I)","v":{"$error":"#N/A"}},{"$error":"#N/A"},{"$f":"_xlfn.XLOOKUP(C969,Data!C:C,Data!G:G,0)","v":0},{"$f":"_xlfn.XLOOKUP(C969,Data!C:C,Data!F:F,0)","v":0},{"$f":"_xlfn.XLOOKUP(C969,Data!C:C,Data!H:H,0)","v":0},null,"",{"$f":"_xlfn.XLOOKUP(C969,Data!C:C,Data!F:F,\"\")","v":""},null,{"$error":"#N/A"}]
["23-3-2021","16:07:00","2021-03-23T16:07:00",null,{"$f":"_xlfn.XLOOKUP(C970,Data!C:C,Data!I:I)","v":{"$error":"#N/A"}},{"$error":"#N/A"},{"$f":"_xlfn.XLOOKUP(C970,Data!C:C,Data!G:G,0)","v":0},{"$f":"_xlfn.XLOOKUP(C970,Data!C:C,Data!F:F,0)","v":0},{"$f":"_xlfn.XLOOKUP(C970,Data!C:C,Data!H:H,0)","v":0},null,"",{"$f":"_xlfn.XLOOKUP(C970,Data!C:C,Data!F:F,\"\")","v":""},null,{"$error":"#N/A"}]
["23-3-2021","16:08:00","2021-03-23T16:08:00",null,{"$f":"_xlfn.XLOOKUP(C971,Data!C:C,Data!I:I)","v":{"$error":"#N/A"}},{"$error":"#N/A"},{"$f":"_xlfn.XLOOKUP(C971,Data!C:C,Data!G:G,0)","v":0},{"$f":"_xlfn.XLOOKUP(C971,Data!C:C,Data!F:F,0)","v":0},{"$f":"_xlfn.XLOOKUP(C971,Data!C:C,Data!H:H,0)","v":0},null,"",{"$f":"_xlfn.XLOOKUP(C971,Data!C:C,Data!F:F,\"\")","v":""},null,{"$error":"#N/A"}]
["23-3-2021","16:09:00","2021-03-23T16:09:00",null,{"$f":"_xlfn.XLOOKUP(C972,Data!C:C,Data!I:I)","v":{"$error":"#N/A"}},{"$error":"#N/A"},{"$f":"_xlfn.XLOOKUP(C972,Data!C:C,Data!G:G,0)","v":0},{"$f":"_xlfn.XLOOKUP(C972,Data!C:C,Data!F:F,0)","v":0},{"$f":"_xlfn.XLOOKUP(C972,Data!C:C,Data!H:H,0)","v":0},null,"",{"$f":"_xlfn.XLOOKUP(C972,Data!C:C,Data!F:F,\"\")","v":""},null,{"$error":"#N/A"}]
["23-3-2021","16:10:00","2021-03-23T16:10:00",null,{"$f":"_xlfn.XLOOKUP(C973,Data!C:C,Data!I:I)","v":{"$error":"#N/A"}},{"$error":"#N/A"},{"$f":"_xlfn.XLOOKUP(C973,Data!C:C,Data!G:G,0)","v":0},{"$f":"_xlfn.XLOOKUP(C973,Data!C:C,Data!F:F,0)","v":0},{"$f":"_xlfn.XLOOKUP(C973,Data!C:C,Data!H:H,0)","v":0},null,"",{"$f":"_xlfn.XLOOKUP(C973,Data!C:C,Data!F:F,\"\")","v":""},null,{"$error":"#N/A"}]
["23-3-2021","16:11:00","2021-03-23T16:11:00",null,{"$f":"_xlfn.XLOOKUP(C974,Data!C:C,Data!I:I)","v":{"$error":"#N/A"}},{"$error":"#N/A"},{"$f":"_xlfn.XLOOKUP(C974,Data!C:C,Data!G:G,0)","v":0},{"$f":"_xlfn.XLOOKUP(C974,Data!C:C,Data!F:F,0)","v":0},{"$f":"_xlfn.XLOOKUP(C974,Data!C:C,Data!H:H,0)","v":0},null,"",{"$f":"_xlfn.XLOOKUP(C974,Data!C:C,Data!F:F,\"\")","v":""},null,{"$error":"#N/A"}]
["23-3-2021","16:12:00","2021-03-23T16:12:00",null,{"$f":"_xlfn.XLOOKUP(C975,Data!C:C,Data!I:I)","v":{"$error":"#N/A"}},{"$error":"#N/A"},{"$f":"_xlfn.XLOOKUP(C975,Data!C:C,Data!G:G,0)","v":0},{"$f":"_xlfn.XLOOKUP(C975,Data!C:C,Data!F:F,0)","v":0},{"$f":"_xlfn.XLOOKUP(C975,Data!C:C,Data!H:H,0)","v":0},null,"",{"$f":"_xlfn.XLOOKUP(C975,Data!C:C,Data!F:F,\"\")","v":""},null,{"$error":"#N/A"}]
["23-3-2021","16:13:00","2021-03-23T16:13:00",null,{"$f":"_xlfn.XLOOKUP(C976,Data!C:C,Data!I:I)","v":{"$error":"#N/A"}},{"$error":"#N/A"},{"$f":"_xlfn.XLOOKUP(C976,Data!C:C,Data!G:G,0)","v":0},{"$f":"_xlfn.XLOOKUP(C976,Data!C:C,Data!F:F,0)","v":0},{"$f":"_xlfn.XLOOKUP(C976,Data!C:C,Data!H:H,0)","v":0},null,"",{"$f":"_xlfn.XLOOKUP(C976,Data!C:C,Data!F:F,\"\")","v":""},null,{"$error":"#N/A"}]
["23-3-2021","16:14:00","2021-03-23T16:14:00",null,{"$f":"_xlfn.XLOOKUP(C977,Data!C:C,Data!I:I)","v":{"$error":"#N/A"}},{"$error":"#N/A"},{"$f":"_xlfn.XLOOKUP(C977,Data!C:C,Data!G:G,0)","v":0},{"$f":"_xlfn.XLOOKUP(C977,Data!C:C,Data!F:F,0)","v":0},{"$f":"_xlfn.XLOOKUP(C977,Data!C:C,Data!H:H,0)","v":0},null,"",{"$f":"_xlfn.XLOOKUP(C977,Data!C:C,Data!F:F,\"\")","v":""},null,{"$error":"#N/A"}]
["23-3-2021","16:15:00","2021-03-23T16:15:00",null,{"$f":"_xlfn.XLOOKUP(C978,Data!C:C,Data!I:I)","v":{"$error":"#N/A"}},{"$error":"#N/A"},{"$f":"_xlfn.XLOOKUP(C978,Data!C:C,Data!G:G,0)","v":0},{"$f":"_xlfn.XLOOKUP(C978,Data!C:C,Data!F:F,0)","v":0},{"$f":"_xlfn.XLOOKUP(C978,Data!C:C,Data!H:H,0)","v":0},null,"",{"$f":"_xlfn.XLOOKUP(C978,Data!C:C,Data!F:F,\"\")","v":""},null,{"$error":"#N/A"}]
["23-3-2021","16:16:00","2021-03-23T16:16:00",null,{"$f":"_xlfn.XLOOKUP(C979,Data!C:C,Data!I:I)","v":{"$error":"#N/A"}},{"$error":"#N/A"},{"$f":"_xlfn.XLOOKUP(C979,Data!C:C,Data!G:G,0)","v":0},{"$f":"_xlfn.XLOOKUP(C979,Data!C:C,Data!F:F,0)","v":0},{"$f":"_xlfn.XLOOKUP(C979,Data!C:C,Data!H:H,0)","v":0},null,"",{"$f":"_xlfn.XLOOKUP(C979,Data!C:C,Data!F:F,\"\")","v":""},null,{"$error":"#N/A"}]
["23-3-2021","16:17:00","2021-03-23T16:17:00",null,{"$f":"_xlfn.XLOOKUP(C980,Data!C:C,Data!I:I)","v":{"$error":"#N/A"}},{"$error":"#N/A"},{"$f":"_xlfn.XLOOKUP(C980,Data!C:C,Data!G:G,0)","v":0},{"$f":"_xlfn.XLOOKUP(C980,Data!C:C,Data!F:F,0)","v":0},{"$f":"_xlfn.XLOOKUP(C980,Data!C:C,Data!H:H,0)","v":0},null,"",{"$f":"_xlfn.XLOOKUP(C980,Data!C:C,Data!F:F,\"\")","v":""},null,{"$error":"#N/A"}]
["23-3-2021","16:18:00","2021-03-23T16:18:00",null,{"$f":"_xlfn.XLOOKUP(C981,Data!C:C,Data!I:I)","v":{"$error":"#N/A"}},{"$error":"#N/A"},{"$f":"_xlfn.XLOOKUP(C981,Data!C:C,Data!G:G,0)","v":0},{"$f":"_xlfn.XLOOKUP(C981,Data!C:C,Data!F:F,0)","v":0},{"$f":"_xlfn.XLOOKUP(C981,Data!C:C,Data!H:H,0)","v":0},null,"",{"$f":"_xlfn.XLOOKUP(C981,Data!C:C,Data!F:F,\"\")","v":""},null,{"$error":"#N/A"}]
["23-3-2021","16:19:00","2021-03-23T16:19:00",null,{"$f":"_xlfn.XLOOKUP(C982,Data!C:C,Data!I:I)","v":{"$error":"#N/A"}},{"$error":"#N/A"},{"$f":"_xlfn.XLOOKUP(C982,Data!C:C,Data!G:G,0)","v":0},{"$f":"_xlfn.XLOOKUP(C982,Data!C:C,Data!F:F,0)","v":0},{"$f":"_xlfn.XLOOKUP(C982,Data!C:C,Data!H:H,0)","v":0},null,"",{"$f":"_xlfn.XLOOKUP(C982,Data!C:C,Data!F:F,\"\")","v":""},null,{"$error":"#N/A"}]
["23-3-2021","16:20:00","2021-03-23T16:20:00",null,{"$f":"_xlfn.XLOOKUP(C983,Data!C:C,Data!I:I)","v":{"$error":"#N/A"}},{"$error":"#N/A"},{"$f":"_xlfn.XLOOKUP(C983,Data!C:C,Data!G:G,0)","v":0},{"$f":"_xlfn.XLOOKUP(C983,Data!C:C,Data!F:F,0)","v":0},{"$f":"_xlfn.XLOOKUP(C983,Data!C:C,Data!H:H,0)","v":0},null,"",{"$f":"_xlfn.XLOOKUP(C983,Data!C:C,Data!F:F,\"\")","v":""},null,{"$error":"#N/A"}]
["23-3-2021","16:21:00","2021-03-23T16:21:00",null,{"$f":"_xlfn.XLOOKUP(C984,Data!C:C,Data!I:I)","v":{"$error":"#N/A"}},{"$error":"#N/A"},{"$f":"_xlfn.XLOOKUP(C984,Data!C:C,Data!G:G,0)","v":0},{"$f":"_xlfn.XLOOKUP(C984,Data!C:C,Data!F:F,0)","v":0},{"$f":"_xlfn.XLOOKUP(C984,Data!C:C,Data!H:H,0)","v":0},null,"",{"$f":"_xlfn.XLOOKUP(C984,Data!C:C,Data!F:F,\"\")","v":""},null,{"$error":"#N/A"}]
["23-3-2021","16:22:00","2021-03-23T16:22:00",null,{"$f":"_xlfn.XLOOKUP(C985,Data!C:C,Data!I:I)","v":{"$error":"#N/A"}},{"$error":"#N/A"},{"$f":"_xlfn.XLOOKUP(C985,Data!C:C,Data!G:G,0)","v":0},{"$f":"_xlfn.XLOOKUP(C985,Data!C:C,Data!F:F,0)","v":0},{"$f":"_xlfn.XLOOKUP(C985,Data!C:C,Data!H:H,0)","v":0},null,"",{"$f":"_xlfn.XLOOKUP(C985,Data!C:C,Data!F:F,\"\")","v":""},null,{"$error":"#N/A"}]
["23-3-2021","16:23:00","2021-03-23T16:23:00",null,{"$f":"_xlfn.XLOOKUP(C986,Data!C:C,Data!I:I)","v":{"$error":"#N/A"}},{"$error":"#N/A"},{"$f":"_xlfn.XLOOKUP(C986,Data!C:C,Data!G:G,0)","v":0},{"$f":"_xlfn.XLOOKUP(C986,Data!C:C,Data!F:F,0)","v":0},{"$f":"_xlfn.XLOOKUP(C986,Data!C:C,Data!H:H,0)","v":0},null,"",{"$f":"_xlfn.XLOOKUP(C986,Data!C:C,Data!F:F,\"\")","v":""},null,{"$error":"#N/A"}]
["23-3-2021","16:24:00","2021-03-23T16:24:00",null,{"$f":"_xlfn.XLOOKUP(C987,Data!C:C,Data!I:I)","v":{"$error":"#N/A"}},{"$error":"#N/A"},{"$f":"_xlfn.XLOOKUP(C987,Data!C:C,Data!G:G,0)","v":0},{"$f":"_xlfn.XLOOKUP(C987,Data!C:C,Data!F:F,0)","v":0},{"$f":"_xlfn.XLOOKUP(C987,Data!C:C,Data!H:H,0)","v":0},null,"",{"$f":"_xlfn.XLOOKUP(C987,Data!C:C,Data!F:F,\"\")","v":""},null,{"$error":"#N/A"}]
["23-3-2021","16:25:00","2021-03-23T16:25:00",null,{"$f":"_xlfn.XLOOKUP(C988,Data!C:C,Data!I:I)","v":{"$error":"#N/A"}},{"$error":"#N/A"},{"$f":"_xlfn.XLOOKUP(C988,Data!C:C,Data!G:G,0)","v":0},{"$f":"_xlfn.XLOOKUP(C988,Data!C:C,Data!F:F,0)","v":0},{"$f":"_xlfn.XLOOKUP(C988,Data!C:C,Data!H:H,0)","v":0},null,"",{"$f":"_xlfn.XLOOKUP(C988,Data!C:C,Data!F:F,\"\")","v":""},null,{"$error":"#N/A"}]
["23-3-2021","16:26:00","2021-03-23T16:26:00",null,{"$f":"_xlfn.XLOOKUP(C989,Data!C:C,Data!I:I)","v":{"$error":"#N/A"}},{"$error":"#N/A"},{"$f":"_xlfn.XLOOKUP(C989,Data!C:C,Data!G:G,0)","v":0},{"$f":"_xlfn.XLOOKUP(C989,Data!C:C,Data!F:F,0)","v":0},{"$f":"_xlfn.XLOOKUP(C989,Data!C:C,Data!H:H,0)","v":0},null,"",{"$f":"_xlfn.XLOOKUP(C989,Data!C:C,Data!F:F,\"\")","v":""},null,{"$error":"#N/A"}]
["23-3-2021","16:27:00","2021-03-23T16:27:00",null,{"$f":"_xlfn.XLOOKUP(C990,Data!C:C,Data!I:I)","v":{"$error":"#N/A"}},{"$error":"#N/A"},{"$f":"_xlfn.XLOOKUP(C990,Data!C:C,Data!G:G,0)","v":0},{"$f":"_xlfn.XLOOKUP(C990,Data!C:C,Data!F:F,0)","v":0},{"$f":"_xlfn.XLOOKUP(C990,Data!C:C,Data!H:H,0)","v":0},null,"",{"$f":"_xlfn.XLOOKUP(C990,Data!C:C,Data!F:F,\"\")","v":""},null,{"$error":"#N/A"}]
["23-3-2021","16:28:00","2021-03-23T16:28:00",null,{"$f":"_xlfn.XLOOKUP(C991,Data!C:C,Data!I:I)","v":{"$error":"#N/A"}},{"$error":"#N/A"},{"$f":"_xlfn.XLOOKUP(C991,Data!C:C,Data!G:G,0)","v":0},{"$f":"_xlfn.XLOOKUP(C991,Data!C:C,Data!F:F,0)","v":0},{"$f":"_xlfn.XLOOKUP(C991,Data!C:C,Data!H:H,0)","v":0},null,"",{"$f":"_xlfn.XLOOKUP(C991,Data!C:C,Data!F:F,\"\")","v":""},null,{"$error":"#N/A"}]
["23-3-2021","16:29:00","2021-03-23T16:29:00",null,{"$f":"_xlfn.XLOOKUP(C992,Data!C:C,Data!I:I)","v":{"$error":"#N/A"}},{"$error":"#N/A"},{"$f":"_xlfn.XLOOKUP(C992,Data!C:C,Data!G:G,0)","v":0},{"$f":"_xlfn.XLOOKUP(C992,Data!C:C,Data!F:F,0)","v":0},{"$f":"_xlfn.XLOOKUP(C992,Data!C:C,Data!H:H,0)","v":0},null,"",{"$f":"_xlfn.XLOOKUP(C992,Data!C:C,Data!F:F,\"\")","v":""},null,{"$error":"#N/A"}]
["23-3-2021","16:30:00","2021-03-23T16:30:00",null,{"$f":"_xlfn.XLOOKUP(C993,Data!C:C,Data!I:I)","v":{"$error":"#N/A"}},{"$error":"#N/A"},{"$f":"_xlfn.XLOOKUP(C993,Data!C:C,Data!G:G,0)","v":0},{"$f":"_xlfn.XLOOKUP(C993,Data!C:C,Data!F:F,0)","v":0},{"$f":"_xlfn.XLOOKUP(C993,Data!C:C,Data!H:H,0)","v":0},null,"",{"$f":"_xlfn.XLOOKUP(C993,Data!C:C,Data!F:F,\"\")","v":""},null,{"$error":"#N/A"}]
["23-3-2021","16:31:00","2021-03-23T16:31:00",null,{"$f":"_xlfn.XLOOKUP(C994,Data!C:C,Data!I:I)","v":{"$error":"#N/A"}},{"$error":"#N/A"},{"$f":"_xlfn.XLOOKUP(C994,Data!C:C,Data!G:G,0)","v":0},{"$f":"_xlfn.XLOOKUP(C994,Data!C:C,Data!F:F,0)","v":0},{"$f":"_xlfn.XLOOKUP(C994,Data!C:C,Data!H:H,0)","v":0},null,"",{"$f":"_xlfn.XLOOKUP(C994,Data!C:C,Data!F:F,\"\")","v":""},null,{"$error":"#N/A"}]
["23-3-2021","16:32:00","2021-03-23T16:32:00",null,{"$f":"_xlfn.XLOOKUP(C995,Data!C:C,Data!I:I)","v":{"$error":"#N/A"}},{"$error":"#N/A"},{"$f":"_xlfn.XLOOKUP(C995,Data!C:C,Data!G:G,0)","v":0},{"$f":"_xlfn.XLOOKUP(C995,Data!C:C,Data!F:F,0)","v":0},{"$f":"_xlfn.XLOOKUP(C995,Data!C:C,Data!H:H,0)","v":0},null,"",{"$f":"_xlfn.XLOOKUP(C995,Data!C:C,Data!F:F,\"\")","v":""},null,{"$error":"#N/A"}]
["23-3-2021","16:33:00","2021-03-23T16:33:00",null,{"$f":"_xlfn.XLOOKUP(C996,Data!C:C,Data!I:I)","v":{"$error":"#N/A"}},{"$error":"#N/A"},{"$f":"_xlfn.XLOOKUP(C996,Data!C:C,Data!G:G,0)","v":0},{"$f":"_xlfn.XLOOKUP(C996,Data!C:C,Data!F:F,0)","v":0},{"$f":"_xlfn.XLOOKUP(C996,Data!C:C,Data!H:H,0)","v":0},null,"",{"$f":"_xlfn.XLOOKUP(C996,Data!C:C,Data!F:F,\"\")","v":""},null,{"$error":"#N/A"}]
["23-3-2021","16:34:00","2021-03-23T16:34:00",null,{"$f":"_xlfn.XLOOKUP(C997,Data!C:C,Data!I:I)","v":{"$error":"#N/A"}},{"$error":"#N/A"},{"$f":"_xlfn.XLOOKUP(C997,Data!C:C,Data!G:G,0)","v":0},{"$f":"_xlfn.XLOOKUP(C997,Data!C:C,Data!F:F,0)","v":0},{"$f":"_xlfn.XLOOKUP(C997,Data!C:C,Data!H:H,0)","v":0},null,"",{"$f":"_xlfn.XLOOKUP(C997,Data!C:C,Data!F:F,\"\")","v":""},null,{"$error":"#N/A"}]
["23-3-2021","16:35:00","2021-03-23T16:35:00",null,{"$f":"_xlfn.XLOOKUP(C998,Data!C:C,Data!I:I)","v":{"$error":"#N/A"}},{"$error":"#N/A"},{"$f":"_xlfn.XLOOKUP(C998,Data!C:C,Data!G:G,0)","v":0},{"$f":"_xlfn.XLOOKUP(C998,Data!C:C,Data!F:F,0)","v":0},{"$f":"_xlfn.XLOOKUP(C998,Data!C:C,Data!H:H,0)","v":0},null,"",{"$f":"_xlfn.XLOOKUP(C998,Data!C:C,Data!F:F,\"\")","v":""},null,{"$error":"#N/A"}]
["23-3-2021","16:36:00","2021-03-23T16:36:00",null,{"$f":"_xlfn.XLOOKUP(C999,Data!C:C,Data!I:I)","v":{"$error":"#N/A"}},{"$error":"#N/A"},{"$f":"_xlfn.XLOOKUP(C999,Data!C:C,Data!G:G,0)","v":0},{"$f":"_xlfn.XLOOKUP(C999,Data!C:C,Data!F:F,0)","v":0},{"$f":"_xlfn.XLOOKUP(C999,Data!C:C,Data!H:H,0)","v":0},null,"",{"$f":"_xlfn.XLOOKUP(C999,Data!C:C,Data!F:F,\"\")","v":""},null,{"$error":"#N/A"}]
["23-3-2021","16:37:00","2021-03-23T16:37:00",null,{"$f":"_xlfn.XLOOKUP(C1000,Data!C:C,Data!I:I)","v":{"$error":"#N/A"}},{"$error":"#N/A"},{"$f":"_xlfn.XLOOKUP(C1000,Data!C:C,Data!G:G,0)","v":0},{"$f":"_xlfn.XLOOKUP(C1000,Data!C:C,Data!F:F,0)","v":0},{"$f":"_xlfn.XLOOKUP(C1000,Data!C:C,Data!H:H,0)","v":0},null,"",{"$f":"_xlfn.XLOOKUP(C1000,Data!C:C,Data!F:F,\"\")","v":""},null,{"$error":"#N/A"}]
["23-3-2021","16:38:00","2021-03-23T16:38:00",null,{"$f":"_xlfn.XLOOKUP(C1001,Data!C:C,Data!I:I)","v":{"$error":"#N/A"}},{"$error":"#N/A"},{"$f":"_xlfn.XLOOKUP(C1001,Data!C:C,Data!G:G,0)","v":0},{"$f":"_xlfn.XLOOKUP(C1001,Data!C:C,Data!F:F,0)","v":0},{"$f":"_xlfn.XLOOKUP(C1001,Data!C:C,Data!H:H,0)","v":0},null,"",{"$f":"_xlfn.XLOOKUP(C1001,Data!C:C,Data!F:F,\"\")","v":""},null,{"$error":"#N/A"}]
["23-3-2021","16:39:00","2021-03-23T16:39:00",null,{"$f":"_xlfn.XLOOKUP(C1002,Data!C:C,Data!I:I)","v":{"$error":"#N/A"}},{"$error":"#N/A"},{"$f":"_xlfn.XLOOKUP(C1002,Data!C:C,Data!G:G,0)","v":0},{"$f":"_xlfn.XLOOKUP(C1002,Data!C:C,Data!F:F,0)","v":0},{"$f":"_xlfn.XLOOKUP(C1002,Data!C:C,Data!H:H,0)","v":0},null,"",{"$f":"_xlfn.XLOOKUP(C1002,Data!C:C,Data!F:F,\"\")","v":""},null,{"$error":"#N/A"}]
["23-3-2021","16:40:00","2021-03-23T16:40:00",null,{"$f":"_xlfn.XLOOKUP(C1003,Data!C:C,Data!I:I)","v":{"$error":"#N/A"}},{"$error":"#N/A"},{"$f":"_xlfn.XLOOKUP(C1003,Data!C:C,Data!G:G,0)","v":0},{"$f":"_xlfn.XLOOKUP(C1003,Data!C:C,Data!F:F,0)","v":0},{"$f":"_xlfn.XLOOKUP(C1003,Data!C:C,Data!H:H,0)","v":0},null,"",{"$f":"_xlfn.XLOOKUP(C1003,Data!C:C,Data!F:F,\"\")","v":""},null,{"$error":"#N/A"}]
["23-3-2021","16:41:00","2021-03-23T16:41:00",null,{"$f":"_xlfn.XLOOKUP(C1004,Data!C:C,Data!I:I)","v":{"$error":"#N/A"}},{"$error":"#N/A"},{"$f":"_xlfn.XLOOKUP(C1004,Data!C:C,Data!G:G,0)","v":0},{"$f":"_xlfn.XLOOKUP(C1004,Data!C:C,Data!F:F,0)","v":0},{"$f":"_xlfn.XLOOKUP(C1004,Data!C:C,Data!H:H,0)","v":0},null,"",{"$f":"_xlfn.XLOOKUP(C1004,Data!C:C,Data!F:F,\"\")","v":""},null,{"$error":"#N/A"}]
["23-3-2021","16:42:00","2021-03-23T16:42:00",null,{"$f":"_xlfn.XLOOKUP(C1005,Data!C:C,Data!I:I)","v":{"$error":"#N/A"}},{"$error":"#N/A"},{"$f":"_xlfn.XLOOKUP(C1005,Data!C:C,Data!G:G,0)","v":0},{"$f":"_xlfn.XLOOKUP(C1005,Data!C:C,Data!F:F,0)","v":0},{"$f":"_xlfn.XLOOKUP(C1005,Data!C:C,Data!H:H,0)","v":0},null,"",{"$f":"_xlfn.XLOOKUP(C1005,Data!C:C,Data!F:F,\"\")","v":""},null,{"$error":"#N/A"}]
["23-3-2021","16:43:00","2021-03-23T16:43:00",null,{"$f":"_xlfn.XLOOKUP(C1006,Data!C:C,Data!I:I)","v":{"$error":"#N/A"}},{"$error":"#N/A"},{"$f":"_xlfn.XLOOKUP(C1006,Data!C:C,Data!G:G,0)","v":0},{"$f":"_xlfn.XLOOKUP(C1006,Data!C:C,Data!F:F,0)","v":0},{"$f":"_xlfn.XLOOKUP(C1006,Data!C:C,Data!H:H,0)","v":0},null,"",{"$f":"_xlfn.XLOOKUP(C1006,Data!C:C,Data!F:F,\"\")","v":""},null,{"$error":"#N/A"}]
["23-3-2021","16:44:00","2021-03-23T16:44:00",null,{"$f":"_xlfn.XLOOKUP(C1007,Data!C:C,Data!I:I)","v":{"$error":"#N/A"}},{"$error":"#N/A"},{"$f":"_xlfn.XLOOKUP(C1007,Data!C:C,Data!G:G,0)","v":0},{"$f":"_xlfn.XLOOKUP(C1007,Data!C:C,Data!F:F,0)","v":0},{"$f":"_xlfn.XLOOKUP(C1007,Data!C:C,Data!H:H,0)","v":0},null,"",{"$f":"_xlfn.XLOOKUP(C1007,Data!C:C,Data!F:F,\"\")","v":""},null,{"$error":"#N/A"}]
["23-3-2021","16:45:00","2021-03-23T16:45:00",null,{"$f":"_xlfn.XLOOKUP(C1008,Data!C:C,Data!I:I)","v":{"$error":"#N/A"}},{"$error":"#N/A"},{"$f":"_xlfn.XLOOKUP(C1008,Data!C:C,Data!G:G,0)","v":0},{"$f":"_xlfn.XLOOKUP(C1008,Data!C:C,Data!F:F,0)","v":0},{"$f":"_xlfn.XLOOKUP(C1008,Data!C:C,Data!H:H,0)","v":0},null,"",{"$f":"_xlfn.XLOOKUP(C1008,Data!C:C,Data!F:F,\"\")","v":""},null,{"$error":"#N/A"}]
["23-3-2021","16:46:00","2021-03-23T16:46:00",null,{"$f":"_xlfn.XLOOKUP(C1009,Data!C:C,Data!I:I)","v":{"$error":"#N/A"}},{"$error":"#N/A"},{"$f":"_xlfn.XLOOKUP(C1009,Data!C:C,Data!G:G,0)","v":0},{"$f":"_xlfn.XLOOKUP(C1009,Data!C:C,Data!F:F,0)","v":0},{"$f":"_xlfn.XLOOKUP(C1009,Data!C:C,Data!H:H,0)","v":0},null,"",{"$f":"_xlfn.XLOOKUP(C1009,Data!C:C,Data!F:F,\"\")","v":""},null,{"$error":"#N/A"}]
["23-3-2021","16:47:00","2021-03-23T16:47:00",null,{"$f":"_xlfn.XLOOKUP(C1010,Data!C:C,Data!I:I)","v":{"$error":"#N/A"}},{"$error":"#N/A"},{"$f":"_xlfn.XLOOKUP(C1010,Data!C:C,Data!G:G,0)","v":0},{"$f":"_xlfn.XLOOKUP(C1010,Data!C:C,Data!F:F,0)","v":0},{"$f":"_xlfn.XLOOKUP(C1010,Data!C:C,Data!H:H,0)","v":0},null,"",{"$f":"_xlfn.XLOOKUP(C1010,Data!C:C,Data!F:F,\"\")","v":""},null,{"$error":"#N/A"}]
["23-3-2021","16:48:00","2021-03-23T16:48:00",null,{"$f":"_xlfn.XLOOKUP(C1011,Data!C:C,Data!I:I)","v":{"$error":"#N/A"}},{"$error":"#N/A"},{"$f":"_xlfn.XLOOKUP(C1011,Data!C:C,Data!G:G,0)","v":0},{"$f":"_xlfn.XLOOKUP(C1011,Data!C:C,Data!F:F,0)","v":0},{"$f":"_xlfn.XLOOKUP(C1011,Data!C:C,Data!H:H,0)","v":0},null,"",{"$f":"_xlfn.XLOOKUP(C1011,Data!C:C,Data!F:F,\"\")","v":""},null,{"$error":"#N/A"}]
["23-3-2021","16:49:00","2021-03-23T16:49:00",null,{"$f":"_xlfn.XLOOKUP(C1012,Data!C:C,Data!I:I)","v":{"$error":"#N/A"}},{"$error":"#N/A"},{"$f":"_xlfn.XLOOKUP(C1012,Data!C:C,Data!G:G,0)","v":0},{"$f":"_xlfn.XLOOKUP(C1012,Data!C:C,Data!F:F,0)","v":0},{"$f":"_xlfn.XLOOKUP(C1012,Data!C:C,Data!H:H,0)","v":0},null,"",{"$f":"_xlfn.XLOOKUP(C1012,Data!C:C,Data!F:F,\"\")","v":""},null,{"$error":"#N/A"}]
["23-3-2021","16:50:00","2021-03-23T16:50:00",null,{"$f":"_xlfn.XLOOKUP(C1013,Data!C:C,Data!I:I)","v":{"$error":"#N/A"}},{"$error":"#N/A"},{"$f":"_xlfn.XLOOKUP(C1013,Data!C:C,Data!G:G,0)","v":0},{"$f":"_xlfn.XLOOKUP(C1013,Data!C:C,Data!F:F,0)","v":0},{"$f":"_xlfn.XLOOKUP(C1013,Data!C:C,Data!H:H,0)","v":0},null,"",{"$f":"_xlfn.XLOOKUP(C1013,Data!C:C,Data!F:F,\"\")","v":""},null,{"$error":"#N/A"}]
["23-3-2021","16:51:00","2021-03-23T16:51:00",null,{"$f":"_xlfn.XLOOKUP(C1014,Data!C:C,Data!I:I)","v":{"$error":"#N/A"}},{"$error":"#N/A"},{"$f":"_xlfn.XLOOKUP(C1014,Data!C:C,Data!G:G,0)","v":0},{"$f":"_xlfn.XLOOKUP(C1014,Data!C:C,Data!F:F,0)","v":0},{"$f":"_xlfn.XLOOKUP(C1014,Data!C:C,Data!H:H,0)","v":0},null,"",{"$f":"_xlfn.XLOOKUP(C1014,Data!C:C,Data!F:F,\"\")","v":""},null,{"$error":"#N/A"}]
["23-3-2021","16:52:00","2021-03-23T16:52:00",null,{"$f":"_xlfn.XLOOKUP(C1015,Data!C:C,Data!I:I)","v":{"$error":"#N/A"}},{"$error":"#N/A"},{"$f":"_xlfn.XLOOKUP(C1015,Data!C:C,Data!G:G,0)","v":0},{"$f":"_xlfn.XLOOKUP(C1015,Data!C:C,Data!F:F,0)","v":0},{"$f":"_xlfn.XLOOKUP(C1015,Data!C:C,Data!H:H,0)","v":0},null,"",{"$f":"_xlfn.XLOOKUP(C1015,Data!C:C,Data!F:F,\"\")","v":""},null,{"$error":"#N/A"}]
["23-3-2021","16:53:00","2021-03-23T16:53:00",null,{"$f":"_xlfn.XLOOKUP(C1016,Data!C:C,Data!I:I)","v":{"$error":"#N/A"}},{"$error":"#N/A"},{"$f":"_xlfn.XLOOKUP(C1016,Data!C:C,Data!G:G,0)","v":0},{"$f":"_xlfn.XLOOKUP(C1016,Data!C:C,Data!F:F,0)","v":0},{"$f":"_xlfn.XLOOKUP(C1016,Data!C:C,Data!H:H,0)","v":0},null,"",{"$f":"_xlfn.XLOOKUP(C1016,Data!C:C,Data!F:F,\"\")","v":""},null,{"$error":"#N/A"}]
["23-3-2021","16:54:00","2021-03-23T16:54:00",null,{"$f":"_xlfn.XLOOKUP(C1017,Data!C:C,Data!I:I)","v":{"$error":"#N/A"}},{"$error":"#N/A"},{"$f":"_xlfn.XLOOKUP(C1017,Data!C:C,Data!G:G,0)","v":0},{"$f":"_xlfn.XLOOKUP(C1017,Data!C:C,Data!F:F,0)","v":0},{"$f":"_xlfn.XLOOKUP(C1017,Data!C:C,Data!H:H,0)","v":0},null,"",{"$f":"_xlfn.XLOOKUP(C1017,Data!C:C,Data!F:F,\"\")","v":""},null,{"$error":"#N/A"}]
["23-3-2021","16:55:00","2021-03-23T16:55:00",null,{"$f":"_xlfn.XLOOKUP(C1018,Data!C:C,Data!I:I)","v":{"$error":"#N/A"}},{"$error":"#N/A"},{"$f":"_xlfn.XLOOKUP(C1018,Data!C:C,Data!G:G,0)","v":0},{"$f":"_xlfn.XLOOKUP(C1018,Data!C:C,Data!F:F,0)","v":0},{"$f":"_xlfn.XLOOKUP(C1018,Data!C:C,Data!H:H,0)","v":0},null,"",{"$f":"_xlfn.XLOOKUP(C1018,Data!C:C,Data!F:F,\"\")","v":""},null,{"$error":"#N/A"}]
["23-3-2021","16:56:00","2021-03-23T16:56:00",null,{"$f":"_xlfn.XLOOKUP(C1019,Data!C:C,Data!I:I)","v":{"$error":"#N/A"}},{"$error":"#N/A"},{"$f":"_xlfn.XLOOKUP(C1019,Data!C:C,Data!G:G,0)","v":0},{"$f":"_xlfn.XLOOKUP(C1019,Data!C:C,Data!F:F,0)","v":0},{"$f":"_xlfn.XLOOKUP(C1019,Data!C:C,Data!H:H,0)","v":0},null,"",{"$f":"_xlfn.XLOOKUP(C1019,Data!C:C,Data!F:F,\"\")","v":""},null,{"$error":"#N/A"}]
["23-3-2021","16:57:00","2021-03-23T16:57:00",null,{"$f":"_xlfn.XLOOKUP(C1020,Data!C:C,Data!I:I)","v":{"$error":"#N/A"}},{"$error":"#N/A"},{"$f":"_xlfn.XLOOKUP(C1020,Data!C:C,Data!G:G,0)","v":0},{"$f":"_xlfn.XLOOKUP(C1020,Data!C:C,Data!F:F,0)","v":0},{"$f":"_xlfn.XLOOKUP(C1020,Data!C:C,Data!H:H,0)","v":0},null,"",{"$f":"_xlfn.XLOOKUP(C1020,Data!C:C,Data!F:F,\"\")","v":""},null,{"$error":"#N/A"}]
["23-3-2021","16:58:00","2021-03-23T16:58:00",null,{"$f":"_xlfn.XLOOKUP(C1021,Data!C:C,Data!I:I)","v":{"$error":"#N/A"}},{"$error":"#N/A"},{"$f":"_xlfn.XLOOKUP(C1021,Data!C:C,Data!G:G,0)","v":0},{"$f":"_xlfn.XLOOKUP(C1021,Data!C:C,Data!F:F,0)","v":0},{"$f":"_xlfn.XLOOKUP(C1021,Data!C:C,Data!H:H,0)","v":0},null,"",{"$f":"_xlfn.XLOOKUP(C1021,Data!C:C,Data!F:F,\"\")","v":""},null,{"$error":"#N/A"}]
["23-3-2021","16:59:00","2021-03-23T16:59:00",null,{"$f":"_xlfn.XLOOKUP(C1022,Data!C:C,Data!I:I)","v":{"$error":"#N/A"}},{"$error":"#N/A"},{"$f":"_xlfn.XLOOKUP(C1022,Data!C:C,Data!G:G,0)","v":0},{"$f":"_xlfn.XLOOKUP(C1022,Data!C:C,Data!F:F,0)","v":0},{"$f":"_xlfn.XLOOKUP(C1022,Data!C:C,Data!H:H,0)","v":0},null,"",{"$f":"_xlfn.XLOOKUP(C1022,Data!C:C,Data!F:F,\"\")","v":""},null,{"$error":"#N/A"}]
["23-3-2021","17:00:00","2021-03-23T17:00:00",null,{"$f":"_xlfn.XLOOKUP(C1023,Data!C:C,Data!I:I)","v":{"$error":"#N/A"}},{"$error":"#N/A"},{"$f":"_xlfn.XLOOKUP(C1023,Data!C:C,Data!G:G,0)","v":0},{"$f":"_xlfn.XLOOKUP(C1023,Data!C:C,Data!F:F,0)","v":0},{"$f":"_xlfn.XLOOKUP(C1023,Data!C:C,Data!H:H,0)","v":0},null,"",{"$f":"_xlfn.XLOOKUP(C1023,Data!C:C,Data!F:F,\"\")","v":""},null,{"$error":"#N/A"}]
["23-3-2021","17:01:00","2021-03-23T17:01:00",null,{"$f":"_xlfn.XLOOKUP(C1024,Data!C:C,Data!I:I)","v":{"$error":"#N/A"}},{"$error":"#N/A"},{"$f":"_xlfn.XLOOKUP(C1024,Data!C:C,Data!G:G,0)","v":0},{"$f":"_xlfn.XLOOKUP(C1024,Data!C:C,Data!F:F,0)","v":0},{"$f":"_xlfn.XLOOKUP(C1024,Data!C:C,Data!H:H,0)","v":0},null,"",{"$f":"_xlfn.XLOOKUP(C1024,Data!C:C,Data!F:F,\"\")","v":""},null,{"$error":"#N/A"}]
["23-3-2021","17:02:00","2021-03-23T17:02:00",null,{"$f":"_xlfn.XLOOKUP(C1025,Data!C:C,Data!I:I)","v":{"$error":"#N/A"}},{"$error":"#N/A"},{"$f":"_xlfn.XLOOKUP(C1025,Data!C:C,Data!G:G,0)","v":0},{"$f":"_xlfn.XLOOKUP(C1025,Data!C:C,Data!F:F,0)","v":0},{"$f":"_xlfn.XLOOKUP(C1025,Data!C:C,Data!H:H,0)","v":0},null,"",{"$f":"_xlfn.XLOOKUP(C1025,Data!C:C,Data!F:F,\"\")","v":""},null,{"$error":"#N/A"}]
["23-3-2021","17:03:00","2021-03-23T17:03:00",null,{"$f":"_xlfn.XLOOKUP(C1026,Data!C:C,Data!I:I)","v":{"$error":"#N/A"}},{"$error":"#N/A"},{"$f":"_xlfn.XLOOKUP(C1026,Data!C:C,Data!G:G,0)","v":0},{"$f":"_xlfn.XLOOKUP(C1026,Data!C:C,Data!F:F,0)","v":0},{"$f":"_xlfn.XLOOKUP(C1026,Data!C:C,Data!H:H,0)","v":0},null,"",{"$f":"_xlfn.XLOOKUP(C1026,Data!C:C,Data!F:F,\"\")","v":""},null,{"$error":"#N/A"}]
["23-3-2021","17:04:00",{"$f":"A1027+B1027","v":"2021-03-23T17:04:00"},null,{"$f":"_xlfn.XLOOKUP(C1027,Data!C:C,Data!I:I)","v":{"$error":"#N/A"}},{"$error":"#N/A"},{"$f":"_xlfn.XLOOKUP(C1027,Data!C:C,Data!G:G,0)","v":0},{"$f":"_xlfn.XLOOKUP(C1027,Data!C:C,Data!F:F,0)","v":0},{"$f":"_xlfn.XLOOKUP(C1027,Data!C:C,Data!H:H,0)","v":0},null,"",{"$f":"_xlfn.XLOOKUP(C1027,Data!C:C,Data!F:F,\"\")","v":""},null,{"$error":"#N/A"}]
[{"$f":"$A$3","v":"23-3-2021"},"17:05:00","2021-03-23T17:05:00",null,{"$f":"_xlfn.XLOOKUP(C1028,Data!C:C,Data!I:I)","v":{"$error":"#N/A"}},{"$f":"IF(E1028=255,F1027,E1028)","v":{"$error":"#N/A"}},{"$f":"_xlfn.XLOOKUP(C1028,Data!C:C,Data!G:G,0)","v":0},{"$f":"_xlfn.XLOOKUP(C1028,Data!C:C,Data!F:F,0)","v":0},{"$f":"_xlfn.XLOOKUP(C1028,Data!C:C,Data!H:H,0)","v":0},null,{"$f":"IFERROR(IF(F1028=\"#N/A\",\"\",F1028),\"\")","v":""},{"$f":"_xlfn.XLOOKUP(C1028,Data!C:C,Data!F:F,\"\")","v":""},null,{"$error":"#N/A"}]
["23-3-2021","17:06:00","2021-03-23T17:06:00",null,{"$f":"_xlfn.XLOOKUP(C1029,Data!C:C,Data!I:I)","v":{"$error":"#N/A"}},{"$error":"#N/A"},{"$f":"_xlfn.XLOOKUP(C1029,Data!C:C,Data!G:G,0)","v":0},{"$f":"_xlfn.XLOOKUP(C1029,Data!C:C,Data!F:F,0)","v":0},{"$f":"_xlfn.XLOOKUP(C1029,Data!C:C,Data!H:H,0)","v":0},null,"",{"$f":"_xlfn.XLOOKUP(C1029,Data!C:C,Data!F:F,\"\")","v":""},null,{"$error":"#N/A"}]
["23-3-2021","17:07:00","2021-03-23T17:07:00",null,{"$f":"_xlfn.XLOOKUP(C1030,Data!C:C,Data!I:I)","v":{"$error":"#N/A"}},{"$error":"#N/A"},{"$f":"_xlfn.XLOOKUP(C1030,Data!C:C,Data!G:G,0)","v":0},{"$f":"_xlfn.XLOOKUP(C1030,Data!C:C,Data!F:F,0)","v":0},{"$f":"_xlfn.XLOOKUP(C1030,Data!C:C,Data!H:H,0)","v":0},null,"",{"$f":"_xlfn.XLOOKUP(C1030,Data!C:C,Data!F:F,\"\")","v":""},null,{"$error":"#N/A"}]
["23-3-2021","17:08:00","2021-03-23T17:08:00",null,{"$f":"_xlfn.XLOOKUP(C1031,Data!C:C,Data!I:I)","v":{"$error":"#N/A"}},{"$error":"#N/A"},{"$f":"_xlfn.XLOOKUP(C1031,Data!C:C,Data!G:G,0)","v":0},{"$f":"_xlfn.XLOOKUP(C1031,Data!C:C,Data!F:F,0)","v":0},{"$f":"_xlfn.XLOOKUP(C1031,Data!C:C,Data!H:H,0)","v":0},null,"",{"$f":"_xlfn.XLOOKUP(C1031,Data!C:C,Data!F:F,\"\")","v":""},null,{"$f":"IF(F1031=\"\",\"\",AVERAGE(F1027:F1035))","v":{"$error":"#N/A"}}]
["23-3-2021","17:09:00","2021-03-23T17:09:00",null,{"$f":"_xlfn.XLOOKUP(C1032,Data!C:C,Data!I:I)","v":{"$error":"#N/A"}},{"$error":"#N/A"},{"$f":"_xlfn.XLOOKUP(C1032,Data!C:C,Data!G:G,0)","v":0},{"$f":"_xlfn.XLOOKUP(C1032,Data!C:C,Data!F:F,0)","v":0},{"$f":"_xlfn.XLOOKUP(C1032,Data!C:C,Data!H:H,0)","v":0},null,"",{"$f":"_xlfn.XLOOKUP(C1032,Data!C:C,Data!F:F,\"\")","v":""},null,{"$error":"#N/A"}]
["23-3-2021","17:10:00","2021-03-23T17:10:00",null,{"$f":"_xlfn.XLOOKUP(C1033,Data!C:C,Data!I:I)","v":{"$error":"#N/A"}},{"$error":"#N/A"},{"$f":"_xlfn.XLOOKUP(C1033,Data!C:C,Data!G:G,0)","v":0},{"$f":"_xlfn.XLOOKUP(C1033,Data!C:C,Data!F:F,0)","v":0},{"$f":"_xlfn.XLOOKUP(C1033,Data!C:C,Data!H:H,0)","v":0},null,"",{"$f":"_xlfn.XLOOKUP(C1033,Data!C:C,Data!F:F,\"\")","v":""},null,{"$error":"#N/A"}]
["23-3-2021","17:11:00","2021-03-23T17:11:00",null,{"$f":"_xlfn.XLOOKUP(C1034,Data!C:C,Data!I:I)","v":{"$error":"#N/A"}},{"$error":"#N/A"},{"$f":"_xlfn.XLOOKUP(C1034,Data!C:C,Data!G:G,0)","v":0},{"$f":"_xlfn.XLOOKUP(C1034,Data!C:C,Data!F:F,0)","v":0},{"$f":"_xlfn.XLOOKUP(C1034,Data!C:C,Data!H:H,0)","v":0},null,"",{"$f":"_xlfn.XLOOKUP(C1034,Data!C:C,Data!F:F,\"\")","v":""},null,{"$error":"#N/A"}]
["23-3-2021","17:12:00","2021-03-23T17:12:00",null,{"$f":"_xlfn.XLOOKUP(C1035,Data!C:C,Data!I:I)","v":{"$error":"#N/A"}},{"$error":"#N/A"},{"$f":"_xlfn.XLOOKUP(C1035,Data!C:C,Data!G:G,0)","v":0},{"$f":"_xlfn.XLOOKUP(C1035,Data!C:C,Data!F:F,0)","v":0},{"$f":"_xlfn.XLOOKUP(C1035,Data!C:C,Data!H:H,0)","v":0},null,"",{"$f":"_xlfn.XLOOKUP(C1035,Data!C:C,Data!F:F,\"\")","v":""},null,{"$error":"#N/A"}]
["23-3-2021","17:13:00","2021-03-23T17:13:00",null,{"$f":"_xlfn.XLOOKUP(C1036,Data!C:C,Data!I:I)","v":{"$error":"#N/A"}},{"$error":"#N/A"},{"$f":"_xlfn.XLOOKUP(C1036,Data!C:C,Data!G:G,0)","v":0},{"$f":"_xlfn.XLOOKUP(C1036,Data!C:C,Data!F:F,0)","v":0},{"$f":"_xlfn.XLOOKUP(C1036,Data!C:C,Data!H:H,0)","v":0},null,"",{"$f":"_xlfn.XLOOKUP(C1036,Data!C:C,Data!F:F,\"\")","v":""},null,{"$error":"#N/A"}]
["23-3-2021","17:14:00","2021-03-23T17:14:00",null,{"$f":"_xlfn.XLOOKUP(C1037,Data!C:C,Data!I:I)","v":{"$error":"#N/A"}},{"$error":"#N/A"},{"$f":"_xlfn.XLOOKUP(C1037,Data!C:C,Data!G:G,0)","v":0},{"$f":"_xlfn.XLOOKUP(C1037,Data!C:C,Data!F:F,0)","v":0},{"$f":"_xlfn.XLOOKUP(C1037,Data!C:C,Data!H:H,0)","v":0},null,"",{"$f":"_xlfn.XLOOKUP(C1037,Data!C:C,Data!F:F,\"\")","v":""},null,{"$error":"#N/A"}]
["23-3-2021","17:15:00","2021-03-23T17:15:00",null,{"$f":"_xlfn.XLOOKUP(C1038,Data!C:C,Data!I:I)","v":{"$error":"#N/A"}},{"$error":"#N/A"},{"$f":"_xlfn.XLOOKUP(C1038,Data!C:C,Data!G:G,0)","v":0},{"$f":"_xlfn.XLOOKUP(C1038,Data!C:C,Data!F:F,0)","v":0},{"$f":"_xlfn.XLOOKUP(C1038,Data!C:C,Data!H:H,0)","v":0},null,"",{"$f":"_xlfn.XLOOKUP(C1038,Data!C:C,Data!F:F,\"\")","v":""},null,{"$error":"#N/A"}]
["23-3-2021","17:16:00","2021-03-23T17:16:00",null,{"$f":"_xlfn.XLOOKUP(C1039,Data!C:C,Data!I:I)","v":{"$error":"#N/A"}},{"$error":"#N/A"},{"$f":"_xlfn.XLOOKUP(C1039,Data!C:C,Data!G:G,0)","v":0},{"$f":"_xlfn.XLOOKUP(C1039,Data!C:C,Data!F:F,0)","v":0},{"$f":"_xlfn.XLOOKUP(C1039,Data!C:C,Data!H:H,0)","v":0},null,"",{"$f":"_xlfn.XLOOKUP(C1039,Data!C:C,Data!F:F,\"\")","v":""},null,{"$error":"#N/A"}]
["23-3-2021","17:17:00","2021-03-23T17:17:00",null,{"$f":"_xlfn.XLOOKUP(C1040,Data!C:C,Data!I:I)","v":{"$error":"#N/A"}},{"$error":"#N/A"},{"$f":"_xlfn.XLOOKUP(C1040,Data!C:C,Data!G:G,0)","v":0},{"$f":"_xlfn.XLOOKUP(C1040,Data!C:C,Data!F:F,0)","v":0},{"$f":"_xlfn.XLOOKUP(C1040,Data!C:C,Data!H:H,0)","v":0},null,"",{"$f":"_xlfn.XLOOKUP(C1040,Data!C:C,Data!F:F,\"\")","v":""},null,{"$error":"#N/A"}]
["23-3-2021","17:18:00","2021-03-23T17:18:00",null,{"$f":"_xlfn.XLOOKUP(C1041,Data!C:C,Data!I:I)","v":{"$error":"#N/A"}},{"$error":"#N/A"},{"$f":"_xlfn.XLOOKUP(C1041,Data!C:C,Data!G:G,0)","v":0},{"$f":"_xlfn.XLOOKUP(C1041,Data!C:C,Data!F:F,0)","v":0},{"$f":"_xlfn.XLOOKUP(C1041,Data!C:C,Data!H:H,0)","v":0},null,"",{"$f":"_xlfn.XLOOKUP(C1041,Data!C:C,Data!F:F,\"\")","v":""},null,{"$error":"#N/A"}]
["23-3-2021","17:19:00","2021-03-23T17:19:00",null,{"$f":"_xlfn.XLOOKUP(C1042,Data!C:C,Data!I:I)","v":{"$error":"#N/A"}},{"$error":"#N/A"},{"$f":"_xlfn.XLOOKUP(C1042,Data!C:C,Data!G:G,0)","v":0},{"$f":"_xlfn.XLOOKUP(C1042,Data!C:C,Data!F:F,0)","v":0},{"$f":"_xlfn.XLOOKUP(C1042,Data!C:C,Data!H:H,0)","v":0},null,"",{"$f":"_xlfn.XLOOKUP(C1042,Data!C:C,Data!F:F,\"\")","v":""},null,{"$error":"#N/A"}]
["23-3-2021","17:20:00","2021-03-23T17:20:00",null,{"$f":"_xlfn.XLOOKUP(C1043,Data!C:C,Data!I:I)","v":{"$error":"#N/A"}},{"$error":"#N/A"},{"$f":"_xlfn.XLOOKUP(C1043,Data!C:C,Data!G:G,0)","v":0},{"$f":"_xlfn.XLOOKUP(C1043,Data!C:C,Data!F:F,0)","v":0},{"$f":"_xlfn.XLOOKUP(C1043,Data!C:C,Data!H:H,0)","v":0},null,"",{"$f":"_xlfn.XLOOKUP(C1043,Data!C:C,Data!F:F,\"\")","v":""},null,{"$error":"#N/A"}]
["23-3-2021","17:21:00","2021-03-23T17:21:00",null,{"$f":"_xlfn.XLOOKUP(C1044,Data!C:C,Data!I:I)","v":{"$error":"#N/A"}},{"$error":"#N/A"},{"$f":"_xlfn.XLOOKUP(C1044,Data!C:C,Data!G:G,0)","v":0},{"$f":"_xlfn.XLOOKUP(C1044,Data!C:C,Data!F:F,0)","v":0},{"$f":"_xlfn.XLOOKUP(C1044,Data!C:C,Data!H:H,0)","v":0},null,"",{"$f":"_xlfn.XLOOKUP(C1044,Data!C:C,Data!F:F,\"\")","v":""},null,{"$error":"#N/A"}]
["23-3-2021","17:22:00","2021-03-23T17:22:00",null,{"$f":"_xlfn.XLOOKUP(C1045,Data!C:C,Data!I:I)","v":{"$error":"#N/A"}},{"$error":"#N/A"},{"$f":"_xlfn.XLOOKUP(C1045,Data!C:C,Data!G:G,0)","v":0},{"$f":"_xlfn.XLOOKUP(C1045,Data!C:C,Data!F:F,0)","v":0},{"$f":"_xlfn.XLOOKUP(C1045,Data!C:C,Data!H:H,0)","v":0},null,"",{"$f":"_xlfn.XLOOKUP(C1045,Data!C:C,Data!F:F,\"\")","v":""},null,{"$error":"#N/A"}]
["23-3-2021","17:23:00","2021-03-23T17:23:00",null,{"$f":"_xlfn.XLOOKUP(C1046,Data!C:C,Data!I:I)","v":{"$error":"#N/A"}},{"$error":"#N/A"},{"$f":"_xlfn.XLOOKUP(C1046,Data!C:C,Data!G:G,0)","v":0},{"$f":"_xlfn.XLOOKUP(C1046,Data!C:C,Data!F:F,0)","v":0},{"$f":"_xlfn.XLOOKUP(C1046,Data!C:C,Data!H:H,0)","v":0},null,"",{"$f":"_xlfn.XLOOKUP(C1046,Data!C:C,Data!F:F,\"\")","v":""},null,{"$error":"#N/A"}]
["23-3-2021","17:24:00","2021-03-23T17:24:00",null,{"$f":"_xlfn.XLOOKUP(C1047,Data!C:C,Data!I:I)","v":{"$error":"#N/A"}},{"$error":"#N/A"},{"$f":"_xlfn.XLOOKUP(C1047,Data!C:C,Data!G:G,0)","v":0},{"$f":"_xlfn.XLOOKUP(C1047,Data!C:C,Data!F:F,0)","v":0},{"$f":"_xlfn.XLOOKUP(C1047,Data!C:C,Data!H:H,0)","v":0},null,"",{"$f":"_xlfn.XLOOKUP(C1047,Data!C:C,Data!F:F,\"\")","v":""},null,{"$error":"#N/A"}]
["23-3-2021","17:25:00","2021-03-23T17:25:00",null,{"$f":"_xlfn.XLOOKUP(C1048,Data!C:C,Data!I:I)","v":{"$error":"#N/A"}},{"$error":"#N/A"},{"$f":"_xlfn.XLOOKUP(C1048,Data!C:C,Data!G:G,0)","v":0},{"$f":"_xlfn.XLOOKUP(C1048,Data!C:C,Data!F:F,0)","v":0},{"$f":"_xlfn.XLOOKUP(C1048,Data!C:C,Data!H:H,0)","v":0},null,"",{"$f":"_xlfn.XLOOKUP(C1048,Data!C:C,Data!F:F,\"\")","v":""},null,{"$error":"#N/A"}]
["23-3-2021","17:26:00","2021-03-23T17:26:00",null,{"$f":"_xlfn.XLOOKUP(C1049,Data!C:C,Data!I:I)","v":{"$error":"#N/A"}},{"$error":"#N/A"},{"$f":"_xlfn.XLOOKUP(C1049,Data!C:C,Data!G:G,0)","v":0},{"$f":"_xlfn.XLOOKUP(C1049,Data!C:C,Data!F:F,0)","v":0},{"$f":"_xlfn.XLOOKUP(C1049,Data!C:C,Data!H:H,0)","v":0},null,"",{"$f":"_xlfn.XLOOKUP(C1049,Data!C:C,Data!F:F,\"\")","v":""},null,{"$error":"#N/A"}]
["23-3-2021","17:27:00","2021-03-23T17:27:00",null,{"$f":"_xlfn.XLOOKUP(C1050,Data!C:C,Data!I:I)","v":{"$error":"#N/A"}},{"$error":"#N/A"},{"$f":"_xlfn.XLOOKUP(C1050,Data!C:C,Data!G:G,0)","v":0},{"$f":"_xlfn.XLOOKUP(C1050,Data!C:C,Data!F:F,0)","v":0},{"$f":"_xlfn.XLOOKUP(C1050,Data!C:C,Data!H:H,0)","v":0},null,"",{"$f":"_xlfn.XLOOKUP(C1050,Data!C:C,Data!F:F,\"\")","v":""},null,{"$error":"#N/A"}]
["23-3-2021","17:28:00","2021-03-23T17:28:00",null,{"$f":"_xlfn.XLOOKUP(C1051,Data!C:C,Data!I:I)","v":{"$error":"#N/A"}},{"$error":"#N/A"},{"$f":"_xlfn.XLOOKUP(C1051,Data!C:C,Data!G:G,0)","v":0},{"$f":"_xlfn.XLOOKUP(C1051,Data!C:C,Data!F:F,0)","v":0},{"$f":"_xlfn.XLOOKUP(C1051,Data!C:C,Data!H:H,0)","v":0},null,"",{"$f":"_xlfn.XLOOKUP(C1051,Data!C:C,Data!F:F,\"\")","v":""},null,{"$error":"#N/A"}]
["23-3-2021","17:29:00","2021-03-23T17:29:00",null,{"$f":"_xlfn.XLOOKUP(C1052,Data!C:C,Data!I:I)","v":{"$error":"#N/A"}},{"$error":"#N/A"},{"$f":"_xlfn.XLOOKUP(C1052,Data!C:C,Data!G:G,0)","v":0},{"$f":"_xlfn.XLOOKUP(C1052,Data!C:C,Data!F:F,0)","v":0},{"$f":"_xlfn.XLOOKUP(C1052,Data!C:C,Data!H:H,0)","v":0},null,"",{"$f":"_xlfn.XLOOKUP(C1052,Data!C:C,Data!F:F,\"\")","v":""},null,{"$error":"#N/A"}]
["23-3-2021","17:30:00","2021-03-23T17:30:00",null,{"$f":"_xlfn.XLOOKUP(C1053,Data!C:C,Data!I:I)","v":{"$error":"#N/A"}},{"$error":"#N/A"},{"$f":"_xlfn.XLOOKUP(C1053,Data!C:C,Data!G:G,0)","v":0},{"$f":"_xlfn.XLOOKUP(C1053,Data!C:C,Data!F:F,0)","v":0},{"$f":"_xlfn.XLOOKUP(C1053,Data!C:C,Data!H:H,0)","v":0},null,"",{"$f":"_xlfn.XLOOKUP(C1053,Data!C:C,Data!F:F,\"\")","v":""},null,{"$error":"#N/A"}]
["23-3-2021","17:31:00","2021-03-23T17:31:00",null,{"$f":"_xlfn.XLOOKUP(C1054,Data!C:C,Data!I:I)","v":{"$error":"#N/A"}},{"$error":"#N/A"},{"$f":"_xlfn.XLOOKUP(C1054,Data!C:C,Data!G:G,0)","v":0},{"$f":"_xlfn.XLOOKUP(C1054,Data!C:C,Data!F:F,0)","v":0},{"$f":"_xlfn.XLOOKUP(C1054,Data!C:C,Data!H:H,0)","v":0},null,"",{"$f":"_xlfn.XLOOKUP(C1054,Data!C:C,Data!F:F,\"\")","v":""},null,{"$error":"#N/A"}]
["23-3-2021","17:32:00","2021-03-23T17:32:00",null,{"$f":"_xlfn.XLOOKUP(C1055,Data!C:C,Data!I:I)","v":{"$error":"#N/A"}},{"$error":"#N/A"},{"$f":"_xlfn.XLOOKUP(C1055,Data!C:C,Data!G:G,0)","v":0},{"$f":"_xlfn.XLOOKUP(C1055,Data!C:C,Data!F:F,0)","v":0},{"$f":"_xlfn.XLOOKUP(C1055,Data!C:C,Data!H:H,0)","v":0},null,"",{"$f":"_xlfn.XLOOKUP(C1055,Data!C:C,Data!F:F,\"\")","v":""},null,{"$error":"#N/A"}]
["23-3-2021","17:33:00","2021-03-23T17:33:00",null,{"$f":"_xlfn.XLOOKUP(C1056,Data!C:C,Data!I:I)","v":{"$error":"#N/A"}},{"$error":"#N/A"},{"$f":"_xlfn.XLOOKUP(C1056,Data!C:C,Data!G:G,0)","v":0},{"$f":"_xlfn.XLOOKUP(C1056,Data!C:C,Data!F:F,0)","v":0},{"$f":"_xlfn.XLOOKUP(C1056,Data!C:C,Data!H:H,0)","v":0},null,"",{"$f":"_xlfn.XLOOKUP(C1056,Data!C:C,Data!F:F,\"\")","v":""},null,{"$error":"#N/A"}]
["23-3-2021","17:34:00","2021-03-23T17:34:00",null,{"$f":"_xlfn.XLOOKUP(C1057,Data!C:C,Data!I:I)","v":{"$error":"#N/A"}},{"$error":"#N/A"},{"$f":"_xlfn.XLOOKUP(C1057,Data!C:C,Data!G:G,0)","v":0},{"$f":"_xlfn.XLOOKUP(C1057,Data!C:C,Data!F:F,0)","v":0},{"$f":"_xlfn.XLOOKUP(C1057,Data!C:C,Data!H:H,0)","v":0},null,"",{"$f":"_xlfn.XLOOKUP(C1057,Data!C:C,Data!F:F,\"\")","v":""},null,{"$error":"#N/A"}]
["23-3-2021","17:35:00","2021-03-23T17:35:00",null,{"$f":"_xlfn.XLOOKUP(C1058,Data!C:C,Data!I:I)","v":{"$error":"#N/A"}},{"$error":"#N/A"},{"$f":"_xlfn.XLOOKUP(C1058,Data!C:C,Data!G:G,0)","v":0},{"$f":"_xlfn.XLOOKUP(C1058,Data!C:C,Data!F:F,0)","v":0},{"$f":"_xlfn.XLOOKUP(C1058,Data!C:C,Data!H:H,0)","v":0},null,"",{"$f":"_xlfn.XLOOKUP(C1058,Data!C:C,Data!F:F,\"\")","v":""},null,{"$error":"#N/A"}]
["23-3-2021","17:36:00","2021-03-23T17:36:00",null,{"$f":"_xlfn.XLOOKUP(C1059,Data!C:C,Data!I:I)","v":{"$error":"#N/A"}},{"$error":"#N/A"},{"$f":"_xlfn.XLOOKUP(C1059,Data!C:C,Data!G:G,0)","v":0},{"$f":"_xlfn.XLOOKUP(C1059,Data!C:C,Data!F:F,0)","v":0},{"$f":"_xlfn.XLOOKUP(C1059,Data!C:C,Data!H:H,0)","v":0},null,"",{"$f":"_xlfn.XLOOKUP(C1059,Data!C:C,Data!F:F,\"\")","v":""},null,{"$error":"#N/A"}]
["23-3-2021","17:37:00","2021-03-23T17:37:00",null,{"$f":"_xlfn.XLOOKUP(C1060,Data!C:C,Data!I:I)","v":{"$error":"#N/A"}},{"$error":"#N/A"},{"$f":"_xlfn.XLOOKUP(C1060,Data!C:C,Data!G:G,0)","v":0},{"$f":"_xlfn.XLOOKUP(C1060,Data!C:C,Data!F:F,0)","v":0},{"$f":"_xlfn.XLOOKUP(C1060,Data!C:C,Data!H:H,0)","v":0},null,"",{"$f":"_xlfn.XLOOKUP(C1060,Data!C:C,Data!F:F,\"\")","v":""},null,{"$error":"#N/A"}]
["23-3-2021","17:38:00","2021-03-23T17:38:00",null,{"$f":"_xlfn.XLOOKUP(C1061,Data!C:C,Data!I:I)","v":{"$error":"#N/A"}},{"$error":"#N/A"},{"$f":"_xlfn.XLOOKUP(C1061,Data!C:C,Data!G:G,0)","v":0},{"$f":"_xlfn.XLOOKUP(C1061,Data!C:C,Data!F:F,0)","v":0},{"$f":"_xlfn.XLOOKUP(C1061,Data!C:C,Data!H:H,0)","v":0},null,"",{"$f":"_xlfn.XLOOKUP(C1061,Data!C:C,Data!F:F,\"\")","v":""},null,{"$error":"#N/A"}]
["23-3-2021","17:39:00","2021-03-23T17:39:00",null,{"$f":"_xlfn.XLOOKUP(C1062,Data!C:C,Data!I:I)","v":{"$error":"#N/A"}},{"$error":"#N/A"},{"$f":"_xlfn.XLOOKUP(C1062,Data!C:C,Data!G:G,0)","v":0},{"$f":"_xlfn.XLOOKUP(C1062,Data!C:C,Data!F:F,0)","v":0},{"$f":"_xlfn.XLOOKUP(C1062,Data!C:C,Data!H:H,0)","v":0},null,"",{"$f":"_xlfn.XLOOKUP(C1062,Data!C:C,Data!F:F,\"\")","v":""},null,{"$error":"#N/A"}]
["23-3-2021","17:40:00","2021-03-23T17:40:00",null,{"$f":"_xlfn.XLOOKUP(C1063,Data!C:C,Data!I:I)","v":{"$error":"#N/A"}},{"$error":"#N/A"},{"$f":"_xlfn.XLOOKUP(C1063,Data!C:C,Data!G:G,0)","v":0},{"$f":"_xlfn.XLOOKUP(C1063,Data!C:C,Data!F:F,0)","v":0},{"$f":"_xlfn.XLOOKUP(C1063,Data!C:C,Data!H:H,0)","v":0},null,"",{"$f":"_xlfn.XLOOKUP(C1063,Data!C:C,Data!F:F,\"\")","v":""},null,{"$error":"#N/A"}]
["23-3-2021","17:41:00","2021-03-23T17:41:00",null,{"$f":"_xlfn.XLOOKUP(C1064,Data!C:C,Data!I:I)","v":{"$error":"#N/A"}},{"$error":"#N/A"},{"$f":"_xlfn.XLOOKUP(C1064,Data!C:C,Data!G:G,0)","v":0},{"$f":"_xlfn.XLOOKUP(C1064,Data!C:C,Data!F:F,0)","v":0},{"$f":"_xlfn.XLOOKUP(C1064,Data!C:C,Data!H:H,0)","v":0},null,"",{"$f":"_xlfn.XLOOKUP(C1064,Data!C:C,Data!F:F,\"\")","v":""},null,{"$error":"#N/A"}]
["23-3-2021","17:42:00","2021-03-23T17:42:00",null,{"$f":"_xlfn.XLOOKUP(C1065,Data!C:C,Data!I:I)","v":{"$error":"#N/A"}},{"$error":"#N/A"},{"$f":"_xlfn.XLOOKUP(C1065,Data!C:C,Data!G:G,0)","v":0},{"$f":"_xlfn.XLOOKUP(C1065,Data!C:C,Data!F:F,0)","v":0},{"$f":"_xlfn.XLOOKUP(C1065,Data!C:C,Data!H:H,0)","v":0},null,"",{"$f":"_xlfn.XLOOKUP(C1065,Data!C:C,Data!F:F,\"\")","v":""},null,{"$error":"#N/A"}]
["23-3-2021","17:43:00","2021-03-23T17:43:00",null,{"$f":"_xlfn.XLOOKUP(C1066,Data!C:C,Data!I:I)","v":{"$error":"#N/A"}},{"$error":"#N/A"},{"$f":"_xlfn.XLOOKUP(C1066,Data!C:C,Data!G:G,0)","v":0},{"$f":"_xlfn.XLOOKUP(C1066,Data!C:C,Data!F:F,0)","v":0},{"$f":"_xlfn.XLOOKUP(C1066,Data!C:C,Data!H:H,0)","v":0},null,"",{"$f":"_xlfn.XLOOKUP(C1066,Data!C:C,Data!F:F,\"\")","v":""},null,{"$error":"#N/A"}]
["23-3-2021","17:44:00","2021-03-23T17:44:00",null,{"$f":"_xlfn.XLOOKUP(C1067,Data!C:C,Data!I:I)","v":{"$error":"#N/A"}},{"$error":"#N/A"},{"$f":"_xlfn.XLOOKUP(C1067,Data!C:C,Data!G:G,0)","v":0},{"$f":"_xlfn.XLOOKUP(C1067,Data!C:C,Data!F:F,0)","v":0},{"$f":"_xlfn.XLOOKUP(C1067,Data!C:C,Data!H:H,0)","v":0},null,"",{"$f":"_xlfn.XLOOKUP(C1067,Data!C:C,Data!F:F,\"\")","v":""},null,{"$error":"#N/A"}]
["23-3-2021","17:45:00","2021-03-23T17:45:00",null,{"$f":"_xlfn.XLOOKUP(C1068,Data!C:C,Data!I:I)","v":{"$error":"#N/A"}},{"$error":"#N/A"},{"$f":"_xlfn.XLOOKUP(C1068,Data!C:C,Data!G:G,0)","v":0},{"$f":"_xlfn.XLOOKUP(C1068,Data!C:C,Data!F:F,0)","v":0},{"$f":"_xlfn.XLOOKUP(C1068,Data!C:C,Data!H:H,0)","v":0},null,"",{"$f":"_xlfn.XLOOKUP(C1068,Data!C:C,Data!F:F,\"\")","v":""},null,{"$error":"#N/A"}]
["23-3-2021","17:46:00","2021-03-23T17:46:00",null,{"$f":"_xlfn.XLOOKUP(C1069,Data!C:C,Data!I:I)","v":{"$error":"#N/A"}},{"$error":"#N/A"},{"$f":"_xlfn.XLOOKUP(C1069,Data!C:C,Data!G:G,0)","v":0},{"$f":"_xlfn.XLOOKUP(C1069,Data!C:C,Data!F:F,0)","v":0},{"$f":"_xlfn.XLOOKUP(C1069,Data!C:C,Data!H:H,0)","v":0},null,"",{"$f":"_xlfn.XLOOKUP(C1069,Data!C:C,Data!F:F,\"\")","v":""},null,{"$error":"#N/A"}]
["23-3-2021","17:47:00","2021-03-23T17:47:00",null,{"$f":"_xlfn.XLOOKUP(C1070,Data!C:C,Data!I:I)","v":{"$error":"#N/A"}},{"$error":"#N/A"},{"$f":"_xlfn.XLOOKUP(C1070,Data!C:C,Data!G:G,0)","v":0},{"$f":"_xlfn.XLOOKUP(C1070,Data!C:C,Data!F:F,0)","v":0},{"$f":"_xlfn.XLOOKUP(C1070,Data!C:C,Data!H:H,0)","v":0},null,"",{"$f":"_xlfn.XLOOKUP(C1070,Data!C:C,Data!F:F,\"\")","v":""},null,{"$error":"#N/A"}]
["23-3-2021","17:48:00","2021-03-23T17:48:00",null,{"$f":"_xlfn.XLOOKUP(C1071,Data!C:C,Data!I:I)","v":{"$error":"#N/A"}},{"$error":"#N/A"},{"$f":"_xlfn.XLOOKUP(C1071,Data!C:C,Data!G:G,0)","v":0},{"$f":"_xlfn.XLOOKUP(C1071,Data!C:C,Data!F:F,0)","v":0},{"$f":"_xlfn.XLOOKUP(C1071,Data!C:C,Data!H:H,0)","v":0},null,"",{"$f":"_xlfn.XLOOKUP(C1071,Data!C:C,Data!F:F,\"\")","v":""},null,{"$error":"#N/A"}]
["23-3-2021","17:49:00","2021-03-23T17:49:00",null,{"$f":"_xlfn.XLOOKUP(C1072,Data!C:C,Data!I:I)","v":{"$error":"#N/A"}},{"$error":"#N/A"},{"$f":"_xlfn.XLOOKUP(C1072,Data!C:C,Data!G:G,0)","v":0},{"$f":"_xlfn.XLOOKUP(C1072,Data!C:C,Data!F:F,0)","v":0},{"$f":"_xlfn.XLOOKUP(C1072,Data!C:C,Data!H:H,0)","v":0},null,"",{"$f":"_xlfn.XLOOKUP(C1072,Data!C:C,Data!F:F,\"\")","v":""},null,{"$error":"#N/A"}]
["23-3-2021","17:50:00","2021-03-23T17:50:00",null,{"$f":"_xlfn.XLOOKUP(C1073,Data!C:C,Data!I:I)","v":{"$error":"#N/A"}},{"$error":"#N/A"},{"$f":"_xlfn.XLOOKUP(C1073,Data!C:C,Data!G:G,0)","v":0},{"$f":"_xlfn.XLOOKUP(C1073,Data!C:C,Data!F:F,0)","v":0},{"$f":"_xlfn.XLOOKUP(C1073,Data!C:C,Data!H:H,0)","v":0},null,"",{"$f":"_xlfn.XLOOKUP(C1073,Data!C:C,Data!F:F,\"\")","v":""},null,{"$error":"#N/A"}]
["23-3-2021","17:51:00","2021-03-23T17:51:00",null,{"$f":"_xlfn.XLOOKUP(C1074,Data!C:C,Data!I:I)","v":{"$error":"#N/A"}},{"$error":"#N/A"},{"$f":"_xlfn.XLOOKUP(C1074,Data!C:C,Data!G:G,0)","v":0},{"$f":"_xlfn.XLOOKUP(C1074,Data!C:C,Data!F:F,0)","v":0},{"$f":"_xlfn.XLOOKUP(C1074,Data!C:C,Data!H:H,0)","v":0},null,"",{"$f":"_xlfn.XLOOKUP(C1074,Data!C:C,Data!F:F,\"\")","v":""},null,{"$error":"#N/A"}]
["23-3-2021","17:52:00","2021-03-23T17:52:00",null,{"$f":"_xlfn.XLOOKUP(C1075,Data!C:C,Data!I:I)","v":{"$error":"#N/A"}},{"$error":"#N/A"},{"$f":"_xlfn.XLOOKUP(C1075,Data!C:C,Data!G:G,0)","v":0},{"$f":"_xlfn.XLOOKUP(C1075,Data!C:C,Data!F:F,0)","v":0},{"$f":"_xlfn.XLOOKUP(C1075,Data!C:C,Data!H:H,0)","v":0},null,"",{"$f":"_xlfn.XLOOKUP(C1075,Data!C:C,Data!F:F,\"\")","v":""},null,{"$error":"#N/A"}]
["23-3-2021","17:53:00","2021-03-23T17:53:00",null,{"$f":"_xlfn.XLOOKUP(C1076,Data!C:C,Data!I:I)","v":{"$error":"#N/A"}},{"$error":"#N/A"},{"$f":"_xlfn.XLOOKUP(C1076,Data!C:C,Data!G:G,0)","v":0},{"$f":"_xlfn.XLOOKUP(C1076,Data!C:C,Data!F:F,0)","v":0},{"$f":"_xlfn.XLOOKUP(C1076,Data!C:C,Data!H:H,0)","v":0},null,"",{"$f":"_xlfn.XLOOKUP(C1076,Data!C:C,Data!F:F,\"\")","v":""},null,{"$error":"#N/A"}]
["23-3-2021","17:54:00","2021-03-23T17:54:00",null,{"$f":"_xlfn.XLOOKUP(C1077,Data!C:C,Data!I:I)","v":{"$error":"#N/A"}},{"$error":"#N/A"},{"$f":"_xlfn.XLOOKUP(C1077,Data!C:C,Data!G:G,0)","v":0},{"$f":"_xlfn.XLOOKUP(C1077,Data!C:C,Data!F:F,0)","v":0},{"$f":"_xlfn.XLOOKUP(C1077,Data!C:C,Data!H:H,0)","v":0},null,"",{"$f":"_xlfn.XLOOKUP(C1077,Data!C:C,Data!F:F,\"\")","v":""},null,{"$error":"#N/A"}]
["23-3-2021","17:55:00","2021-03-23T17:55:00",null,{"$f":"_xlfn.XLOOKUP(C1078,Data!C:C,Data!I:I)","v":{"$error":"#N/A"}},{"$error":"#N/A"},{"$f":"_xlfn.XLOOKUP(C1078,Data!C:C,Data!G:G,0)","v":0},{"$f":"_xlfn.XLOOKUP(C1078,Data!C:C,Data!F:F,0)","v":0},{"$f":"_xlfn.XLOOKUP(C1078,Data!C:C,Data!H:H,0)","v":0},null,"",{"$f":"_xlfn.XLOOKUP(C1078,Data!C:C,Data!F:F,\"\")","v":""},null,{"$error":"#N/A"}]
["23-3-2021","17:56:00","2021-03-23T17:56:00",null,{"$f":"_xlfn.XLOOKUP(C1079,Data!C:C,Data!I:I)","v":{"$error":"#N/A"}},{"$error":"#N/A"},{"$f":"_xlfn.XLOOKUP(C1079,Data!C:C,Data!G:G,0)","v":0},{"$f":"_xlfn.XLOOKUP(C1079,Data!C:C,Data!F:F,0)","v":0},{"$f":"_xlfn.XLOOKUP(C1079,Data!C:C,Data!H:H,0)","v":0},null,"",{"$f":"_xlfn.XLOOKUP(C1079,Data!C:C,Data!F:F,\"\")","v":""},null,{"$error":"#N/A"}]
["23-3-2021","17:57:00","2021-03-23T17:57:00",null,{"$f":"_xlfn.XLOOKUP(C1080,Data!C:C,Data!I:I)","v":{"$error":"#N/A"}},{"$error":"#N/A"},{"$f":"_xlfn.XLOOKUP(C1080,Data!C:C,Data!G:G,0)","v":0},{"$f":"_xlfn.XLOOKUP(C1080,Data!C:C,Data!F:F,0)","v":0},{"$f":"_xlfn.XLOOKUP(C1080,Data!C:C,Data!H:H,0)","v":0},null,"",{"$f":"_xlfn.XLOOKUP(C1080,Data!C:C,Data!F:F,\"\")","v":""},null,{"$error":"#N/A"}]
["23-3-2021","17:58:00","2021-03-23T17:58:00",null,{"$f":"_xlfn.XLOOKUP(C1081,Data!C:C,Data!I:I)","v":{"$error":"#N/A"}},{"$error":"#N/A"},{"$f":"_xlfn.XLOOKUP(C1081,Data!C:C,Data!G:G,0)","v":0},{"$f":"_xlfn.XLOOKUP(C1081,Data!C:C,Data!F:F,0)","v":0},{"$f":"_xlfn.XLOOKUP(C1081,Data!C:C,Data!H:H,0)","v":0},null,"",{"$f":"_xlfn.XLOOKUP(C1081,Data!C:C,Data!F:F,\"\")","v":""},null,{"$error":"#N/A"}]
["23-3-2021","17:59:00","2021-03-23T17:59:00",null,{"$f":"_xlfn.XLOOKUP(C1082,Data!C:C,Data!I:I)","v":{"$error":"#N/A"}},{"$error":"#N/A"},{"$f":"_xlfn.XLOOKUP(C1082,Data!C:C,Data!G:G,0)","v":0},{"$f":"_xlfn.XLOOKUP(C1082,Data!C:C,Data!F:F,0)","v":0},{"$f":"_xlfn.XLOOKUP(C1082,Data!C:C,Data!H:H,0)","v":0},null,"",{"$f":"_xlfn.XLOOKUP(C1082,Data!C:C,Data!F:F,\"\")","v":""},null,{"$error":"#N/A"}]
["23-3-2021","18:00:00","2021-03-23T18:00:00",null,{"$f":"_xlfn.XLOOKUP(C1083,Data!C:C,Data!I:I)","v":{"$error":"#N/A"}},{"$error":"#N/A"},{"$f":"_xlfn.XLOOKUP(C1083,Data!C:C,Data!G:G,0)","v":0},{"$f":"_xlfn.XLOOKUP(C1083,Data!C:C,Data!F:F,0)","v":0},{"$f":"_xlfn.XLOOKUP(C1083,Data!C:C,Data!H:H,0)","v":0},null,"",{"$f":"_xlfn.XLOOKUP(C1083,Data!C:C,Data!F:F,\"\")","v":""},null,{"$error":"#N/A"}]
["23-3-2021","18:01:00","2021-03-23T18:01:00",null,{"$f":"_xlfn.XLOOKUP(C1084,Data!C:C,Data!I:I)","v":{"$error":"#N/A"}},{"$error":"#N/A"},{"$f":"_xlfn.XLOOKUP(C1084,Data!C:C,Data!G:G,0)","v":0},{"$f":"_xlfn.XLOOKUP(C1084,Data!C:C,Data!F:F,0)","v":0},{"$f":"_xlfn.XLOOKUP(C1084,Data!C:C,Data!H:H,0)","v":0},null,"",{"$f":"_xlfn.XLOOKUP(C1084,Data!C:C,Data!F:F,\"\")","v":""},null,{"$error":"#N/A"}]
["23-3-2021","18:02:00","2021-03-23T18:02:00",null,{"$f":"_xlfn.XLOOKUP(C1085,Data!C:C,Data!I:I)","v":{"$error":"#N/A"}},{"$error":"#N/A"},{"$f":"_xlfn.XLOOKUP(C1085,Data!C:C,Data!G:G,0)","v":0},{"$f":"_xlfn.XLOOKUP(C1085,Data!C:C,Data!F:F,0)","v":0},{"$f":"_xlfn.XLOOKUP(C1085,Data!C:C,Data!H:H,0)","v":0},null,"",{"$f":"_xlfn.XLOOKUP(C1085,Data!C:C,Data!F:F,\"\")","v":""},null,{"$error":"#N/A"}]
["23-3-2021","18:03:00","2021-03-23T18:03:00",null,{"$f":"_xlfn.XLOOKUP(C1086,Data!C:C,Data!I:I)","v":{"$error":"#N/A"}},{"$error":"#N/A"},{"$f":"_xlfn.XLOOKUP(C1086,Data!C:C,Data!G:G,0)","v":0},{"$f":"_xlfn.XLOOKUP(C1086,Data!C:C,Data!F:F,0)","v":0},{"$f":"_xlfn.XLOOKUP(C1086,Data!C:C,Data!H:H,0)","v":0},null,"",{"$f":"_xlfn.XLOOKUP(C1086,Data!C:C,Data!F:F,\"\")","v":""},null,{"$error":"#N/A"}]
["23-3-2021","18:04:00","2021-03-23T18:04:00",null,{"$f":"_xlfn.XLOOKUP(C1087,Data!C:C,Data!I:I)","v":{"$error":"#N/A"}},{"$error":"#N/A"},{"$f":"_xlfn.XLOOKUP(C1087,Data!C:C,Data!G:G,0)","v":0},{"$f":"_xlfn.XLOOKUP(C1087,Data!C:C,Data!F:F,0)","v":0},{"$f":"_xlfn.XLOOKUP(C1087,Data!C:C,Data!H:H,0)","v":0},null,"",{"$f":"_xlfn.XLOOKUP(C1087,Data!C:C,Data!F:F,\"\")","v":""},null,{"$error":"#N/A"}]
["23-3-2021","18:05:00","2021-03-23T18:05:00",null,{"$f":"_xlfn.XLOOKUP(C1088,Data!C:C,Data!I:I)","v":{"$error":"#N/A"}},{"$error":"#N/A"},{"$f":"_xlfn.XLOOKUP(C1088,Data!C:C,Data!G:G,0)","v":0},{"$f":"_xlfn.XLOOKUP(C1088,Data!C:C,Data!F:F,0)","v":0},{"$f":"_xlfn.XLOOKUP(C1088,Data!C:C,Data!H:H,0)","v":0},null,"",{"$f":"_xlfn.XLOOKUP(C1088,Data!C:C,Data!F:F,\"\")","v":""},null,{"$error":"#N/A"}]
["23-3-2021","18:06:00","2021-03-23T18:06:00",null,{"$f":"_xlfn.XLOOKUP(C1089,Data!C:C,Data!I:I)","v":{"$error":"#N/A"}},{"$error":"#N/A"},{"$f":"_xlfn.XLOOKUP(C1089,Data!C:C,Data!G:G,0)","v":0},{"$f":"_xlfn.XLOOKUP(C1089,Data!C:C,Data!F:F,0)","v":0},{"$f":"_xlfn.XLOOKUP(C1089,Data!C:C,Data!H:H,0)","v":0},null,"",{"$f":"_xlfn.XLOOKUP(C1089,Data!C:C,Data!F:F,\"\")","v":""},null,{"$error":"#N/A"}]
["23-3-2021","18:07:00","2021-03-23T18:07:00",null,{"$f":"_xlfn.XLOOKUP(C1090,Data!C:C,Data!I:I)","v":{"$error":"#N/A"}},{"$error":"#N/A"},{"$f":"_xlfn.XLOOKUP(C1090,Data!C:C,Data!G:G,0)","v":0},{"$f":"_xlfn.XLOOKUP(C1090,Data!C:C,Data!F:F,0)","v":0},{"$f":"_xlfn.XLOOKUP(C1090,Data!C:C,Data!H:H,0)","v":0},null,"",{"$f":"_xlfn.XLOOKUP(C1090,Data!C:C,Data!F:F,\"\")","v":""},null,{"$error":"#N/A"}]
["23-3-2021","18:08:00",{"$f":"A1091+B1091","v":"2021-03-23T18:08:00"},null,{"$f":"_xlfn.XLOOKUP(C1091,Data!C:C,Data!I:I)","v":{"$error":"#N/A"}},{"$error":"#N/A"},{"$f":"_xlfn.XLOOKUP(C1091,Data!C:C,Data!G:G,0)","v":0},{"$f":"_xlfn.XLOOKUP(C1091,Data!C:C,Data!F:F,0)","v":0},{"$f":"_xlfn.XLOOKUP(C1091,Data!C:C,Data!H:H,0)","v":0},null,"",{"$f":"_xlfn.XLOOKUP(C1091,Data!C:C,Data!F:F,\"\")","v":""},null,{"$error":"#N/A"}]
[{"$f":"$A$3","v":"23-3-2021"},"18:09:00","2021-03-23T18:09:00",null,{"$f":"_xlfn.XLOOKUP(C1092,Data!C:C,Data!I:I)","v":{"$error":"#N/A"}},{"$f":"IF(E1092=255,F1091,E1092)","v":{"$error":"#N/A"}},{"$f":"_xlfn.XLOOKUP(C1092,Data!C:C,Data!G:G,0)","v":0},{"$f":"_xlfn.XLOOKUP(C1092,Data!C:C,Data!F:F,0)","v":0},{"$f":"_xlfn.XLOOKUP(C1092,Data!C:C,Data!H:H,0)","v":0},null,{"$f":"IFERROR(IF(F1092=\"#N/A\",\"\",F1092),\"\")","v":""},{"$f":"_xlfn.XLOOKUP(C1092,Data!C:C,Data!F:F,\"\")","v":""},null,{"$error":"#N/A"}]
["23-3-2021","18:10:00","2021-03-23T18:10:00",null,{"$f":"_xlfn.XLOOKUP(C1093,Data!C:C,Data!I:I)","v":{"$error":"#N/A"}},{"$error":"#N/A"},{"$f":"_xlfn.XLOOKUP(C1093,Data!C:C,Data!G:G,0)","v":0},{"$f":"_xlfn.XLOOKUP(C1093,Data!C:C,Data!F:F,0)","v":0},{"$f":"_xlfn.XLOOKUP(C1093,Data!C:C,Data!H:H,0)","v":0},null,"",{"$f":"_xlfn.XLOOKUP(C1093,Data!C:C,Data!F:F,\"\")","v":""},null,{"$error":"#N/A"}]
["23-3-2021","18:11:00","2021-03-23T18:11:00",null,{"$f":"_xlfn.XLOOKUP(C1094,Data!C:C,Data!I:I)","v":{"$error":"#N/A"}},{"$error":"#N/A"},{"$f":"_xlfn.XLOOKUP(C1094,Data!C:C,Data!G:G,0)","v":0},{"$f":"_xlfn.XLOOKUP(C1094,Data!C:C,Data!F:F,0)","v":0},{"$f":"_xlfn.XLOOKUP(C1094,Data!C:C,Data!H:H,0)","v":0},null,"",{"$f":"_xlfn.XLOOKUP(C1094,Data!C:C,Data!F:F,\"\")","v":""},null,{"$error":"#N/A"}]
["23-3-2021","18:12:00","2021-03-23T18:12:00",null,{"$f":"_xlfn.XLOOKUP(C1095,Data!C:C,Data!I:I)","v":{"$error":"#N/A"}},{"$error":"#N/A"},{"$f":"_xlfn.XLOOKUP(C1095,Data!C:C,Data!G:G,0)","v":0},{"$f":"_xlfn.XLOOKUP(C1095,Data!C:C,Data!F:F,0)","v":0},{"$f":"_xlfn.XLOOKUP(C1095,Data!C:C,Data!H:H,0)","v":0},null,"",{"$f":"_xlfn.XLOOKUP(C1095,Data!C:C,Data!F:F,\"\")","v":""},null,{"$f":"IF(F1095=\"\",\"\",AVERAGE(F1091:F1099))","v":{"$error":"#N/A"}}]
["23-3-2021","18:13:00","2021-03-23T18:13:00",null,{"$f":"_xlfn.XLOOKUP(C1096,Data!C:C,Data!I:I)","v":{"$error":"#N/A"}},{"$error":"#N/A"},{"$f":"_xlfn.XLOOKUP(C1096,Data!C:C,Data!G:G,0)","v":0},{"$f":"_xlfn.XLOOKUP(C1096,Data!C:C,Data!F:F,0)","v":0},{"$f":"_xlfn.XLOOKUP(C1096,Data!C:C,Data!H:H,0)","v":0},null,"",{"$f":"_xlfn.XLOOKUP(C1096,Data!C:C,Data!F:F,\"\")","v":""},null,{"$error":"#N/A"}]
["23-3-2021","18:14:00","2021-03-23T18:14:00",null,{"$f":"_xlfn.XLOOKUP(C1097,Data!C:C,Data!I:I)","v":{"$error":"#N/A"}},{"$error":"#N/A"},{"$f":"_xlfn.XLOOKUP(C1097,Data!C:C,Data!G:G,0)","v":0},{"$f":"_xlfn.XLOOKUP(C1097,Data!C:C,Data!F:F,0)","v":0},{"$f":"_xlfn.XLOOKUP(C1097,Data!C:C,Data!H:H,0)","v":0},null,"",{"$f":"_xlfn.XLOOKUP(C1097,Data!C:C,Data!F:F,\"\")","v":""},null,{"$error":"#N/A"}]
["23-3-2021","18:15:00","2021-03-23T18:15:00",null,{"$f":"_xlfn.XLOOKUP(C1098,Data!C:C,Data!I:I)","v":{"$error":"#N/A"}},{"$error":"#N/A"},{"$f":"_xlfn.XLOOKUP(C1098,Data!C:C,Data!G:G,0)","v":0},{"$f":"_xlfn.XLOOKUP(C1098,Data!C:C,Data!F:F,0)","v":0},{"$f":"_xlfn.XLOOKUP(C1098,Data!C:C,Data!H:H,0)","v":0},null,"",{"$f":"_xlfn.XLOOKUP(C1098,Data!C:C,Data!F:F,\"\")","v":""},null,{"$error":"#N/A"}]
["23-3-2021","18:16:00","2021-03-23T18:16:00",null,{"$f":"_xlfn.XLOOKUP(C1099,Data!C:C,Data!I:I)","v":{"$error":"#N/A"}},{"$error":"#N/A"},{"$f":"_xlfn.XLOOKUP(C1099,Data!C:C,Data!G:G,0)","v":0},{"$f":"_xlfn.XLOOKUP(C1099,Data!C:C,Data!F:F,0)","v":0},{"$f":"_xlfn.XLOOKUP(C1099,Data!C:C,Data!H:H,0)","v":0},null,"",{"$f":"_xlfn.XLOOKUP(C1099,Data!C:C,Data!F:F,\"\")","v":""},null,{"$error":"#N/A"}]
["23-3-2021","18:17:00","2021-03-23T18:17:00",null,{"$f":"_xlfn.XLOOKUP(C1100,Data!C:C,Data!I:I)","v":{"$error":"#N/A"}},{"$error":"#N/A"},{"$f":"_xlfn.XLOOKUP(C1100,Data!C:C,Data!G:G,0)","v":0},{"$f":"_xlfn.XLOOKUP(C1100,Data!C:C,Data!F:F,0)","v":0},{"$f":"_xlfn.XLOOKUP(C1100,Data!C:C,Data!H:H,0)","v":0},null,"",{"$f":"_xlfn.XLOOKUP(C1100,Data!C:C,Data!F:F,\"\")","v":""},null,{"$error":"#N/A"}]
["23-3-2021","18:18:00","2021-03-23T18:18:00",null,{"$f":"_xlfn.XLOOKUP(C1101,Data!C:C,Data!I:I)","v":{"$error":"#N/A"}},{"$error":"#N/A"},{"$f":"_xlfn.XLOOKUP(C1101,Data!C:C,Data!G:G,0)","v":0},{"$f":"_xlfn.XLOOKUP(C1101,Data!C:C,Data!F:F,0)","v":0},{"$f":"_xlfn.XLOOKUP(C1101,Data!C:C,Data!H:H,0)","v":0},null,"",{"$f":"_xlfn.XLOOKUP(C1101,Data!C:C,Data!F:F,\"\")","v":""},null,{"$error":"#N/A"}]
["23-3-2021","18:19:00","2021-03-23T18:19:00",null,{"$f":"_xlfn.XLOOKUP(C1102,Data!C:C,Data!I:I)","v":{"$error":"#N/A"}},{"$error":"#N/A"},{"$f":"_xlfn.XLOOKUP(C1102,Data!C:C,Data!G:G,0)","v":0},{"$f":"_xlfn.XLOOKUP(C1102,Data!C:C,Data!F:F,0)","v":0},{"$f":"_xlfn.XLOOKUP(C1102,Data!C:C,Data!H:H,0)","v":0},null,"",{"$f":"_xlfn.XLOOKUP(C1102,Data!C:C,Data!F:F,\"\")","v":""},null,{"$error":"#N/A"}]
["23-3-2021","18:20:00","2021-03-23T18:20:00",null,{"$f":"_xlfn.XLOOKUP(C1103,Data!C:C,Data!I:I)","v":{"$error":"#N/A"}},{"$error":"#N/A"},{"$f":"_xlfn.XLOOKUP(C1103,Data!C:C,Data!G:G,0)","v":0},{"$f":"_xlfn.XLOOKUP(C1103,Data!C:C,Data!F:F,0)","v":0},{"$f":"_xlfn.XLOOKUP(C1103,Data!C:C,Data!H:H,0)","v":0},null,"",{"$f":"_xlfn.XLOOKUP(C1103,Data!C:C,Data!F:F,\"\")","v":""},null,{"$error":"#N/A"}]
["23-3-2021","18:21:00","2021-03-23T18:21:00",null,{"$f":"_xlfn.XLOOKUP(C1104,Data!C:C,Data!I:I)","v":{"$error":"#N/A"}},{"$error":"#N/A"},{"$f":"_xlfn.XLOOKUP(C1104,Data!C:C,Data!G:G,0)","v":0},{"$f":"_xlfn.XLOOKUP(C1104,Data!C:C,Data!F:F,0)","v":0},{"$f":"_xlfn.XLOOKUP(C1104,Data!C:C,Data!H:H,0)","v":0},null,"",{"$f":"_xlfn.XLOOKUP(C1104,Data!C:C,Data!F:F,\"\")","v":""},null,{"$error":"#N/A"}]
["23-3-2021","18:22:00","2021-03-23T18:22:00",null,{"$f":"_xlfn.XLOOKUP(C1105,Data!C:C,Data!I:I)","v":{"$error":"#N/A"}},{"$error":"#N/A"},{"$f":"_xlfn.XLOOKUP(C1105,Data!C:C,Data!G:G,0)","v":0},{"$f":"_xlfn.XLOOKUP(C1105,Data!C:C,Data!F:F,0)","v":0},{"$f":"_xlfn.XLOOKUP(C1105,Data!C:C,Data!H:H,0)","v":0},null,"",{"$f":"_xlfn.XLOOKUP(C1105,Data!C:C,Data!F:F,\"\")","v":""},null,{"$error":"#N/A"}]
["23-3-2021","18:23:00","2021-03-23T18:23:00",null,{"$f":"_xlfn.XLOOKUP(C1106,Data!C:C,Data!I:I)","v":{"$error":"#N/A"}},{"$error":"#N/A"},{"$f":"_xlfn.XLOOKUP(C1106,Data!C:C,Data!G:G,0)","v":0},{"$f":"_xlfn.XLOOKUP(C1106,Data!C:C,Data!F:F,0)","v":0},{"$f":"_xlfn.XLOOKUP(C1106,Data!C:C,Data!H:H,0)","v":0},null,"",{"$f":"_xlfn.XLOOKUP(C1106,Data!C:C,Data!F:F,\"\")","v":""},null,{"$error":"#N/A"}]
["23-3-2021","18:24:00","2021-03-23T18:24:00",null,{"$f":"_xlfn.XLOOKUP(C1107,Data!C:C,Data!I:I)","v":{"$error":"#N/A"}},{"$error":"#N/A"},{"$f":"_xlfn.XLOOKUP(C1107,Data!C:C,Data!G:G,0)","v":0},{"$f":"_xlfn.XLOOKUP(C1107,Data!C:C,Data!F:F,0)","v":0},{"$f":"_xlfn.XLOOKUP(C1107,Data!C:C,Data!H:H,0)","v":0},null,"",{"$f":"_xlfn.XLOOKUP(C1107,Data!C:C,Data!F:F,\"\")","v":""},null,{"$error":"#N/A"}]
["23-3-2021","18:25:00","2021-03-23T18:25:00",null,{"$f":"_xlfn.XLOOKUP(C1108,Data!C:C,Data!I:I)","v":{"$error":"#N/A"}},{"$error":"#N/A"},{"$f":"_xlfn.XLOOKUP(C1108,Data!C:C,Data!G:G,0)","v":0},{"$f":"_xlfn.XLOOKUP(C1108,Data!C:C,Data!F:F,0)","v":0},{"$f":"_xlfn.XLOOKUP(C1108,Data!C:C,Data!H:H,0)","v":0},null,"",{"$f":"_xlfn.XLOOKUP(C1108,Data!C:C,Data!F:F,\"\")","v":""},null,{"$error":"#N/A"}]
["23-3-2021","18:26:00","2021-03-23T18:26:00",null,{"$f":"_xlfn.XLOOKUP(C1109,Data!C:C,Data!I:I)","v":{"$error":"#N/A"}},{"$error":"#N/A"},{"$f":"_xlfn.XLOOKUP(C1109,Data!C:C,Data!G:G,0)","v":0},{"$f":"_xlfn.XLOOKUP(C1109,Data!C:C,Data!F:F,0)","v":0},{"$f":"_xlfn.XLOOKUP(C1109,Data!C:C,Data!H:H,0)","v":0},null,"",{"$f":"_xlfn.XLOOKUP(C1109,Data!C:C,Data!F:F,\"\")","v":""},null,{"$error":"#N/A"}]
["23-3-2021","18:27:00","2021-03-23T18:27:00",null,{"$f":"_xlfn.XLOOKUP(C1110,Data!C:C,Data!I:I)","v":{"$error":"#N/A"}},{"$error":"#N/A"},{"$f":"_xlfn.XLOOKUP(C1110,Data!C:C,Data!G:G,0)","v":0},{"$f":"_xlfn.XLOOKUP(C1110,Data!C:C,Data!F:F,0)","v":0},{"$f":"_xlfn.XLOOKUP(C1110,Data!C:C,Data!H:H,0)","v":0},null,"",{"$f":"_xlfn.XLOOKUP(C1110,Data!C:C,Data!F:F,\"\")","v":""},null,{"$error":"#N/A"}]
["23-3-2021","18:28:00","2021-03-23T18:28:00",null,{"$f":"_xlfn.XLOOKUP(C1111,Data!C:C,Data!I:I)","v":{"$error":"#N/A"}},{"$error":"#N/A"},{"$f":"_xlfn.XLOOKUP(C1111,Data!C:C,Data!G:G,0)","v":0},{"$f":"_xlfn.XLOOKUP(C1111,Data!C:C,Data!F:F,0)","v":0},{"$f":"_xlfn.XLOOKUP(C1111,Data!C:C,Data!H:H,0)","v":0},null,"",{"$f":"_xlfn.XLOOKUP(C1111,Data!C:C,Data!F:F,\"\")","v":""},null,{"$error":"#N/A"}]
["23-3-2021","18:29:00","2021-03-23T18:29:00",null,{"$f":"_xlfn.XLOOKUP(C1112,Data!C:C,Data!I:I)","v":{"$error":"#N/A"}},{"$error":"#N/A"},{"$f":"_xlfn.XLOOKUP(C1112,Data!C:C,Data!G:G,0)","v":0},{"$f":"_xlfn.XLOOKUP(C1112,Data!C:C,Data!F:F,0)","v":0},{"$f":"_xlfn.XLOOKUP(C1112,Data!C:C,Data!H:H,0)","v":0},null,"",{"$f":"_xlfn.XLOOKUP(C1112,Data!C:C,Data!F:F,\"\")","v":""},null,{"$error":"#N/A"}]
["23-3-2021","18:30:00","2021-03-23T18:30:00",null,{"$f":"_xlfn.XLOOKUP(C1113,Data!C:C,Data!I:I)","v":{"$error":"#N/A"}},{"$error":"#N/A"},{"$f":"_xlfn.XLOOKUP(C1113,Data!C:C,Data!G:G,0)","v":0},{"$f":"_xlfn.XLOOKUP(C1113,Data!C:C,Data!F:F,0)","v":0},{"$f":"_xlfn.XLOOKUP(C1113,Data!C:C,Data!H:H,0)","v":0},null,"",{"$f":"_xlfn.XLOOKUP(C1113,Data!C:C,Data!F:F,\"\")","v":""},null,{"$error":"#N/A"}]
["23-3-2021","18:31:00","2021-03-23T18:31:00",null,{"$f":"_xlfn.XLOOKUP(C1114,Data!C:C,Data!I:I)","v":{"$error":"#N/A"}},{"$error":"#N/A"},{"$f":"_xlfn.XLOOKUP(C1114,Data!C:C,Data!G:G,0)","v":0},{"$f":"_xlfn.XLOOKUP(C1114,Data!C:C,Data!F:F,0)","v":0},{"$f":"_xlfn.XLOOKUP(C1114,Data!C:C,Data!H:H,0)","v":0},null,"",{"$f":"_xlfn.XLOOKUP(C1114,Data!C:C,Data!F:F,\"\")","v":""},null,{"$error":"#N/A"}]
["23-3-2021","18:32:00","2021-03-23T18:32:00",null,{"$f":"_xlfn.XLOOKUP(C1115,Data!C:C,Data!I:I)","v":{"$error":"#N/A"}},{"$error":"#N/A"},{"$f":"_xlfn.XLOOKUP(C1115,Data!C:C,Data!G:G,0)","v":0},{"$f":"_xlfn.XLOOKUP(C1115,Data!C:C,Data!F:F,0)","v":0},{"$f":"_xlfn.XLOOKUP(C1115,Data!C:C,Data!H:H,0)","v":0},null,"",{"$f":"_xlfn.XLOOKUP(C1115,Data!C:C,Data!F:F,\"\")","v":""},null,{"$error":"#N/A"}]
["23-3-2021","18:33:00","2021-03-23T18:33:00",null,{"$f":"_xlfn.XLOOKUP(C1116,Data!C:C,Data!I:I)","v":{"$error":"#N/A"}},{"$error":"#N/A"},{"$f":"_xlfn.XLOOKUP(C1116,Data!C:C,Data!G:G,0)","v":0},{"$f":"_xlfn.XLOOKUP(C1116,Data!C:C,Data!F:F,0)","v":0},{"$f":"_xlfn.XLOOKUP(C1116,Data!C:C,Data!H:H,0)","v":0},null,"",{"$f":"_xlfn.XLOOKUP(C1116,Data!C:C,Data!F:F,\"\")","v":""},null,{"$error":"#N/A"}]
["23-3-2021","18:34:00","2021-03-23T18:34:00",null,{"$f":"_xlfn.XLOOKUP(C1117,Data!C:C,Data!I:I)","v":{"$error":"#N/A"}},{"$error":"#N/A"},{"$f":"_xlfn.XLOOKUP(C1117,Data!C:C,Data!G:G,0)","v":0},{"$f":"_xlfn.XLOOKUP(C1117,Data!C:C,Data!F:F,0)","v":0},{"$f":"_xlfn.XLOOKUP(C1117,Data!C:C,Data!H:H,0)","v":0},null,"",{"$f":"_xlfn.XLOOKUP(C1117,Data!C:C,Data!F:F,\"\")","v":""},null,{"$error":"#N/A"}]
["23-3-2021","18:35:00","2021-03-23T18:35:00",null,{"$f":"_xlfn.XLOOKUP(C1118,Data!C:C,Data!I:I)","v":{"$error":"#N/A"}},{"$error":"#N/A"},{"$f":"_xlfn.XLOOKUP(C1118,Data!C:C,Data!G:G,0)","v":0},{"$f":"_xlfn.XLOOKUP(C1118,Data!C:C,Data!F:F,0)","v":0},{"$f":"_xlfn.XLOOKUP(C1118,Data!C:C,Data!H:H,0)","v":0},null,"",{"$f":"_xlfn.XLOOKUP(C1118,Data!C:C,Data!F:F,\"\")","v":""},null,{"$error":"#N/A"}]
["23-3-2021","18:36:00","2021-03-23T18:36:00",null,{"$f":"_xlfn.XLOOKUP(C1119,Data!C:C,Data!I:I)","v":{"$error":"#N/A"}},{"$error":"#N/A"},{"$f":"_xlfn.XLOOKUP(C1119,Data!C:C,Data!G:G,0)","v":0},{"$f":"_xlfn.XLOOKUP(C1119,Data!C:C,Data!F:F,0)","v":0},{"$f":"_xlfn.XLOOKUP(C1119,Data!C:C,Data!H:H,0)","v":0},null,"",{"$f":"_xlfn.XLOOKUP(C1119,Data!C:C,Data!F:F,\"\")","v":""},null,{"$error":"#N/A"}]
["23-3-2021","18:37:00","2021-03-23T18:37:00",null,{"$f":"_xlfn.XLOOKUP(C1120,Data!C:C,Data!I:I)","v":{"$error":"#N/A"}},{"$error":"#N/A"},{"$f":"_xlfn.XLOOKUP(C1120,Data!C:C,Data!G:G,0)","v":0},{"$f":"_xlfn.XLOOKUP(C1120,Data!C:C,Data!F:F,0)","v":0},{"$f":"_xlfn.XLOOKUP(C1120,Data!C:C,Data!H:H,0)","v":0},null,"",{"$f":"_xlfn.XLOOKUP(C1120,Data!C:C,Data!F:F,\"\")","v":""},null,{"$error":"#N/A"}]
["23-3-2021","18:38:00","2021-03-23T18:38:00",null,{"$f":"_xlfn.XLOOKUP(C1121,Data!C:C,Data!I:I)","v":{"$error":"#N/A"}},{"$error":"#N/A"},{"$f":"_xlfn.XLOOKUP(C1121,Data!C:C,Data!G:G,0)","v":0},{"$f":"_xlfn.XLOOKUP(C1121,Data!C:C,Data!F:F,0)","v":0},{"$f":"_xlfn.XLOOKUP(C1121,Data!C:C,Data!H:H,0)","v":0},null,"",{"$f":"_xlfn.XLOOKUP(C1121,Data!C:C,Data!F:F,\"\")","v":""},null,{"$error":"#N/A"}]
["23-3-2021","18:39:00","2021-03-23T18:39:00",null,{"$f":"_xlfn.XLOOKUP(C1122,Data!C:C,Data!I:I)","v":{"$error":"#N/A"}},{"$error":"#N/A"},{"$f":"_xlfn.XLOOKUP(C1122,Data!C:C,Data!G:G,0)","v":0},{"$f":"_xlfn.XLOOKUP(C1122,Data!C:C,Data!F:F,0)","v":0},{"$f":"_xlfn.XLOOKUP(C1122,Data!C:C,Data!H:H,0)","v":0},null,"",{"$f":"_xlfn.XLOOKUP(C1122,Data!C:C,Data!F:F,\"\")","v":""},null,{"$error":"#N/A"}]
["23-3-2021","18:40:00","2021-03-23T18:40:00",null,{"$f":"_xlfn.XLOOKUP(C1123,Data!C:C,Data!I:I)","v":{"$error":"#N/A"}},{"$error":"#N/A"},{"$f":"_xlfn.XLOOKUP(C1123,Data!C:C,Data!G:G,0)","v":0},{"$f":"_xlfn.XLOOKUP(C1123,Data!C:C,Data!F:F,0)","v":0},{"$f":"_xlfn.XLOOKUP(C1123,Data!C:C,Data!H:H,0)","v":0},null,"",{"$f":"_xlfn.XLOOKUP(C1123,Data!C:C,Data!F:F,\"\")","v":""},null,{"$error":"#N/A"}]
["23-3-2021","18:41:00","2021-03-23T18:41:00",null,{"$f":"_xlfn.XLOOKUP(C1124,Data!C:C,Data!I:I)","v":{"$error":"#N/A"}},{"$error":"#N/A"},{"$f":"_xlfn.XLOOKUP(C1124,Data!C:C,Data!G:G,0)","v":0},{"$f":"_xlfn.XLOOKUP(C1124,Data!C:C,Data!F:F,0)","v":0},{"$f":"_xlfn.XLOOKUP(C1124,Data!C:C,Data!H:H,0)","v":0},null,"",{"$f":"_xlfn.XLOOKUP(C1124,Data!C:C,Data!F:F,\"\")","v":""},null,{"$error":"#N/A"}]
["23-3-2021","18:42:00","2021-03-23T18:42:00",null,{"$f":"_xlfn.XLOOKUP(C1125,Data!C:C,Data!I:I)","v":{"$error":"#N/A"}},{"$error":"#N/A"},{"$f":"_xlfn.XLOOKUP(C1125,Data!C:C,Data!G:G,0)","v":0},{"$f":"_xlfn.XLOOKUP(C1125,Data!C:C,Data!F:F,0)","v":0},{"$f":"_xlfn.XLOOKUP(C1125,Data!C:C,Data!H:H,0)","v":0},null,"",{"$f":"_xlfn.XLOOKUP(C1125,Data!C:C,Data!F:F,\"\")","v":""},null,{"$error":"#N/A"}]
["23-3-2021","18:43:00","2021-03-23T18:43:00",null,{"$f":"_xlfn.XLOOKUP(C1126,Data!C:C,Data!I:I)","v":{"$error":"#N/A"}},{"$error":"#N/A"},{"$f":"_xlfn.XLOOKUP(C1126,Data!C:C,Data!G:G,0)","v":0},{"$f":"_xlfn.XLOOKUP(C1126,Data!C:C,Data!F:F,0)","v":0},{"$f":"_xlfn.XLOOKUP(C1126,Data!C:C,Data!H:H,0)","v":0},null,"",{"$f":"_xlfn.XLOOKUP(C1126,Data!C:C,Data!F:F,\"\")","v":""},null,{"$error":"#N/A"}]
["23-3-2021","18:44:00","2021-03-23T18:44:00",null,{"$f":"_xlfn.XLOOKUP(C1127,Data!C:C,Data!I:I)","v":{"$error":"#N/A"}},{"$error":"#N/A"},{"$f":"_xlfn.XLOOKUP(C1127,Data!C:C,Data!G:G,0)","v":0},{"$f":"_xlfn.XLOOKUP(C1127,Data!C:C,Data!F:F,0)","v":0},{"$f":"_xlfn.XLOOKUP(C1127,Data!C:C,Data!H:H,0)","v":0},null,"",{"$f":"_xlfn.XLOOKUP(C1127,Data!C:C,Data!F:F,\"\")","v":""},null,{"$error":"#N/A"}]
["23-3-2021","18:45:00","2021-03-23T18:45:00",null,{"$f":"_xlfn.XLOOKUP(C1128,Data!C:C,Data!I:I)","v":{"$error":"#N/A"}},{"$error":"#N/A"},{"$f":"_xlfn.XLOOKUP(C1128,Data!C:C,Data!G:G,0)","v":0},{"$f":"_xlfn.XLOOKUP(C1128,Data!C:C,Data!F:F,0)","v":0},{"$f":"_xlfn.XLOOKUP(C1128,Data!C:C,Data!H:H,0)","v":0},null,"",{"$f":"_xlfn.XLOOKUP(C1128,Data!C:C,Data!F:F,\"\")","v":""},null,{"$error":"#N/A"}]
["23-3-2021","18:46:00","2021-03-23T18:46:00",null,{"$f":"_xlfn.XLOOKUP(C1129,Data!C:C,Data!I:I)","v":{"$error":"#N/A"}},{"$error":"#N/A"},{"$f":"_xlfn.XLOOKUP(C1129,Data!C:C,Data!G:G,0)","v":0},{"$f":"_xlfn.XLOOKUP(C1129,Data!C:C,Data!F:F,0)","v":0},{"$f":"_xlfn.XLOOKUP(C1129,Data!C:C,Data!H:H,0)","v":0},null,"",{"$f":"_xlfn.XLOOKUP(C1129,Data!C:C,Data!F:F,\"\")","v":""},null,{"$error":"#N/A"}]
["23-3-2021","18:47:00","2021-03-23T18:47:00",null,{"$f":"_xlfn.XLOOKUP(C1130,Data!C:C,Data!I:I)","v":{"$error":"#N/A"}},{"$error":"#N/A"},{"$f":"_xlfn.XLOOKUP(C1130,Data!C:C,Data!G:G,0)","v":0},{"$f":"_xlfn.XLOOKUP(C1130,Data!C:C,Data!F:F,0)","v":0},{"$f":"_xlfn.XLOOKUP(C1130,Data!C:C,Data!H:H,0)","v":0},null,"",{"$f":"_xlfn.XLOOKUP(C1130,Data!C:C,Data!F:F,\"\")","v":""},null,{"$error":"#N/A"}]
["23-3-2021","18:48:00","2021-03-23T18:48:00",null,{"$f":"_xlfn.XLOOKUP(C1131,Data!C:C,Data!I:I)","v":{"$error":"#N/A"}},{"$error":"#N/A"},{"$f":"_xlfn.XLOOKUP(C1131,Data!C:C,Data!G:G,0)","v":0},{"$f":"_xlfn.XLOOKUP(C1131,Data!C:C,Data!F:F,0)","v":0},{"$f":"_xlfn.XLOOKUP(C1131,Data!C:C,Data!H:H,0)","v":0},null,"",{"$f":"_xlfn.XLOOKUP(C1131,Data!C:C,Data!F:F,\"\")","v":""},null,{"$error":"#N/A"}]
["23-3-2021","18:49:00","2021-03-23T18:49:00",null,{"$f":"_xlfn.XLOOKUP(C1132,Data!C:C,Data!I:I)","v":{"$error":"#N/A"}},{"$error":"#N/A"},{"$f":"_xlfn.XLOOKUP(C1132,Data!C:C,Data!G:G,0)","v":0},{"$f":"_xlfn.XLOOKUP(C1132,Data!C:C,Data!F:F,0)","v":0},{"$f":"_xlfn.XLOOKUP(C1132,Data!C:C,Data!H:H,0)","v":0},null,"",{"$f":"_xlfn.XLOOKUP(C1132,Data!C:C,Data!F:F,\"\")","v":""},null,{"$error":"#N/A"}]
["23-3-2021","18:50:00","2021-03-23T18:50:00",null,{"$f":"_xlfn.XLOOKUP(C1133,Data!C:C,Data!I:I)","v":{"$error":"#N/A"}},{"$error":"#N/A"},{"$f":"_xlfn.XLOOKUP(C1133,Data!C:C,Data!G:G,0)","v":0},{"$f":"_xlfn.XLOOKUP(C1133,Data!C:C,Data!F:F,0)","v":0},{"$f":"_xlfn.XLOOKUP(C1133,Data!C:C,Data!H:H,0)","v":0},null,"",{"$f":"_xlfn.XLOOKUP(C1133,Data!C:C,Data!F:F,\"\")","v":""},null,{"$error":"#N/A"}]
["23-3-2021","18:51:00","2021-03-23T18:51:00",null,{"$f":"_xlfn.XLOOKUP(C1134,Data!C:C,Data!I:I)","v":{"$error":"#N/A"}},{"$error":"#N/A"},{"$f":"_xlfn.XLOOKUP(C1134,Data!C:C,Data!G:G,0)","v":0},{"$f":"_xlfn.XLOOKUP(C1134,Data!C:C,Data!F:F,0)","v":0},{"$f":"_xlfn.XLOOKUP(C1134,Data!C:C,Data!H:H,0)","v":0},null,"",{"$f":"_xlfn.XLOOKUP(C1134,Data!C:C,Data!F:F,\"\")","v":""},null,{"$error":"#N/A"}]
["23-3-2021","18:52:00","2021-03-23T18:52:00",null,{"$f":"_xlfn.XLOOKUP(C1135,Data!C:C,Data!I:I)","v":{"$error":"#N/A"}},{"$error":"#N/A"},{"$f":"_xlfn.XLOOKUP(C1135,Data!C:C,Data!G:G,0)","v":0},{"$f":"_xlfn.XLOOKUP(C1135,Data!C:C,Data!F:F,0)","v":0},{"$f":"_xlfn.XLOOKUP(C1135,Data!C:C,Data!H:H,0)","v":0},null,"",{"$f":"_xlfn.XLOOKUP(C1135,Data!C:C,Data!F:F,\"\")","v":""},null,{"$error":"#N/A"}]
["23-3-2021","18:53:00","2021-03-23T18:53:00",null,{"$f":"_xlfn.XLOOKUP(C1136,Data!C:C,Data!I:I)","v":{"$error":"#N/A"}},{"$error":"#N/A"},{"$f":"_xlfn.XLOOKUP(C1136,Data!C:C,Data!G:G,0)","v":0},{"$f":"_xlfn.XLOOKUP(C1136,Data!C:C,Data!F:F,0)","v":0},{"$f":"_xlfn.XLOOKUP(C1136,Data!C:C,Data!H:H,0)","v":0},null,"",{"$f":"_xlfn.XLOOKUP(C1136,Data!C:C,Data!F:F,\"\")","v":""},null,{"$error":"#N/A"}]
["23-3-2021","18:54:00","2021-03-23T18:54:00",null,{"$f":"_xlfn.XLOOKUP(C1137,Data!C:C,Data!I:I)","v":{"$error":"#N/A"}},{"$error":"#N/A"},{"$f":"_xlfn.XLOOKUP(C1137,Data!C:C,Data!G:G,0)","v":0},{"$f":"_xlfn.XLOOKUP(C1137,Data!C:C,Data!F:F,0)","v":0},{"$f":"_xlfn.XLOOKUP(C1137,Data!C:C,Data!H:H,0)","v":0},null,"",{"$f":"_xlfn.XLOOKUP(C1137,Data!C:C,Data!F:F,\"\")","v":""},null,{"$error":"#N/A"}]
["23-3-2021","18:55:00","2021-03-23T18:55:00",null,{"$f":"_xlfn.XLOOKUP(C1138,Data!C:C,Data!I:I)","v":{"$error":"#N/A"}},{"$error":"#N/A"},{"$f":"_xlfn.XLOOKUP(C1138,Data!C:C,Data!G:G,0)","v":0},{"$f":"_xlfn.XLOOKUP(C1138,Data!C:C,Data!F:F,0)","v":0},{"$f":"_xlfn.XLOOKUP(C1138,Data!C:C,Data!H:H,0)","v":0},null,"",{"$f":"_xlfn.XLOOKUP(C1138,Data!C:C,Data!F:F,\"\")","v":""},null,{"$error":"#N/A"}]
["23-3-2021","18:56:00","2021-03-23T18:56:00",null,{"$f":"_xlfn.XLOOKUP(C1139,Data!C:C,Data!I:I)","v":{"$error":"#N/A"}},{"$error":"#N/A"},{"$f":"_xlfn.XLOOKUP(C1139,Data!C:C,Data!G:G,0)","v":0},{"$f":"_xlfn.XLOOKUP(C1139,Data!C:C,Data!F:F,0)","v":0},{"$f":"_xlfn.XLOOKUP(C1139,Data!C:C,Data!H:H,0)","v":0},null,"",{"$f":"_xlfn.XLOOKUP(C1139,Data!C:C,Data!F:F,\"\")","v":""},null,{"$error":"#N/A"}]
["23-3-2021","18:57:00","2021-03-23T18:57:00",null,{"$f":"_xlfn.XLOOKUP(C1140,Data!C:C,Data!I:I)","v":{"$error":"#N/A"}},{"$error":"#N/A"},{"$f":"_xlfn.XLOOKUP(C1140,Data!C:C,Data!G:G,0)","v":0},{"$f":"_xlfn.XLOOKUP(C1140,Data!C:C,Data!F:F,0)","v":0},{"$f":"_xlfn.XLOOKUP(C1140,Data!C:C,Data!H:H,0)","v":0},null,"",{"$f":"_xlfn.XLOOKUP(C1140,Data!C:C,Data!F:F,\"\")","v":""},null,{"$error":"#N/A"}]
["23-3-2021","18:58:00","2021-03-23T18:58:00",null,{"$f":"_xlfn.XLOOKUP(C1141,Data!C:C,Data!I:I)","v":{"$error":"#N/A"}},{"$error":"#N/A"},{"$f":"_xlfn.XLOOKUP(C1141,Data!C:C,Data!G:G,0)","v":0},{"$f":"_xlfn.XLOOKUP(C1141,Data!C:C,Data!F:F,0)","v":0},{"$f":"_xlfn.XLOOKUP(C1141,Data!C:C,Data!H:H,0)","v":0},null,"",{"$f":"_xlfn.XLOOKUP(C1141,Data!C:C,Data!F:F,\"\")","v":""},null,{"$error":"#N/A"}]
["23-3-2021","18:59:00","2021-03-23T18:59:00",null,{"$f":"_xlfn.XLOOKUP(C1142,Data!C:C,Data!I:I)","v":{"$error":"#N/A"}},{"$error":"#N/A"},{"$f":"_xlfn.XLOOKUP(C1142,Data!C:C,Data!G:G,0)","v":0},{"$f":"_xlfn.XLOOKUP(C1142,Data!C:C,Data!F:F,0)","v":0},{"$f":"_xlfn.XLOOKUP(C1142,Data!C:C,Data!H:H,0)","v":0},null,"",{"$f":"_xlfn.XLOOKUP(C1142,Data!C:C,Data!F:F,\"\")","v":""},null,{"$error":"#N/A"}]
["23-3-2021","19:00:00","2021-03-23T19:00:00",null,{"$f":"_xlfn.XLOOKUP(C1143,Data!C:C,Data!I:I)","v":{"$error":"#N/A"}},{"$error":"#N/A"},{"$f":"_xlfn.XLOOKUP(C1143,Data!C:C,Data!G:G,0)","v":0},{"$f":"_xlfn.XLOOKUP(C1143,Data!C:C,Data!F:F,0)","v":0},{"$f":"_xlfn.XLOOKUP(C1143,Data!C:C,Data!H:H,0)","v":0},null,"",{"$f":"_xlfn.XLOOKUP(C1143,Data!C:C,Data!F:F,\"\")","v":""},null,{"$error":"#N/A"}]
["23-3-2021","19:01:00","2021-03-23T19:01:00",null,{"$f":"_xlfn.XLOOKUP(C1144,Data!C:C,Data!I:I)","v":{"$error":"#N/A"}},{"$error":"#N/A"},{"$f":"_xlfn.XLOOKUP(C1144,Data!C:C,Data!G:G,0)","v":0},{"$f":"_xlfn.XLOOKUP(C1144,Data!C:C,Data!F:F,0)","v":0},{"$f":"_xlfn.XLOOKUP(C1144,Data!C:C,Data!H:H,0)","v":0},null,"",{"$f":"_xlfn.XLOOKUP(C1144,Data!C:C,Data!F:F,\"\")","v":""},null,{"$error":"#N/A"}]
["23-3-2021","19:02:00","2021-03-23T19:02:00",null,{"$f":"_xlfn.XLOOKUP(C1145,Data!C:C,Data!I:I)","v":{"$error":"#N/A"}},{"$error":"#N/A"},{"$f":"_xlfn.XLOOKUP(C1145,Data!C:C,Data!G:G,0)","v":0},{"$f":"_xlfn.XLOOKUP(C1145,Data!C:C,Data!F:F,0)","v":0},{"$f":"_xlfn.XLOOKUP(C1145,Data!C:C,Data!H:H,0)","v":0},null,"",{"$f":"_xlfn.XLOOKUP(C1145,Data!C:C,Data!F:F,\"\")","v":""},null,{"$error":"#N/A"}]
["23-3-2021","19:03:00","2021-03-23T19:03:00",null,{"$f":"_xlfn.XLOOKUP(C1146,Data!C:C,Data!I:I)","v":{"$error":"#N/A"}},{"$error":"#N/A"},{"$f":"_xlfn.XLOOKUP(C1146,Data!C:C,Data!G:G,0)","v":0},{"$f":"_xlfn.XLOOKUP(C1146,Data!C:C,Data!F:F,0)","v":0},{"$f":"_xlfn.XLOOKUP(C1146,Data!C:C,Data!H:H,0)","v":0},null,"",{"$f":"_xlfn.XLOOKUP(C1146,Data!C:C,Data!F:F,\"\")","v":""},null,{"$error":"#N/A"}]
["23-3-2021","19:04:00","2021-03-23T19:04:00",null,{"$f":"_xlfn.XLOOKUP(C1147,Data!C:C,Data!I:I)","v":{"$error":"#N/A"}},{"$error":"#N/A"},{"$f":"_xlfn.XLOOKUP(C1147,Data!C:C,Data!G:G,0)","v":0},{"$f":"_xlfn.XLOOKUP(C1147,Data!C:C,Data!F:F,0)","v":0},{"$f":"_xlfn.XLOOKUP(C1147,Data!C:C,Data!H:H,0)","v":0},null,"",{"$f":"_xlfn.XLOOKUP(C1147,Data!C:C,Data!F:F,\"\")","v":""},null,{"$error":"#N/A"}]
["23-3-2021","19:05:00","2021-03-23T19:05:00",null,{"$f":"_xlfn.XLOOKUP(C1148,Data!C:C,Data!I:I)","v":{"$error":"#N/A"}},{"$error":"#N/A"},{"$f":"_xlfn.XLOOKUP(C1148,Data!C:C,Data!G:G,0)","v":0},{"$f":"_xlfn.XLOOKUP(C1148,Data!C:C,Data!F:F,0)","v":0},{"$f":"_xlfn.XLOOKUP(C1148,Data!C:C,Data!H:H,0)","v":0},null,"",{"$f":"_xlfn.XLOOKUP(C1148,Data!C:C,Data!F:F,\"\")","v":""},null,{"$error":"#N/A"}]
["23-3-2021","19:06:00","2021-03-23T19:06:00",null,{"$f":"_xlfn.XLOOKUP(C1149,Data!C:C,Data!I:I)","v":{"$error":"#N/A"}},{"$error":"#N/A"},{"$f":"_xlfn.XLOOKUP(C1149,Data!C:C,Data!G:G,0)","v":0},{"$f":"_xlfn.XLOOKUP(C1149,Data!C:C,Data!F:F,0)","v":0},{"$f":"_xlfn.XLOOKUP(C1149,Data!C:C,Data!H:H,0)","v":0},null,"",{"$f":"_xlfn.XLOOKUP(C1149,Data!C:C,Data!F:F,\"\")","v":""},null,{"$error":"#N/A"}]
["23-3-2021","19:07:00","2021-03-23T19:07:00",null,{"$f":"_xlfn.XLOOKUP(C1150,Data!C:C,Data!I:I)","v":{"$error":"#N/A"}},{"$error":"#N/A"},{"$f":"_xlfn.XLOOKUP(C1150,Data!C:C,Data!G:G,0)","v":0},{"$f":"_xlfn.XLOOKUP(C1150,Data!C:C,Data!F:F,0)","v":0},{"$f":"_xlfn.XLOOKUP(C1150,Data!C:C,Data!H:H,0)","v":0},null,"",{"$f":"_xlfn.XLOOKUP(C1150,Data!C:C,Data!F:F,\"\")","v":""},null,{"$error":"#N/A"}]
["23-3-2021","19:08:00","2021-03-23T19:08:00",null,{"$f":"_xlfn.XLOOKUP(C1151,Data!C:C,Data!I:I)","v":{"$error":"#N/A"}},{"$error":"#N/A"},{"$f":"_xlfn.XLOOKUP(C1151,Data!C:C,Data!G:G,0)","v":0},{"$f":"_xlfn.XLOOKUP(C1151,Data!C:C,Data!F:F,0)","v":0},{"$f":"_xlfn.XLOOKUP(C1151,Data!C:C,Data!H:H,0)","v":0},null,"",{"$f":"_xlfn.XLOOKUP(C1151,Data!C:C,Data!F:F,\"\")","v":""},null,{"$error":"#N/A"}]
["23-3-2021","19:09:00","2021-03-23T19:09:00",null,{"$f":"_xlfn.XLOOKUP(C1152,Data!C:C,Data!I:I)","v":{"$error":"#N/A"}},{"$error":"#N/A"},{"$f":"_xlfn.XLOOKUP(C1152,Data!C:C,Data!G:G,0)","v":0},{"$f":"_xlfn.XLOOKUP(C1152,Data!C:C,Data!F:F,0)","v":0},{"$f":"_xlfn.XLOOKUP(C1152,Data!C:C,Data!H:H,0)","v":0},null,"",{"$f":"_xlfn.XLOOKUP(C1152,Data!C:C,Data!F:F,\"\")","v":""},null,{"$error":"#N/A"}]
["23-3-2021","19:10:00","2021-03-23T19:10:00",null,{"$f":"_xlfn.XLOOKUP(C1153,Data!C:C,Data!I:I)","v":{"$error":"#N/A"}},{"$error":"#N/A"},{"$f":"_xlfn.XLOOKUP(C1153,Data!C:C,Data!G:G,0)","v":0},{"$f":"_xlfn.XLOOKUP(C1153,Data!C:C,Data!F:F,0)","v":0},{"$f":"_xlfn.XLOOKUP(C1153,Data!C:C,Data!H:H,0)","v":0},null,"",{"$f":"_xlfn.XLOOKUP(C1153,Data!C:C,Data!F:F,\"\")","v":""},null,{"$error":"#N/A"}]
["23-3-2021","19:11:00","2021-03-23T19:11:00",null,{"$f":"_xlfn.XLOOKUP(C1154,Data!C:C,Data!I:I)","v":{"$error":"#N/A"}},{"$error":"#N/A"},{"$f":"_xlfn.XLOOKUP(C1154,Data!C:C,Data!G:G,0)","v":0},{"$f":"_xlfn.XLOOKUP(C1154,Data!C:C,Data!F:F,0)","v":0},{"$f":"_xlfn.XLOOKUP(C1154,Data!C:C,Data!H:H,0)","v":0},null,"",{"$f":"_xlfn.XLOOKUP(C1154,Data!C:C,Data!F:F,\"\")","v":""},null,{"$error":"#N/A"}]
["23-3-2021","19:12:00",{"$f":"A1155+B1155","v":"2021-03-23T19:12:00"},null,{"$f":"_xlfn.XLOOKUP(C1155,Data!C:C,Data!I:I)","v":{"$error":"#N/A"}},{"$error":"#N/A"},{"$f":"_xlfn.XLOOKUP(C1155,Data!C:C,Data!G:G,0)","v":0},{"$f":"_xlfn.XLOOKUP(C1155,Data!C:C,Data!F:F,0)","v":0},{"$f":"_xlfn.XLOOKUP(C1155,Data!C:C,Data!H:H,0)","v":0},null,"",{"$f":"_xlfn.XLOOKUP(C1155,Data!C:C,Data!F:F,\"\")","v":""},null,{"$error":"#N/A"}]
[{"$f":"$A$3","v":"23-3-2021"},"19:13:00","2021-03-23T19:13:00",null,{"$f":"_xlfn.XLOOKUP(C1156,Data!C:C,Data!I:I)","v":{"$error":"#N/A"}},{"$f":"IF(E1156=255,F1155,E1156)","v":{"$error":"#N/A"}},{"$f":"_xlfn.XLOOKUP(C1156,Data!C:C,Data!G:G,0)","v":0},{"$f":"_xlfn.XLOOKUP(C1156,Data!C:C,Data!F:F,0)","v":0},{"$f":"_xlfn.XLOOKUP(C1156,Data!C:C,Data!H:H,0)","v":0},null,{"$f":"IFERROR(IF(F1156=\"#N/A\",\"\",F1156),\"\")","v":""},{"$f":"_xlfn.XLOOKUP(C1156,Data!C:C,Data!F:F,\"\")","v":""},null,{"$error":"#N/A"}]
["23-3-2021","19:14:00","2021-03-23T19:14:00",null,{"$f":"_xlfn.XLOOKUP(C1157,Data!C:C,Data!I:I)","v":{"$error":"#N/A"}},{"$error":"#N/A"},{"$f":"_xlfn.XLOOKUP(C1157,Data!C:C,Data!G:G,0)","v":0},{"$f":"_xlfn.XLOOKUP(C1157,Data!C:C,Data!F:F,0)","v":0},{"$f":"_xlfn.XLOOKUP(C1157,Data!C:C,Data!H:H,0)","v":0},null,"",{"$f":"_xlfn.XLOOKUP(C1157,Data!C:C,Data!F:F,\"\")","v":""},null,{"$error":"#N/A"}]
["23-3-2021","19:15:00","2021-03-23T19:15:00",null,{"$f":"_xlfn.XLOOKUP(C1158,Data!C:C,Data!I:I)","v":{"$error":"#N/A"}},{"$error":"#N/A"},{"$f":"_xlfn.XLOOKUP(C1158,Data!C:C,Data!G:G,0)","v":0},{"$f":"_xlfn.XLOOKUP(C1158,Data!C:C,Data!F:F,0)","v":0},{"$f":"_xlfn.XLOOKUP(C1158,Data!C:C,Data!H:H,0)","v":0},null,"",{"$f":"_xlfn.XLOOKUP(C1158,Data!C:C,Data!F:F,\"\")","v":""},null,{"$error":"#N/A"}]
["23-3-2021","19:16:00","2021-03-23T19:16:00",null,{"$f":"_xlfn.XLOOKUP(C1159,Data!C:C,Data!I:I)","v":{"$error":"#N/A"}},{"$error":"#N/A"},{"$f":"_xlfn.XLOOKUP(C1159,Data!C:C,Data!G:G,0)","v":0},{"$f":"_xlfn.XLOOKUP(C1159,Data!C:C,Data!F:F,0)","v":0},{"$f":"_xlfn.XLOOKUP(C1159,Data!C:C,Data!H:H,0)","v":0},null,"",{"$f":"_xlfn.XLOOKUP(C1159,Data!C:C,Data!F:F,\"\")","v":""},null,{"$f":"IF(F1159=\"\",\"\",AVERAGE(F1155:F1163))","v":{"$error":"#N/A"}}]
["23-3-2021","19:17:00","2021-03-23T19:17:00",null,{"$f":"_xlfn.XLOOKUP(C1160,Data!C:C,Data!I:I)","v":{"$error":"#N/A"}},{"$error":"#N/A"},{"$f":"_xlfn.XLOOKUP(C1160,Data!C:C,Data!G:G,0)","v":0},{"$f":"_xlfn.XLOOKUP(C1160,Data!C:C,Data!F:F,0)","v":0},{"$f":"_xlfn.XLOOKUP(C1160,Data!C:C,Data!H:H,0)","v":0},null,"",{"$f":"_xlfn.XLOOKUP(C1160,Data!C:C,Data!F:F,\"\")","v":""},null,{"$error":"#N/A"}]
["23-3-2021","19:18:00","2021-03-23T19:18:00",null,{"$f":"_xlfn.XLOOKUP(C1161,Data!C:C,Data!I:I)","v":{"$error":"#N/A"}},{"$error":"#N/A"},{"$f":"_xlfn.XLOOKUP(C1161,Data!C:C,Data!G:G,0)","v":0},{"$f":"_xlfn.XLOOKUP(C1161,Data!C:C,Data!F:F,0)","v":0},{"$f":"_xlfn.XLOOKUP(C1161,Data!C:C,Data!H:H,0)","v":0},null,"",{"$f":"_xlfn.XLOOKUP(C1161,Data!C:C,Data!F:F,\"\")","v":""},null,{"$error":"#N/A"}]
["23-3-2021","19:19:00","2021-03-23T19:19:00",null,{"$f":"_xlfn.XLOOKUP(C1162,Data!C:C,Data!I:I)","v":{"$error":"#N/A"}},{"$error":"#N/A"},{"$f":"_xlfn.XLOOKUP(C1162,Data!C:C,Data!G:G,0)","v":0},{"$f":"_xlfn.XLOOKUP(C1162,Data!C:C,Data!F:F,0)","v":0},{"$f":"_xlfn.XLOOKUP(C1162,Data!C:C,Data!H:H,0)","v":0},null,"",{"$f":"_xlfn.XLOOKUP(C1162,Data!C:C,Data!F:F,\"\")","v":""},null,{"$error":"#N/A"}]
["23-3-2021","19:20:00","2021-03-23T19:20:00",null,{"$f":"_xlfn.XLOOKUP(C1163,Data!C:C,Data!I:I)","v":{"$error":"#N/A"}},{"$error":"#N/A"},{"$f":"_xlfn.XLOOKUP(C1163,Data!C:C,Data!G:G,0)","v":0},{"$f":"_xlfn.XLOOKUP(C1163,Data!C:C,Data!F:F,0)","v":0},{"$f":"_xlfn.XLOOKUP(C1163,Data!C:C,Data!H:H,0)","v":0},null,"",{"$f":"_xlfn.XLOOKUP(C1163,Data!C:C,Data!F:F,\"\")","v":""},null,{"$error":"#N/A"}]
["23-3-2021","19:21:00","2021-03-23T19:21:00",null,{"$f":"_xlfn.XLOOKUP(C1164,Data!C:C,Data!I:I)","v":{"$error":"#N/A"}},{"$error":"#N/A"},{"$f":"_xlfn.XLOOKUP(C1164,Data!C:C,Data!G:G,0)","v":0},{"$f":"_xlfn.XLOOKUP(C1164,Data!C:C,Data!F:F,0)","v":0},{"$f":"_xlfn.XLOOKUP(C1164,Data!C:C,Data!H:H,0)","v":0},null,"",{"$f":"_xlfn.XLOOKUP(C1164,Data!C:C,Data!F:F,\"\")","v":""},null,{"$error":"#N/A"}]
["23-3-2021","19:22:00","2021-03-23T19:22:00",null,{"$f":"_xlfn.XLOOKUP(C1165,Data!C:C,Data!I:I)","v":{"$error":"#N/A"}},{"$error":"#N/A"},{"$f":"_xlfn.XLOOKUP(C1165,Data!C:C,Data!G:G,0)","v":0},{"$f":"_xlfn.XLOOKUP(C1165,Data!C:C,Data!F:F,0)","v":0},{"$f":"_xlfn.XLOOKUP(C1165,Data!C:C,Data!H:H,0)","v":0},null,"",{"$f":"_xlfn.XLOOKUP(C1165,Data!C:C,Data!F:F,\"\")","v":""},null,{"$error":"#N/A"}]
["23-3-2021","19:23:00","2021-03-23T19:23:00",null,{"$f":"_xlfn.XLOOKUP(C1166,Data!C:C,Data!I:I)","v":{"$error":"#N/A"}},{"$error":"#N/A"},{"$f":"_xlfn.XLOOKUP(C1166,Data!C:C,Data!G:G,0)","v":0},{"$f":"_xlfn.XLOOKUP(C1166,Data!C:C,Data!F:F,0)","v":0},{"$f":"_xlfn.XLOOKUP(C1166,Data!C:C,Data!H:H,0)","v":0},null,"",{"$f":"_xlfn.XLOOKUP(C1166,Data!C:C,Data!F:F,\"\")","v":""},null,{"$error":"#N/A"}]
["23-3-2021","19:24:00","2021-03-23T19:24:00",null,{"$f":"_xlfn.XLOOKUP(C1167,Data!C:C,Data!I:I)","v":{"$error":"#N/A"}},{"$error":"#N/A"},{"$f":"_xlfn.XLOOKUP(C1167,Data!C:C,Data!G:G,0)","v":0},{"$f":"_xlfn.XLOOKUP(C1167,Data!C:C,Data!F:F,0)","v":0},{"$f":"_xlfn.XLOOKUP(C1167,Data!C:C,Data!H:H,0)","v":0},null,"",{"$f":"_xlfn.XLOOKUP(C1167,Data!C:C,Data!F:F,\"\")","v":""},null,{"$error":"#N/A"}]
["23-3-2021","19:25:00","2021-03-23T19:25:00",null,{"$f":"_xlfn.XLOOKUP(C1168,Data!C:C,Data!I:I)","v":{"$error":"#N/A"}},{"$error":"#N/A"},{"$f":"_xlfn.XLOOKUP(C1168,Data!C:C,Data!G:G,0)","v":0},{"$f":"_xlfn.XLOOKUP(C1168,Data!C:C,Data!F:F,0)","v":0},{"$f":"_xlfn.XLOOKUP(C1168,Data!C:C,Data!H:H,0)","v":0},null,"",{"$f":"_xlfn.XLOOKUP(C1168,Data!C:C,Data!F:F,\"\")","v":""},null,{"$error":"#N/A"}]
["23-3-2021","19:26:00","2021-03-23T19:26:00",null,{"$f":"_xlfn.XLOOKUP(C1169,Data!C:C,Data!I:I)","v":{"$error":"#N/A"}},{"$error":"#N/A"},{"$f":"_xlfn.XLOOKUP(C1169,Data!C:C,Data!G:G,0)","v":0},{"$f":"_xlfn.XLOOKUP(C1169,Data!C:C,Data!F:F,0)","v":0},{"$f":"_xlfn.XLOOKUP(C1169,Data!C:C,Data!H:H,0)","v":0},null,"",{"$f":"_xlfn.XLOOKUP(C1169,Data!C:C,Data!F:F,\"\")","v":""},null,{"$error":"#N/A"}]
["23-3-2021","19:27:00","2021-03-23T19:27:00",null,{"$f":"_xlfn.XLOOKUP(C1170,Data!C:C,Data!I:I)","v":{"$error":"#N/A"}},{"$error":"#N/A"},{"$f":"_xlfn.XLOOKUP(C1170,Data!C:C,Data!G:G,0)","v":0},{"$f":"_xlfn.XLOOKUP(C1170,Data!C:C,Data!F:F,0)","v":0},{"$f":"_xlfn.XLOOKUP(C1170,Data!C:C,Data!H:H,0)","v":0},null,"",{"$f":"_xlfn.XLOOKUP(C1170,Data!C:C,Data!F:F,\"\")","v":""},null,{"$error":"#N/A"}]
["23-3-2021","19:28:00","2021-03-23T19:28:00",null,{"$f":"_xlfn.XLOOKUP(C1171,Data!C:C,Data!I:I)","v":{"$error":"#N/A"}},{"$error":"#N/A"},{"$f":"_xlfn.XLOOKUP(C1171,Data!C:C,Data!G:G,0)","v":0},{"$f":"_xlfn.XLOOKUP(C1171,Data!C:C,Data!F:F,0)","v":0},{"$f":"_xlfn.XLOOKUP(C1171,Data!C:C,Data!H:H,0)","v":0},null,"",{"$f":"_xlfn.XLOOKUP(C1171,Data!C:C,Data!F:F,\"\")","v":""},null,{"$error":"#N/A"}]
["23-3-2021","19:29:00","2021-03-23T19:29:00",null,{"$f":"_xlfn.XLOOKUP(C1172,Data!C:C,Data!I:I)","v":{"$error":"#N/A"}},{"$error":"#N/A"},{"$f":"_xlfn.XLOOKUP(C1172,Data!C:C,Data!G:G,0)","v":0},{"$f":"_xlfn.XLOOKUP(C1172,Data!C:C,Data!F:F,0)","v":0},{"$f":"_xlfn.XLOOKUP(C1172,Data!C:C,Data!H:H,0)","v":0},null,"",{"$f":"_xlfn.XLOOKUP(C1172,Data!C:C,Data!F:F,\"\")","v":""},null,{"$error":"#N/A"}]
["23-3-2021","19:30:00","2021-03-23T19:30:00",null,{"$f":"_xlfn.XLOOKUP(C1173,Data!C:C,Data!I:I)","v":{"$error":"#N/A"}},{"$error":"#N/A"},{"$f":"_xlfn.XLOOKUP(C1173,Data!C:C,Data!G:G,0)","v":0},{"$f":"_xlfn.XLOOKUP(C1173,Data!C:C,Data!F:F,0)","v":0},{"$f":"_xlfn.XLOOKUP(C1173,Data!C:C,Data!H:H,0)","v":0},null,"",{"$f":"_xlfn.XLOOKUP(C1173,Data!C:C,Data!F:F,\"\")","v":""},null,{"$error":"#N/A"}]
["23-3-2021","19:31:00","2021-03-23T19:31:00",null,{"$f":"_xlfn.XLOOKUP(C1174,Data!C:C,Data!I:I)","v":{"$error":"#N/A"}},{"$error":"#N/A"},{"$f":"_xlfn.XLOOKUP(C1174,Data!C:C,Data!G:G,0)","v":0},{"$f":"_xlfn.XLOOKUP(C1174,Data!C:C,Data!F:F,0)","v":0},{"$f":"_xlfn.XLOOKUP(C1174,Data!C:C,Data!H:H,0)","v":0},null,"",{"$f":"_xlfn.XLOOKUP(C1174,Data!C:C,Data!F:F,\"\")","v":""},null,{"$error":"#N/A"}]
["23-3-2021","19:32:00","2021-03-23T19:32:00",null,{"$f":"_xlfn.XLOOKUP(C1175,Data!C:C,Data!I:I)","v":{"$error":"#N/A"}},{"$error":"#N/A"},{"$f":"_xlfn.XLOOKUP(C1175,Data!C:C,Data!G:G,0)","v":0},{"$f":"_xlfn.XLOOKUP(C1175,Data!C:C,Data!F:F,0)","v":0},{"$f":"_xlfn.XLOOKUP(C1175,Data!C:C,Data!H:H,0)","v":0},null,"",{"$f":"_xlfn.XLOOKUP(C1175,Data!C:C,Data!F:F,\"\")","v":""},null,{"$error":"#N/A"}]
["23-3-2021","19:33:00","2021-03-23T19:33:00",null,{"$f":"_xlfn.XLOOKUP(C1176,Data!C:C,Data!I:I)","v":{"$error":"#N/A"}},{"$error":"#N/A"},{"$f":"_xlfn.XLOOKUP(C1176,Data!C:C,Data!G:G,0)","v":0},{"$f":"_xlfn.XLOOKUP(C1176,Data!C:C,Data!F:F,0)","v":0},{"$f":"_xlfn.XLOOKUP(C1176,Data!C:C,Data!H:H,0)","v":0},null,"",{"$f":"_xlfn.XLOOKUP(C1176,Data!C:C,Data!F:F,\"\")","v":""},null,{"$error":"#N/A"}]
["23-3-2021","19:34:00","2021-03-23T19:34:00",null,{"$f":"_xlfn.XLOOKUP(C1177,Data!C:C,Data!I:I)","v":{"$error":"#N/A"}},{"$error":"#N/A"},{"$f":"_xlfn.XLOOKUP(C1177,Data!C:C,Data!G:G,0)","v":0},{"$f":"_xlfn.XLOOKUP(C1177,Data!C:C,Data!F:F,0)","v":0},{"$f":"_xlfn.XLOOKUP(C1177,Data!C:C,Data!H:H,0)","v":0},null,"",{"$f":"_xlfn.XLOOKUP(C1177,Data!C:C,Data!F:F,\"\")","v":""},null,{"$error":"#N/A"}]
["23-3-2021","19:35:00","2021-03-23T19:35:00",null,{"$f":"_xlfn.XLOOKUP(C1178,Data!C:C,Data!I:I)","v":{"$error":"#N/A"}},{"$error":"#N/A"},{"$f":"_xlfn.XLOOKUP(C1178,Data!C:C,Data!G:G,0)","v":0},{"$f":"_xlfn.XLOOKUP(C1178,Data!C:C,Data!F:F,0)","v":0},{"$f":"_xlfn.XLOOKUP(C1178,Data!C:C,Data!H:H,0)","v":0},null,"",{"$f":"_xlfn.XLOOKUP(C1178,Data!C:C,Data!F:F,\"\")","v":""},null,{"$error":"#N/A"}]
["23-3-2021","19:36:00","2021-03-23T19:36:00",null,{"$f":"_xlfn.XLOOKUP(C1179,Data!C:C,Data!I:I)","v":{"$error":"#N/A"}},{"$error":"#N/A"},{"$f":"_xlfn.XLOOKUP(C1179,Data!C:C,Data!G:G,0)","v":0},{"$f":"_xlfn.XLOOKUP(C1179,Data!C:C,Data!F:F,0)","v":0},{"$f":"_xlfn.XLOOKUP(C1179,Data!C:C,Data!H:H,0)","v":0},null,"",{"$f":"_xlfn.XLOOKUP(C1179,Data!C:C,Data!F:F,\"\")","v":""},null,{"$error":"#N/A"}]
["23-3-2021","19:37:00","2021-03-23T19:37:00",null,{"$f":"_xlfn.XLOOKUP(C1180,Data!C:C,Data!I:I)","v":{"$error":"#N/A"}},{"$error":"#N/A"},{"$f":"_xlfn.XLOOKUP(C1180,Data!C:C,Data!G:G,0)","v":0},{"$f":"_xlfn.XLOOKUP(C1180,Data!C:C,Data!F:F,0)","v":0},{"$f":"_xlfn.XLOOKUP(C1180,Data!C:C,Data!H:H,0)","v":0},null,"",{"$f":"_xlfn.XLOOKUP(C1180,Data!C:C,Data!F:F,\"\")","v":""},null,{"$error":"#N/A"}]
["23-3-2021","19:38:00","2021-03-23T19:38:00",null,{"$f":"_xlfn.XLOOKUP(C1181,Data!C:C,Data!I:I)","v":{"$error":"#N/A"}},{"$error":"#N/A"},{"$f":"_xlfn.XLOOKUP(C1181,Data!C:C,Data!G:G,0)","v":0},{"$f":"_xlfn.XLOOKUP(C1181,Data!C:C,Data!F:F,0)","v":0},{"$f":"_xlfn.XLOOKUP(C1181,Data!C:C,Data!H:H,0)","v":0},null,"",{"$f":"_xlfn.XLOOKUP(C1181,Data!C:C,Data!F:F,\"\")","v":""},null,{"$error":"#N/A"}]
["23-3-2021","19:39:00","2021-03-23T19:39:00",null,{"$f":"_xlfn.XLOOKUP(C1182,Data!C:C,Data!I:I)","v":{"$error":"#N/A"}},{"$error":"#N/A"},{"$f":"_xlfn.XLOOKUP(C1182,Data!C:C,Data!G:G,0)","v":0},{"$f":"_xlfn.XLOOKUP(C1182,Data!C:C,Data!F:F,0)","v":0},{"$f":"_xlfn.XLOOKUP(C1182,Data!C:C,Data!H:H,0)","v":0},null,"",{"$f":"_xlfn.XLOOKUP(C1182,Data!C:C,Data!F:F,\"\")","v":""},null,{"$error":"#N/A"}]
["23-3-2021","19:40:00","2021-03-23T19:40:00",null,{"$f":"_xlfn.XLOOKUP(C1183,Data!C:C,Data!I:I)","v":{"$error":"#N/A"}},{"$error":"#N/A"},{"$f":"_xlfn.XLOOKUP(C1183,Data!C:C,Data!G:G,0)","v":0},{"$f":"_xlfn.XLOOKUP(C1183,Data!C:C,Data!F:F,0)","v":0},{"$f":"_xlfn.XLOOKUP(C1183,Data!C:C,Data!H:H,0)","v":0},null,"",{"$f":"_xlfn.XLOOKUP(C1183,Data!C:C,Data!F:F,\"\")","v":""},null,{"$error":"#N/A"}]
["23-3-2021","19:41:00","2021-03-23T19:41:00",null,{"$f":"_xlfn.XLOOKUP(C1184,Data!C:C,Data!I:I)","v":{"$error":"#N/A"}},{"$error":"#N/A"},{"$f":"_xlfn.XLOOKUP(C1184,Data!C:C,Data!G:G,0)","v":0},{"$f":"_xlfn.XLOOKUP(C1184,Data!C:C,Data!F:F,0)","v":0},{"$f":"_xlfn.XLOOKUP(C1184,Data!C:C,Data!H:H,0)","v":0},null,"",{"$f":"_xlfn.XLOOKUP(C1184,Data!C:C,Data!F:F,\"\")","v":""},null,{"$error":"#N/A"}]
["23-3-2021","19:42:00","2021-03-23T19:42:00",null,{"$f":"_xlfn.XLOOKUP(C1185,Data!C:C,Data!I:I)","v":{"$error":"#N/A"}},{"$error":"#N/A"},{"$f":"_xlfn.XLOOKUP(C1185,Data!C:C,Data!G:G,0)","v":0},{"$f":"_xlfn.XLOOKUP(C1185,Data!C:C,Data!F:F,0)","v":0},{"$f":"_xlfn.XLOOKUP(C1185,Data!C:C,Data!H:H,0)","v":0},null,"",{"$f":"_xlfn.XLOOKUP(C1185,Data!C:C,Data!F:F,\"\")","v":""},null,{"$error":"#N/A"}]
["23-3-2021","19:43:00","2021-03-23T19:43:00",null,{"$f":"_xlfn.XLOOKUP(C1186,Data!C:C,Data!I:I)","v":{"$error":"#N/A"}},{"$error":"#N/A"},{"$f":"_xlfn.XLOOKUP(C1186,Data!C:C,Data!G:G,0)","v":0},{"$f":"_xlfn.XLOOKUP(C1186,Data!C:C,Data!F:F,0)","v":0},{"$f":"_xlfn.XLOOKUP(C1186,Data!C:C,Data!H:H,0)","v":0},null,"",{"$f":"_xlfn.XLOOKUP(C1186,Data!C:C,Data!F:F,\"\")","v":""},null,{"$error":"#N/A"}]
["23-3-2021","19:44:00","2021-03-23T19:44:00",null,{"$f":"_xlfn.XLOOKUP(C1187,Data!C:C,Data!I:I)","v":{"$error":"#N/A"}},{"$error":"#N/A"},{"$f":"_xlfn.XLOOKUP(C1187,Data!C:C,Data!G:G,0)","v":0},{"$f":"_xlfn.XLOOKUP(C1187,Data!C:C,Data!F:F,0)","v":0},{"$f":"_xlfn.XLOOKUP(C1187,Data!C:C,Data!H:H,0)","v":0},null,"",{"$f":"_xlfn.XLOOKUP(C1187,Data!C:C,Data!F:F,\"\")","v":""},null,{"$error":"#N/A"}]
["23-3-2021","19:45:00","2021-03-23T19:45:00",null,{"$f":"_xlfn.XLOOKUP(C1188,Data!C:C,Data!I:I)","v":{"$error":"#N/A"}},{"$error":"#N/A"},{"$f":"_xlfn.XLOOKUP(C1188,Data!C:C,Data!G:G,0)","v":0},{"$f":"_xlfn.XLOOKUP(C1188,Data!C:C,Data!F:F,0)","v":0},{"$f":"_xlfn.XLOOKUP(C1188,Data!C:C,Data!H:H,0)","v":0},null,"",{"$f":"_xlfn.XLOOKUP(C1188,Data!C:C,Data!F:F,\"\")","v":""},null,{"$error":"#N/A"}]
["23-3-2021","19:46:00","2021-03-23T19:46:00",null,{"$f":"_xlfn.XLOOKUP(C1189,Data!C:C,Data!I:I)","v":{"$error":"#N/A"}},{"$error":"#N/A"},{"$f":"_xlfn.XLOOKUP(C1189,Data!C:C,Data!G:G,0)","v":0},{"$f":"_xlfn.XLOOKUP(C1189,Data!C:C,Data!F:F,0)","v":0},{"$f":"_xlfn.XLOOKUP(C1189,Data!C:C,Data!H:H,0)","v":0},null,"",{"$f":"_xlfn.XLOOKUP(C1189,Data!C:C,Data!F:F,\"\")","v":""},null,{"$error":"#N/A"}]
["23-3-2021","19:47:00","2021-03-23T19:47:00",null,{"$f":"_xlfn.XLOOKUP(C1190,Data!C:C,Data!I:I)","v":{"$error":"#N/A"}},{"$error":"#N/A"},{"$f":"_xlfn.XLOOKUP(C1190,Data!C:C,Data!G:G,0)","v":0},{"$f":"_xlfn.XLOOKUP(C1190,Data!C:C,Data!F:F,0)","v":0},{"$f":"_xlfn.XLOOKUP(C1190,Data!C:C,Data!H:H,0)","v":0},null,"",{"$f":"_xlfn.XLOOKUP(C1190,Data!C:C,Data!F:F,\"\")","v":""},null,{"$error":"#N/A"}]
["23-3-2021","19:48:00","2021-03-23T19:48:00",null,{"$f":"_xlfn.XLOOKUP(C1191,Data!C:C,Data!I:I)","v":{"$error":"#N/A"}},{"$error":"#N/A"},{"$f":"_xlfn.XLOOKUP(C1191,Data!C:C,Data!G:G,0)","v":0},{"$f":"_xlfn.XLOOKUP(C1191,Data!C:C,Data!F:F,0)","v":0},{"$f":"_xlfn.XLOOKUP(C1191,Data!C:C,Data!H:H,0)","v":0},null,"",{"$f":"_xlfn.XLOOKUP(C1191,Data!C:C,Data!F:F,\"\")","v":""},null,{"$error":"#N/A"}]
["23-3-2021","19:49:00","2021-03-23T19:49:00",null,{"$f":"_xlfn.XLOOKUP(C1192,Data!C:C,Data!I:I)","v":{"$error":"#N/A"}},{"$error":"#N/A"},{"$f":"_xlfn.XLOOKUP(C1192,Data!C:C,Data!G:G,0)","v":0},{"$f":"_xlfn.XLOOKUP(C1192,Data!C:C,Data!F:F,0)","v":0},{"$f":"_xlfn.XLOOKUP(C1192,Data!C:C,Data!H:H,0)","v":0},null,"",{"$f":"_xlfn.XLOOKUP(C1192,Data!C:C,Data!F:F,\"\")","v":""},null,{"$error":"#N/A"}]
["23-3-2021","19:50:00","2021-03-23T19:50:00",null,{"$f":"_xlfn.XLOOKUP(C1193,Data!C:C,Data!I:I)","v":{"$error":"#N/A"}},{"$error":"#N/A"},{"$f":"_xlfn.XLOOKUP(C1193,Data!C:C,Data!G:G,0)","v":0},{"$f":"_xlfn.XLOOKUP(C1193,Data!C:C,Data!F:F,0)","v":0},{"$f":"_xlfn.XLOOKUP(C1193,Data!C:C,Data!H:H,0)","v":0},null,"",{"$f":"_xlfn.XLOOKUP(C1193,Data!C:C,Data!F:F,\"\")","v":""},null,{"$error":"#N/A"}]
["23-3-2021","19:51:00","2021-03-23T19:51:00",null,{"$f":"_xlfn.XLOOKUP(C1194,Data!C:C,Data!I:I)","v":{"$error":"#N/A"}},{"$error":"#N/A"},{"$f":"_xlfn.XLOOKUP(C1194,Data!C:C,Data!G:G,0)","v":0},{"$f":"_xlfn.XLOOKUP(C1194,Data!C:C,Data!F:F,0)","v":0},{"$f":"_xlfn.XLOOKUP(C1194,Data!C:C,Data!H:H,0)","v":0},null,"",{"$f":"_xlfn.XLOOKUP(C1194,Data!C:C,Data!F:F,\"\")","v":""},null,{"$error":"#N/A"}]
["23-3-2021","19:52:00","2021-03-23T19:52:00",null,{"$f":"_xlfn.XLOOKUP(C1195,Data!C:C,Data!I:I)","v":{"$error":"#N/A"}},{"$error":"#N/A"},{"$f":"_xlfn.XLOOKUP(C1195,Data!C:C,Data!G:G,0)","v":0},{"$f":"_xlfn.XLOOKUP(C1195,Data!C:C,Data!F:F,0)","v":0},{"$f":"_xlfn.XLOOKUP(C1195,Data!C:C,Data!H:H,0)","v":0},null,"",{"$f":"_xlfn.XLOOKUP(C1195,Data!C:C,Data!F:F,\"\")","v":""},null,{"$error":"#N/A"}]
["23-3-2021","19:53:00","2021-03-23T19:53:00",null,{"$f":"_xlfn.XLOOKUP(C1196,Data!C:C,Data!I:I)","v":{"$error":"#N/A"}},{"$error":"#N/A"},{"$f":"_xlfn.XLOOKUP(C1196,Data!C:C,Data!G:G,0)","v":0},{"$f":"_xlfn.XLOOKUP(C1196,Data!C:C,Data!F:F,0)","v":0},{"$f":"_xlfn.XLOOKUP(C1196,Data!C:C,Data!H:H,0)","v":0},null,"",{"$f":"_xlfn.XLOOKUP(C1196,Data!C:C,Data!F:F,\"\")","v":""},null,{"$error":"#N/A"}]
["23-3-2021","19:54:00","2021-03-23T19:54:00",null,{"$f":"_xlfn.XLOOKUP(C1197,Data!C:C,Data!I:I)","v":{"$error":"#N/A"}},{"$error":"#N/A"},{"$f":"_xlfn.XLOOKUP(C1197,Data!C:C,Data!G:G,0)","v":0},{"$f":"_xlfn.XLOOKUP(C1197,Data!C:C,Data!F:F,0)","v":0},{"$f":"_xlfn.XLOOKUP(C1197,Data!C:C,Data!H:H,0)","v":0},null,"",{"$f":"_xlfn.XLOOKUP(C1197,Data!C:C,Data!F:F,\"\")","v":""},null,{"$error":"#N/A"}]
["23-3-2021","19:55:00","2021-03-23T19:55:00",null,{"$f":"_xlfn.XLOOKUP(C1198,Data!C:C,Data!I:I)","v":{"$error":"#N/A"}},{"$error":"#N/A"},{"$f":"_xlfn.XLOOKUP(C1198,Data!C:C,Data!G:G,0)","v":0},{"$f":"_xlfn.XLOOKUP(C1198,Data!C:C,Data!F:F,0)","v":0},{"$f":"_xlfn.XLOOKUP(C1198,Data!C:C,Data!H:H,0)","v":0},null,"",{"$f":"_xlfn.XLOOKUP(C1198,Data!C:C,Data!F:F,\"\")","v":""},null,{"$error":"#N/A"}]
["23-3-2021","19:56:00","2021-03-23T19:56:00",null,{"$f":"_xlfn.XLOOKUP(C1199,Data!C:C,Data!I:I)","v":{"$error":"#N/A"}},{"$error":"#N/A"},{"$f":"_xlfn.XLOOKUP(C1199,Data!C:C,Data!G:G,0)","v":0},{"$f":"_xlfn.XLOOKUP(C1199,Data!C:C,Data!F:F,0)","v":0},{"$f":"_xlfn.XLOOKUP(C1199,Data!C:C,Data!H:H,0)","v":0},null,"",{"$f":"_xlfn.XLOOKUP(C1199,Data!C:C,Data!F:F,\"\")","v":""},null,{"$error":"#N/A"}]
["23-3-2021","19:57:00","2021-03-23T19:57:00",null,{"$f":"_xlfn.XLOOKUP(C1200,Data!C:C,Data!I:I)","v":{"$error":"#N/A"}},{"$error":"#N/A"},{"$f":"_xlfn.XLOOKUP(C1200,Data!C:C,Data!G:G,0)","v":0},{"$f":"_xlfn.XLOOKUP(C1200,Data!C:C,Data!F:F,0)","v":0},{"$f":"_xlfn.XLOOKUP(C1200,Data!C:C,Data!H:H,0)","v":0},null,"",{"$f":"_xlfn.XLOOKUP(C1200,Data!C:C,Data!F:F,\"\")","v":""},null,{"$error":"#N/A"}]
["23-3-2021","19:58:00","2021-03-23T19:58:00",null,{"$f":"_xlfn.XLOOKUP(C1201,Data!C:C,Data!I:I)","v":{"$error":"#N/A"}},{"$error":"#N/A"},{"$f":"_xlfn.XLOOKUP(C1201,Data!C:C,Data!G:G,0)","v":0},{"$f":"_xlfn.XLOOKUP(C1201,Data!C:C,Data!F:F,0)","v":0},{"$f":"_xlfn.XLOOKUP(C1201,Data!C:C,Data!H:H,0)","v":0},null,"",{"$f":"_xlfn.XLOOKUP(C1201,Data!C:C,Data!F:F,\"\")","v":""},null,{"$error":"#N/A"}]
["23-3-2021","19:59:00","2021-03-23T19:59:00",null,{"$f":"_xlfn.XLOOKUP(C1202,Data!C:C,Data!I:I)","v":{"$error":"#N/A"}},{"$error":"#N/A"},{"$f":"_xlfn.XLOOKUP(C1202,Data!C:C,Data!G:G,0)","v":0},{"$f":"_xlfn.XLOOKUP(C1202,Data!C:C,Data!F:F,0)","v":0},{"$f":"_xlfn.XLOOKUP(C1202,Data!C:C,Data!H:H,0)","v":0},null,"",{"$f":"_xlfn.XLOOKUP(C1202,Data!C:C,Data!F:F,\"\")","v":""},null,{"$error":"#N/A"}]
["23-3-2021","20:00:00","2021-03-23T20:00:00",null,{"$f":"_xlfn.XLOOKUP(C1203,Data!C:C,Data!I:I)","v":{"$error":"#N/A"}},{"$error":"#N/A"},{"$f":"_xlfn.XLOOKUP(C1203,Data!C:C,Data!G:G,0)","v":0},{"$f":"_xlfn.XLOOKUP(C1203,Data!C:C,Data!F:F,0)","v":0},{"$f":"_xlfn.XLOOKUP(C1203,Data!C:C,Data!H:H,0)","v":0},null,"",{"$f":"_xlfn.XLOOKUP(C1203,Data!C:C,Data!F:F,\"\")","v":""},null,{"$error":"#N/A"}]
["23-3-2021","20:01:00","2021-03-23T20:01:00",null,{"$f":"_xlfn.XLOOKUP(C1204,Data!C:C,Data!I:I)","v":{"$error":"#N/A"}},{"$error":"#N/A"},{"$f":"_xlfn.XLOOKUP(C1204,Data!C:C,Data!G:G,0)","v":0},{"$f":"_xlfn.XLOOKUP(C1204,Data!C:C,Data!F:F,0)","v":0},{"$f":"_xlfn.XLOOKUP(C1204,Data!C:C,Data!H:H,0)","v":0},null,"",{"$f":"_xlfn.XLOOKUP(C1204,Data!C:C,Data!F:F,\"\")","v":""},null,{"$error":"#N/A"}]
["23-3-2021","20:02:00","2021-03-23T20:02:00",null,{"$f":"_xlfn.XLOOKUP(C1205,Data!C:C,Data!I:I)","v":{"$error":"#N/A"}},{"$error":"#N/A"},{"$f":"_xlfn.XLOOKUP(C1205,Data!C:C,Data!G:G,0)","v":0},{"$f":"_xlfn.XLOOKUP(C1205,Data!C:C,Data!F:F,0)","v":0},{"$f":"_xlfn.XLOOKUP(C1205,Data!C:C,Data!H:H,0)","v":0},null,"",{"$f":"_xlfn.XLOOKUP(C1205,Data!C:C,Data!F:F,\"\")","v":""},null,{"$error":"#N/A"}]
["23-3-2021","20:03:00","2021-03-23T20:03:00",null,{"$f":"_xlfn.XLOOKUP(C1206,Data!C:C,Data!I:I)","v":{"$error":"#N/A"}},{"$error":"#N/A"},{"$f":"_xlfn.XLOOKUP(C1206,Data!C:C,Data!G:G,0)","v":0},{"$f":"_xlfn.XLOOKUP(C1206,Data!C:C,Data!F:F,0)","v":0},{"$f":"_xlfn.XLOOKUP(C1206,Data!C:C,Data!H:H,0)","v":0},null,"",{"$f":"_xlfn.XLOOKUP(C1206,Data!C:C,Data!F:F,\"\")","v":""},null,{"$error":"#N/A"}]
["23-3-2021","20:04:00","2021-03-23T20:04:00",null,{"$f":"_xlfn.XLOOKUP(C1207,Data!C:C,Data!I:I)","v":{"$error":"#N/A"}},{"$error":"#N/A"},{"$f":"_xlfn.XLOOKUP(C1207,Data!C:C,Data!G:G,0)","v":0},{"$f":"_xlfn.XLOOKUP(C1207,Data!C:C,Data!F:F,0)","v":0},{"$f":"_xlfn.XLOOKUP(C1207,Data!C:C,Data!H:H,0)","v":0},null,"",{"$f":"_xlfn.XLOOKUP(C1207,Data!C:C,Data!F:F,\"\")","v":""},null,{"$error":"#N/A"}]
["23-3-2021","20:05:00","2021-03-23T20:05:00",null,{"$f":"_xlfn.XLOOKUP(C1208,Data!C:C,Data!I:I)","v":{"$error":"#N/A"}},{"$error":"#N/A"},{"$f":"_xlfn.XLOOKUP(C1208,Data!C:C,Data!G:G,0)","v":0},{"$f":"_xlfn.XLOOKUP(C1208,Data!C:C,Data!F:F,0)","v":0},{"$f":"_xlfn.XLOOKUP(C1208,Data!C:C,Data!H:H,0)","v":0},null,"",{"$f":"_xlfn.XLOOKUP(C1208,Data!C:C,Data!F:F,\"\")","v":""},null,{"$error":"#N/A"}]
["23-3-2021","20:06:00","2021-03-23T20:06:00",null,{"$f":"_xlfn.XLOOKUP(C1209,Data!C:C,Data!I:I)","v":{"$error":"#N/A"}},{"$error":"#N/A"},{"$f":"_xlfn.XLOOKUP(C1209,Data!C:C,Data!G:G,0)","v":0},{"$f":"_xlfn.XLOOKUP(C1209,Data!C:C,Data!F:F,0)","v":0},{"$f":"_xlfn.XLOOKUP(C1209,Data!C:C,Data!H:H,0)","v":0},null,"",{"$f":"_xlfn.XLOOKUP(C1209,Data!C:C,Data!F:F,\"\")","v":""},null,{"$error":"#N/A"}]
["23-3-2021","20:07:00","2021-03-23T20:07:00",null,{"$f":"_xlfn.XLOOKUP(C1210,Data!C:C,Data!I:I)","v":{"$error":"#N/A"}},{"$error":"#N/A"},{"$f":"_xlfn.XLOOKUP(C1210,Data!C:C,Data!G:G,0)","v":0},{"$f":"_xlfn.XLOOKUP(C1210,Data!C:C,Data!F:F,0)","v":0},{"$f":"_xlfn.XLOOKUP(C1210,Data!C:C,Data!H:H,0)","v":0},null,"",{"$f":"_xlfn.XLOOKUP(C1210,Data!C:C,Data!F:F,\"\")","v":""},null,{"$error":"#N/A"}]
["23-3-2021","20:08:00","2021-03-23T20:08:00",null,{"$f":"_xlfn.XLOOKUP(C1211,Data!C:C,Data!I:I)","v":{"$error":"#N/A"}},{"$error":"#N/A"},{"$f":"_xlfn.XLOOKUP(C1211,Data!C:C,Data!G:G,0)","v":0},{"$f":"_xlfn.XLOOKUP(C1211,Data!C:C,Data!F:F,0)","v":0},{"$f":"_xlfn.XLOOKUP(C1211,Data!C:C,Data!H:H,0)","v":0},null,"",{"$f":"_xlfn.XLOOKUP(C1211,Data!C:C,Data!F:F,\"\")","v":""},null,{"$error":"#N/A"}]
["23-3-2021","20:09:00","2021-03-23T20:09:00",null,{"$f":"_xlfn.XLOOKUP(C1212,Data!C:C,Data!I:I)","v":{"$error":"#N/A"}},{"$error":"#N/A"},{"$f":"_xlfn.XLOOKUP(C1212,Data!C:C,Data!G:G,0)","v":0},{"$f":"_xlfn.XLOOKUP(C1212,Data!C:C,Data!F:F,0)","v":0},{"$f":"_xlfn.XLOOKUP(C1212,Data!C:C,Data!H:H,0)","v":0},null,"",{"$f":"_xlfn.XLOOKUP(C1212,Data!C:C,Data!F:F,\"\")","v":""},null,{"$error":"#N/A"}]
["23-3-2021","20:10:00","2021-03-23T20:10:00",null,{"$f":"_xlfn.XLOOKUP(C1213,Data!C:C,Data!I:I)","v":{"$error":"#N/A"}},{"$error":"#N/A"},{"$f":"_xlfn.XLOOKUP(C1213,Data!C:C,Data!G:G,0)","v":0},{"$f":"_xlfn.XLOOKUP(C1213,Data!C:C,Data!F:F,0)","v":0},{"$f":"_xlfn.XLOOKUP(C1213,Data!C:C,Data!H:H,0)","v":0},null,"",{"$f":"_xlfn.XLOOKUP(C1213,Data!C:C,Data!F:F,\"\")","v":""},null,{"$error":"#N/A"}]
["23-3-2021","20:11:00","2021-03-23T20:11:00",null,{"$f":"_xlfn.XLOOKUP(C1214,Data!C:C,Data!I:I)","v":{"$error":"#N/A"}},{"$error":"#N/A"},{"$f":"_xlfn.XLOOKUP(C1214,Data!C:C,Data!G:G,0)","v":0},{"$f":"_xlfn.XLOOKUP(C1214,Data!C:C,Data!F:F,0)","v":0},{"$f":"_xlfn.XLOOKUP(C1214,Data!C:C,Data!H:H,0)","v":0},null,"",{"$f":"_xlfn.XLOOKUP(C1214,Data!C:C,Data!F:F,\"\")","v":""},null,{"$error":"#N/A"}]
["23-3-2021","20:12:00","2021-03-23T20:12:00",null,{"$f":"_xlfn.XLOOKUP(C1215,Data!C:C,Data!I:I)","v":{"$error":"#N/A"}},{"$error":"#N/A"},{"$f":"_xlfn.XLOOKUP(C1215,Data!C:C,Data!G:G,0)","v":0},{"$f":"_xlfn.XLOOKUP(C1215,Data!C:C,Data!F:F,0)","v":0},{"$f":"_xlfn.XLOOKUP(C1215,Data!C:C,Data!H:H,0)","v":0},null,"",{"$f":"_xlfn.XLOOKUP(C1215,Data!C:C,Data!F:F,\"\")","v":""},null,{"$error":"#N/A"}]
["23-3-2021","20:13:00","2021-03-23T20:13:00",null,{"$f":"_xlfn.XLOOKUP(C1216,Data!C:C,Data!I:I)","v":{"$error":"#N/A"}},{"$error":"#N/A"},{"$f":"_xlfn.XLOOKUP(C1216,Data!C:C,Data!G:G,0)","v":0},{"$f":"_xlfn.XLOOKUP(C1216,Data!C:C,Data!F:F,0)","v":0},{"$f":"_xlfn.XLOOKUP(C1216,Data!C:C,Data!H:H,0)","v":0},null,"",{"$f":"_xlfn.XLOOKUP(C1216,Data!C:C,Data!F:F,\"\")","v":""},null,{"$error":"#N/A"}]
["23-3-2021","20:14:00","2021-03-23T20:14:00",null,{"$f":"_xlfn.XLOOKUP(C1217,Data!C:C,Data!I:I)","v":{"$error":"#N/A"}},{"$error":"#N/A"},{"$f":"_xlfn.XLOOKUP(C1217,Data!C:C,Data!G:G,0)","v":0},{"$f":"_xlfn.XLOOKUP(C1217,Data!C:C,Data!F:F,0)","v":0},{"$f":"_xlfn.XLOOKUP(C1217,Data!C:C,Data!H:H,0)","v":0},null,"",{"$f":"_xlfn.XLOOKUP(C1217,Data!C:C,Data!F:F,\"\")","v":""},null,{"$error":"#N/A"}]
["23-3-2021","20:15:00","2021-03-23T20:15:00",null,{"$f":"_xlfn.XLOOKUP(C1218,Data!C:C,Data!I:I)","v":{"$error":"#N/A"}},{"$error":"#N/A"},{"$f":"_xlfn.XLOOKUP(C1218,Data!C:C,Data!G:G,0)","v":0},{"$f":"_xlfn.XLOOKUP(C1218,Data!C:C,Data!F:F,0)","v":0},{"$f":"_xlfn.XLOOKUP(C1218,Data!C:C,Data!H:H,0)","v":0},null,"",{"$f":"_xlfn.XLOOKUP(C1218,Data!C:C,Data!F:F,\"\")","v":""},null,{"$error":"#N/A"}]
["23-3-2021","20:16:00",{"$f":"A1219+B1219","v":"2021-03-23T20:16:00"},null,{"$f":"_xlfn.XLOOKUP(C1219,Data!C:C,Data!I:I)","v":{"$error":"#N/A"}},{"$error":"#N/A"},{"$f":"_xlfn.XLOOKUP(C1219,Data!C:C,Data!G:G,0)","v":0},{"$f":"_xlfn.XLOOKUP(C1219,Data!C:C,Data!F:F,0)","v":0},{"$f":"_xlfn.XLOOKUP(C1219,Data!C:C,Data!H:H,0)","v":0},null,"",{"$f":"_xlfn.XLOOKUP(C1219,Data!C:C,Data!F:F,\"\")","v":""},null,{"$error":"#N/A"}]
[{"$f":"$A$3","v":"23-3-2021"},"20:17:00","2021-03-23T20:17:00",null,{"$f":"_xlfn.XLOOKUP(C1220,Data!C:C,Data!I:I)","v":{"$error":"#N/A"}},{"$f":"IF(E1220=255,F1219,E1220)","v":{"$error":"#N/A"}},{"$f":"_xlfn.XLOOKUP(C1220,Data!C:C,Data!G:G,0)","v":0},{"$f":"_xlfn.XLOOKUP(C1220,Data!C:C,Data!F:F,0)","v":0},{"$f":"_xlfn.XLOOKUP(C1220,Data!C:C,Data!H:H,0)","v":0},null,{"$f":"IFERROR(IF(F1220=\"#N/A\",\"\",F1220),\"\")","v":""},{"$f":"_xlfn.XLOOKUP(C1220,Data!C:C,Data!F:F,\"\")","v":""},null,{"$error":"#N/A"}]
["23-3-2021","20:18:00","2021-03-23T20:18:00",null,{"$f":"_xlfn.XLOOKUP(C1221,Data!C:C,Data!I:I)","v":{"$error":"#N/A"}},{"$error":"#N/A"},{"$f":"_xlfn.XLOOKUP(C1221,Data!C:C,Data!G:G,0)","v":0},{"$f":"_xlfn.XLOOKUP(C1221,Data!C:C,Data!F:F,0)","v":0},{"$f":"_xlfn.XLOOKUP(C1221,Data!C:C,Data!H:H,0)","v":0},null,"",{"$f":"_xlfn.XLOOKUP(C1221,Data!C:C,Data!F:F,\"\")","v":""},null,{"$error":"#N/A"}]
["23-3-2021","20:19:00","2021-03-23T20:19:00",null,{"$f":"_xlfn.XLOOKUP(C1222,Data!C:C,Data!I:I)","v":{"$error":"#N/A"}},{"$error":"#N/A"},{"$f":"_xlfn.XLOOKUP(C1222,Data!C:C,Data!G:G,0)","v":0},{"$f":"_xlfn.XLOOKUP(C1222,Data!C:C,Data!F:F,0)","v":0},{"$f":"_xlfn.XLOOKUP(C1222,Data!C:C,Data!H:H,0)","v":0},null,"",{"$f":"_xlfn.XLOOKUP(C1222,Data!C:C,Data!F:F,\"\")","v":""},null,{"$error":"#N/A"}]
["23-3-2021","20:20:00","2021-03-23T20:20:00",null,{"$f":"_xlfn.XLOOKUP(C1223,Data!C:C,Data!I:I)","v":{"$error":"#N/A"}},{"$error":"#N/A"},{"$f":"_xlfn.XLOOKUP(C1223,Data!C:C,Data!G:G,0)","v":0},{"$f":"_xlfn.XLOOKUP(C1223,Data!C:C,Data!F:F,0)","v":0},{"$f":"_xlfn.XLOOKUP(C1223,Data!C:C,Data!H:H,0)","v":0},null,"",{"$f":"_xlfn.XLOOKUP(C1223,Data!C:C,Data!F:F,\"\")","v":""},null,{"$f":"IF(F1223=\"\",\"\",AVERAGE(F1219:F1227))","v":{"$error":"#N/A"}}]
["23-3-2021","20:21:00","2021-03-23T20:21:00",null,{"$f":"_xlfn.XLOOKUP(C1224,Data!C:C,Data!I:I)","v":{"$error":"#N/A"}},{"$error":"#N/A"},{"$f":"_xlfn.XLOOKUP(C1224,Data!C:C,Data!G:G,0)","v":0},{"$f":"_xlfn.XLOOKUP(C1224,Data!C:C,Data!F:F,0)","v":0},{"$f":"_xlfn.XLOOKUP(C1224,Data!C:C,Data!H:H,0)","v":0},null,"",{"$f":"_xlfn.XLOOKUP(C1224,Data!C:C,Data!F:F,\"\")","v":""},null,{"$error":"#N/A"}]
["23-3-2021","20:22:00","2021-03-23T20:22:00",null,{"$f":"_xlfn.XLOOKUP(C1225,Data!C:C,Data!I:I)","v":{"$error":"#N/A"}},{"$error":"#N/A"},{"$f":"_xlfn.XLOOKUP(C1225,Data!C:C,Data!G:G,0)","v":0},{"$f":"_xlfn.XLOOKUP(C1225,Data!C:C,Data!F:F,0)","v":0},{"$f":"_xlfn.XLOOKUP(C1225,Data!C:C,Data!H:H,0)","v":0},null,"",{"$f":"_xlfn.XLOOKUP(C1225,Data!C:C,Data!F:F,\"\")","v":""},null,{"$error":"#N/A"}]
["23-3-2021","20:23:00","2021-03-23T20:23:00",null,{"$f":"_xlfn.XLOOKUP(C1226,Data!C:C,Data!I:I)","v":{"$error":"#N/A"}},{"$error":"#N/A"},{"$f":"_xlfn.XLOOKUP(C1226,Data!C:C,Data!G:G,0)","v":0},{"$f":"_xlfn.XLOOKUP(C1226,Data!C:C,Data!F:F,0)","v":0},{"$f":"_xlfn.XLOOKUP(C1226,Data!C:C,Data!H:H,0)","v":0},null,"",{"$f":"_xlfn.XLOOKUP(C1226,Data!C:C,Data!F:F,\"\")","v":""},null,{"$error":"#N/A"}]
["23-3-2021","20:24:00","2021-03-23T20:24:00",null,{"$f":"_xlfn.XLOOKUP(C1227,Data!C:C,Data!I:I)","v":{"$error":"#N/A"}},{"$error":"#N/A"},{"$f":"_xlfn.XLOOKUP(C1227,Data!C:C,Data!G:G,0)","v":0},{"$f":"_xlfn.XLOOKUP(C1227,Data!C:C,Data!F:F,0)","v":0},{"$f":"_xlfn.XLOOKUP(C1227,Data!C:C,Data!H:H,0)","v":0},null,"",{"$f":"_xlfn.XLOOKUP(C1227,Data!C:C,Data!F:F,\"\")","v":""},null,{"$error":"#N/A"}]
["23-3-2021","20:25:00","2021-03-23T20:25:00",null,{"$f":"_xlfn.XLOOKUP(C1228,Data!C:C,Data!I:I)","v":{"$error":"#N/A"}},{"$error":"#N/A"},{"$f":"_xlfn.XLOOKUP(C1228,Data!C:C,Data!G:G,0)","v":0},{"$f":"_xlfn.XLOOKUP(C1228,Data!C:C,Data!F:F,0)","v":0},{"$f":"_xlfn.XLOOKUP(C1228,Data!C:C,Data!H:H,0)","v":0},null,"",{"$f":"_xlfn.XLOOKUP(C1228,Data!C:C,Data!F:F,\"\")","v":""},null,{"$error":"#N/A"}]
["23-3-2021","20:26:00","2021-03-23T20:26:00",null,{"$f":"_xlfn.XLOOKUP(C1229,Data!C:C,Data!I:I)","v":{"$error":"#N/A"}},{"$error":"#N/A"},{"$f":"_xlfn.XLOOKUP(C1229,Data!C:C,Data!G:G,0)","v":0},{"$f":"_xlfn.XLOOKUP(C1229,Data!C:C,Data!F:F,0)","v":0},{"$f":"_xlfn.XLOOKUP(C1229,Data!C:C,Data!H:H,0)","v":0},null,"",{"$f":"_xlfn.XLOOKUP(C1229,Data!C:C,Data!F:F,\"\")","v":""},null,{"$error":"#N/A"}]
["23-3-2021","20:27:00","2021-03-23T20:27:00",null,{"$f":"_xlfn.XLOOKUP(C1230,Data!C:C,Data!I:I)","v":{"$error":"#N/A"}},{"$error":"#N/A"},{"$f":"_xlfn.XLOOKUP(C1230,Data!C:C,Data!G:G,0)","v":0},{"$f":"_xlfn.XLOOKUP(C1230,Data!C:C,Data!F:F,0)","v":0},{"$f":"_xlfn.XLOOKUP(C1230,Data!C:C,Data!H:H,0)","v":0},null,"",{"$f":"_xlfn.XLOOKUP(C1230,Data!C:C,Data!F:F,\"\")","v":""},null,{"$error":"#N/A"}]
["23-3-2021","20:28:00","2021-03-23T20:28:00",null,{"$f":"_xlfn.XLOOKUP(C1231,Data!C:C,Data!I:I)","v":{"$error":"#N/A"}},{"$error":"#N/A"},{"$f":"_xlfn.XLOOKUP(C1231,Data!C:C,Data!G:G,0)","v":0},{"$f":"_xlfn.XLOOKUP(C1231,Data!C:C,Data!F:F,0)","v":0},{"$f":"_xlfn.XLOOKUP(C1231,Data!C:C,Data!H:H,0)","v":0},null,"",{"$f":"_xlfn.XLOOKUP(C1231,Data!C:C,Data!F:F,\"\")","v":""},null,{"$error":"#N/A"}]
["23-3-2021","20:29:00","2021-03-23T20:29:00",null,{"$f":"_xlfn.XLOOKUP(C1232,Data!C:C,Data!I:I)","v":{"$error":"#N/A"}},{"$error":"#N/A"},{"$f":"_xlfn.XLOOKUP(C1232,Data!C:C,Data!G:G,0)","v":0},{"$f":"_xlfn.XLOOKUP(C1232,Data!C:C,Data!F:F,0)","v":0},{"$f":"_xlfn.XLOOKUP(C1232,Data!C:C,Data!H:H,0)","v":0},null,"",{"$f":"_xlfn.XLOOKUP(C1232,Data!C:C,Data!F:F,\"\")","v":""},null,{"$error":"#N/A"}]
["23-3-2021","20:30:00","2021-03-23T20:30:00",null,{"$f":"_xlfn.XLOOKUP(C1233,Data!C:C,Data!I:I)","v":{"$error":"#N/A"}},{"$error":"#N/A"},{"$f":"_xlfn.XLOOKUP(C1233,Data!C:C,Data!G:G,0)","v":0},{"$f":"_xlfn.XLOOKUP(C1233,Data!C:C,Data!F:F,0)","v":0},{"$f":"_xlfn.XLOOKUP(C1233,Data!C:C,Data!H:H,0)","v":0},null,"",{"$f":"_xlfn.XLOOKUP(C1233,Data!C:C,Data!F:F,\"\")","v":""},null,{"$error":"#N/A"}]
["23-3-2021","20:31:00","2021-03-23T20:31:00",null,{"$f":"_xlfn.XLOOKUP(C1234,Data!C:C,Data!I:I)","v":{"$error":"#N/A"}},{"$error":"#N/A"},{"$f":"_xlfn.XLOOKUP(C1234,Data!C:C,Data!G:G,0)","v":0},{"$f":"_xlfn.XLOOKUP(C1234,Data!C:C,Data!F:F,0)","v":0},{"$f":"_xlfn.XLOOKUP(C1234,Data!C:C,Data!H:H,0)","v":0},null,"",{"$f":"_xlfn.XLOOKUP(C1234,Data!C:C,Data!F:F,\"\")","v":""},null,{"$error":"#N/A"}]
["23-3-2021","20:32:00","2021-03-23T20:32:00",null,{"$f":"_xlfn.XLOOKUP(C1235,Data!C:C,Data!I:I)","v":{"$error":"#N/A"}},{"$error":"#N/A"},{"$f":"_xlfn.XLOOKUP(C1235,Data!C:C,Data!G:G,0)","v":0},{"$f":"_xlfn.XLOOKUP(C1235,Data!C:C,Data!F:F,0)","v":0},{"$f":"_xlfn.XLOOKUP(C1235,Data!C:C,Data!H:H,0)","v":0},null,"",{"$f":"_xlfn.XLOOKUP(C1235,Data!C:C,Data!F:F,\"\")","v":""},null,{"$error":"#N/A"}]
["23-3-2021","20:33:00","2021-03-23T20:33:00",null,{"$f":"_xlfn.XLOOKUP(C1236,Data!C:C,Data!I:I)","v":{"$error":"#N/A"}},{"$error":"#N/A"},{"$f":"_xlfn.XLOOKUP(C1236,Data!C:C,Data!G:G,0)","v":0},{"$f":"_xlfn.XLOOKUP(C1236,Data!C:C,Data!F:F,0)","v":0},{"$f":"_xlfn.XLOOKUP(C1236,Data!C:C,Data!H:H,0)","v":0},null,"",{"$f":"_xlfn.XLOOKUP(C1236,Data!C:C,Data!F:F,\"\")","v":""},null,{"$error":"#N/A"}]
["23-3-2021","20:34:00","2021-03-23T20:34:00",null,{"$f":"_xlfn.XLOOKUP(C1237,Data!C:C,Data!I:I)","v":{"$error":"#N/A"}},{"$error":"#N/A"},{"$f":"_xlfn.XLOOKUP(C1237,Data!C:C,Data!G:G,0)","v":0},{"$f":"_xlfn.XLOOKUP(C1237,Data!C:C,Data!F:F,0)","v":0},{"$f":"_xlfn.XLOOKUP(C1237,Data!C:C,Data!H:H,0)","v":0},null,"",{"$f":"_xlfn.XLOOKUP(C1237,Data!C:C,Data!F:F,\"\")","v":""},null,{"$error":"#N/A"}]
["23-3-2021","20:35:00","2021-03-23T20:35:00",null,{"$f":"_xlfn.XLOOKUP(C1238,Data!C:C,Data!I:I)","v":{"$error":"#N/A"}},{"$error":"#N/A"},{"$f":"_xlfn.XLOOKUP(C1238,Data!C:C,Data!G:G,0)","v":0},{"$f":"_xlfn.XLOOKUP(C1238,Data!C:C,Data!F:F,0)","v":0},{"$f":"_xlfn.XLOOKUP(C1238,Data!C:C,Data!H:H,0)","v":0},null,"",{"$f":"_xlfn.XLOOKUP(C1238,Data!C:C,Data!F:F,\"\")","v":""},null,{"$error":"#N/A"}]
["23-3-2021","20:36:00","2021-03-23T20:36:00",null,{"$f":"_xlfn.XLOOKUP(C1239,Data!C:C,Data!I:I)","v":{"$error":"#N/A"}},{"$error":"#N/A"},{"$f":"_xlfn.XLOOKUP(C1239,Data!C:C,Data!G:G,0)","v":0},{"$f":"_xlfn.XLOOKUP(C1239,Data!C:C,Data!F:F,0)","v":0},{"$f":"_xlfn.XLOOKUP(C1239,Data!C:C,Data!H:H,0)","v":0},null,"",{"$f":"_xlfn.XLOOKUP(C1239,Data!C:C,Data!F:F,\"\")","v":""},null,{"$error":"#N/A"}]
["23-3-2021","20:37:00","2021-03-23T20:37:00",null,{"$f":"_xlfn.XLOOKUP(C1240,Data!C:C,Data!I:I)","v":{"$error":"#N/A"}},{"$error":"#N/A"},{"$f":"_xlfn.XLOOKUP(C1240,Data!C:C,Data!G:G,0)","v":0},{"$f":"_xlfn.XLOOKUP(C1240,Data!C:C,Data!F:F,0)","v":0},{"$f":"_xlfn.XLOOKUP(C1240,Data!C:C,Data!H:H,0)","v":0},null,"",{"$f":"_xlfn.XLOOKUP(C1240,Data!C:C,Data!F:F,\"\")","v":""},null,{"$error":"#N/A"}]
["23-3-2021","20:38:00","2021-03-23T20:38:00",null,{"$f":"_xlfn.XLOOKUP(C1241,Data!C:C,Data!I:I)","v":{"$error":"#N/A"}},{"$error":"#N/A"},{"$f":"_xlfn.XLOOKUP(C1241,Data!C:C,Data!G:G,0)","v":0},{"$f":"_xlfn.XLOOKUP(C1241,Data!C:C,Data!F:F,0)","v":0},{"$f":"_xlfn.XLOOKUP(C1241,Data!C:C,Data!H:H,0)","v":0},null,"",{"$f":"_xlfn.XLOOKUP(C1241,Data!C:C,Data!F:F,\"\")","v":""},null,{"$error":"#N/A"}]
["23-3-2021","20:39:00","2021-03-23T20:39:00",null,{"$f":"_xlfn.XLOOKUP(C1242,Data!C:C,Data!I:I)","v":{"$error":"#N/A"}},{"$error":"#N/A"},{"$f":"_xlfn.XLOOKUP(C1242,Data!C:C,Data!G:G,0)","v":0},{"$f":"_xlfn.XLOOKUP(C1242,Data!C:C,Data!F:F,0)","v":0},{"$f":"_xlfn.XLOOKUP(C1242,Data!C:C,Data!H:H,0)","v":0},null,"",{"$f":"_xlfn.XLOOKUP(C1242,Data!C:C,Data!F:F,\"\")","v":""},null,{"$error":"#N/A"}]
["23-3-2021","20:40:00","2021-03-23T20:40:00",null,{"$f":"_xlfn.XLOOKUP(C1243,Data!C:C,Data!I:I)","v":{"$error":"#N/A"}},{"$error":"#N/A"},{"$f":"_xlfn.XLOOKUP(C1243,Data!C:C,Data!G:G,0)","v":0},{"$f":"_xlfn.XLOOKUP(C1243,Data!C:C,Data!F:F,0)","v":0},{"$f":"_xlfn.XLOOKUP(C1243,Data!C:C,Data!H:H,0)","v":0},null,"",{"$f":"_xlfn.XLOOKUP(C1243,Data!C:C,Data!F:F,\"\")","v":""},null,{"$error":"#N/A"}]
["23-3-2021","20:41:00","2021-03-23T20:41:00",null,{"$f":"_xlfn.XLOOKUP(C1244,Data!C:C,Data!I:I)","v":{"$error":"#N/A"}},{"$error":"#N/A"},{"$f":"_xlfn.XLOOKUP(C1244,Data!C:C,Data!G:G,0)","v":0},{"$f":"_xlfn.XLOOKUP(C1244,Data!C:C,Data!F:F,0)","v":0},{"$f":"_xlfn.XLOOKUP(C1244,Data!C:C,Data!H:H,0)","v":0},null,"",{"$f":"_xlfn.XLOOKUP(C1244,Data!C:C,Data!F:F,\"\")","v":""},null,{"$error":"#N/A"}]
["23-3-2021","20:42:00","2021-03-23T20:42:00",null,{"$f":"_xlfn.XLOOKUP(C1245,Data!C:C,Data!I:I)","v":{"$error":"#N/A"}},{"$error":"#N/A"},{"$f":"_xlfn.XLOOKUP(C1245,Data!C:C,Data!G:G,0)","v":0},{"$f":"_xlfn.XLOOKUP(C1245,Data!C:C,Data!F:F,0)","v":0},{"$f":"_xlfn.XLOOKUP(C1245,Data!C:C,Data!H:H,0)","v":0},null,"",{"$f":"_xlfn.XLOOKUP(C1245,Data!C:C,Data!F:F,\"\")","v":""},null,{"$error":"#N/A"}]
["23-3-2021","20:43:00","2021-03-23T20:43:00",null,{"$f":"_xlfn.XLOOKUP(C1246,Data!C:C,Data!I:I)","v":{"$error":"#N/A"}},{"$error":"#N/A"},{"$f":"_xlfn.XLOOKUP(C1246,Data!C:C,Data!G:G,0)","v":0},{"$f":"_xlfn.XLOOKUP(C1246,Data!C:C,Data!F:F,0)","v":0},{"$f":"_xlfn.XLOOKUP(C1246,Data!C:C,Data!H:H,0)","v":0},null,"",{"$f":"_xlfn.XLOOKUP(C1246,Data!C:C,Data!F:F,\"\")","v":""},null,{"$error":"#N/A"}]
["23-3-2021","20:44:00","2021-03-23T20:44:00",null,{"$f":"_xlfn.XLOOKUP(C1247,Data!C:C,Data!I:I)","v":{"$error":"#N/A"}},{"$error":"#N/A"},{"$f":"_xlfn.XLOOKUP(C1247,Data!C:C,Data!G:G,0)","v":0},{"$f":"_xlfn.XLOOKUP(C1247,Data!C:C,Data!F:F,0)","v":0},{"$f":"_xlfn.XLOOKUP(C1247,Data!C:C,Data!H:H,0)","v":0},null,"",{"$f":"_xlfn.XLOOKUP(C1247,Data!C:C,Data!F:F,\"\")","v":""},null,{"$error":"#N/A"}]
["23-3-2021","20:45:00","2021-03-23T20:45:00",null,{"$f":"_xlfn.XLOOKUP(C1248,Data!C:C,Data!I:I)","v":{"$error":"#N/A"}},{"$error":"#N/A"},{"$f":"_xlfn.XLOOKUP(C1248,Data!C:C,Data!G:G,0)","v":0},{"$f":"_xlfn.XLOOKUP(C1248,Data!C:C,Data!F:F,0)","v":0},{"$f":"_xlfn.XLOOKUP(C1248,Data!C:C,Data!H:H,0)","v":0},null,"",{"$f":"_xlfn.XLOOKUP(C1248,Data!C:C,Data!F:F,\"\")","v":""},null,{"$error":"#N/A"}]
["23-3-2021","20:46:00","2021-03-23T20:46:00",null,{"$f":"_xlfn.XLOOKUP(C1249,Data!C:C,Data!I:I)","v":{"$error":"#N/A"}},{"$error":"#N/A"},{"$f":"_xlfn.XLOOKUP(C1249,Data!C:C,Data!G:G,0)","v":0},{"$f":"_xlfn.XLOOKUP(C1249,Data!C:C,Data!F:F,0)","v":0},{"$f":"_xlfn.XLOOKUP(C1249,Data!C:C,Data!H:H,0)","v":0},null,"",{"$f":"_xlfn.XLOOKUP(C1249,Data!C:C,Data!F:F,\"\")","v":""},null,{"$error":"#N/A"}]
["23-3-2021","20:47:00","2021-03-23T20:47:00",null,{"$f":"_xlfn.XLOOKUP(C1250,Data!C:C,Data!I:I)","v":{"$error":"#N/A"}},{"$error":"#N/A"},{"$f":"_xlfn.XLOOKUP(C1250,Data!C:C,Data!G:G,0)","v":0},{"$f":"_xlfn.XLOOKUP(C1250,Data!C:C,Data!F:F,0)","v":0},{"$f":"_xlfn.XLOOKUP(C1250,Data!C:C,Data!H:H,0)","v":0},null,"",{"$f":"_xlfn.XLOOKUP(C1250,Data!C:C,Data!F:F,\"\")","v":""},null,{"$error":"#N/A"}]
["23-3-2021","20:48:00","2021-03-23T20:48:00",null,{"$f":"_xlfn.XLOOKUP(C1251,Data!C:C,Data!I:I)","v":{"$error":"#N/A"}},{"$error":"#N/A"},{"$f":"_xlfn.XLOOKUP(C1251,Data!C:C,Data!G:G,0)","v":0},{"$f":"_xlfn.XLOOKUP(C1251,Data!C:C,Data!F:F,0)","v":0},{"$f":"_xlfn.XLOOKUP(C1251,Data!C:C,Data!H:H,0)","v":0},null,"",{"$f":"_xlfn.XLOOKUP(C1251,Data!C:C,Data!F:F,\"\")","v":""},null,{"$error":"#N/A"}]
["23-3-2021","20:49:00","2021-03-23T20:49:00",null,{"$f":"_xlfn.XLOOKUP(C1252,Data!C:C,Data!I:I)","v":{"$error":"#N/A"}},{"$error":"#N/A"},{"$f":"_xlfn.XLOOKUP(C1252,Data!C:C,Data!G:G,0)","v":0},{"$f":"_xlfn.XLOOKUP(C1252,Data!C:C,Data!F:F,0)","v":0},{"$f":"_xlfn.XLOOKUP(C1252,Data!C:C,Data!H:H,0)","v":0},null,"",{"$f":"_xlfn.XLOOKUP(C1252,Data!C:C,Data!F:F,\"\")","v":""},null,{"$error":"#N/A"}]
["23-3-2021","20:50:00","2021-03-23T20:50:00",null,{"$f":"_xlfn.XLOOKUP(C1253,Data!C:C,Data!I:I)","v":{"$error":"#N/A"}},{"$error":"#N/A"},{"$f":"_xlfn.XLOOKUP(C1253,Data!C:C,Data!G:G,0)","v":0},{"$f":"_xlfn.XLOOKUP(C1253,Data!C:C,Data!F:F,0)","v":0},{"$f":"_xlfn.XLOOKUP(C1253,Data!C:C,Data!H:H,0)","v":0},null,"",{"$f":"_xlfn.XLOOKUP(C1253,Data!C:C,Data!F:F,\"\")","v":""},null,{"$error":"#N/A"}]
["23-3-2021","20:51:00","2021-03-23T20:51:00",null,{"$f":"_xlfn.XLOOKUP(C1254,Data!C:C,Data!I:I)","v":{"$error":"#N/A"}},{"$error":"#N/A"},{"$f":"_xlfn.XLOOKUP(C1254,Data!C:C,Data!G:G,0)","v":0},{"$f":"_xlfn.XLOOKUP(C1254,Data!C:C,Data!F:F,0)","v":0},{"$f":"_xlfn.XLOOKUP(C1254,Data!C:C,Data!H:H,0)","v":0},null,"",{"$f":"_xlfn.XLOOKUP(C1254,Data!C:C,Data!F:F,\"\")","v":""},null,{"$error":"#N/A"}]
["23-3-2021","20:52:00","2021-03-23T20:52:00",null,{"$f":"_xlfn.XLOOKUP(C1255,Data!C:C,Data!I:I)","v":{"$error":"#N/A"}},{"$error":"#N/A"},{"$f":"_xlfn.XLOOKUP(C1255,Data!C:C,Data!G:G,0)","v":0},{"$f":"_xlfn.XLOOKUP(C1255,Data!C:C,Data!F:F,0)","v":0},{"$f":"_xlfn.XLOOKUP(C1255,Data!C:C,Data!H:H,0)","v":0},null,"",{"$f":"_xlfn.XLOOKUP(C1255,Data!C:C,Data!F:F,\"\")","v":""},null,{"$error":"#N/A"}]
["23-3-2021","20:53:00","2021-03-23T20:53:00",null,{"$f":"_xlfn.XLOOKUP(C1256,Data!C:C,Data!I:I)","v":{"$error":"#N/A"}},{"$error":"#N/A"},{"$f":"_xlfn.XLOOKUP(C1256,Data!C:C,Data!G:G,0)","v":0},{"$f":"_xlfn.XLOOKUP(C1256,Data!C:C,Data!F:F,0)","v":0},{"$f":"_xlfn.XLOOKUP(C1256,Data!C:C,Data!H:H,0)","v":0},null,"",{"$f":"_xlfn.XLOOKUP(C1256,Data!C:C,Data!F:F,\"\")","v":""},null,{"$error":"#N/A"}]
["23-3-2021","20:54:00","2021-03-23T20:54:00",null,{"$f":"_xlfn.XLOOKUP(C1257,Data!C:C,Data!I:I)","v":{"$error":"#N/A"}},{"$error":"#N/A"},{"$f":"_xlfn.XLOOKUP(C1257,Data!C:C,Data!G:G,0)","v":0},{"$f":"_xlfn.XLOOKUP(C1257,Data!C:C,Data!F:F,0)","v":0},{"$f":"_xlfn.XLOOKUP(C1257,Data!C:C,Data!H:H,0)","v":0},null,"",{"$f":"_xlfn.XLOOKUP(C1257,Data!C:C,Data!F:F,\"\")","v":""},null,{"$error":"#N/A"}]
["23-3-2021","20:55:00","2021-03-23T20:55:00",null,{"$f":"_xlfn.XLOOKUP(C1258,Data!C:C,Data!I:I)","v":{"$error":"#N/A"}},{"$error":"#N/A"},{"$f":"_xlfn.XLOOKUP(C1258,Data!C:C,Data!G:G,0)","v":0},{"$f":"_xlfn.XLOOKUP(C1258,Data!C:C,Data!F:F,0)","v":0},{"$f":"_xlfn.XLOOKUP(C1258,Data!C:C,Data!H:H,0)","v":0},null,"",{"$f":"_xlfn.XLOOKUP(C1258,Data!C:C,Data!F:F,\"\")","v":""},null,{"$error":"#N/A"}]
["23-3-2021","20:56:00","2021-03-23T20:56:00",null,{"$f":"_xlfn.XLOOKUP(C1259,Data!C:C,Data!I:I)","v":{"$error":"#N/A"}},{"$error":"#N/A"},{"$f":"_xlfn.XLOOKUP(C1259,Data!C:C,Data!G:G,0)","v":0},{"$f":"_xlfn.XLOOKUP(C1259,Data!C:C,Data!F:F,0)","v":0},{"$f":"_xlfn.XLOOKUP(C1259,Data!C:C,Data!H:H,0)","v":0},null,"",{"$f":"_xlfn.XLOOKUP(C1259,Data!C:C,Data!F:F,\"\")","v":""},null,{"$error":"#N/A"}]
["23-3-2021","20:57:00","2021-03-23T20:57:00",null,{"$f":"_xlfn.XLOOKUP(C1260,Data!C:C,Data!I:I)","v":{"$error":"#N/A"}},{"$error":"#N/A"},{"$f":"_xlfn.XLOOKUP(C1260,Data!C:C,Data!G:G,0)","v":0},{"$f":"_xlfn.XLOOKUP(C1260,Data!C:C,Data!F:F,0)","v":0},{"$f":"_xlfn.XLOOKUP(C1260,Data!C:C,Data!H:H,0)","v":0},null,"",{"$f":"_xlfn.XLOOKUP(C1260,Data!C:C,Data!F:F,\"\")","v":""},null,{"$error":"#N/A"}]
["23-3-2021","20:58:00","2021-03-23T20:58:00",null,{"$f":"_xlfn.XLOOKUP(C1261,Data!C:C,Data!I:I)","v":{"$error":"#N/A"}},{"$error":"#N/A"},{"$f":"_xlfn.XLOOKUP(C1261,Data!C:C,Data!G:G,0)","v":0},{"$f":"_xlfn.XLOOKUP(C1261,Data!C:C,Data!F:F,0)","v":0},{"$f":"_xlfn.XLOOKUP(C1261,Data!C:C,Data!H:H,0)","v":0},null,"",{"$f":"_xlfn.XLOOKUP(C1261,Data!C:C,Data!F:F,\"\")","v":""},null,{"$error":"#N/A"}]
["23-3-2021","20:59:00","2021-03-23T20:59:00",null,{"$f":"_xlfn.XLOOKUP(C1262,Data!C:C,Data!I:I)","v":{"$error":"#N/A"}},{"$error":"#N/A"},{"$f":"_xlfn.XLOOKUP(C1262,Data!C:C,Data!G:G,0)","v":0},{"$f":"_xlfn.XLOOKUP(C1262,Data!C:C,Data!F:F,0)","v":0},{"$f":"_xlfn.XLOOKUP(C1262,Data!C:C,Data!H:H,0)","v":0},null,"",{"$f":"_xlfn.XLOOKUP(C1262,Data!C:C,Data!F:F,\"\")","v":""},null,{"$error":"#N/A"}]
["23-3-2021","21:00:00","2021-03-23T21:00:00",null,{"$f":"_xlfn.XLOOKUP(C1263,Data!C:C,Data!I:I)","v":{"$error":"#N/A"}},{"$error":"#N/A"},{"$f":"_xlfn.XLOOKUP(C1263,Data!C:C,Data!G:G,0)","v":0},{"$f":"_xlfn.XLOOKUP(C1263,Data!C:C,Data!F:F,0)","v":0},{"$f":"_xlfn.XLOOKUP(C1263,Data!C:C,Data!H:H,0)","v":0},null,"",{"$f":"_xlfn.XLOOKUP(C1263,Data!C:C,Data!F:F,\"\")","v":""},null,{"$error":"#N/A"}]
["23-3-2021","21:01:00","2021-03-23T21:01:00",null,{"$f":"_xlfn.XLOOKUP(C1264,Data!C:C,Data!I:I)","v":{"$error":"#N/A"}},{"$error":"#N/A"},{"$f":"_xlfn.XLOOKUP(C1264,Data!C:C,Data!G:G,0)","v":0},{"$f":"_xlfn.XLOOKUP(C1264,Data!C:C,Data!F:F,0)","v":0},{"$f":"_xlfn.XLOOKUP(C1264,Data!C:C,Data!H:H,0)","v":0},null,"",{"$f":"_xlfn.XLOOKUP(C1264,Data!C:C,Data!F:F,\"\")","v":""},null,{"$error":"#N/A"}]
["23-3-2021","21:02:00","2021-03-23T21:02:00",null,{"$f":"_xlfn.XLOOKUP(C1265,Data!C:C,Data!I:I)","v":{"$error":"#N/A"}},{"$error":"#N/A"},{"$f":"_xlfn.XLOOKUP(C1265,Data!C:C,Data!G:G,0)","v":0},{"$f":"_xlfn.XLOOKUP(C1265,Data!C:C,Data!F:F,0)","v":0},{"$f":"_xlfn.XLOOKUP(C1265,Data!C:C,Data!H:H,0)","v":0},null,"",{"$f":"_xlfn.XLOOKUP(C1265,Data!C:C,Data!F:F,\"\")","v":""},null,{"$error":"#N/A"}]
["23-3-2021","21:03:00","2021-03-23T21:03:00",null,{"$f":"_xlfn.XLOOKUP(C1266,Data!C:C,Data!I:I)","v":{"$error":"#N/A"}},{"$error":"#N/A"},{"$f":"_xlfn.XLOOKUP(C1266,Data!C:C,Data!G:G,0)","v":0},{"$f":"_xlfn.XLOOKUP(C1266,Data!C:C,Data!F:F,0)","v":0},{"$f":"_xlfn.XLOOKUP(C1266,Data!C:C,Data!H:H,0)","v":0},null,"",{"$f":"_xlfn.XLOOKUP(C1266,Data!C:C,Data!F:F,\"\")","v":""},null,{"$error":"#N/A"}]
["23-3-2021","21:04:00","2021-03-23T21:04:00",null,{"$f":"_xlfn.XLOOKUP(C1267,Data!C:C,Data!I:I)","v":{"$error":"#N/A"}},{"$error":"#N/A"},{"$f":"_xlfn.XLOOKUP(C1267,Data!C:C,Data!G:G,0)","v":0},{"$f":"_xlfn.XLOOKUP(C1267,Data!C:C,Data!F:F,0)","v":0},{"$f":"_xlfn.XLOOKUP(C1267,Data!C:C,Data!H:H,0)","v":0},null,"",{"$f":"_xlfn.XLOOKUP(C1267,Data!C:C,Data!F:F,\"\")","v":""},null,{"$error":"#N/A"}]
["23-3-2021","21:05:00","2021-03-23T21:05:00",null,{"$f":"_xlfn.XLOOKUP(C1268,Data!C:C,Data!I:I)","v":{"$error":"#N/A"}},{"$error":"#N/A"},{"$f":"_xlfn.XLOOKUP(C1268,Data!C:C,Data!G:G,0)","v":0},{"$f":"_xlfn.XLOOKUP(C1268,Data!C:C,Data!F:F,0)","v":0},{"$f":"_xlfn.XLOOKUP(C1268,Data!C:C,Data!H:H,0)","v":0},null,"",{"$f":"_xlfn.XLOOKUP(C1268,Data!C:C,Data!F:F,\"\")","v":""},null,{"$error":"#N/A"}]
["23-3-2021","21:06:00","2021-03-23T21:06:00",null,{"$f":"_xlfn.XLOOKUP(C1269,Data!C:C,Data!I:I)","v":{"$error":"#N/A"}},{"$error":"#N/A"},{"$f":"_xlfn.XLOOKUP(C1269,Data!C:C,Data!G:G,0)","v":0},{"$f":"_xlfn.XLOOKUP(C1269,Data!C:C,Data!F:F,0)","v":0},{"$f":"_xlfn.XLOOKUP(C1269,Data!C:C,Data!H:H,0)","v":0},null,"",{"$f":"_xlfn.XLOOKUP(C1269,Data!C:C,Data!F:F,\"\")","v":""},null,{"$error":"#N/A"}]
["23-3-2021","21:07:00","2021-03-23T21:07:00",null,{"$f":"_xlfn.XLOOKUP(C1270,Data!C:C,Data!I:I)","v":{"$error":"#N/A"}},{"$error":"#N/A"},{"$f":"_xlfn.XLOOKUP(C1270,Data!C:C,Data!G:G,0)","v":0},{"$f":"_xlfn.XLOOKUP(C1270,Data!C:C,Data!F:F,0)","v":0},{"$f":"_xlfn.XLOOKUP(C1270,Data!C:C,Data!H:H,0)","v":0},null,"",{"$f":"_xlfn.XLOOKUP(C1270,Data!C:C,Data!F:F,\"\")","v":""},null,{"$error":"#N/A"}]
["23-3-2021","21:08:00","2021-03-23T21:08:00",null,{"$f":"_xlfn.XLOOKUP(C1271,Data!C:C,Data!I:I)","v":{"$error":"#N/A"}},{"$error":"#N/A"},{"$f":"_xlfn.XLOOKUP(C1271,Data!C:C,Data!G:G,0)","v":0},{"$f":"_xlfn.XLOOKUP(C1271,Data!C:C,Data!F:F,0)","v":0},{"$f":"_xlfn.XLOOKUP(C1271,Data!C:C,Data!H:H,0)","v":0},null,"",{"$f":"_xlfn.XLOOKUP(C1271,Data!C:C,Data!F:F,\"\")","v":""},null,{"$error":"#N/A"}]
["23-3-2021","21:09:00","2021-03-23T21:09:00",null,{"$f":"_xlfn.XLOOKUP(C1272,Data!C:C,Data!I:I)","v":{"$error":"#N/A"}},{"$error":"#N/A"},{"$f":"_xlfn.XLOOKUP(C1272,Data!C:C,Data!G:G,0)","v":0},{"$f":"_xlfn.XLOOKUP(C1272,Data!C:C,Data!F:F,0)","v":0},{"$f":"_xlfn.XLOOKUP(C1272,Data!C:C,Data!H:H,0)","v":0},null,"",{"$f":"_xlfn.XLOOKUP(C1272,Data!C:C,Data!F:F,\"\")","v":""},null,{"$error":"#N/A"}]
["23-3-2021","21:10:00","2021-03-23T21:10:00",null,{"$f":"_xlfn.XLOOKUP(C1273,Data!C:C,Data!I:I)","v":{"$error":"#N/A"}},{"$error":"#N/A"},{"$f":"_xlfn.XLOOKUP(C1273,Data!C:C,Data!G:G,0)","v":0},{"$f":"_xlfn.XLOOKUP(C1273,Data!C:C,Data!F:F,0)","v":0},{"$f":"_xlfn.XLOOKUP(C1273,Data!C:C,Data!H:H,0)","v":0},null,"",{"$f":"_xlfn.XLOOKUP(C1273,Data!C:C,Data!F:F,\"\")","v":""},null,{"$error":"#N/A"}]
["23-3-2021","21:11:00","2021-03-23T21:11:00",null,{"$f":"_xlfn.XLOOKUP(C1274,Data!C:C,Data!I:I)","v":{"$error":"#N/A"}},{"$error":"#N/A"},{"$f":"_xlfn.XLOOKUP(C1274,Data!C:C,Data!G:G,0)","v":0},{"$f":"_xlfn.XLOOKUP(C1274,Data!C:C,Data!F:F,0)","v":0},{"$f":"_xlfn.XLOOKUP(C1274,Data!C:C,Data!H:H,0)","v":0},null,"",{"$f":"_xlfn.XLOOKUP(C1274,Data!C:C,Data!F:F,\"\")","v":""},null,{"$error":"#N/A"}]
["23-3-2021","21:12:00","2021-03-23T21:12:00",null,{"$f":"_xlfn.XLOOKUP(C1275,Data!C:C,Data!I:I)","v":{"$error":"#N/A"}},{"$error":"#N/A"},{"$f":"_xlfn.XLOOKUP(C1275,Data!C:C,Data!G:G,0)","v":0},{"$f":"_xlfn.XLOOKUP(C1275,Data!C:C,Data!F:F,0)","v":0},{"$f":"_xlfn.XLOOKUP(C1275,Data!C:C,Data!H:H,0)","v":0},null,"",{"$f":"_xlfn.XLOOKUP(C1275,Data!C:C,Data!F:F,\"\")","v":""},null,{"$error":"#N/A"}]
["23-3-2021","21:13:00","2021-03-23T21:13:00",null,{"$f":"_xlfn.XLOOKUP(C1276,Data!C:C,Data!I:I)","v":{"$error":"#N/A"}},{"$error":"#N/A"},{"$f":"_xlfn.XLOOKUP(C1276,Data!C:C,Data!G:G,0)","v":0},{"$f":"_xlfn.XLOOKUP(C1276,Data!C:C,Data!F:F,0)","v":0},{"$f":"_xlfn.XLOOKUP(C1276,Data!C:C,Data!H:H,0)","v":0},null,"",{"$f":"_xlfn.XLOOKUP(C1276,Data!C:C,Data!F:F,\"\")","v":""},null,{"$error":"#N/A"}]
["23-3-2021","21:14:00","2021-03-23T21:14:00",null,{"$f":"_xlfn.XLOOKUP(C1277,Data!C:C,Data!I:I)","v":{"$error":"#N/A"}},{"$error":"#N/A"},{"$f":"_xlfn.XLOOKUP(C1277,Data!C:C,Data!G:G,0)","v":0},{"$f":"_xlfn.XLOOKUP(C1277,Data!C:C,Data!F:F,0)","v":0},{"$f":"_xlfn.XLOOKUP(C1277,Data!C:C,Data!H:H,0)","v":0},null,"",{"$f":"_xlfn.XLOOKUP(C1277,Data!C:C,Data!F:F,\"\")","v":""},null,{"$error":"#N/A"}]
["23-3-2021","21:15:00","2021-03-23T21:15:00",null,{"$f":"_xlfn.XLOOKUP(C1278,Data!C:C,Data!I:I)","v":{"$error":"#N/A"}},{"$error":"#N/A"},{"$f":"_xlfn.XLOOKUP(C1278,Data!C:C,Data!G:G,0)","v":0},{"$f":"_xlfn.XLOOKUP(C1278,Data!C:C,Data!F:F,0)","v":0},{"$f":"_xlfn.XLOOKUP(C1278,Data!C:C,Data!H:H,0)","v":0},null,"",{"$f":"_xlfn.XLOOKUP(C1278,Data!C:C,Data!F:F,\"\")","v":""},null,{"$error":"#N/A"}]
["23-3-2021","21:16:00","2021-03-23T21:16:00",null,{"$f":"_xlfn.XLOOKUP(C1279,Data!C:C,Data!I:I)","v":{"$error":"#N/A"}},{"$error":"#N/A"},{"$f":"_xlfn.XLOOKUP(C1279,Data!C:C,Data!G:G,0)","v":0},{"$f":"_xlfn.XLOOKUP(C1279,Data!C:C,Data!F:F,0)","v":0},{"$f":"_xlfn.XLOOKUP(C1279,Data!C:C,Data!H:H,0)","v":0},null,"",{"$f":"_xlfn.XLOOKUP(C1279,Data!C:C,Data!F:F,\"\")","v":""},null,{"$error":"#N/A"}]
["23-3-2021","21:17:00","2021-03-23T21:17:00",null,{"$f":"_xlfn.XLOOKUP(C1280,Data!C:C,Data!I:I)","v":{"$error":"#N/A"}},{"$error":"#N/A"},{"$f":"_xlfn.XLOOKUP(C1280,Data!C:C,Data!G:G,0)","v":0},{"$f":"_xlfn.XLOOKUP(C1280,Data!C:C,Data!F:F,0)","v":0},{"$f":"_xlfn.XLOOKUP(C1280,Data!C:C,Data!H:H,0)","v":0},null,"",{"$f":"_xlfn.XLOOKUP(C1280,Data!C:C,Data!F:F,\"\")","v":""},null,{"$error":"#N/A"}]
["23-3-2021","21:18:00","2021-03-23T21:18:00",null,{"$f":"_xlfn.XLOOKUP(C1281,Data!C:C,Data!I:I)","v":{"$error":"#N/A"}},{"$error":"#N/A"},{"$f":"_xlfn.XLOOKUP(C1281,Data!C:C,Data!G:G,0)","v":0},{"$f":"_xlfn.XLOOKUP(C1281,Data!C:C,Data!F:F,0)","v":0},{"$f":"_xlfn.XLOOKUP(C1281,Data!C:C,Data!H:H,0)","v":0},null,"",{"$f":"_xlfn.XLOOKUP(C1281,Data!C:C,Data!F:F,\"\")","v":""},null,{"$error":"#N/A"}]
["23-3-2021","21:19:00","2021-03-23T21:19:00",null,{"$f":"_xlfn.XLOOKUP(C1282,Data!C:C,Data!I:I)","v":{"$error":"#N/A"}},{"$error":"#N/A"},{"$f":"_xlfn.XLOOKUP(C1282,Data!C:C,Data!G:G,0)","v":0},{"$f":"_xlfn.XLOOKUP(C1282,Data!C:C,Data!F:F,0)","v":0},{"$f":"_xlfn.XLOOKUP(C1282,Data!C:C,Data!H:H,0)","v":0},null,"",{"$f":"_xlfn.XLOOKUP(C1282,Data!C:C,Data!F:F,\"\")","v":""},null,{"$error":"#N/A"}]
["23-3-2021","21:20:00",{"$f":"A1283+B1283","v":"2021-03-23T21:20:00"},null,{"$f":"_xlfn.XLOOKUP(C1283,Data!C:C,Data!I:I)","v":{"$error":"#N/A"}},{"$error":"#N/A"},{"$f":"_xlfn.XLOOKUP(C1283,Data!C:C,Data!G:G,0)","v":0},{"$f":"_xlfn.XLOOKUP(C1283,Data!C:C,Data!F:F,0)","v":0},{"$f":"_xlfn.XLOOKUP(C1283,Data!C:C,Data!H:H,0)","v":0},null,"",{"$f":"_xlfn.XLOOKUP(C1283,Data!C:C,Data!F:F,\"\")","v":""},null,{"$error":"#N/A"}]
[{"$f":"$A$3","v":"23-3-2021"},"21:21:00","2021-03-23T21:21:00",null,{"$f":"_xlfn.XLOOKUP(C1284,Data!C:C,Data!I:I)","v":{"$error":"#N/A"}},{"$f":"IF(E1284=255,F1283,E1284)","v":{"$error":"#N/A"}},{"$f":"_xlfn.XLOOKUP(C1284,Data!C:C,Data!G:G,0)","v":0},{"$f":"_xlfn.XLOOKUP(C1284,Data!C:C,Data!F:F,0)","v":0},{"$f":"_xlfn.XLOOKUP(C1284,Data!C:C,Data!H:H,0)","v":0},null,{"$f":"IFERROR(IF(F1284=\"#N/A\",\"\",F1284),\"\")","v":""},{"$f":"_xlfn.XLOOKUP(C1284,Data!C:C,Data!F:F,\"\")","v":""},null,{"$error":"#N/A"}]
["23-3-2021","21:22:00","2021-03-23T21:22:00",null,{"$f":"_xlfn.XLOOKUP(C1285,Data!C:C,Data!I:I)","v":{"$error":"#N/A"}},{"$error":"#N/A"},{"$f":"_xlfn.XLOOKUP(C1285,Data!C:C,Data!G:G,0)","v":0},{"$f":"_xlfn.XLOOKUP(C1285,Data!C:C,Data!F:F,0)","v":0},{"$f":"_xlfn.XLOOKUP(C1285,Data!C:C,Data!H:H,0)","v":0},null,"",{"$f":"_xlfn.XLOOKUP(C1285,Data!C:C,Data!F:F,\"\")","v":""},null,{"$error":"#N/A"}]
["23-3-2021","21:23:00","2021-03-23T21:23:00",null,{"$f":"_xlfn.XLOOKUP(C1286,Data!C:C,Data!I:I)","v":{"$error":"#N/A"}},{"$error":"#N/A"},{"$f":"_xlfn.XLOOKUP(C1286,Data!C:C,Data!G:G,0)","v":0},{"$f":"_xlfn.XLOOKUP(C1286,Data!C:C,Data!F:F,0)","v":0},{"$f":"_xlfn.XLOOKUP(C1286,Data!C:C,Data!H:H,0)","v":0},null,"",{"$f":"_xlfn.XLOOKUP(C1286,Data!C:C,Data!F:F,\"\")","v":""},null,{"$error":"#N/A"}]
["23-3-2021","21:24:00","2021-03-23T21:24:00",null,{"$f":"_xlfn.XLOOKUP(C1287,Data!C:C,Data!I:I)","v":{"$error":"#N/A"}},{"$error":"#N/A"},{"$f":"_xlfn.XLOOKUP(C1287,Data!C:C,Data!G:G,0)","v":0},{"$f":"_xlfn.XLOOKUP(C1287,Data!C:C,Data!F:F,0)","v":0},{"$f":"_xlfn.XLOOKUP(C1287,Data!C:C,Data!H:H,0)","v":0},null,"",{"$f":"_xlfn.XLOOKUP(C1287,Data!C:C,Data!F:F,\"\")","v":""},null,{"$f":"IF(F1287=\"\",\"\",AVERAGE(F1283:F1291))","v":{"$error":"#N/A"}}]
["23-3-2021","21:25:00","2021-03-23T21:25:00",null,{"$f":"_xlfn.XLOOKUP(C1288,Data!C:C,Data!I:I)","v":{"$error":"#N/A"}},{"$error":"#N/A"},{"$f":"_xlfn.XLOOKUP(C1288,Data!C:C,Data!G:G,0)","v":0},{"$f":"_xlfn.XLOOKUP(C1288,Data!C:C,Data!F:F,0)","v":0},{"$f":"_xlfn.XLOOKUP(C1288,Data!C:C,Data!H:H,0)","v":0},null,"",{"$f":"_xlfn.XLOOKUP(C1288,Data!C:C,Data!F:F,\"\")","v":""},null,{"$error":"#N/A"}]
["23-3-2021","21:26:00","2021-03-23T21:26:00",null,{"$f":"_xlfn.XLOOKUP(C1289,Data!C:C,Data!I:I)","v":{"$error":"#N/A"}},{"$error":"#N/A"},{"$f":"_xlfn.XLOOKUP(C1289,Data!C:C,Data!G:G,0)","v":0},{"$f":"_xlfn.XLOOKUP(C1289,Data!C:C,Data!F:F,0)","v":0},{"$f":"_xlfn.XLOOKUP(C1289,Data!C:C,Data!H:H,0)","v":0},null,"",{"$f":"_xlfn.XLOOKUP(C1289,Data!C:C,Data!F:F,\"\")","v":""},null,{"$error":"#N/A"}]
["23-3-2021","21:27:00","2021-03-23T21:27:00",null,{"$f":"_xlfn.XLOOKUP(C1290,Data!C:C,Data!I:I)","v":{"$error":"#N/A"}},{"$error":"#N/A"},{"$f":"_xlfn.XLOOKUP(C1290,Data!C:C,Data!G:G,0)","v":0},{"$f":"_xlfn.XLOOKUP(C1290,Data!C:C,Data!F:F,0)","v":0},{"$f":"_xlfn.XLOOKUP(C1290,Data!C:C,Data!H:H,0)","v":0},null,"",{"$f":"_xlfn.XLOOKUP(C1290,Data!C:C,Data!F:F,\"\")","v":""},null,{"$error":"#N/A"}]
["23-3-2021","21:28:00","2021-03-23T21:28:00",null,{"$f":"_xlfn.XLOOKUP(C1291,Data!C:C,Data!I:I)","v":{"$error":"#N/A"}},{"$error":"#N/A"},{"$f":"_xlfn.XLOOKUP(C1291,Data!C:C,Data!G:G,0)","v":0},{"$f":"_xlfn.XLOOKUP(C1291,Data!C:C,Data!F:F,0)","v":0},{"$f":"_xlfn.XLOOKUP(C1291,Data!C:C,Data!H:H,0)","v":0},null,"",{"$f":"_xlfn.XLOOKUP(C1291,Data!C:C,Data!F:F,\"\")","v":""},null,{"$error":"#N/A"}]
["23-3-2021","21:29:00","2021-03-23T21:29:00",null,{"$f":"_xlfn.XLOOKUP(C1292,Data!C:C,Data!I:I)","v":{"$error":"#N/A"}},{"$error":"#N/A"},{"$f":"_xlfn.XLOOKUP(C1292,Data!C:C,Data!G:G,0)","v":0},{"$f":"_xlfn.XLOOKUP(C1292,Data!C:C,Data!F:F,0)","v":0},{"$f":"_xlfn.XLOOKUP(C1292,Data!C:C,Data!H:H,0)","v":0},null,"",{"$f":"_xlfn.XLOOKUP(C1292,Data!C:C,Data!F:F,\"\")","v":""},null,{"$error":"#N/A"}]
["23-3-2021","21:30:00","2021-03-23T21:30:00",null,{"$f":"_xlfn.XLOOKUP(C1293,Data!C:C,Data!I:I)","v":{"$error":"#N/A"}},{"$error":"#N/A"},{"$f":"_xlfn.XLOOKUP(C1293,Data!C:C,Data!G:G,0)","v":0},{"$f":"_xlfn.XLOOKUP(C1293,Data!C:C,Data!F:F,0)","v":0},{"$f":"_xlfn.XLOOKUP(C1293,Data!C:C,Data!H:H,0)","v":0},null,"",{"$f":"_xlfn.XLOOKUP(C1293,Data!C:C,Data!F:F,\"\")","v":""},null,{"$error":"#N/A"}]
["23-3-2021","21:31:00","2021-03-23T21:31:00",null,{"$f":"_xlfn.XLOOKUP(C1294,Data!C:C,Data!I:I)","v":{"$error":"#N/A"}},{"$error":"#N/A"},{"$f":"_xlfn.XLOOKUP(C1294,Data!C:C,Data!G:G,0)","v":0},{"$f":"_xlfn.XLOOKUP(C1294,Data!C:C,Data!F:F,0)","v":0},{"$f":"_xlfn.XLOOKUP(C1294,Data!C:C,Data!H:H,0)","v":0},null,"",{"$f":"_xlfn.XLOOKUP(C1294,Data!C:C,Data!F:F,\"\")","v":""},null,{"$error":"#N/A"}]
["23-3-2021","21:32:00","2021-03-23T21:32:00",null,{"$f":"_xlfn.XLOOKUP(C1295,Data!C:C,Data!I:I)","v":{"$error":"#N/A"}},{"$error":"#N/A"},{"$f":"_xlfn.XLOOKUP(C1295,Data!C:C,Data!G:G,0)","v":0},{"$f":"_xlfn.XLOOKUP(C1295,Data!C:C,Data!F:F,0)","v":0},{"$f":"_xlfn.XLOOKUP(C1295,Data!C:C,Data!H:H,0)","v":0},null,"",{"$f":"_xlfn.XLOOKUP(C1295,Data!C:C,Data!F:F,\"\")","v":""},null,{"$error":"#N/A"}]
["23-3-2021","21:33:00","2021-03-23T21:33:00",null,{"$f":"_xlfn.XLOOKUP(C1296,Data!C:C,Data!I:I)","v":{"$error":"#N/A"}},{"$error":"#N/A"},{"$f":"_xlfn.XLOOKUP(C1296,Data!C:C,Data!G:G,0)","v":0},{"$f":"_xlfn.XLOOKUP(C1296,Data!C:C,Data!F:F,0)","v":0},{"$f":"_xlfn.XLOOKUP(C1296,Data!C:C,Data!H:H,0)","v":0},null,"",{"$f":"_xlfn.XLOOKUP(C1296,Data!C:C,Data!F:F,\"\")","v":""},null,{"$error":"#N/A"}]
["23-3-2021","21:34:00","2021-03-23T21:34:00",null,{"$f":"_xlfn.XLOOKUP(C1297,Data!C:C,Data!I:I)","v":{"$error":"#N/A"}},{"$error":"#N/A"},{"$f":"_xlfn.XLOOKUP(C1297,Data!C:C,Data!G:G,0)","v":0},{"$f":"_xlfn.XLOOKUP(C1297,Data!C:C,Data!F:F,0)","v":0},{"$f":"_xlfn.XLOOKUP(C1297,Data!C:C,Data!H:H,0)","v":0},null,"",{"$f":"_xlfn.XLOOKUP(C1297,Data!C:C,Data!F:F,\"\")","v":""},null,{"$error":"#N/A"}]
["23-3-2021","21:35:00","2021-03-23T21:35:00",null,{"$f":"_xlfn.XLOOKUP(C1298,Data!C:C,Data!I:I)","v":{"$error":"#N/A"}},{"$error":"#N/A"},{"$f":"_xlfn.XLOOKUP(C1298,Data!C:C,Data!G:G,0)","v":0},{"$f":"_xlfn.XLOOKUP(C1298,Data!C:C,Data!F:F,0)","v":0},{"$f":"_xlfn.XLOOKUP(C1298,Data!C:C,Data!H:H,0)","v":0},null,"",{"$f":"_xlfn.XLOOKUP(C1298,Data!C:C,Data!F:F,\"\")","v":""},null,{"$error":"#N/A"}]
["23-3-2021","21:36:00","2021-03-23T21:36:00",null,{"$f":"_xlfn.XLOOKUP(C1299,Data!C:C,Data!I:I)","v":{"$error":"#N/A"}},{"$error":"#N/A"},{"$f":"_xlfn.XLOOKUP(C1299,Data!C:C,Data!G:G,0)","v":0},{"$f":"_xlfn.XLOOKUP(C1299,Data!C:C,Data!F:F,0)","v":0},{"$f":"_xlfn.XLOOKUP(C1299,Data!C:C,Data!H:H,0)","v":0},null,"",{"$f":"_xlfn.XLOOKUP(C1299,Data!C:C,Data!F:F,\"\")","v":""},null,{"$error":"#N/A"}]
["23-3-2021","21:37:00","2021-03-23T21:37:00",null,{"$f":"_xlfn.XLOOKUP(C1300,Data!C:C,Data!I:I)","v":{"$error":"#N/A"}},{"$error":"#N/A"},{"$f":"_xlfn.XLOOKUP(C1300,Data!C:C,Data!G:G,0)","v":0},{"$f":"_xlfn.XLOOKUP(C1300,Data!C:C,Data!F:F,0)","v":0},{"$f":"_xlfn.XLOOKUP(C1300,Data!C:C,Data!H:H,0)","v":0},null,"",{"$f":"_xlfn.XLOOKUP(C1300,Data!C:C,Data!F:F,\"\")","v":""},null,{"$error":"#N/A"}]
["23-3-2021","21:38:00","2021-03-23T21:38:00",null,{"$f":"_xlfn.XLOOKUP(C1301,Data!C:C,Data!I:I)","v":{"$error":"#N/A"}},{"$error":"#N/A"},{"$f":"_xlfn.XLOOKUP(C1301,Data!C:C,Data!G:G,0)","v":0},{"$f":"_xlfn.XLOOKUP(C1301,Data!C:C,Data!F:F,0)","v":0},{"$f":"_xlfn.XLOOKUP(C1301,Data!C:C,Data!H:H,0)","v":0},null,"",{"$f":"_xlfn.XLOOKUP(C1301,Data!C:C,Data!F:F,\"\")","v":""},null,{"$error":"#N/A"}]
["23-3-2021","21:39:00","2021-03-23T21:39:00",null,{"$f":"_xlfn.XLOOKUP(C1302,Data!C:C,Data!I:I)","v":{"$error":"#N/A"}},{"$error":"#N/A"},{"$f":"_xlfn.XLOOKUP(C1302,Data!C:C,Data!G:G,0)","v":0},{"$f":"_xlfn.XLOOKUP(C1302,Data!C:C,Data!F:F,0)","v":0},{"$f":"_xlfn.XLOOKUP(C1302,Data!C:C,Data!H:H,0)","v":0},null,"",{"$f":"_xlfn.XLOOKUP(C1302,Data!C:C,Data!F:F,\"\")","v":""},null,{"$error":"#N/A"}]
["23-3-2021","21:40:00","2021-03-23T21:40:00",null,{"$f":"_xlfn.XLOOKUP(C1303,Data!C:C,Data!I:I)","v":{"$error":"#N/A"}},{"$error":"#N/A"},{"$f":"_xlfn.XLOOKUP(C1303,Data!C:C,Data!G:G,0)","v":0},{"$f":"_xlfn.XLOOKUP(C1303,Data!C:C,Data!F:F,0)","v":0},{"$f":"_xlfn.XLOOKUP(C1303,Data!C:C,Data!H:H,0)","v":0},null,"",{"$f":"_xlfn.XLOOKUP(C1303,Data!C:C,Data!F:F,\"\")","v":""},null,{"$error":"#N/A"}]
["23-3-2021","21:41:00","2021-03-23T21:41:00",null,{"$f":"_xlfn.XLOOKUP(C1304,Data!C:C,Data!I:I)","v":{"$error":"#N/A"}},{"$error":"#N/A"},{"$f":"_xlfn.XLOOKUP(C1304,Data!C:C,Data!G:G,0)","v":0},{"$f":"_xlfn.XLOOKUP(C1304,Data!C:C,Data!F:F,0)","v":0},{"$f":"_xlfn.XLOOKUP(C1304,Data!C:C,Data!H:H,0)","v":0},null,"",{"$f":"_xlfn.XLOOKUP(C1304,Data!C:C,Data!F:F,\"\")","v":""},null,{"$error":"#N/A"}]
["23-3-2021","21:42:00","2021-03-23T21:42:00",null,{"$f":"_xlfn.XLOOKUP(C1305,Data!C:C,Data!I:I)","v":{"$error":"#N/A"}},{"$error":"#N/A"},{"$f":"_xlfn.XLOOKUP(C1305,Data!C:C,Data!G:G,0)","v":0},{"$f":"_xlfn.XLOOKUP(C1305,Data!C:C,Data!F:F,0)","v":0},{"$f":"_xlfn.XLOOKUP(C1305,Data!C:C,Data!H:H,0)","v":0},null,"",{"$f":"_xlfn.XLOOKUP(C1305,Data!C:C,Data!F:F,\"\")","v":""},null,{"$error":"#N/A"}]
["23-3-2021","21:43:00","2021-03-23T21:43:00",null,{"$f":"_xlfn.XLOOKUP(C1306,Data!C:C,Data!I:I)","v":{"$error":"#N/A"}},{"$error":"#N/A"},{"$f":"_xlfn.XLOOKUP(C1306,Data!C:C,Data!G:G,0)","v":0},{"$f":"_xlfn.XLOOKUP(C1306,Data!C:C,Data!F:F,0)","v":0},{"$f":"_xlfn.XLOOKUP(C1306,Data!C:C,Data!H:H,0)","v":0},null,"",{"$f":"_xlfn.XLOOKUP(C1306,Data!C:C,Data!F:F,\"\")","v":""},null,{"$error":"#N/A"}]
["23-3-2021","21:44:00","2021-03-23T21:44:00",null,{"$f":"_xlfn.XLOOKUP(C1307,Data!C:C,Data!I:I)","v":{"$error":"#N/A"}},{"$error":"#N/A"},{"$f":"_xlfn.XLOOKUP(C1307,Data!C:C,Data!G:G,0)","v":0},{"$f":"_xlfn.XLOOKUP(C1307,Data!C:C,Data!F:F,0)","v":0},{"$f":"_xlfn.XLOOKUP(C1307,Data!C:C,Data!H:H,0)","v":0},null,"",{"$f":"_xlfn.XLOOKUP(C1307,Data!C:C,Data!F:F,\"\")","v":""},null,{"$error":"#N/A"}]
["23-3-2021","21:45:00","2021-03-23T21:45:00",null,{"$f":"_xlfn.XLOOKUP(C1308,Data!C:C,Data!I:I)","v":{"$error":"#N/A"}},{"$error":"#N/A"},{"$f":"_xlfn.XLOOKUP(C1308,Data!C:C,Data!G:G,0)","v":0},{"$f":"_xlfn.XLOOKUP(C1308,Data!C:C,Data!F:F,0)","v":0},{"$f":"_xlfn.XLOOKUP(C1308,Data!C:C,Data!H:H,0)","v":0},null,"",{"$f":"_xlfn.XLOOKUP(C1308,Data!C:C,Data!F:F,\"\")","v":""},null,{"$error":"#N/A"}]
["23-3-2021","21:46:00","2021-03-23T21:46:00",null,{"$f":"_xlfn.XLOOKUP(C1309,Data!C:C,Data!I:I)","v":{"$error":"#N/A"}},{"$error":"#N/A"},{"$f":"_xlfn.XLOOKUP(C1309,Data!C:C,Data!G:G,0)","v":0},{"$f":"_xlfn.XLOOKUP(C1309,Data!C:C,Data!F:F,0)","v":0},{"$f":"_xlfn.XLOOKUP(C1309,Data!C:C,Data!H:H,0)","v":0},null,"",{"$f":"_xlfn.XLOOKUP(C1309,Data!C:C,Data!F:F,\"\")","v":""},null,{"$error":"#N/A"}]
["23-3-2021","21:47:00","2021-03-23T21:47:00",null,{"$f":"_xlfn.XLOOKUP(C1310,Data!C:C,Data!I:I)","v":{"$error":"#N/A"}},{"$error":"#N/A"},{"$f":"_xlfn.XLOOKUP(C1310,Data!C:C,Data!G:G,0)","v":0},{"$f":"_xlfn.XLOOKUP(C1310,Data!C:C,Data!F:F,0)","v":0},{"$f":"_xlfn.XLOOKUP(C1310,Data!C:C,Data!H:H,0)","v":0},null,"",{"$f":"_xlfn.XLOOKUP(C1310,Data!C:C,Data!F:F,\"\")","v":""},null,{"$error":"#N/A"}]
["23-3-2021","21:48:00","2021-03-23T21:48:00",null,{"$f":"_xlfn.XLOOKUP(C1311,Data!C:C,Data!I:I)","v":{"$error":"#N/A"}},{"$error":"#N/A"},{"$f":"_xlfn.XLOOKUP(C1311,Data!C:C,Data!G:G,0)","v":0},{"$f":"_xlfn.XLOOKUP(C1311,Data!C:C,Data!F:F,0)","v":0},{"$f":"_xlfn.XLOOKUP(C1311,Data!C:C,Data!H:H,0)","v":0},null,"",{"$f":"_xlfn.XLOOKUP(C1311,Data!C:C,Data!F:F,\"\")","v":""},null,{"$error":"#N/A"}]
["23-3-2021","21:49:00","2021-03-23T21:49:00",null,{"$f":"_xlfn.XLOOKUP(C1312,Data!C:C,Data!I:I)","v":{"$error":"#N/A"}},{"$error":"#N/A"},{"$f":"_xlfn.XLOOKUP(C1312,Data!C:C,Data!G:G,0)","v":0},{"$f":"_xlfn.XLOOKUP(C1312,Data!C:C,Data!F:F,0)","v":0},{"$f":"_xlfn.XLOOKUP(C1312,Data!C:C,Data!H:H,0)","v":0},null,"",{"$f":"_xlfn.XLOOKUP(C1312,Data!C:C,Data!F:F,\"\")","v":""},null,{"$error":"#N/A"}]
["23-3-2021","21:50:00","2021-03-23T21:50:00",null,{"$f":"_xlfn.XLOOKUP(C1313,Data!C:C,Data!I:I)","v":{"$error":"#N/A"}},{"$error":"#N/A"},{"$f":"_xlfn.XLOOKUP(C1313,Data!C:C,Data!G:G,0)","v":0},{"$f":"_xlfn.XLOOKUP(C1313,Data!C:C,Data!F:F,0)","v":0},{"$f":"_xlfn.XLOOKUP(C1313,Data!C:C,Data!H:H,0)","v":0},null,"",{"$f":"_xlfn.XLOOKUP(C1313,Data!C:C,Data!F:F,\"\")","v":""},null,{"$error":"#N/A"}]
["23-3-2021","21:51:00","2021-03-23T21:51:00",null,{"$f":"_xlfn.XLOOKUP(C1314,Data!C:C,Data!I:I)","v":{"$error":"#N/A"}},{"$error":"#N/A"},{"$f":"_xlfn.XLOOKUP(C1314,Data!C:C,Data!G:G,0)","v":0},{"$f":"_xlfn.XLOOKUP(C1314,Data!C:C,Data!F:F,0)","v":0},{"$f":"_xlfn.XLOOKUP(C1314,Data!C:C,Data!H:H,0)","v":0},null,"",{"$f":"_xlfn.XLOOKUP(C1314,Data!C:C,Data!F:F,\"\")","v":""},null,{"$error":"#N/A"}]
["23-3-2021","21:52:00","2021-03-23T21:52:00",null,{"$f":"_xlfn.XLOOKUP(C1315,Data!C:C,Data!I:I)","v":{"$error":"#N/A"}},{"$error":"#N/A"},{"$f":"_xlfn.XLOOKUP(C1315,Data!C:C,Data!G:G,0)","v":0},{"$f":"_xlfn.XLOOKUP(C1315,Data!C:C,Data!F:F,0)","v":0},{"$f":"_xlfn.XLOOKUP(C1315,Data!C:C,Data!H:H,0)","v":0},null,"",{"$f":"_xlfn.XLOOKUP(C1315,Data!C:C,Data!F:F,\"\")","v":""},null,{"$error":"#N/A"}]
["23-3-2021","21:53:00","2021-03-23T21:53:00",null,{"$f":"_xlfn.XLOOKUP(C1316,Data!C:C,Data!I:I)","v":{"$error":"#N/A"}},{"$error":"#N/A"},{"$f":"_xlfn.XLOOKUP(C1316,Data!C:C,Data!G:G,0)","v":0},{"$f":"_xlfn.XLOOKUP(C1316,Data!C:C,Data!F:F,0)","v":0},{"$f":"_xlfn.XLOOKUP(C1316,Data!C:C,Data!H:H,0)","v":0},null,"",{"$f":"_xlfn.XLOOKUP(C1316,Data!C:C,Data!F:F,\"\")","v":""},null,{"$error":"#N/A"}]
["23-3-2021","21:54:00","2021-03-23T21:54:00",null,{"$f":"_xlfn.XLOOKUP(C1317,Data!C:C,Data!I:I)","v":{"$error":"#N/A"}},{"$error":"#N/A"},{"$f":"_xlfn.XLOOKUP(C1317,Data!C:C,Data!G:G,0)","v":0},{"$f":"_xlfn.XLOOKUP(C1317,Data!C:C,Data!F:F,0)","v":0},{"$f":"_xlfn.XLOOKUP(C1317,Data!C:C,Data!H:H,0)","v":0},null,"",{"$f":"_xlfn.XLOOKUP(C1317,Data!C:C,Data!F:F,\"\")","v":""},null,{"$error":"#N/A"}]
["23-3-2021","21:55:00","2021-03-23T21:55:00",null,{"$f":"_xlfn.XLOOKUP(C1318,Data!C:C,Data!I:I)","v":{"$error":"#N/A"}},{"$error":"#N/A"},{"$f":"_xlfn.XLOOKUP(C1318,Data!C:C,Data!G:G,0)","v":0},{"$f":"_xlfn.XLOOKUP(C1318,Data!C:C,Data!F:F,0)","v":0},{"$f":"_xlfn.XLOOKUP(C1318,Data!C:C,Data!H:H,0)","v":0},null,"",{"$f":"_xlfn.XLOOKUP(C1318,Data!C:C,Data!F:F,\"\")","v":""},null,{"$error":"#N/A"}]
["23-3-2021","21:56:00","2021-03-23T21:56:00",null,{"$f":"_xlfn.XLOOKUP(C1319,Data!C:C,Data!I:I)","v":{"$error":"#N/A"}},{"$error":"#N/A"},{"$f":"_xlfn.XLOOKUP(C1319,Data!C:C,Data!G:G,0)","v":0},{"$f":"_xlfn.XLOOKUP(C1319,Data!C:C,Data!F:F,0)","v":0},{"$f":"_xlfn.XLOOKUP(C1319,Data!C:C,Data!H:H,0)","v":0},null,"",{"$f":"_xlfn.XLOOKUP(C1319,Data!C:C,Data!F:F,\"\")","v":""},null,{"$error":"#N/A"}]
["23-3-2021","21:57:00","2021-03-23T21:57:00",null,{"$f":"_xlfn.XLOOKUP(C1320,Data!C:C,Data!I:I)","v":{"$error":"#N/A"}},{"$error":"#N/A"},{"$f":"_xlfn.XLOOKUP(C1320,Data!C:C,Data!G:G,0)","v":0},{"$f":"_xlfn.XLOOKUP(C1320,Data!C:C,Data!F:F,0)","v":0},{"$f":"_xlfn.XLOOKUP(C1320,Data!C:C,Data!H:H,0)","v":0},null,"",{"$f":"_xlfn.XLOOKUP(C1320,Data!C:C,Data!F:F,\"\")","v":""},null,{"$error":"#N/A"}]
["23-3-2021","21:58:00","2021-03-23T21:58:00",null,{"$f":"_xlfn.XLOOKUP(C1321,Data!C:C,Data!I:I)","v":{"$error":"#N/A"}},{"$error":"#N/A"},{"$f":"_xlfn.XLOOKUP(C1321,Data!C:C,Data!G:G,0)","v":0},{"$f":"_xlfn.XLOOKUP(C1321,Data!C:C,Data!F:F,0)","v":0},{"$f":"_xlfn.XLOOKUP(C1321,Data!C:C,Data!H:H,0)","v":0},null,"",{"$f":"_xlfn.XLOOKUP(C1321,Data!C:C,Data!F:F,\"\")","v":""},null,{"$error":"#N/A"}]
["23-3-2021","21:59:00","2021-03-23T21:59:00",null,{"$f":"_xlfn.XLOOKUP(C1322,Data!C:C,Data!I:I)","v":{"$error":"#N/A"}},{"$error":"#N/A"},{"$f":"_xlfn.XLOOKUP(C1322,Data!C:C,Data!G:G,0)","v":0},{"$f":"_xlfn.XLOOKUP(C1322,Data!C:C,Data!F:F,0)","v":0},{"$f":"_xlfn.XLOOKUP(C1322,Data!C:C,Data!H:H,0)","v":0},null,"",{"$f":"_xlfn.XLOOKUP(C1322,Data!C:C,Data!F:F,\"\")","v":""},null,{"$error":"#N/A"}]
["23-3-2021","22:00:00","2021-03-23T22:00:00",null,{"$f":"_xlfn.XLOOKUP(C1323,Data!C:C,Data!I:I)","v":{"$error":"#N/A"}},{"$error":"#N/A"},{"$f":"_xlfn.XLOOKUP(C1323,Data!C:C,Data!G:G,0)","v":0},{"$f":"_xlfn.XLOOKUP(C1323,Data!C:C,Data!F:F,0)","v":0},{"$f":"_xlfn.XLOOKUP(C1323,Data!C:C,Data!H:H,0)","v":0},null,"",{"$f":"_xlfn.XLOOKUP(C1323,Data!C:C,Data!F:F,\"\")","v":""},null,{"$error":"#N/A"}]
["23-3-2021","22:01:00","2021-03-23T22:01:00",null,{"$f":"_xlfn.XLOOKUP(C1324,Data!C:C,Data!I:I)","v":{"$error":"#N/A"}},{"$error":"#N/A"},{"$f":"_xlfn.XLOOKUP(C1324,Data!C:C,Data!G:G,0)","v":0},{"$f":"_xlfn.XLOOKUP(C1324,Data!C:C,Data!F:F,0)","v":0},{"$f":"_xlfn.XLOOKUP(C1324,Data!C:C,Data!H:H,0)","v":0},null,"",{"$f":"_xlfn.XLOOKUP(C1324,Data!C:C,Data!F:F,\"\")","v":""},null,{"$error":"#N/A"}]
["23-3-2021","22:02:00","2021-03-23T22:02:00",null,{"$f":"_xlfn.XLOOKUP(C1325,Data!C:C,Data!I:I)","v":{"$error":"#N/A"}},{"$error":"#N/A"},{"$f":"_xlfn.XLOOKUP(C1325,Data!C:C,Data!G:G,0)","v":0},{"$f":"_xlfn.XLOOKUP(C1325,Data!C:C,Data!F:F,0)","v":0},{"$f":"_xlfn.XLOOKUP(C1325,Data!C:C,Data!H:H,0)","v":0},null,"",{"$f":"_xlfn.XLOOKUP(C1325,Data!C:C,Data!F:F,\"\")","v":""},null,{"$error":"#N/A"}]
["23-3-2021","22:03:00","2021-03-23T22:03:00",null,{"$f":"_xlfn.XLOOKUP(C1326,Data!C:C,Data!I:I)","v":{"$error":"#N/A"}},{"$error":"#N/A"},{"$f":"_xlfn.XLOOKUP(C1326,Data!C:C,Data!G:G,0)","v":0},{"$f":"_xlfn.XLOOKUP(C1326,Data!C:C,Data!F:F,0)","v":0},{"$f":"_xlfn.XLOOKUP(C1326,Data!C:C,Data!H:H,0)","v":0},null,"",{"$f":"_xlfn.XLOOKUP(C1326,Data!C:C,Data!F:F,\"\")","v":""},null,{"$error":"#N/A"}]
["23-3-2021","22:04:00","2021-03-23T22:04:00",null,{"$f":"_xlfn.XLOOKUP(C1327,Data!C:C,Data!I:I)","v":{"$error":"#N/A"}},{"$error":"#N/A"},{"$f":"_xlfn.XLOOKUP(C1327,Data!C:C,Data!G:G,0)","v":0},{"$f":"_xlfn.XLOOKUP(C1327,Data!C:C,Data!F:F,0)","v":0},{"$f":"_xlfn.XLOOKUP(C1327,Data!C:C,Data!H:H,0)","v":0},null,"",{"$f":"_xlfn.XLOOKUP(C1327,Data!C:C,Data!F:F,\"\")","v":""},null,{"$error":"#N/A"}]
["23-3-2021","22:05:00","2021-03-23T22:05:00",null,{"$f":"_xlfn.XLOOKUP(C1328,Data!C:C,Data!I:I)","v":{"$error":"#N/A"}},{"$error":"#N/A"},{"$f":"_xlfn.XLOOKUP(C1328,Data!C:C,Data!G:G,0)","v":0},{"$f":"_xlfn.XLOOKUP(C1328,Data!C:C,Data!F:F,0)","v":0},{"$f":"_xlfn.XLOOKUP(C1328,Data!C:C,Data!H:H,0)","v":0},null,"",{"$f":"_xlfn.XLOOKUP(C1328,Data!C:C,Data!F:F,\"\")","v":""},null,{"$error":"#N/A"}]
["23-3-2021","22:06:00","2021-03-23T22:06:00",null,{"$f":"_xlfn.XLOOKUP(C1329,Data!C:C,Data!I:I)","v":{"$error":"#N/A"}},{"$error":"#N/A"},{"$f":"_xlfn.XLOOKUP(C1329,Data!C:C,Data!G:G,0)","v":0},{"$f":"_xlfn.XLOOKUP(C1329,Data!C:C,Data!F:F,0)","v":0},{"$f":"_xlfn.XLOOKUP(C1329,Data!C:C,Data!H:H,0)","v":0},null,"",{"$f":"_xlfn.XLOOKUP(C1329,Data!C:C,Data!F:F,\"\")","v":""},null,{"$error":"#N/A"}]
["23-3-2021","22:07:00","2021-03-23T22:07:00",null,{"$f":"_xlfn.XLOOKUP(C1330,Data!C:C,Data!I:I)","v":{"$error":"#N/A"}},{"$error":"#N/A"},{"$f":"_xlfn.XLOOKUP(C1330,Data!C:C,Data!G:G,0)","v":0},{"$f":"_xlfn.XLOOKUP(C1330,Data!C:C,Data!F:F,0)","v":0},{"$f":"_xlfn.XLOOKUP(C1330,Data!C:C,Data!H:H,0)","v":0},null,"",{"$f":"_xlfn.XLOOKUP(C1330,Data!C:C,Data!F:F,\"\")","v":""},null,{"$error":"#N/A"}]
["23-3-2021","22:08:00","2021-03-23T22:08:00",null,{"$f":"_xlfn.XLOOKUP(C1331,Data!C:C,Data!I:I)","v":{"$error":"#N/A"}},{"$error":"#N/A"},{"$f":"_xlfn.XLOOKUP(C1331,Data!C:C,Data!G:G,0)","v":0},{"$f":"_xlfn.XLOOKUP(C1331,Data!C:C,Data!F:F,0)","v":0},{"$f":"_xlfn.XLOOKUP(C1331,Data!C:C,Data!H:H,0)","v":0},null,"",{"$f":"_xlfn.XLOOKUP(C1331,Data!C:C,Data!F:F,\"\")","v":""},null,{"$error":"#N/A"}]
["23-3-2021","22:09:00","2021-03-23T22:09:00",null,{"$f":"_xlfn.XLOOKUP(C1332,Data!C:C,Data!I:I)","v":{"$error":"#N/A"}},{"$error":"#N/A"},{"$f":"_xlfn.XLOOKUP(C1332,Data!C:C,Data!G:G,0)","v":0},{"$f":"_xlfn.XLOOKUP(C1332,Data!C:C,Data!F:F,0)","v":0},{"$f":"_xlfn.XLOOKUP(C1332,Data!C:C,Data!H:H,0)","v":0},null,"",{"$f":"_xlfn.XLOOKUP(C1332,Data!C:C,Data!F:F,\"\")","v":""},null,{"$error":"#N/A"}]
["23-3-2021","22:10:00","2021-03-23T22:10:00",null,{"$f":"_xlfn.XLOOKUP(C1333,Data!C:C,Data!I:I)","v":{"$error":"#N/A"}},{"$error":"#N/A"},{"$f":"_xlfn.XLOOKUP(C1333,Data!C:C,Data!G:G,0)","v":0},{"$f":"_xlfn.XLOOKUP(C1333,Data!C:C,Data!F:F,0)","v":0},{"$f":"_xlfn.XLOOKUP(C1333,Data!C:C,Data!H:H,0)","v":0},null,"",{"$f":"_xlfn.XLOOKUP(C1333,Data!C:C,Data!F:F,\"\")","v":""},null,{"$error":"#N/A"}]
["23-3-2021","22:11:00","2021-03-23T22:11:00",null,{"$f":"_xlfn.XLOOKUP(C1334,Data!C:C,Data!I:I)","v":{"$error":"#N/A"}},{"$error":"#N/A"},{"$f":"_xlfn.XLOOKUP(C1334,Data!C:C,Data!G:G,0)","v":0},{"$f":"_xlfn.XLOOKUP(C1334,Data!C:C,Data!F:F,0)","v":0},{"$f":"_xlfn.XLOOKUP(C1334,Data!C:C,Data!H:H,0)","v":0},null,"",{"$f":"_xlfn.XLOOKUP(C1334,Data!C:C,Data!F:F,\"\")","v":""},null,{"$error":"#N/A"}]
["23-3-2021","22:12:00","2021-03-23T22:12:00",null,{"$f":"_xlfn.XLOOKUP(C1335,Data!C:C,Data!I:I)","v":{"$error":"#N/A"}},{"$error":"#N/A"},{"$f":"_xlfn.XLOOKUP(C1335,Data!C:C,Data!G:G,0)","v":0},{"$f":"_xlfn.XLOOKUP(C1335,Data!C:C,Data!F:F,0)","v":0},{"$f":"_xlfn.XLOOKUP(C1335,Data!C:C,Data!H:H,0)","v":0},null,"",{"$f":"_xlfn.XLOOKUP(C1335,Data!C:C,Data!F:F,\"\")","v":""},null,{"$error":"#N/A"}]
["23-3-2021","22:13:00","2021-03-23T22:13:00",null,{"$f":"_xlfn.XLOOKUP(C1336,Data!C:C,Data!I:I)","v":{"$error":"#N/A"}},{"$error":"#N/A"},{"$f":"_xlfn.XLOOKUP(C1336,Data!C:C,Data!G:G,0)","v":0},{"$f":"_xlfn.XLOOKUP(C1336,Data!C:C,Data!F:F,0)","v":0},{"$f":"_xlfn.XLOOKUP(C1336,Data!C:C,Data!H:H,0)","v":0},null,"",{"$f":"_xlfn.XLOOKUP(C1336,Data!C:C,Data!F:F,\"\")","v":""},null,{"$error":"#N/A"}]
["23-3-2021","22:14:00","2021-03-23T22:14:00",null,{"$f":"_xlfn.XLOOKUP(C1337,Data!C:C,Data!I:I)","v":{"$error":"#N/A"}},{"$error":"#N/A"},{"$f":"_xlfn.XLOOKUP(C1337,Data!C:C,Data!G:G,0)","v":0},{"$f":"_xlfn.XLOOKUP(C1337,Data!C:C,Data!F:F,0)","v":0},{"$f":"_xlfn.XLOOKUP(C1337,Data!C:C,Data!H:H,0)","v":0},null,"",{"$f":"_xlfn.XLOOKUP(C1337,Data!C:C,Data!F:F,\"\")","v":""},null,{"$error":"#N/A"}]
["23-3-2021","22:15:00","2021-03-23T22:15:00",null,{"$f":"_xlfn.XLOOKUP(C1338,Data!C:C,Data!I:I)","v":{"$error":"#N/A"}},{"$error":"#N/A"},{"$f":"_xlfn.XLOOKUP(C1338,Data!C:C,Data!G:G,0)","v":0},{"$f":"_xlfn.XLOOKUP(C1338,Data!C:C,Data!F:F,0)","v":0},{"$f":"_xlfn.XLOOKUP(C1338,Data!C:C,Data!H:H,0)","v":0},null,"",{"$f":"_xlfn.XLOOKUP(C1338,Data!C:C,Data!F:F,\"\")","v":""},null,{"$error":"#N/A"}]
["23-3-2021","22:16:00","2021-03-23T22:16:00",null,{"$f":"_xlfn.XLOOKUP(C1339,Data!C:C,Data!I:I)","v":{"$error":"#N/A"}},{"$error":"#N/A"},{"$f":"_xlfn.XLOOKUP(C1339,Data!C:C,Data!G:G,0)","v":0},{"$f":"_xlfn.XLOOKUP(C1339,Data!C:C,Data!F:F,0)","v":0},{"$f":"_xlfn.XLOOKUP(C1339,Data!C:C,Data!H:H,0)","v":0},null,"",{"$f":"_xlfn.XLOOKUP(C1339,Data!C:C,Data!F:F,\"\")","v":""},null,{"$error":"#N/A"}]
["23-3-2021","22:17:00","2021-03-23T22:17:00",null,{"$f":"_xlfn.XLOOKUP(C1340,Data!C:C,Data!I:I)","v":{"$error":"#N/A"}},{"$error":"#N/A"},{"$f":"_xlfn.XLOOKUP(C1340,Data!C:C,Data!G:G,0)","v":0},{"$f":"_xlfn.XLOOKUP(C1340,Data!C:C,Data!F:F,0)","v":0},{"$f":"_xlfn.XLOOKUP(C1340,Data!C:C,Data!H:H,0)","v":0},null,"",{"$f":"_xlfn.XLOOKUP(C1340,Data!C:C,Data!F:F,\"\")","v":""},null,{"$error":"#N/A"}]
["23-3-2021","22:18:00","2021-03-23T22:18:00",null,{"$f":"_xlfn.XLOOKUP(C1341,Data!C:C,Data!I:I)","v":{"$error":"#N/A"}},{"$error":"#N/A"},{"$f":"_xlfn.XLOOKUP(C1341,Data!C:C,Data!G:G,0)","v":0},{"$f":"_xlfn.XLOOKUP(C1341,Data!C:C,Data!F:F,0)","v":0},{"$f":"_xlfn.XLOOKUP(C1341,Data!C:C,Data!H:H,0)","v":0},null,"",{"$f":"_xlfn.XLOOKUP(C1341,Data!C:C,Data!F:F,\"\")","v":""},null,{"$error":"#N/A"}]
["23-3-2021","22:19:00","2021-03-23T22:19:00",null,{"$f":"_xlfn.XLOOKUP(C1342,Data!C:C,Data!I:I)","v":{"$error":"#N/A"}},{"$error":"#N/A"},{"$f":"_xlfn.XLOOKUP(C1342,Data!C:C,Data!G:G,0)","v":0},{"$f":"_xlfn.XLOOKUP(C1342,Data!C:C,Data!F:F,0)","v":0},{"$f":"_xlfn.XLOOKUP(C1342,Data!C:C,Data!H:H,0)","v":0},null,"",{"$f":"_xlfn.XLOOKUP(C1342,Data!C:C,Data!F:F,\"\")","v":""},null,{"$error":"#N/A"}]
["23-3-2021","22:20:00","2021-03-23T22:20:00",null,{"$f":"_xlfn.XLOOKUP(C1343,Data!C:C,Data!I:I)","v":{"$error":"#N/A"}},{"$error":"#N/A"},{"$f":"_xlfn.XLOOKUP(C1343,Data!C:C,Data!G:G,0)","v":0},{"$f":"_xlfn.XLOOKUP(C1343,Data!C:C,Data!F:F,0)","v":0},{"$f":"_xlfn.XLOOKUP(C1343,Data!C:C,Data!H:H,0)","v":0},null,"",{"$f":"_xlfn.XLOOKUP(C1343,Data!C:C,Data!F:F,\"\")","v":""},null,{"$error":"#N/A"}]
["23-3-2021","22:21:00","2021-03-23T22:21:00",null,{"$f":"_xlfn.XLOOKUP(C1344,Data!C:C,Data!I:I)","v":{"$error":"#N/A"}},{"$error":"#N/A"},{"$f":"_xlfn.XLOOKUP(C1344,Data!C:C,Data!G:G,0)","v":0},{"$f":"_xlfn.XLOOKUP(C1344,Data!C:C,Data!F:F,0)","v":0},{"$f":"_xlfn.XLOOKUP(C1344,Data!C:C,Data!H:H,0)","v":0},null,"",{"$f":"_xlfn.XLOOKUP(C1344,Data!C:C,Data!F:F,\"\")","v":""},null,{"$error":"#N/A"}]
["23-3-2021","22:22:00","2021-03-23T22:22:00",null,{"$f":"_xlfn.XLOOKUP(C1345,Data!C:C,Data!I:I)","v":{"$error":"#N/A"}},{"$error":"#N/A"},{"$f":"_xlfn.XLOOKUP(C1345,Data!C:C,Data!G:G,0)","v":0},{"$f":"_xlfn.XLOOKUP(C1345,Data!C:C,Data!F:F,0)","v":0},{"$f":"_xlfn.XLOOKUP(C1345,Data!C:C,Data!H:H,0)","v":0},null,"",{"$f":"_xlfn.XLOOKUP(C1345,Data!C:C,Data!F:F,\"\")","v":""},null,{"$error":"#N/A"}]
["23-3-2021","22:23:00","2021-03-23T22:23:00",null,{"$f":"_xlfn.XLOOKUP(C1346,Data!C:C,Data!I:I)","v":{"$error":"#N/A"}},{"$error":"#N/A"},{"$f":"_xlfn.XLOOKUP(C1346,Data!C:C,Data!G:G,0)","v":0},{"$f":"_xlfn.XLOOKUP(C1346,Data!C:C,Data!F:F,0)","v":0},{"$f":"_xlfn.XLOOKUP(C1346,Data!C:C,Data!H:H,0)","v":0},null,"",{"$f":"_xlfn.XLOOKUP(C1346,Data!C:C,Data!F:F,\"\")","v":""},null,{"$error":"#N/A"}]
["23-3-2021","22:24:00",{"$f":"A1347+B1347","v":"2021-03-23T22:24:00"},null,{"$f":"_xlfn.XLOOKUP(C1347,Data!C:C,Data!I:I)","v":{"$error":"#N/A"}},{"$error":"#N/A"},{"$f":"_xlfn.XLOOKUP(C1347,Data!C:C,Data!G:G,0)","v":0},{"$f":"_xlfn.XLOOKUP(C1347,Data!C:C,Data!F:F,0)","v":0},{"$f":"_xlfn.XLOOKUP(C1347,Data!C:C,Data!H:H,0)","v":0},null,"",{"$f":"_xlfn.XLOOKUP(C1347,Data!C:C,Data!F:F,\"\")","v":""},null,{"$error":"#N/A"}]
[{"$f":"$A$3","v":"23-3-2021"},"22:25:00","2021-03-23T22:25:00",null,{"$f":"_xlfn.XLOOKUP(C1348,Data!C:C,Data!I:I)","v":{"$error":"#N/A"}},{"$f":"IF(E1348=255,F1347,E1348)","v":{"$error":"#N/A"}},{"$f":"_xlfn.XLOOKUP(C1348,Data!C:C,Data!G:G,0)","v":0},{"$f":"_xlfn.XLOOKUP(C1348,Data!C:C,Data!F:F,0)","v":0},{"$f":"_xlfn.XLOOKUP(C1348,Data!C:C,Data!H:H,0)","v":0},null,{"$f":"IFERROR(IF(F1348=\"#N/A\",\"\",F1348),\"\")","v":""},{"$f":"_xlfn.XLOOKUP(C1348,Data!C:C,Data!F:F,\"\")","v":""},null,{"$error":"#N/A"}]
["23-3-2021","22:26:00","2021-03-23T22:26:00",null,{"$f":"_xlfn.XLOOKUP(C1349,Data!C:C,Data!I:I)","v":{"$error":"#N/A"}},{"$error":"#N/A"},{"$f":"_xlfn.XLOOKUP(C1349,Data!C:C,Data!G:G,0)","v":0},{"$f":"_xlfn.XLOOKUP(C1349,Data!C:C,Data!F:F,0)","v":0},{"$f":"_xlfn.XLOOKUP(C1349,Data!C:C,Data!H:H,0)","v":0},null,"",{"$f":"_xlfn.XLOOKUP(C1349,Data!C:C,Data!F:F,\"\")","v":""},null,{"$error":"#N/A"}]
["23-3-2021","22:27:00","2021-03-23T22:27:00",null,{"$f":"_xlfn.XLOOKUP(C1350,Data!C:C,Data!I:I)","v":{"$error":"#N/A"}},{"$error":"#N/A"},{"$f":"_xlfn.XLOOKUP(C1350,Data!C:C,Data!G:G,0)","v":0},{"$f":"_xlfn.XLOOKUP(C1350,Data!C:C,Data!F:F,0)","v":0},{"$f":"_xlfn.XLOOKUP(C1350,Data!C:C,Data!H:H,0)","v":0},null,"",{"$f":"_xlfn.XLOOKUP(C1350,Data!C:C,Data!F:F,\"\")","v":""},null,{"$error":"#N/A"}]
["23-3-2021","22:28:00","2021-03-23T22:28:00",null,{"$f":"_xlfn.XLOOKUP(C1351,Data!C:C,Data!I:I)","v":{"$error":"#N/A"}},{"$error":"#N/A"},{"$f":"_xlfn.XLOOKUP(C1351,Data!C:C,Data!G:G,0)","v":0},{"$f":"_xlfn.XLOOKUP(C1351,Data!C:C,Data!F:F,0)","v":0},{"$f":"_xlfn.XLOOKUP(C1351,Data!C:C,Data!H:H,0)","v":0},null,"",{"$f":"_xlfn.XLOOKUP(C1351,Data!C:C,Data!F:F,\"\")","v":""},null,{"$f":"IF(F1351=\"\",\"\",AVERAGE(F1347:F1355))","v":{"$error":"#N/A"}}]
["23-3-2021","22:29:00","2021-03-23T22:29:00",null,{"$f":"_xlfn.XLOOKUP(C1352,Data!C:C,Data!I:I)","v":{"$error":"#N/A"}},{"$error":"#N/A"},{"$f":"_xlfn.XLOOKUP(C1352,Data!C:C,Data!G:G,0)","v":0},{"$f":"_xlfn.XLOOKUP(C1352,Data!C:C,Data!F:F,0)","v":0},{"$f":"_xlfn.XLOOKUP(C1352,Data!C:C,Data!H:H,0)","v":0},null,"",{"$f":"_xlfn.XLOOKUP(C1352,Data!C:C,Data!F:F,\"\")","v":""},null,{"$error":"#N/A"}]
["23-3-2021","22:30:00","2021-03-23T22:30:00",null,{"$f":"_xlfn.XLOOKUP(C1353,Data!C:C,Data!I:I)","v":{"$error":"#N/A"}},{"$error":"#N/A"},{"$f":"_xlfn.XLOOKUP(C1353,Data!C:C,Data!G:G,0)","v":0},{"$f":"_xlfn.XLOOKUP(C1353,Data!C:C,Data!F:F,0)","v":0},{"$f":"_xlfn.XLOOKUP(C1353,Data!C:C,Data!H:H,0)","v":0},null,"",{"$f":"_xlfn.XLOOKUP(C1353,Data!C:C,Data!F:F,\"\")","v":""},null,{"$error":"#N/A"}]
["23-3-2021","22:31:00","2021-03-23T22:31:00",null,{"$f":"_xlfn.XLOOKUP(C1354,Data!C:C,Data!I:I)","v":{"$error":"#N/A"}},{"$error":"#N/A"},{"$f":"_xlfn.XLOOKUP(C1354,Data!C:C,Data!G:G,0)","v":0},{"$f":"_xlfn.XLOOKUP(C1354,Data!C:C,Data!F:F,0)","v":0},{"$f":"_xlfn.XLOOKUP(C1354,Data!C:C,Data!H:H,0)","v":0},null,"",{"$f":"_xlfn.XLOOKUP(C1354,Data!C:C,Data!F:F,\"\")","v":""},null,{"$error":"#N/A"}]
["23-3-2021","22:32:00","2021-03-23T22:32:00",null,{"$f":"_xlfn.XLOOKUP(C1355,Data!C:C,Data!I:I)","v":{"$error":"#N/A"}},{"$error":"#N/A"},{"$f":"_xlfn.XLOOKUP(C1355,Data!C:C,Data!G:G,0)","v":0},{"$f":"_xlfn.XLOOKUP(C1355,Data!C:C,Data!F:F,0)","v":0},{"$f":"_xlfn.XLOOKUP(C1355,Data!C:C,Data!H:H,0)","v":0},null,"",{"$f":"_xlfn.XLOOKUP(C1355,Data!C:C,Data!F:F,\"\")","v":""},null,{"$error":"#N/A"}]
["23-3-2021","22:33:00","2021-03-23T22:33:00",null,{"$f":"_xlfn.XLOOKUP(C1356,Data!C:C,Data!I:I)","v":{"$error":"#N/A"}},{"$error":"#N/A"},{"$f":"_xlfn.XLOOKUP(C1356,Data!C:C,Data!G:G,0)","v":0},{"$f":"_xlfn.XLOOKUP(C1356,Data!C:C,Data!F:F,0)","v":0},{"$f":"_xlfn.XLOOKUP(C1356,Data!C:C,Data!H:H,0)","v":0},null,"",{"$f":"_xlfn.XLOOKUP(C1356,Data!C:C,Data!F:F,\"\")","v":""},null,{"$error":"#N/A"}]
["23-3-2021","22:34:00","2021-03-23T22:34:00",null,{"$f":"_xlfn.XLOOKUP(C1357,Data!C:C,Data!I:I)","v":{"$error":"#N/A"}},{"$error":"#N/A"},{"$f":"_xlfn.XLOOKUP(C1357,Data!C:C,Data!G:G,0)","v":0},{"$f":"_xlfn.XLOOKUP(C1357,Data!C:C,Data!F:F,0)","v":0},{"$f":"_xlfn.XLOOKUP(C1357,Data!C:C,Data!H:H,0)","v":0},null,"",{"$f":"_xlfn.XLOOKUP(C1357,Data!C:C,Data!F:F,\"\")","v":""},null,{"$error":"#N/A"}]
["23-3-2021","22:35:00","2021-03-23T22:35:00",null,{"$f":"_xlfn.XLOOKUP(C1358,Data!C:C,Data!I:I)","v":{"$error":"#N/A"}},{"$error":"#N/A"},{"$f":"_xlfn.XLOOKUP(C1358,Data!C:C,Data!G:G,0)","v":0},{"$f":"_xlfn.XLOOKUP(C1358,Data!C:C,Data!F:F,0)","v":0},{"$f":"_xlfn.XLOOKUP(C1358,Data!C:C,Data!H:H,0)","v":0},null,"",{"$f":"_xlfn.XLOOKUP(C1358,Data!C:C,Data!F:F,\"\")","v":""},null,{"$error":"#N/A"}]
["23-3-2021","22:36:00","2021-03-23T22:36:00",null,{"$f":"_xlfn.XLOOKUP(C1359,Data!C:C,Data!I:I)","v":{"$error":"#N/A"}},{"$error":"#N/A"},{"$f":"_xlfn.XLOOKUP(C1359,Data!C:C,Data!G:G,0)","v":0},{"$f":"_xlfn.XLOOKUP(C1359,Data!C:C,Data!F:F,0)","v":0},{"$f":"_xlfn.XLOOKUP(C1359,Data!C:C,Data!H:H,0)","v":0},null,"",{"$f":"_xlfn.XLOOKUP(C1359,Data!C:C,Data!F:F,\"\")","v":""},null,{"$error":"#N/A"}]
["23-3-2021","22:37:00","2021-03-23T22:37:00",null,{"$f":"_xlfn.XLOOKUP(C1360,Data!C:C,Data!I:I)","v":{"$error":"#N/A"}},{"$error":"#N/A"},{"$f":"_xlfn.XLOOKUP(C1360,Data!C:C,Data!G:G,0)","v":0},{"$f":"_xlfn.XLOOKUP(C1360,Data!C:C,Data!F:F,0)","v":0},{"$f":"_xlfn.XLOOKUP(C1360,Data!C:C,Data!H:H,0)","v":0},null,"",{"$f":"_xlfn.XLOOKUP(C1360,Data!C:C,Data!F:F,\"\")","v":""},null,{"$error":"#N/A"}]
["23-3-2021","22:38:00","2021-03-23T22:38:00",null,{"$f":"_xlfn.XLOOKUP(C1361,Data!C:C,Data!I:I)","v":{"$error":"#N/A"}},{"$error":"#N/A"},{"$f":"_xlfn.XLOOKUP(C1361,Data!C:C,Data!G:G,0)","v":0},{"$f":"_xlfn.XLOOKUP(C1361,Data!C:C,Data!F:F,0)","v":0},{"$f":"_xlfn.XLOOKUP(C1361,Data!C:C,Data!H:H,0)","v":0},null,"",{"$f":"_xlfn.XLOOKUP(C1361,Data!C:C,Data!F:F,\"\")","v":""},null,{"$error":"#N/A"}]
["23-3-2021","22:39:00","2021-03-23T22:39:00",null,{"$f":"_xlfn.XLOOKUP(C1362,Data!C:C,Data!I:I)","v":{"$error":"#N/A"}},{"$error":"#N/A"},{"$f":"_xlfn.XLOOKUP(C1362,Data!C:C,Data!G:G,0)","v":0},{"$f":"_xlfn.XLOOKUP(C1362,Data!C:C,Data!F:F,0)","v":0},{"$f":"_xlfn.XLOOKUP(C1362,Data!C:C,Data!H:H,0)","v":0},null,"",{"$f":"_xlfn.XLOOKUP(C1362,Data!C:C,Data!F:F,\"\")","v":""},null,{"$error":"#N/A"}]
["23-3-2021","22:40:00","2021-03-23T22:40:00",null,{"$f":"_xlfn.XLOOKUP(C1363,Data!C:C,Data!I:I)","v":{"$error":"#N/A"}},{"$error":"#N/A"},{"$f":"_xlfn.XLOOKUP(C1363,Data!C:C,Data!G:G,0)","v":0},{"$f":"_xlfn.XLOOKUP(C1363,Data!C:C,Data!F:F,0)","v":0},{"$f":"_xlfn.XLOOKUP(C1363,Data!C:C,Data!H:H,0)","v":0},null,"",{"$f":"_xlfn.XLOOKUP(C1363,Data!C:C,Data!F:F,\"\")","v":""},null,{"$error":"#N/A"}]
["23-3-2021","22:41:00","2021-03-23T22:41:00",null,{"$f":"_xlfn.XLOOKUP(C1364,Data!C:C,Data!I:I)","v":{"$error":"#N/A"}},{"$error":"#N/A"},{"$f":"_xlfn.XLOOKUP(C1364,Data!C:C,Data!G:G,0)","v":0},{"$f":"_xlfn.XLOOKUP(C1364,Data!C:C,Data!F:F,0)","v":0},{"$f":"_xlfn.XLOOKUP(C1364,Data!C:C,Data!H:H,0)","v":0},null,"",{"$f":"_xlfn.XLOOKUP(C1364,Data!C:C,Data!F:F,\"\")","v":""},null,{"$error":"#N/A"}]
["23-3-2021","22:42:00","2021-03-23T22:42:00",null,{"$f":"_xlfn.XLOOKUP(C1365,Data!C:C,Data!I:I)","v":{"$error":"#N/A"}},{"$error":"#N/A"},{"$f":"_xlfn.XLOOKUP(C1365,Data!C:C,Data!G:G,0)","v":0},{"$f":"_xlfn.XLOOKUP(C1365,Data!C:C,Data!F:F,0)","v":0},{"$f":"_xlfn.XLOOKUP(C1365,Data!C:C,Data!H:H,0)","v":0},null,"",{"$f":"_xlfn.XLOOKUP(C1365,Data!C:C,Data!F:F,\"\")","v":""},null,{"$error":"#N/A"}]
["23-3-2021","22:43:00","2021-03-23T22:43:00",null,{"$f":"_xlfn.XLOOKUP(C1366,Data!C:C,Data!I:I)","v":{"$error":"#N/A"}},{"$error":"#N/A"},{"$f":"_xlfn.XLOOKUP(C1366,Data!C:C,Data!G:G,0)","v":0},{"$f":"_xlfn.XLOOKUP(C1366,Data!C:C,Data!F:F,0)","v":0},{"$f":"_xlfn.XLOOKUP(C1366,Data!C:C,Data!H:H,0)","v":0},null,"",{"$f":"_xlfn.XLOOKUP(C1366,Data!C:C,Data!F:F,\"\")","v":""},null,{"$error":"#N/A"}]
["23-3-2021","22:44:00","2021-03-23T22:44:00",null,{"$f":"_xlfn.XLOOKUP(C1367,Data!C:C,Data!I:I)","v":{"$error":"#N/A"}},{"$error":"#N/A"},{"$f":"_xlfn.XLOOKUP(C1367,Data!C:C,Data!G:G,0)","v":0},{"$f":"_xlfn.XLOOKUP(C1367,Data!C:C,Data!F:F,0)","v":0},{"$f":"_xlfn.XLOOKUP(C1367,Data!C:C,Data!H:H,0)","v":0},null,"",{"$f":"_xlfn.XLOOKUP(C1367,Data!C:C,Data!F:F,\"\")","v":""},null,{"$error":"#N/A"}]
["23-3-2021","22:45:00","2021-03-23T22:45:00",null,{"$f":"_xlfn.XLOOKUP(C1368,Data!C:C,Data!I:I)","v":{"$error":"#N/A"}},{"$error":"#N/A"},{"$f":"_xlfn.XLOOKUP(C1368,Data!C:C,Data!G:G,0)","v":0},{"$f":"_xlfn.XLOOKUP(C1368,Data!C:C,Data!F:F,0)","v":0},{"$f":"_xlfn.XLOOKUP(C1368,Data!C:C,Data!H:H,0)","v":0},null,"",{"$f":"_xlfn.XLOOKUP(C1368,Data!C:C,Data!F:F,\"\")","v":""},null,{"$error":"#N/A"}]
["23-3-2021","22:46:00","2021-03-23T22:46:00",null,{"$f":"_xlfn.XLOOKUP(C1369,Data!C:C,Data!I:I)","v":{"$error":"#N/A"}},{"$error":"#N/A"},{"$f":"_xlfn.XLOOKUP(C1369,Data!C:C,Data!G:G,0)","v":0},{"$f":"_xlfn.XLOOKUP(C1369,Data!C:C,Data!F:F,0)","v":0},{"$f":"_xlfn.XLOOKUP(C1369,Data!C:C,Data!H:H,0)","v":0},null,"",{"$f":"_xlfn.XLOOKUP(C1369,Data!C:C,Data!F:F,\"\")","v":""},null,{"$error":"#N/A"}]
["23-3-2021","22:47:00","2021-03-23T22:47:00",null,{"$f":"_xlfn.XLOOKUP(C1370,Data!C:C,Data!I:I)","v":{"$error":"#N/A"}},{"$error":"#N/A"},{"$f":"_xlfn.XLOOKUP(C1370,Data!C:C,Data!G:G,0)","v":0},{"$f":"_xlfn.XLOOKUP(C1370,Data!C:C,Data!F:F,0)","v":0},{"$f":"_xlfn.XLOOKUP(C1370,Data!C:C,Data!H:H,0)","v":0},null,"",{"$f":"_xlfn.XLOOKUP(C1370,Data!C:C,Data!F:F,\"\")","v":""},null,{"$error":"#N/A"}]
["23-3-2021","22:48:00","2021-03-23T22:48:00",null,{"$f":"_xlfn.XLOOKUP(C1371,Data!C:C,Data!I:I)","v":{"$error":"#N/A"}},{"$error":"#N/A"},{"$f":"_xlfn.XLOOKUP(C1371,Data!C:C,Data!G:G,0)","v":0},{"$f":"_xlfn.XLOOKUP(C1371,Data!C:C,Data!F:F,0)","v":0},{"$f":"_xlfn.XLOOKUP(C1371,Data!C:C,Data!H:H,0)","v":0},null,"",{"$f":"_xlfn.XLOOKUP(C1371,Data!C:C,Data!F:F,\"\")","v":""},null,{"$error":"#N/A"}]
["23-3-2021","22:49:00","2021-03-23T22:49:00",null,{"$f":"_xlfn.XLOOKUP(C1372,Data!C:C,Data!I:I)","v":{"$error":"#N/A"}},{"$error":"#N/A"},{"$f":"_xlfn.XLOOKUP(C1372,Data!C:C,Data!G:G,0)","v":0},{"$f":"_xlfn.XLOOKUP(C1372,Data!C:C,Data!F:F,0)","v":0},{"$f":"_xlfn.XLOOKUP(C1372,Data!C:C,Data!H:H,0)","v":0},null,"",{"$f":"_xlfn.XLOOKUP(C1372,Data!C:C,Data!F:F,\"\")","v":""},null,{"$error":"#N/A"}]
["23-3-2021","22:50:00","2021-03-23T22:50:00",null,{"$f":"_xlfn.XLOOKUP(C1373,Data!C:C,Data!I:I)","v":{"$error":"#N/A"}},{"$error":"#N/A"},{"$f":"_xlfn.XLOOKUP(C1373,Data!C:C,Data!G:G,0)","v":0},{"$f":"_xlfn.XLOOKUP(C1373,Data!C:C,Data!F:F,0)","v":0},{"$f":"_xlfn.XLOOKUP(C1373,Data!C:C,Data!H:H,0)","v":0},null,"",{"$f":"_xlfn.XLOOKUP(C1373,Data!C:C,Data!F:F,\"\")","v":""},null,{"$error":"#N/A"}]
["23-3-2021","22:51:00","2021-03-23T22:51:00",null,{"$f":"_xlfn.XLOOKUP(C1374,Data!C:C,Data!I:I)","v":{"$error":"#N/A"}},{"$error":"#N/A"},{"$f":"_xlfn.XLOOKUP(C1374,Data!C:C,Data!G:G,0)","v":0},{"$f":"_xlfn.XLOOKUP(C1374,Data!C:C,Data!F:F,0)","v":0},{"$f":"_xlfn.XLOOKUP(C1374,Data!C:C,Data!H:H,0)","v":0},null,"",{"$f":"_xlfn.XLOOKUP(C1374,Data!C:C,Data!F:F,\"\")","v":""},null,{"$error":"#N/A"}]
["23-3-2021","22:52:00","2021-03-23T22:52:00",null,{"$f":"_xlfn.XLOOKUP(C1375,Data!C:C,Data!I:I)","v":{"$error":"#N/A"}},{"$error":"#N/A"},{"$f":"_xlfn.XLOOKUP(C1375,Data!C:C,Data!G:G,0)","v":0},{"$f":"_xlfn.XLOOKUP(C1375,Data!C:C,Data!F:F,0)","v":0},{"$f":"_xlfn.XLOOKUP(C1375,Data!C:C,Data!H:H,0)","v":0},null,"",{"$f":"_xlfn.XLOOKUP(C1375,Data!C:C,Data!F:F,\"\")","v":""},null,{"$error":"#N/A"}]
["23-3-2021","22:53:00","2021-03-23T22:53:00",null,{"$f":"_xlfn.XLOOKUP(C1376,Data!C:C,Data!I:I)","v":{"$error":"#N/A"}},{"$error":"#N/A"},{"$f":"_xlfn.XLOOKUP(C1376,Data!C:C,Data!G:G,0)","v":0},{"$f":"_xlfn.XLOOKUP(C1376,Data!C:C,Data!F:F,0)","v":0},{"$f":"_xlfn.XLOOKUP(C1376,Data!C:C,Data!H:H,0)","v":0},null,"",{"$f":"_xlfn.XLOOKUP(C1376,Data!C:C,Data!F:F,\"\")","v":""},null,{"$error":"#N/A"}]
["23-3-2021","22:54:00","2021-03-23T22:54:00",null,{"$f":"_xlfn.XLOOKUP(C1377,Data!C:C,Data!I:I)","v":{"$error":"#N/A"}},{"$error":"#N/A"},{"$f":"_xlfn.XLOOKUP(C1377,Data!C:C,Data!G:G,0)","v":0},{"$f":"_xlfn.XLOOKUP(C1377,Data!C:C,Data!F:F,0)","v":0},{"$f":"_xlfn.XLOOKUP(C1377,Data!C:C,Data!H:H,0)","v":0},null,"",{"$f":"_xlfn.XLOOKUP(C1377,Data!C:C,Data!F:F,\"\")","v":""},null,{"$error":"#N/A"}]
["23-3-2021","22:55:00","2021-03-23T22:55:00",null,{"$f":"_xlfn.XLOOKUP(C1378,Data!C:C,Data!I:I)","v":{"$error":"#N/A"}},{"$error":"#N/A"},{"$f":"_xlfn.XLOOKUP(C1378,Data!C:C,Data!G:G,0)","v":0},{"$f":"_xlfn.XLOOKUP(C1378,Data!C:C,Data!F:F,0)","v":0},{"$f":"_xlfn.XLOOKUP(C1378,Data!C:C,Data!H:H,0)","v":0},null,"",{"$f":"_xlfn.XLOOKUP(C1378,Data!C:C,Data!F:F,\"\")","v":""},null,{"$error":"#N/A"}]
["23-3-2021","22:56:00","2021-03-23T22:56:00",null,{"$f":"_xlfn.XLOOKUP(C1379,Data!C:C,Data!I:I)","v":{"$error":"#N/A"}},{"$error":"#N/A"},{"$f":"_xlfn.XLOOKUP(C1379,Data!C:C,Data!G:G,0)","v":0},{"$f":"_xlfn.XLOOKUP(C1379,Data!C:C,Data!F:F,0)","v":0},{"$f":"_xlfn.XLOOKUP(C1379,Data!C:C,Data!H:H,0)","v":0},null,"",{"$f":"_xlfn.XLOOKUP(C1379,Data!C:C,Data!F:F,\"\")","v":""},null,{"$error":"#N/A"}]
["23-3-2021","22:57:00","2021-03-23T22:57:00",null,{"$f":"_xlfn.XLOOKUP(C1380,Data!C:C,Data!I:I)","v":{"$error":"#N/A"}},{"$error":"#N/A"},{"$f":"_xlfn.XLOOKUP(C1380,Data!C:C,Data!G:G,0)","v":0},{"$f":"_xlfn.XLOOKUP(C1380,Data!C:C,Data!F:F,0)","v":0},{"$f":"_xlfn.XLOOKUP(C1380,Data!C:C,Data!H:H,0)","v":0},null,"",{"$f":"_xlfn.XLOOKUP(C1380,Data!C:C,Data!F:F,\"\")","v":""},null,{"$error":"#N/A"}]
["23-3-2021","22:58:00","2021-03-23T22:58:00",null,{"$f":"_xlfn.XLOOKUP(C1381,Data!C:C,Data!I:I)","v":{"$error":"#N/A"}},{"$error":"#N/A"},{"$f":"_xlfn.XLOOKUP(C1381,Data!C:C,Data!G:G,0)","v":0},{"$f":"_xlfn.XLOOKUP(C1381,Data!C:C,Data!F:F,0)","v":0},{"$f":"_xlfn.XLOOKUP(C1381,Data!C:C,Data!H:H,0)","v":0},null,"",{"$f":"_xlfn.XLOOKUP(C1381,Data!C:C,Data!F:F,\"\")","v":""},null,{"$error":"#N/A"}]
["23-3-2021","22:59:00","2021-03-23T22:59:00",null,{"$f":"_xlfn.XLOOKUP(C1382,Data!C:C,Data!I:I)","v":{"$error":"#N/A"}},{"$error":"#N/A"},{"$f":"_xlfn.XLOOKUP(C1382,Data!C:C,Data!G:G,0)","v":0},{"$f":"_xlfn.XLOOKUP(C1382,Data!C:C,Data!F:F,0)","v":0},{"$f":"_xlfn.XLOOKUP(C1382,Data!C:C,Data!H:H,0)","v":0},null,"",{"$f":"_xlfn.XLOOKUP(C1382,Data!C:C,Data!F:F,\"\")","v":""},null,{"$error":"#N/A"}]
["23-3-2021","23:00:00","2021-03-23T23:00:00",null,{"$f":"_xlfn.XLOOKUP(C1383,Data!C:C,Data!I:I)","v":{"$error":"#N/A"}},{"$error":"#N/A"},{"$f":"_xlfn.XLOOKUP(C1383,Data!C:C,Data!G:G,0)","v":0},{"$f":"_xlfn.XLOOKUP(C1383,Data!C:C,Data!F:F,0)","v":0},{"$f":"_xlfn.XLOOKUP(C1383,Data!C:C,Data!H:H,0)","v":0},null,"",{"$f":"_xlfn.XLOOKUP(C1383,Data!C:C,Data!F:F,\"\")","v":""},null,{"$error":"#N/A"}]
["23-3-2021","23:01:00","2021-03-23T23:01:00",null,{"$f":"_xlfn.XLOOKUP(C1384,Data!C:C,Data!I:I)","v":{"$error":"#N/A"}},{"$error":"#N/A"},{"$f":"_xlfn.XLOOKUP(C1384,Data!C:C,Data!G:G,0)","v":0},{"$f":"_xlfn.XLOOKUP(C1384,Data!C:C,Data!F:F,0)","v":0},{"$f":"_xlfn.XLOOKUP(C1384,Data!C:C,Data!H:H,0)","v":0},null,"",{"$f":"_xlfn.XLOOKUP(C1384,Data!C:C,Data!F:F,\"\")","v":""},null,{"$error":"#N/A"}]
["23-3-2021","23:02:00","2021-03-23T23:02:00",null,{"$f":"_xlfn.XLOOKUP(C1385,Data!C:C,Data!I:I)","v":{"$error":"#N/A"}},{"$error":"#N/A"},{"$f":"_xlfn.XLOOKUP(C1385,Data!C:C,Data!G:G,0)","v":0},{"$f":"_xlfn.XLOOKUP(C1385,Data!C:C,Data!F:F,0)","v":0},{"$f":"_xlfn.XLOOKUP(C1385,Data!C:C,Data!H:H,0)","v":0},null,"",{"$f":"_xlfn.XLOOKUP(C1385,Data!C:C,Data!F:F,\"\")","v":""},null,{"$error":"#N/A"}]
["23-3-2021","23:03:00","2021-03-23T23:03:00",null,{"$f":"_xlfn.XLOOKUP(C1386,Data!C:C,Data!I:I)","v":{"$error":"#N/A"}},{"$error":"#N/A"},{"$f":"_xlfn.XLOOKUP(C1386,Data!C:C,Data!G:G,0)","v":0},{"$f":"_xlfn.XLOOKUP(C1386,Data!C:C,Data!F:F,0)","v":0},{"$f":"_xlfn.XLOOKUP(C1386,Data!C:C,Data!H:H,0)","v":0},null,"",{"$f":"_xlfn.XLOOKUP(C1386,Data!C:C,Data!F:F,\"\")","v":""},null,{"$error":"#N/A"}]
["23-3-2021","23:04:00","2021-03-23T23:04:00",null,{"$f":"_xlfn.XLOOKUP(C1387,Data!C:C,Data!I:I)","v":{"$error":"#N/A"}},{"$error":"#N/A"},{"$f":"_xlfn.XLOOKUP(C1387,Data!C:C,Data!G:G,0)","v":0},{"$f":"_xlfn.XLOOKUP(C1387,Data!C:C,Data!F:F,0)","v":0},{"$f":"_xlfn.XLOOKUP(C1387,Data!C:C,Data!H:H,0)","v":0},null,"",{"$f":"_xlfn.XLOOKUP(C1387,Data!C:C,Data!F:F,\"\")","v":""},null,{"$error":"#N/A"}]
["23-3-2021","23:05:00","2021-03-23T23:05:00",null,{"$f":"_xlfn.XLOOKUP(C1388,Data!C:C,Data!I:I)","v":{"$error":"#N/A"}},{"$error":"#N/A"},{"$f":"_xlfn.XLOOKUP(C1388,Data!C:C,Data!G:G,0)","v":0},{"$f":"_xlfn.XLOOKUP(C1388,Data!C:C,Data!F:F,0)","v":0},{"$f":"_xlfn.XLOOKUP(C1388,Data!C:C,Data!H:H,0)","v":0},null,"",{"$f":"_xlfn.XLOOKUP(C1388,Data!C:C,Data!F:F,\"\")","v":""},null,{"$error":"#N/A"}]
["23-3-2021","23:06:00","2021-03-23T23:06:00",null,{"$f":"_xlfn.XLOOKUP(C1389,Data!C:C,Data!I:I)","v":{"$error":"#N/A"}},{"$error":"#N/A"},{"$f":"_xlfn.XLOOKUP(C1389,Data!C:C,Data!G:G,0)","v":0},{"$f":"_xlfn.XLOOKUP(C1389,Data!C:C,Data!F:F,0)","v":0},{"$f":"_xlfn.XLOOKUP(C1389,Data!C:C,Data!H:H,0)","v":0},null,"",{"$f":"_xlfn.XLOOKUP(C1389,Data!C:C,Data!F:F,\"\")","v":""},null,{"$error":"#N/A"}]
["23-3-2021","23:07:00","2021-03-23T23:07:00",null,{"$f":"_xlfn.XLOOKUP(C1390,Data!C:C,Data!I:I)","v":{"$error":"#N/A"}},{"$error":"#N/A"},{"$f":"_xlfn.XLOOKUP(C1390,Data!C:C,Data!G:G,0)","v":0},{"$f":"_xlfn.XLOOKUP(C1390,Data!C:C,Data!F:F,0)","v":0},{"$f":"_xlfn.XLOOKUP(C1390,Data!C:C,Data!H:H,0)","v":0},null,"",{"$f":"_xlfn.XLOOKUP(C1390,Data!C:C,Data!F:F,\"\")","v":""},null,{"$error":"#N/A"}]
["23-3-2021","23:08:00","2021-03-23T23:08:00",null,{"$f":"_xlfn.XLOOKUP(C1391,Data!C:C,Data!I:I)","v":{"$error":"#N/A"}},{"$error":"#N/A"},{"$f":"_xlfn.XLOOKUP(C1391,Data!C:C,Data!G:G,0)","v":0},{"$f":"_xlfn.XLOOKUP(C1391,Data!C:C,Data!F:F,0)","v":0},{"$f":"_xlfn.XLOOKUP(C1391,Data!C:C,Data!H:H,0)","v":0},null,"",{"$f":"_xlfn.XLOOKUP(C1391,Data!C:C,Data!F:F,\"\")","v":""},null,{"$error":"#N/A"}]
["23-3-2021","23:09:00","2021-03-23T23:09:00",null,{"$f":"_xlfn.XLOOKUP(C1392,Data!C:C,Data!I:I)","v":{"$error":"#N/A"}},{"$error":"#N/A"},{"$f":"_xlfn.XLOOKUP(C1392,Data!C:C,Data!G:G,0)","v":0},{"$f":"_xlfn.XLOOKUP(C1392,Data!C:C,Data!F:F,0)","v":0},{"$f":"_xlfn.XLOOKUP(C1392,Data!C:C,Data!H:H,0)","v":0},null,"",{"$f":"_xlfn.XLOOKUP(C1392,Data!C:C,Data!F:F,\"\")","v":""},null,{"$error":"#N/A"}]
["23-3-2021","23:10:00","2021-03-23T23:10:00",null,{"$f":"_xlfn.XLOOKUP(C1393,Data!C:C,Data!I:I)","v":{"$error":"#N/A"}},{"$error":"#N/A"},{"$f":"_xlfn.XLOOKUP(C1393,Data!C:C,Data!G:G,0)","v":0},{"$f":"_xlfn.XLOOKUP(C1393,Data!C:C,Data!F:F,0)","v":0},{"$f":"_xlfn.XLOOKUP(C1393,Data!C:C,Data!H:H,0)","v":0},null,"",{"$f":"_xlfn.XLOOKUP(C1393,Data!C:C,Data!F:F,\"\")","v":""},null,{"$error":"#N/A"}]
["23-3-2021","23:11:00","2021-03-23T23:11:00",null,{"$f":"_xlfn.XLOOKUP(C1394,Data!C:C,Data!I:I)","v":{"$error":"#N/A"}},{"$error":"#N/A"},{"$f":"_xlfn.XLOOKUP(C1394,Data!C:C,Data!G:G,0)","v":0},{"$f":"_xlfn.XLOOKUP(C1394,Data!C:C,Data!F:F,0)","v":0},{"$f":"_xlfn.XLOOKUP(C1394,Data!C:C,Data!H:H,0)","v":0},null,"",{"$f":"_xlfn.XLOOKUP(C1394,Data!C:C,Data!F:F,\"\")","v":""},null,{"$error":"#N/A"}]
["23-3-2021","23:12:00","2021-03-23T23:12:00",null,{"$f":"_xlfn.XLOOKUP(C1395,Data!C:C,Data!I:I)","v":{"$error":"#N/A"}},{"$error":"#N/A"},{"$f":"_xlfn.XLOOKUP(C1395,Data!C:C,Data!G:G,0)","v":0},{"$f":"_xlfn.XLOOKUP(C1395,Data!C:C,Data!F:F,0)","v":0},{"$f":"_xlfn.XLOOKUP(C1395,Data!C:C,Data!H:H,0)","v":0},null,"",{"$f":"_xlfn.XLOOKUP(C1395,Data!C:C,Data!F:F,\"\")","v":""},null,{"$error":"#N/A"}]
["23-3-2021","23:13:00","2021-03-23T23:13:00",null,{"$f":"_xlfn.XLOOKUP(C1396,Data!C:C,Data!I:I)","v":{"$error":"#N/A"}},{"$error":"#N/A"},{"$f":"_xlfn.XLOOKUP(C1396,Data!C:C,Data!G:G,0)","v":0},{"$f":"_xlfn.XLOOKUP(C1396,Data!C:C,Data!F:F,0)","v":0},{"$f":"_xlfn.XLOOKUP(C1396,Data!C:C,Data!H:H,0)","v":0},null,"",{"$f":"_xlfn.XLOOKUP(C1396,Data!C:C,Data!F:F,\"\")","v":""},null,{"$error":"#N/A"}]
["23-3-2021","23:14:00","2021-03-23T23:14:00",null,{"$f":"_xlfn.XLOOKUP(C1397,Data!C:C,Data!I:I)","v":{"$error":"#N/A"}},{"$error":"#N/A"},{"$f":"_xlfn.XLOOKUP(C1397,Data!C:C,Data!G:G,0)","v":0},{"$f":"_xlfn.XLOOKUP(C1397,Data!C:C,Data!F:F,0)","v":0},{"$f":"_xlfn.XLOOKUP(C1397,Data!C:C,Data!H:H,0)","v":0},null,"",{"$f":"_xlfn.XLOOKUP(C1397,Data!C:C,Data!F:F,\"\")","v":""},null,{"$error":"#N/A"}]
["23-3-2021","23:15:00","2021-03-23T23:15:00",null,{"$f":"_xlfn.XLOOKUP(C1398,Data!C:C,Data!I:I)","v":{"$error":"#N/A"}},{"$error":"#N/A"},{"$f":"_xlfn.XLOOKUP(C1398,Data!C:C,Data!G:G,0)","v":0},{"$f":"_xlfn.XLOOKUP(C1398,Data!C:C,Data!F:F,0)","v":0},{"$f":"_xlfn.XLOOKUP(C1398,Data!C:C,Data!H:H,0)","v":0},null,"",{"$f":"_xlfn.XLOOKUP(C1398,Data!C:C,Data!F:F,\"\")","v":""},null,{"$error":"#N/A"}]
["23-3-2021","23:16:00","2021-03-23T23:16:00",null,{"$f":"_xlfn.XLOOKUP(C1399,Data!C:C,Data!I:I)","v":{"$error":"#N/A"}},{"$error":"#N/A"},{"$f":"_xlfn.XLOOKUP(C1399,Data!C:C,Data!G:G,0)","v":0},{"$f":"_xlfn.XLOOKUP(C1399,Data!C:C,Data!F:F,0)","v":0},{"$f":"_xlfn.XLOOKUP(C1399,Data!C:C,Data!H:H,0)","v":0},null,"",{"$f":"_xlfn.XLOOKUP(C1399,Data!C:C,Data!F:F,\"\")","v":""},null,{"$error":"#N/A"}]
["23-3-2021","23:17:00","2021-03-23T23:17:00",null,{"$f":"_xlfn.XLOOKUP(C1400,Data!C:C,Data!I:I)","v":{"$error":"#N/A"}},{"$error":"#N/A"},{"$f":"_xlfn.XLOOKUP(C1400,Data!C:C,Data!G:G,0)","v":0},{"$f":"_xlfn.XLOOKUP(C1400,Data!C:C,Data!F:F,0)","v":0},{"$f":"_xlfn.XLOOKUP(C1400,Data!C:C,Data!H:H,0)","v":0},null,"",{"$f":"_xlfn.XLOOKUP(C1400,Data!C:C,Data!F:F,\"\")","v":""},null,{"$error":"#N/A"}]
["23-3-2021","23:18:00","2021-03-23T23:18:00",null,{"$f":"_xlfn.XLOOKUP(C1401,Data!C:C,Data!I:I)","v":{"$error":"#N/A"}},{"$error":"#N/A"},{"$f":"_xlfn.XLOOKUP(C1401,Data!C:C,Data!G:G,0)","v":0},{"$f":"_xlfn.XLOOKUP(C1401,Data!C:C,Data!F:F,0)","v":0},{"$f":"_xlfn.XLOOKUP(C1401,Data!C:C,Data!H:H,0)","v":0},null,"",{"$f":"_xlfn.XLOOKUP(C1401,Data!C:C,Data!F:F,\"\")","v":""},null,{"$error":"#N/A"}]
["23-3-2021","23:19:00","2021-03-23T23:19:00",null,{"$f":"_xlfn.XLOOKUP(C1402,Data!C:C,Data!I:I)","v":{"$error":"#N/A"}},{"$error":"#N/A"},{"$f":"_xlfn.XLOOKUP(C1402,Data!C:C,Data!G:G,0)","v":0},{"$f":"_xlfn.XLOOKUP(C1402,Data!C:C,Data!F:F,0)","v":0},{"$f":"_xlfn.XLOOKUP(C1402,Data!C:C,Data!H:H,0)","v":0},null,"",{"$f":"_xlfn.XLOOKUP(C1402,Data!C:C,Data!F:F,\"\")","v":""},null,{"$error":"#N/A"}]
["23-3-2021","23:20:00","2021-03-23T23:20:00",null,{"$f":"_xlfn.XLOOKUP(C1403,Data!C:C,Data!I:I)","v":{"$error":"#N/A"}},{"$error":"#N/A"},{"$f":"_xlfn.XLOOKUP(C1403,Data!C:C,Data!G:G,0)","v":0},{"$f":"_xlfn.XLOOKUP(C1403,Data!C:C,Data!F:F,0)","v":0},{"$f":"_xlfn.XLOOKUP(C1403,Data!C:C,Data!H:H,0)","v":0},null,"",{"$f":"_xlfn.XLOOKUP(C1403,Data!C:C,Data!F:F,\"\")","v":""},null,{"$error":"#N/A"}]
["23-3-2021","23:21:00","2021-03-23T23:21:00",null,{"$f":"_xlfn.XLOOKUP(C1404,Data!C:C,Data!I:I)","v":{"$error":"#N/A"}},{"$error":"#N/A"},{"$f":"_xlfn.XLOOKUP(C1404,Data!C:C,Data!G:G,0)","v":0},{"$f":"_xlfn.XLOOKUP(C1404,Data!C:C,Data!F:F,0)","v":0},{"$f":"_xlfn.XLOOKUP(C1404,Data!C:C,Data!H:H,0)","v":0},null,"",{"$f":"_xlfn.XLOOKUP(C1404,Data!C:C,Data!F:F,\"\")","v":""},null,{"$error":"#N/A"}]
["23-3-2021","23:22:00","2021-03-23T23:22:00",null,{"$f":"_xlfn.XLOOKUP(C1405,Data!C:C,Data!I:I)","v":{"$error":"#N/A"}},{"$error":"#N/A"},{"$f":"_xlfn.XLOOKUP(C1405,Data!C:C,Data!G:G,0)","v":0},{"$f":"_xlfn.XLOOKUP(C1405,Data!C:C,Data!F:F,0)","v":0},{"$f":"_xlfn.XLOOKUP(C1405,Data!C:C,Data!H:H,0)","v":0},null,"",{"$f":"_xlfn.XLOOKUP(C1405,Data!C:C,Data!F:F,\"\")","v":""},null,{"$error":"#N/A"}]
["23-3-2021","23:23:00","2021-03-23T23:23:00",null,{"$f":"_xlfn.XLOOKUP(C1406,Data!C:C,Data!I:I)","v":{"$error":"#N/A"}},{"$error":"#N/A"},{"$f":"_xlfn.XLOOKUP(C1406,Data!C:C,Data!G:G,0)","v":0},{"$f":"_xlfn.XLOOKUP(C1406,Data!C:C,Data!F:F,0)","v":0},{"$f":"_xlfn.XLOOKUP(C1406,Data!C:C,Data!H:H,0)","v":0},null,"",{"$f":"_xlfn.XLOOKUP(C1406,Data!C:C,Data!F:F,\"\")","v":""},null,{"$error":"#N/A"}]
["23-3-2021","23:24:00","2021-03-23T23:24:00",null,{"$f":"_xlfn.XLOOKUP(C1407,Data!C:C,Data!I:I)","v":{"$error":"#N/A"}},{"$error":"#N/A"},{"$f":"_xlfn.XLOOKUP(C1407,Data!C:C,Data!G:G,0)","v":0},{"$f":"_xlfn.XLOOKUP(C1407,Data!C:C,Data!F:F,0)","v":0},{"$f":"_xlfn.XLOOKUP(C1407,Data!C:C,Data!H:H,0)","v":0},null,"",{"$f":"_xlfn.XLOOKUP(C1407,Data!C:C,Data!F:F,\"\")","v":""},null,{"$error":"#N/A"}]
["23-3-2021","23:25:00","2021-03-23T23:25:00",null,{"$f":"_xlfn.XLOOKUP(C1408,Data!C:C,Data!I:I)","v":{"$error":"#N/A"}},{"$error":"#N/A"},{"$f":"_xlfn.XLOOKUP(C1408,Data!C:C,Data!G:G,0)","v":0},{"$f":"_xlfn.XLOOKUP(C1408,Data!C:C,Data!F:F,0)","v":0},{"$f":"_xlfn.XLOOKUP(C1408,Data!C:C,Data!H:H,0)","v":0},null,"",{"$f":"_xlfn.XLOOKUP(C1408,Data!C:C,Data!F:F,\"\")","v":""},null,{"$error":"#N/A"}]
["23-3-2021","23:26:00","2021-03-23T23:26:00",null,{"$f":"_xlfn.XLOOKUP(C1409,Data!C:C,Data!I:I)","v":{"$error":"#N/A"}},{"$error":"#N/A"},{"$f":"_xlfn.XLOOKUP(C1409,Data!C:C,Data!G:G,0)","v":0},{"$f":"_xlfn.XLOOKUP(C1409,Data!C:C,Data!F:F,0)","v":0},{"$f":"_xlfn.XLOOKUP(C1409,Data!C:C,Data!H:H,0)","v":0},null,"",{"$f":"_xlfn.XLOOKUP(C1409,Data!C:C,Data!F:F,\"\")","v":""},null,{"$error":"#N/A"}]
["23-3-2021","23:27:00","2021-03-23T23:27:00",null,{"$f":"_xlfn.XLOOKUP(C1410,Data!C:C,Data!I:I)","v":{"$error":"#N/A"}},{"$error":"#N/A"},{"$f":"_xlfn.XLOOKUP(C1410,Data!C:C,Data!G:G,0)","v":0},{"$f":"_xlfn.XLOOKUP(C1410,Data!C:C,Data!F:F,0)","v":0},{"$f":"_xlfn.XLOOKUP(C1410,Data!C:C,Data!H:H,0)","v":0},null,"",{"$f":"_xlfn.XLOOKUP(C1410,Data!C:C,Data!F:F,\"\")","v":""},null,{"$error":"#N/A"}]
["23-3-2021","23:28:00",{"$f":"A1411+B1411","v":"2021-03-23T23:28:00"},null,{"$f":"_xlfn.XLOOKUP(C1411,Data!C:C,Data!I:I)","v":{"$error":"#N/A"}},{"$error":"#N/A"},{"$f":"_xlfn.XLOOKUP(C1411,Data!C:C,Data!G:G,0)","v":0},{"$f":"_xlfn.XLOOKUP(C1411,Data!C:C,Data!F:F,0)","v":0},{"$f":"_xlfn.XLOOKUP(C1411,Data!C:C,Data!H:H,0)","v":0},null,"",{"$f":"_xlfn.XLOOKUP(C1411,Data!C:C,Data!F:F,\"\")","v":""},null,{"$error":"#N/A"}]
[{"$f":"$A$3","v":"23-3-2021"},"23:29:00","2021-03-23T23:29:00",null,{"$f":"_xlfn.XLOOKUP(C1412,Data!C:C,Data!I:I)","v":{"$error":"#N/A"}},{"$f":"IF(E1412=255,F1411,E1412)","v":{"$error":"#N/A"}},{"$f":"_xlfn.XLOOKUP(C1412,Data!C:C,Data!G:G,0)","v":0},{"$f":"_xlfn.XLOOKUP(C1412,Data!C:C,Data!F:F,0)","v":0},{"$f":"_xlfn.XLOOKUP(C1412,Data!C:C,Data!H:H,0)","v":0},null,{"$f":"IFERROR(IF(F1412=\"#N/A\",\"\",F1412),\"\")","v":""},{"$f":"_xlfn.XLOOKUP(C1412,Data!C:C,Data!F:F,\"\")","v":""},null,{"$error":"#N/A"}]
["23-3-2021","23:30:00","2021-03-23T23:30:00",null,{"$f":"_xlfn.XLOOKUP(C1413,Data!C:C,Data!I:I)","v":{"$error":"#N/A"}},{"$error":"#N/A"},{"$f":"_xlfn.XLOOKUP(C1413,Data!C:C,Data!G:G,0)","v":0},{"$f":"_xlfn.XLOOKUP(C1413,Data!C:C,Data!F:F,0)","v":0},{"$f":"_xlfn.XLOOKUP(C1413,Data!C:C,Data!H:H,0)","v":0},null,"",{"$f":"_xlfn.XLOOKUP(C1413,Data!C:C,Data!F:F,\"\")","v":""},null,{"$error":"#N/A"}]
["23-3-2021","23:31:00","2021-03-23T23:31:00",null,{"$f":"_xlfn.XLOOKUP(C1414,Data!C:C,Data!I:I)","v":{"$error":"#N/A"}},{"$error":"#N/A"},{"$f":"_xlfn.XLOOKUP(C1414,Data!C:C,Data!G:G,0)","v":0},{"$f":"_xlfn.XLOOKUP(C1414,Data!C:C,Data!F:F,0)","v":0},{"$f":"_xlfn.XLOOKUP(C1414,Data!C:C,Data!H:H,0)","v":0},null,"",{"$f":"_xlfn.XLOOKUP(C1414,Data!C:C,Data!F:F,\"\")","v":""},null,{"$error":"#N/A"}]
["23-3-2021","23:32:00","2021-03-23T23:32:00",null,{"$f":"_xlfn.XLOOKUP(C1415,Data!C:C,Data!I:I)","v":{"$error":"#N/A"}},{"$error":"#N/A"},{"$f":"_xlfn.XLOOKUP(C1415,Data!C:C,Data!G:G,0)","v":0},{"$f":"_xlfn.XLOOKUP(C1415,Data!C:C,Data!F:F,0)","v":0},{"$f":"_xlfn.XLOOKUP(C1415,Data!C:C,Data!H:H,0)","v":0},null,"",{"$f":"_xlfn.XLOOKUP(C1415,Data!C:C,Data!F:F,\"\")","v":""},null,{"$f":"IF(F1415=\"\",\"\",AVERAGE(F1411:F1419))","v":{"$error":"#N/A"}}]
["23-3-2021","23:33:00","2021-03-23T23:33:00",null,{"$f":"_xlfn.XLOOKUP(C1416,Data!C:C,Data!I:I)","v":{"$error":"#N/A"}},{"$error":"#N/A"},{"$f":"_xlfn.XLOOKUP(C1416,Data!C:C,Data!G:G,0)","v":0},{"$f":"_xlfn.XLOOKUP(C1416,Data!C:C,Data!F:F,0)","v":0},{"$f":"_xlfn.XLOOKUP(C1416,Data!C:C,Data!H:H,0)","v":0},null,"",{"$f":"_xlfn.XLOOKUP(C1416,Data!C:C,Data!F:F,\"\")","v":""},null,{"$error":"#N/A"}]
["23-3-2021","23:34:00","2021-03-23T23:34:00",null,{"$f":"_xlfn.XLOOKUP(C1417,Data!C:C,Data!I:I)","v":{"$error":"#N/A"}},{"$error":"#N/A"},{"$f":"_xlfn.XLOOKUP(C1417,Data!C:C,Data!G:G,0)","v":0},{"$f":"_xlfn.XLOOKUP(C1417,Data!C:C,Data!F:F,0)","v":0},{"$f":"_xlfn.XLOOKUP(C1417,Data!C:C,Data!H:H,0)","v":0},null,"",{"$f":"_xlfn.XLOOKUP(C1417,Data!C:C,Data!F:F,\"\")","v":""},null,{"$error":"#N/A"}]
["23-3-2021","23:35:00","2021-03-23T23:35:00",null,{"$f":"_xlfn.XLOOKUP(C1418,Data!C:C,Data!I:I)","v":{"$error":"#N/A"}},{"$error":"#N/A"},{"$f":"_xlfn.XLOOKUP(C1418,Data!C:C,Data!G:G,0)","v":0},{"$f":"_xlfn.XLOOKUP(C1418,Data!C:C,Data!F:F,0)","v":0},{"$f":"_xlfn.XLOOKUP(C1418,Data!C:C,Data!H:H,0)","v":0},null,"",{"$f":"_xlfn.XLOOKUP(C1418,Data!C:C,Data!F:F,\"\")","v":""},null,{"$error":"#N/A"}]
["23-3-2021","23:36:00","2021-03-23T23:36:00",null,{"$f":"_xlfn.XLOOKUP(C1419,Data!C:C,Data!I:I)","v":{"$error":"#N/A"}},{"$error":"#N/A"},{"$f":"_xlfn.XLOOKUP(C1419,Data!C:C,Data!G:G,0)","v":0},{"$f":"_xlfn.XLOOKUP(C1419,Data!C:C,Data!F:F,0)","v":0},{"$f":"_xlfn.XLOOKUP(C1419,Data!C:C,Data!H:H,0)","v":0},null,"",{"$f":"_xlfn.XLOOKUP(C1419,Data!C:C,Data!F:F,\"\")","v":""},null,{"$error":"#N/A"}]
["23-3-2021","23:37:00","2021-03-23T23:37:00",null,{"$f":"_xlfn.XLOOKUP(C1420,Data!C:C,Data!I:I)","v":{"$error":"#N/A"}},{"$error":"#N/A"},{"$f":"_xlfn.XLOOKUP(C1420,Data!C:C,Data!G:G,0)","v":0},{"$f":"_xlfn.XLOOKUP(C1420,Data!C:C,Data!F:F,0)","v":0},{"$f":"_xlfn.XLOOKUP(C1420,Data!C:C,Data!H:H,0)","v":0},null,"",{"$f":"_xlfn.XLOOKUP(C1420,Data!C:C,Data!F:F,\"\")","v":""},null,{"$error":"#N/A"}]
["23-3-2021","23:38:00","2021-03-23T23:38:00",null,{"$f":"_xlfn.XLOOKUP(C1421,Data!C:C,Data!I:I)","v":{"$error":"#N/A"}},{"$error":"#N/A"},{"$f":"_xlfn.XLOOKUP(C1421,Data!C:C,Data!G:G,0)","v":0},{"$f":"_xlfn.XLOOKUP(C1421,Data!C:C,Data!F:F,0)","v":0},{"$f":"_xlfn.XLOOKUP(C1421,Data!C:C,Data!H:H,0)","v":0},null,"",{"$f":"_xlfn.XLOOKUP(C1421,Data!C:C,Data!F:F,\"\")","v":""},null,{"$error":"#N/A"}]
["23-3-2021","23:39:00","2021-03-23T23:39:00",null,{"$f":"_xlfn.XLOOKUP(C1422,Data!C:C,Data!I:I)","v":{"$error":"#N/A"}},{"$error":"#N/A"},{"$f":"_xlfn.XLOOKUP(C1422,Data!C:C,Data!G:G,0)","v":0},{"$f":"_xlfn.XLOOKUP(C1422,Data!C:C,Data!F:F,0)","v":0},{"$f":"_xlfn.XLOOKUP(C1422,Data!C:C,Data!H:H,0)","v":0},null,"",{"$f":"_xlfn.XLOOKUP(C1422,Data!C:C,Data!F:F,\"\")","v":""},null,{"$error":"#N/A"}]
["23-3-2021","23:40:00","2021-03-23T23:40:00",null,{"$f":"_xlfn.XLOOKUP(C1423,Data!C:C,Data!I:I)","v":{"$error":"#N/A"}},{"$error":"#N/A"},{"$f":"_xlfn.XLOOKUP(C1423,Data!C:C,Data!G:G,0)","v":0},{"$f":"_xlfn.XLOOKUP(C1423,Data!C:C,Data!F:F,0)","v":0},{"$f":"_xlfn.XLOOKUP(C1423,Data!C:C,Data!H:H,0)","v":0},null,"",{"$f":"_xlfn.XLOOKUP(C1423,Data!C:C,Data!F:F,\"\")","v":""},null,{"$error":"#N/A"}]
["23-3-2021","23:41:00","2021-03-23T23:41:00",null,{"$f":"_xlfn.XLOOKUP(C1424,Data!C:C,Data!I:I)","v":{"$error":"#N/A"}},{"$error":"#N/A"},{"$f":"_xlfn.XLOOKUP(C1424,Data!C:C,Data!G:G,0)","v":0},{"$f":"_xlfn.XLOOKUP(C1424,Data!C:C,Data!F:F,0)","v":0},{"$f":"_xlfn.XLOOKUP(C1424,Data!C:C,Data!H:H,0)","v":0},null,"",{"$f":"_xlfn.XLOOKUP(C1424,Data!C:C,Data!F:F,\"\")","v":""},null,{"$error":"#N/A"}]
["23-3-2021","23:42:00","2021-03-23T23:42:00",null,{"$f":"_xlfn.XLOOKUP(C1425,Data!C:C,Data!I:I)","v":{"$error":"#N/A"}},{"$error":"#N/A"},{"$f":"_xlfn.XLOOKUP(C1425,Data!C:C,Data!G:G,0)","v":0},{"$f":"_xlfn.XLOOKUP(C1425,Data!C:C,Data!F:F,0)","v":0},{"$f":"_xlfn.XLOOKUP(C1425,Data!C:C,Data!H:H,0)","v":0},null,"",{"$f":"_xlfn.XLOOKUP(C1425,Data!C:C,Data!F:F,\"\")","v":""},null,{"$error":"#N/A"}]
["23-3-2021","23:43:00","2021-03-23T23:43:00",null,{"$f":"_xlfn.XLOOKUP(C1426,Data!C:C,Data!I:I)","v":{"$error":"#N/A"}},{"$error":"#N/A"},{"$f":"_xlfn.XLOOKUP(C1426,Data!C:C,Data!G:G,0)","v":0},{"$f":"_xlfn.XLOOKUP(C1426,Data!C:C,Data!F:F,0)","v":0},{"$f":"_xlfn.XLOOKUP(C1426,Data!C:C,Data!H:H,0)","v":0},null,"",{"$f":"_xlfn.XLOOKUP(C1426,Data!C:C,Data!F:F,\"\")","v":""},null,{"$error":"#N/A"}]
["23-3-2021","23:44:00","2021-03-23T23:44:00",null,{"$f":"_xlfn.XLOOKUP(C1427,Data!C:C,Data!I:I)","v":{"$error":"#N/A"}},{"$error":"#N/A"},{"$f":"_xlfn.XLOOKUP(C1427,Data!C:C,Data!G:G,0)","v":0},{"$f":"_xlfn.XLOOKUP(C1427,Data!C:C,Data!F:F,0)","v":0},{"$f":"_xlfn.XLOOKUP(C1427,Data!C:C,Data!H:H,0)","v":0},null,"",{"$f":"_xlfn.XLOOKUP(C1427,Data!C:C,Data!F:F,\"\")","v":""},null,{"$error":"#N/A"}]
["23-3-2021","23:45:00","2021-03-23T23:45:00",null,{"$f":"_xlfn.XLOOKUP(C1428,Data!C:C,Data!I:I)","v":{"$error":"#N/A"}},{"$error":"#N/A"},{"$f":"_xlfn.XLOOKUP(C1428,Data!C:C,Data!G:G,0)","v":0},{"$f":"_xlfn.XLOOKUP(C1428,Data!C:C,Data!F:F,0)","v":0},{"$f":"_xlfn.XLOOKUP(C1428,Data!C:C,Data!H:H,0)","v":0},null,"",{"$f":"_xlfn.XLOOKUP(C1428,Data!C:C,Data!F:F,\"\")","v":""},null,{"$error":"#N/A"}]
["23-3-2021","23:46:00","2021-03-23T23:46:00",null,{"$f":"_xlfn.XLOOKUP(C1429,Data!C:C,Data!I:I)","v":{"$error":"#N/A"}},{"$error":"#N/A"},{"$f":"_xlfn.XLOOKUP(C1429,Data!C:C,Data!G:G,0)","v":0},{"$f":"_xlfn.XLOOKUP(C1429,Data!C:C,Data!F:F,0)","v":0},{"$f":"_xlfn.XLOOKUP(C1429,Data!C:C,Data!H:H,0)","v":0},null,"",{"$f":"_xlfn.XLOOKUP(C1429,Data!C:C,Data!F:F,\"\")","v":""},null,{"$error":"#N/A"}]
["23-3-2021","23:47:00","2021-03-23T23:47:00",null,{"$f":"_xlfn.XLOOKUP(C1430,Data!C:C,Data!I:I)","v":{"$error":"#N/A"}},{"$error":"#N/A"},{"$f":"_xlfn.XLOOKUP(C1430,Data!C:C,Data!G:G,0)","v":0},{"$f":"_xlfn.XLOOKUP(C1430,Data!C:C,Data!F:F,0)","v":0},{"$f":"_xlfn.XLOOKUP(C1430,Data!C:C,Data!H:H,0)","v":0},null,"",{"$f":"_xlfn.XLOOKUP(C1430,Data!C:C,Data!F:F,\"\")","v":""},null,{"$error":"#N/A"}]
["23-3-2021","23:48:00","2021-03-23T23:48:00",null,{"$f":"_xlfn.XLOOKUP(C1431,Data!C:C,Data!I:I)","v":{"$error":"#N/A"}},{"$error":"#N/A"},{"$f":"_xlfn.XLOOKUP(C1431,Data!C:C,Data!G:G,0)","v":0},{"$f":"_xlfn.XLOOKUP(C1431,Data!C:C,Data!F:F,0)","v":0},{"$f":"_xlfn.XLOOKUP(C1431,Data!C:C,Data!H:H,0)","v":0},null,"",{"$f":"_xlfn.XLOOKUP(C1431,Data!C:C,Data!F:F,\"\")","v":""},null,{"$error":"#N/A"}]
["23-3-2021","23:49:00","2021-03-23T23:49:00",null,{"$f":"_xlfn.XLOOKUP(C1432,Data!C:C,Data!I:I)","v":{"$error":"#N/A"}},{"$error":"#N/A"},{"$f":"_xlfn.XLOOKUP(C1432,Data!C:C,Data!G:G,0)","v":0},{"$f":"_xlfn.XLOOKUP(C1432,Data!C:C,Data!F:F,0)","v":0},{"$f":"_xlfn.XLOOKUP(C1432,Data!C:C,Data!H:H,0)","v":0},null,"",{"$f":"_xlfn.XLOOKUP(C1432,Data!C:C,Data!F:F,\"\")","v":""},null,{"$error":"#N/A"}]
["23-3-2021","23:50:00","2021-03-23T23:50:00",null,{"$f":"_xlfn.XLOOKUP(C1433,Data!C:C,Data!I:I)","v":{"$error":"#N/A"}},{"$error":"#N/A"},{"$f":"_xlfn.XLOOKUP(C1433,Data!C:C,Data!G:G,0)","v":0},{"$f":"_xlfn.XLOOKUP(C1433,Data!C:C,Data!F:F,0)","v":0},{"$f":"_xlfn.XLOOKUP(C1433,Data!C:C,Data!H:H,0)","v":0},null,"",{"$f":"_xlfn.XLOOKUP(C1433,Data!C:C,Data!F:F,\"\")","v":""},null,{"$error":"#N/A"}]
["23-3-2021","23:51:00","2021-03-23T23:51:00",null,{"$f":"_xlfn.XLOOKUP(C1434,Data!C:C,Data!I:I)","v":{"$error":"#N/A"}},{"$error":"#N/A"},{"$f":"_xlfn.XLOOKUP(C1434,Data!C:C,Data!G:G,0)","v":0},{"$f":"_xlfn.XLOOKUP(C1434,Data!C:C,Data!F:F,0)","v":0},{"$f":"_xlfn.XLOOKUP(C1434,Data!C:C,Data!H:H,0)","v":0},null,"",{"$f":"_xlfn.XLOOKUP(C1434,Data!C:C,Data!F:F,\"\")","v":""},null,{"$error":"#N/A"}]
["23-3-2021","23:52:00","2021-03-23T23:52:00",null,{"$f":"_xlfn.XLOOKUP(C1435,Data!C:C,Data!I:I)","v":{"$error":"#N/A"}},{"$error":"#N/A"},{"$f":"_xlfn.XLOOKUP(C1435,Data!C:C,Data!G:G,0)","v":0},{"$f":"_xlfn.XLOOKUP(C1435,Data!C:C,Data!F:F,0)","v":0},{"$f":"_xlfn.XLOOKUP(C1435,Data!C:C,Data!H:H,0)","v":0},null,"",{"$f":"_xlfn.XLOOKUP(C1435,Data!C:C,Data!F:F,\"\")","v":""},null,{"$error":"#N/A"}]
["23-3-2021","23:53:00","2021-03-23T23:53:00",null,{"$f":"_xlfn.XLOOKUP(C1436,Data!C:C,Data!I:I)","v":{"$error":"#N/A"}},{"$error":"#N/A"},{"$f":"_xlfn.XLOOKUP(C1436,Data!C:C,Data!G:G,0)","v":0},{"$f":"_xlfn.XLOOKUP(C1436,Data!C:C,Data!F:F,0)","v":0},{"$f":"_xlfn.XLOOKUP(C1436,Data!C:C,Data!H:H,0)","v":0},null,"",{"$f":"_xlfn.XLOOKUP(C1436,Data!C:C,Data!F:F,\"\")","v":""},null,{"$error":"#N/A"}]
["23-3-2021","23:54:00","2021-03-23T23:54:00",null,{"$f":"_xlfn.XLOOKUP(C1437,Data!C:C,Data!I:I)","v":{"$error":"#N/A"}},{"$error":"#N/A"},{"$f":"_xlfn.XLOOKUP(C1437,Data!C:C,Data!G:G,0)","v":0},{"$f":"_xlfn.XLOOKUP(C1437,Data!C:C,Data!F:F,0)","v":0},{"$f":"_xlfn.XLOOKUP(C1437,Data!C:C,Data!H:H,0)","v":0},null,"",{"$f":"_xlfn.XLOOKUP(C1437,Data!C:C,Data!F:F,\"\")","v":""},null,{"$error":"#N/A"}]
["23-3-2021","23:55:00","2021-03-23T23:55:00",null,{"$f":"_xlfn.XLOOKUP(C1438,Data!C:C,Data!I:I)","v":{"$error":"#N/A"}},{"$error":"#N/A"},{"$f":"_xlfn.XLOOKUP(C1438,Data!C:C,Data!G:G,0)","v":0},{"$f":"_xlfn.XLOOKUP(C1438,Data!C:C,Data!F:F,0)","v":0},{"$f":"_xlfn.XLOOKUP(C1438,Data!C:C,Data!H:H,0)","v":0},null,"",{"$f":"_xlfn.XLOOKUP(C1438,Data!C:C,Data!F:F,\"\")","v":""},null,{"$error":"#N/A"}]
["23-3-2021","23:56:00","2021-03-23T23:56:00",null,{"$f":"_xlfn.XLOOKUP(C1439,Data!C:C,Data!I:I)","v":{"$error":"#N/A"}},{"$error":"#N/A"},{"$f":"_xlfn.XLOOKUP(C1439,Data!C:C,Data!G:G,0)","v":0},{"$f":"_xlfn.XLOOKUP(C1439,Data!C:C,Data!F:F,0)","v":0},{"$f":"_xlfn.XLOOKUP(C1439,Data!C:C,Data!H:H,0)","v":0},null,"",{"$f":"_xlfn.XLOOKUP(C1439,Data!C:C,Data!F:F,\"\")","v":""},null,{"$f":"IF(F1439=\"\",\"\",AVERAGE(F1435:F1442))","v":{"$error":"#N/A"}}]
["23-3-2021","23:57:00","2021-03-23T23:57:00",null,{"$f":"_xlfn.XLOOKUP(C1440,Data!C:C,Data!I:I)","v":{"$error":"#N/A"}},{"$error":"#N/A"},{"$f":"_xlfn.XLOOKUP(C1440,Data!C:C,Data!G:G,0)","v":0},{"$f":"_xlfn.XLOOKUP(C1440,Data!C:C,Data!F:F,0)","v":0},{"$f":"_xlfn.XLOOKUP(C1440,Data!C:C,Data!H:H,0)","v":0},null,"",{"$f":"_xlfn.XLOOKUP(C1440,Data!C:C,Data!F:F,\"\")","v":""},null,{"$f":"IF(F1440=\"\",\"\",AVERAGE(F1436:F1442))","v":{"$error":"#N/A"}}]
["23-3-2021","23:58:00","2021-03-23T23:58:00",null,{"$f":"_xlfn.XLOOKUP(C1441,Data!C:C,Data!I:I)","v":{"$error":"#N/A"}},{"$error":"#N/A"},{"$f":"_xlfn.XLOOKUP(C1441,Data!C:C,Data!G:G,0)","v":0},{"$f":"_xlfn.XLOOKUP(C1441,Data!C:C,Data!F:F,0)","v":0},{"$f":"_xlfn.XLOOKUP(C1441,Data!C:C,Data!H:H,0)","v":0},null,"",{"$f":"_xlfn.XLOOKUP(C1441,Data!C:C,Data!F:F,\"\")","v":""},null,{"$f":"IF(F1441=\"\",\"\",AVERAGE(F1437:F1442))","v":{"$error":"#N/A"}}]
["23-3-2021","23:59:00","2021-03-23T23:59:00",null,{"$f":"_xlfn.XLOOKUP(C1442,Data!C:C,Data!I:I)","v":{"$error":"#N/A"}},{"$error":"#N/A"},{"$f":"_xlfn.XLOOKUP(C1442,Data!C:C,Data!G:G,0)","v":0},{"$f":"_xlfn.XLOOKUP(C1442,Data!C:C,Data!F:F,0)","v":0},{"$f":"_xlfn.XLOOKUP(C1442,Data!C:C,Data!H:H,0)","v":0},null,"",{"$f":"_xlfn.XLOOKUP(C1442,Data!C:C,Data!F:F,\"\")","v":""},null,{"$f":"IF(F1442=\"\",\"\",AVERAGE(F1438:F1442))","v":{"$error":"#N/A"}}]
[]
["Sum",null,null,null,null,null,{"$f":"SUM(G3:G1442)","v":0},{"$f":"SUM(H3:H1442)","v":0}]
["Max.:",null,null,null,null,{"$f":"MAXA(K3:K1442)","v":0},null,{"$f":"MAX(L3:L1442)","v":0},null,null,{"$f":"366*24*60","v":527040}]
["Min.:",null,null,null,null,{"$f":"MIN(K3:K1442)","v":0},null,{"$f":"MIN(L3:L1442)","v":0}]
["Average:",null,null,null,null,{"$f":"AVERAGEIF(F3:F1442,\">=0\")","v":{"$error":"#DIV/0!"}},null,{"$f":"AVERAGEIF(H3:H1442,\">=0\")","v":0}]
["Dage:",null,null,null,{"$f":"COUNT(E3:E1442)","v":0}]
["År til dato",null,null,{"$f":"COUNTA(Data!A2:A527040)/24/60","v":0},null,null,{"$f":"SUM(Data!G2:G527040)","v":0},{"$f":"SUM(Data!F2:F527040)","v":0}]

{"sheet":"ChartsData 2hD","index":6,"n_rows":1454,"n_cols":21,"rows_kept":1454,"cut":false,"hidden":true,"merged":[]}
[null,null,null,null,null,null,null,null,null,null,null,null,null,null,null,null,null,null,{"$f":"S1443+S1450","v":{"$error":"#DIV/0!"}}]
[null,null,null,null,"Heart read","Heartrate","Step","Raw Intensity","Activity Kind","Sleep S/S","Rest","Restless-Sleep","Light Sleep","Deep Sleep","Heartrate update","Heartrate for 2'de sleep chart","Sleep Heartrate","9 average Heartrate","9 Max-Min Heartrate",null,"9 average Heartrate ALL"]
[{"$f":"Charts!C5&\"-\"&Charts!C4&\"-\"&Charts!C3","v":"23-3-2021"},"12:00:00",{"$f":"A3+B3","v":"2021-03-23T12:00:00"},null,{"$f":"_xlfn.XLOOKUP(C3,Data!C:C,Data!I:I)","v":{"$error":"#N/A"}},{"$f":"IF(E3=255,MIN(E3:E4),E3)","v":{"$error":"#N/A"}},{"$f":"_xlfn.XLOOKUP(C3,Data!C:C,Data!G:G,0)","v":0},{"$f":"_xlfn.XLOOKUP(C3,Data!C:C,Data!F:F)","v":{"$error":"#N/A"}},{"$f":"_xlfn.XLOOKUP(C3,Data!C:C,Data!H:H,0)","v":0},{"$f":"IF(OR(I3=123,I3=124,I3=106,I3=108),I3,IF(I3<110,108,106))","v":108},{"$f":"IF(AND(I3<100,  I3>=80,  OR(J3=105, J3=106,  J3=123)),  5,  0)","v":0},{"$f":"IF(AND(I3<130,  I3>104,  OR(J3=105, J3=106,  J3=123),  S3>$S$1450+$S$1443),  20,  0)","v":{"$error":"#DIV/0!"}},{"$f":"IF(AND(I3<130,  I3>104,  OR(J3=105, J3=106,  J3=123),  R3>$Q$1449,  S3<=$S$1450+$S$1443),  20,  0)","v":{"$error":"#DIV/0!"}},{"$f":"IF(AND(I3<130,  I3>104,  OR(J3=105, J3=106,  J3=123),  R3<=$Q$1449,  S3<=$S$1450+$S$1443),  20,  0)","v":{"$error":"#DIV/0!"}},{"$f":"IFERROR(F3,0)","v":0},{"$f":"IF(Q3=\"\",F3,Q3)","v":{"$error":"#N/A"}},{"$f":"IF(I3>109,IF(O3*$Q$1451>(O4+O4)/2,MIN(O3:O4),O3),\"\")","v":""},{"$f":"IF(Q3=\"\",\"\",AVERAGE(Q3:Q7))","v":""},{"$f":"IF(Q3=\"\",\"\",MAX(Q3:Q7)-MIN(Q3:Q7))","v":""},null,{"$f":"IF(F3=\"\",\"\",AVERAGE(F3:F7))","v":{"$error":"#N/A"}}]
[{"$f":"$A$3","v":"23-3-2021"},"12:01:00","2021-03-23T12:01:00",null,{"$f":"_xlfn.XLOOKUP(C4,Data!C:C,Data!I:I)","v":{"$error":"#N/A"}},{"$f":"IF(E4=255,IF(MIN(E3:E5)=255,#N/A,MIN(E3:E5)),E4)","v":{"$error":"#N/A"}},{"$f":"_xlfn.XLOOKUP(C4,Data!C:C,Data!G:G,0)","v":0},{"$f":"_xlfn.XLOOKUP(C4,Data!C:C,Data!F:F)","v":{"$error":"#N/A"}},{"$f":"_xlfn.XLOOKUP(C4,Data!C:C,Data!H:H,0)","v":0},{"$f":"IF(OR(I4=123,I4=124,I4=106,I4=108),   I4,   IF(AND(MAX(E3:E4)=255, OR(I4>=80,I4<100)),106,108))","v":{"$error":"#N/A"}},{"$error":"#N/A"},{"$f":"IF(AND(I4<130,  I4>104,  OR(J4=105, J4=106,  J4=123),  S4>$S$1450+$S$1443),  20,  0)","v":{"$error":"#N/A"}},{"$f":"IF(AND(I4<130,  I4>104,  OR(J4=105, J4=106,  J4=123),  R4>$Q$1449,  S4<=$S$1450+$S$1443),  20,  0)","v":{"$error":"#N/A"}},{"$f":"IF(AND(I4<130,  I4>104,  OR(J4=105, J4=106,  J4=123),  R4<=$Q$1449,  S4<=$S$1450+$S$1443),  20,  0)","v":{"$error":"#N/A"}},0,{"$f":"IF(Q4=\"\",F4,IF(Q4=0,P3,Q4))","v":{"$error":"#N/A"}},{"$f":"IF(I4>109,IF(O4*$Q$1451>(O3+O5)/2,MIN(O3:O5),O4),\"\")","v":""},{"$f":"IF(Q4=\"\",\"\",AVERAGE(Q3:Q8))","v":""},{"$f":"IF(Q3=\"\",\"\",MAX(Q3:Q8)-MIN(Q3:Q8))","v":""},null,{"$f":"IF(F4=\"\",\"\",AVERAGE(F3:F8))","v":{"$error":"#N/A"}}]
["23-3-2021","12:02:00","2021-03-23T12:02:00",null,{"$f":"_xlfn.XLOOKUP(C5,Data!C:C,Data!I:I)","v":{"$error":"#N/A"}},{"$f":"IF(E5=255,IF(MIN(E4:E6)=255,#N/A,MIN(E4:E6)),E5)","v":{"$error":"#N/A"}},{"$f":"_xlfn.XLOOKUP(C5,Data!C:C,Data!G:G,0)","v":0},{"$f":"_xlfn.XLOOKUP(C5,Data!C:C,Data!F:F)","v":{"$error":"#N/A"}},{"$f":"_xlfn.XLOOKUP(C5,Data!C:C,Data!H:H,0)","v":0},{"$f":"IF(OR(I5=123,I5=124,I5=106,I5=108),   I5,   IF(AND(MAX(E3:E4)=255,MAX(E5:E6)=255,  E4+E5+E6<3*255, OR(I5>=80,I5<100)),106,108))","v":{"$error":"#N/A"}},{"$error":"#N/A"},{"$error":"#N/A"},{"$error":"#N/A"},{"$error":"#N/A"},0,{"$error":"#N/A"},"",{"$f":"IF(Q4=\"\",\"\",AVERAGE(Q3:Q9))","v":""},{"$f":"IF(Q3=\"\",\"\",MAX(Q3:Q9)-MIN(Q3:Q9))","v":""},null,{"$f":"IF(F4=\"\",\"\",AVERAGE(F3:F9))","v":{"$error":"#N/A"}}]
["23-3-2021","12:03:00","2021-03-23T12:03:00",null,{"$f":"_xlfn.XLOOKUP(C6,Data!C:C,Data!I:I)","v":{"$error":"#N/A"}},{"$error":"#N/A"},{"$f":"_xlfn.XLOOKUP(C6,Data!C:C,Data!G:G,0)","v":0},{"$f":"_xlfn.XLOOKUP(C6,Data!C:C,Data!F:F)","v":{"$error":"#N/A"}},{"$f":"_xlfn.XLOOKUP(C6,Data!C:C,Data!H:H,0)","v":0},{"$f":"IF(AND(MAX(E4:E5)=255,MAX(E6:E7)=255,  E5+E6+E7<3*255, OR(I6=123,I6=124,I6=106,I6=108)),   I6,   IF(AND(MAX(E4:E5)=255,MAX(E6:E7)=255,  E5+E6+E7<3*255, OR(I6>=80,I6<100)),106,108))","v":{"$error":"#N/A"}},{"$error":"#N/A"},{"$error":"#N/A"},{"$error":"#N/A"},{"$error":"#N/A"},0,{"$error":"#N/A"},"",{"$f":"IF(Q6=\"\",\"\",AVERAGE(Q3:Q10))","v":""},{"$f":"IF(Q3=\"\",\"\",MAX(Q3:Q10)-MIN(Q3:Q10))","v":""},null,{"$f":"IF(F6=\"\",\"\",AVERAGE(F3:F10))","v":{"$error":"#N/A"}}]
["23-3-2021","12:04:00","2021-03-23T12:04:00",null,{"$f":"_xlfn.XLOOKUP(C7,Data!C:C,Data!I:I)","v":{"$error":"#N/A"}},{"$error":"#N/A"},{"$f":"_xlfn.XLOOKUP(C7,Data!C:C,Data!G:G,0)","v":0},{"$f":"_xlfn.XLOOKUP(C7,Data!C:C,Data!F:F)","v":{"$error":"#N/A"}},{"$f":"_xlfn.XLOOKUP(C7,Data!C:C,Data!H:H,0)","v":0},{"$error":"#N/A"},{"$error":"#N/A"},{"$error":"#N/A"},{"$error":"#N/A"},{"$error":"#N/A"},0,{"$error":"#N/A"},"",{"$f":"IF(Q7=\"\",\"\",AVERAGE(Q3:Q11))","v":""},{"$f":"IF(Q7=\"\",\"\",MAX(Q3:Q11)-MIN(Q3:Q11))","v":""},null,{"$f":"IF(F7=\"\",\"\",AVERAGE(F3:F11))","v":{"$error":"#N/A"}}]
["23-3-2021","12:05:00","2021-03-23T12:05:00",null,{"$f":"_xlfn.XLOOKUP(C8,Data!C:C,Data!I:I)","v":{"$error":"#N/A"}},{"$error":"#N/A"},{"$f":"_xlfn.XLOOKUP(C8,Data!C:C,Data!G:G,0)","v":0},{"$f":"_xlfn.XLOOKUP(C8,Data!C:C,Data!F:F)","v":{"$error":"#N/A"}},{"$f":"_xlfn.XLOOKUP(C8,Data!C:C,Data!H:H,0)","v":0},{"$error":"#N/A"},{"$error":"#N/A"},{"$error":"#N/A"},{"$error":"#N/A"},{"$error":"#N/A"},0,{"$error":"#N/A"},"",{"$f":"IF(Q8=\"\",\"\",AVERAGE(Q4:Q12))","v":""},{"$f":"IF(Q8=\"\",\"\",MAX(Q4:Q12)-MIN(Q4:Q12))","v":""},null,{"$error":"#N/A"}]
["23-3-2021","12:06:00","2021-03-23T12:06:00",null,{"$f":"_xlfn.XLOOKUP(C9,Data!C:C,Data!I:I)","v":{"$error":"#N/A"}},{"$error":"#N/A"},{"$f":"_xlfn.XLOOKUP(C9,Data!C:C,Data!G:G,0)","v":0},{"$f":"_xlfn.XLOOKUP(C9,Data!C:C,Data!F:F)","v":{"$error":"#N/A"}},{"$f":"_xlfn.XLOOKUP(C9,Data!C:C,Data!H:H,0)","v":0},{"$error":"#N/A"},{"$error":"#N/A"},{"$error":"#N/A"},{"$error":"#N/A"},{"$error":"#N/A"},0,{"$error":"#N/A"},"","","",null,{"$error":"#N/A"}]
["23-3-2021","12:07:00","2021-03-23T12:07:00",null,{"$f":"_xlfn.XLOOKUP(C10,Data!C:C,Data!I:I)","v":{"$error":"#N/A"}},{"$error":"#N/A"},{"$f":"_xlfn.XLOOKUP(C10,Data!C:C,Data!G:G,0)","v":0},{"$f":"_xlfn.XLOOKUP(C10,Data!C:C,Data!F:F)","v":{"$error":"#N/A"}},{"$f":"_xlfn.XLOOKUP(C10,Data!C:C,Data!H:H,0)","v":0},{"$error":"#N/A"},{"$error":"#N/A"},{"$error":"#N/A"},{"$error":"#N/A"},{"$error":"#N/A"},0,{"$error":"#N/A"},"","","",null,{"$error":"#N/A"}]
["23-3-2021","12:08:00","2021-03-23T12:08:00",null,{"$f":"_xlfn.XLOOKUP(C11,Data!C:C,Data!I:I)","v":{"$error":"#N/A"}},{"$error":"#N/A"},{"$f":"_xlfn.XLOOKUP(C11,Data!C:C,Data!G:G,0)","v":0},{"$f":"_xlfn.XLOOKUP(C11,Data!C:C,Data!F:F)","v":{"$error":"#N/A"}},{"$f":"_xlfn.XLOOKUP(C11,Data!C:C,Data!H:H,0)","v":0},{"$error":"#N/A"},{"$error":"#N/A"},{"$error":"#N/A"},{"$error":"#N/A"},{"$error":"#N/A"},0,{"$error":"#N/A"},"","","",null,{"$error":"#N/A"}]
["23-3-2021","12:09:00","2021-03-23T12:09:00",null,{"$f":"_xlfn.XLOOKUP(C12,Data!C:C,Data!I:I)","v":{"$error":"#N/A"}},{"$error":"#N/A"},{"$f":"_xlfn.XLOOKUP(C12,Data!C:C,Data!G:G,0)","v":0},{"$f":"_xlfn.XLOOKUP(C12,Data!C:C,Data!F:F)","v":{"$error":"#N/A"}},{"$f":"_xlfn.XLOOKUP(C12,Data!C:C,Data!H:H,0)","v":0},{"$error":"#N/A"},{"$error":"#N/A"},{"$error":"#N/A"},{"$error":"#N/A"},{"$error":"#N/A"},0,{"$error":"#N/A"},"","","",null,{"$error":"#N/A"}]
["23-3-2021","12:10:00","2021-03-23T12:10:00",null,{"$f":"_xlfn.XLOOKUP(C13,Data!C:C,Data!I:I)","v":{"$error":"#N/A"}},{"$error":"#N/A"},{"$f":"_xlfn.XLOOKUP(C13,Data!C:C,Data!G:G,0)","v":0},{"$f":"_xlfn.XLOOKUP(C13,Data!C:C,Data!F:F)","v":{"$error":"#N/A"}},{"$f":"_xlfn.XLOOKUP(C13,Data!C:C,Data!H:H,0)","v":0},{"$error":"#N/A"},{"$error":"#N/A"},{"$error":"#N/A"},{"$error":"#N/A"},{"$error":"#N/A"},0,{"$error":"#N/A"},"","","",null,{"$error":"#N/A"}]
["23-3-2021","12:11:00","2021-03-23T12:11:00",null,{"$f":"_xlfn.XLOOKUP(C14,Data!C:C,Data!I:I)","v":{"$error":"#N/A"}},{"$error":"#N/A"},{"$f":"_xlfn.XLOOKUP(C14,Data!C:C,Data!G:G,0)","v":0},{"$f":"_xlfn.XLOOKUP(C14,Data!C:C,Data!F:F)","v":{"$error":"#N/A"}},{"$f":"_xlfn.XLOOKUP(C14,Data!C:C,Data!H:H,0)","v":0},{"$error":"#N/A"},{"$error":"#N/A"},{"$error":"#N/A"},{"$error":"#N/A"},{"$error":"#N/A"},0,{"$error":"#N/A"},"","","",null,{"$error":"#N/A"}]
["23-3-2021","12:12:00","2021-03-23T12:12:00",null,{"$f":"_xlfn.XLOOKUP(C15,Data!C:C,Data!I:I)","v":{"$error":"#N/A"}},{"$error":"#N/A"},{"$f":"_xlfn.XLOOKUP(C15,Data!C:C,Data!G:G,0)","v":0},{"$f":"_xlfn.XLOOKUP(C15,Data!C:C,Data!F:F)","v":{"$error":"#N/A"}},{"$f":"_xlfn.XLOOKUP(C15,Data!C:C,Data!H:H,0)","v":0},{"$error":"#N/A"},{"$error":"#N/A"},{"$error":"#N/A"},{"$error":"#N/A"},{"$error":"#N/A"},0,{"$error":"#N/A"},"","","",null,{"$error":"#N/A"}]
["23-3-2021","12:13:00","2021-03-23T12:13:00",null,{"$f":"_xlfn.XLOOKUP(C16,Data!C:C,Data!I:I)","v":{"$error":"#N/A"}},{"$error":"#N/A"},{"$f":"_xlfn.XLOOKUP(C16,Data!C:C,Data!G:G,0)","v":0},{"$f":"_xlfn.XLOOKUP(C16,Data!C:C,Data!F:F)","v":{"$error":"#N/A"}},{"$f":"_xlfn.XLOOKUP(C16,Data!C:C,Data!H:H,0)","v":0},{"$error":"#N/A"},{"$error":"#N/A"},{"$error":"#N/A"},{"$error":"#N/A"},{"$error":"#N/A"},0,{"$error":"#N/A"},"","","",null,{"$error":"#N/A"}]
["23-3-2021","12:14:00","2021-03-23T12:14:00",null,{"$f":"_xlfn.XLOOKUP(C17,Data!C:C,Data!I:I)","v":{"$error":"#N/A"}},{"$error":"#N/A"},{"$f":"_xlfn.XLOOKUP(C17,Data!C:C,Data!G:G,0)","v":0},{"$f":"_xlfn.XLOOKUP(C17,Data!C:C,Data!F:F)","v":{"$error":"#N/A"}},{"$f":"_xlfn.XLOOKUP(C17,Data!C:C,Data!H:H,0)","v":0},{"$error":"#N/A"},{"$error":"#N/A"},{"$error":"#N/A"},{"$error":"#N/A"},{"$error":"#N/A"},0,{"$error":"#N/A"},"","","",null,{"$error":"#N/A"}]
["23-3-2021","12:15:00","2021-03-23T12:15:00",null,{"$f":"_xlfn.XLOOKUP(C18,Data!C:C,Data!I:I)","v":{"$error":"#N/A"}},{"$error":"#N/A"},{"$f":"_xlfn.XLOOKUP(C18,Data!C:C,Data!G:G,0)","v":0},{"$f":"_xlfn.XLOOKUP(C18,Data!C:C,Data!F:F)","v":{"$error":"#N/A"}},{"$f":"_xlfn.XLOOKUP(C18,Data!C:C,Data!H:H,0)","v":0},{"$error":"#N/A"},{"$error":"#N/A"},{"$error":"#N/A"},{"$error":"#N/A"},{"$error":"#N/A"},0,{"$error":"#N/A"},"","","",null,{"$error":"#N/A"}]
["23-3-2021","12:16:00","2021-03-23T12:16:00",null,{"$f":"_xlfn.XLOOKUP(C19,Data!C:C,Data!I:I)","v":{"$error":"#N/A"}},{"$error":"#N/A"},{"$f":"_xlfn.XLOOKUP(C19,Data!C:C,Data!G:G,0)","v":0},{"$f":"_xlfn.XLOOKUP(C19,Data!C:C,Data!F:F)","v":{"$error":"#N/A"}},{"$f":"_xlfn.XLOOKUP(C19,Data!C:C,Data!H:H,0)","v":0},{"$error":"#N/A"},{"$error":"#N/A"},{"$error":"#N/A"},{"$error":"#N/A"},{"$error":"#N/A"},0,{"$error":"#N/A"},"","","",null,{"$error":"#N/A"}]
["23-3-2021","12:17:00","2021-03-23T12:17:00",null,{"$f":"_xlfn.XLOOKUP(C20,Data!C:C,Data!I:I)","v":{"$error":"#N/A"}},{"$error":"#N/A"},{"$f":"_xlfn.XLOOKUP(C20,Data!C:C,Data!G:G,0)","v":0},{"$f":"_xlfn.XLOOKUP(C20,Data!C:C,Data!F:F)","v":{"$error":"#N/A"}},{"$f":"_xlfn.XLOOKUP(C20,Data!C:C,Data!H:H,0)","v":0},{"$error":"#N/A"},{"$error":"#N/A"},{"$error":"#N/A"},{"$error":"#N/A"},{"$error":"#N/A"},0,{"$error":"#N/A"},"","","",null,{"$error":"#N/A"}]
["23-3-2021","12:18:00","2021-03-23T12:18:00",null,{"$f":"_xlfn.XLOOKUP(C21,Data!C:C,Data!I:I)","v":{"$error":"#N/A"}},{"$error":"#N/A"},{"$f":"_xlfn.XLOOKUP(C21,Data!C:C,Data!G:G,0)","v":0},{"$f":"_xlfn.XLOOKUP(C21,Data!C:C,Data!F:F)","v":{"$error":"#N/A"}},{"$f":"_xlfn.XLOOKUP(C21,Data!C:C,Data!H:H,0)","v":0},{"$error":"#N/A"},{"$error":"#N/A"},{"$error":"#N/A"},{"$error":"#N/A"},{"$error":"#N/A"},0,{"$error":"#N/A"},"","","",null,{"$error":"#N/A"}]
["23-3-2021","12:19:00","2021-03-23T12:19:00",null,{"$f":"_xlfn.XLOOKUP(C22,Data!C:C,Data!I:I)","v":{"$error":"#N/A"}},{"$error":"#N/A"},{"$f":"_xlfn.XLOOKUP(C22,Data!C:C,Data!G:G,0)","v":0},{"$f":"_xlfn.XLOOKUP(C22,Data!C:C,Data!F:F)","v":{"$error":"#N/A"}},{"$f":"_xlfn.XLOOKUP(C22,Data!C:C,Data!H:H,0)","v":0},{"$error":"#N/A"},{"$error":"#N/A"},{"$error":"#N/A"},{"$error":"#N/A"},{"$error":"#N/A"},0,{"$error":"#N/A"},"","","",null,{"$error":"#N/A"}]
["23-3-2021","12:20:00","2021-03-23T12:20:00",null,{"$f":"_xlfn.XLOOKUP(C23,Data!C:C,Data!I:I)","v":{"$error":"#N/A"}},{"$error":"#N/A"},{"$f":"_xlfn.XLOOKUP(C23,Data!C:C,Data!G:G,0)","v":0},{"$f":"_xlfn.XLOOKUP(C23,Data!C:C,Data!F:F)","v":{"$error":"#N/A"}},{"$f":"_xlfn.XLOOKUP(C23,Data!C:C,Data!H:H,0)","v":0},{"$error":"#N/A"},{"$error":"#N/A"},{"$error":"#N/A"},{"$error":"#N/A"},{"$error":"#N/A"},0,{"$error":"#N/A"},"","","",null,{"$error":"#N/A"}]
["23-3-2021","12:21:00","2021-03-23T12:21:00",null,{"$f":"_xlfn.XLOOKUP(C24,Data!C:C,Data!I:I)","v":{"$error":"#N/A"}},{"$error":"#N/A"},{"$f":"_xlfn.XLOOKUP(C24,Data!C:C,Data!G:G,0)","v":0},{"$f":"_xlfn.XLOOKUP(C24,Data!C:C,Data!F:F)","v":{"$error":"#N/A"}},{"$f":"_xlfn.XLOOKUP(C24,Data!C:C,Data!H:H,0)","v":0},{"$error":"#N/A"},{"$error":"#N/A"},{"$error":"#N/A"},{"$error":"#N/A"},{"$error":"#N/A"},0,{"$error":"#N/A"},"","","",null,{"$error":"#N/A"}]
["23-3-2021","12:22:00","2021-03-23T12:22:00",null,{"$f":"_xlfn.XLOOKUP(C25,Data!C:C,Data!I:I)","v":{"$error":"#N/A"}},{"$error":"#N/A"},{"$f":"_xlfn.XLOOKUP(C25,Data!C:C,Data!G:G,0)","v":0},{"$f":"_xlfn.XLOOKUP(C25,Data!C:C,Data!F:F)","v":{"$error":"#N/A"}},{"$f":"_xlfn.XLOOKUP(C25,Data!C:C,Data!H:H,0)","v":0},{"$error":"#N/A"},{"$error":"#N/A"},{"$error":"#N/A"},{"$error":"#N/A"},{"$error":"#N/A"},0,{"$error":"#N/A"},"","","",null,{"$error":"#N/A"}]
["23-3-2021","12:23:00","2021-03-23T12:23:00",null,{"$f":"_xlfn.XLOOKUP(C26,Data!C:C,Data!I:I)","v":{"$error":"#N/A"}},{"$error":"#N/A"},{"$f":"_xlfn.XLOOKUP(C26,Data!C:C,Data!G:G,0)","v":0},{"$f":"_xlfn.XLOOKUP(C26,Data!C:C,Data!F:F)","v":{"$error":"#N/A"}},{"$f":"_xlfn.XLOOKUP(C26,Data!C:C,Data!H:H,0)","v":0},{"$error":"#N/A"},{"$error":"#N/A"},{"$error":"#N/A"},{"$error":"#N/A"},{"$error":"#N/A"},0,{"$error":"#N/A"},"","","",null,{"$error":"#N/A"}]
["23-3-2021","12:24:00","2021-03-23T12:24:00",null,{"$f":"_xlfn.XLOOKUP(C27,Data!C:C,Data!I:I)","v":{"$error":"#N/A"}},{"$error":"#N/A"},{"$f":"_xlfn.XLOOKUP(C27,Data!C:C,Data!G:G,0)","v":0},{"$f":"_xlfn.XLOOKUP(C27,Data!C:C,Data!F:F)","v":{"$error":"#N/A"}},{"$f":"_xlfn.XLOOKUP(C27,Data!C:C,Data!H:H,0)","v":0},{"$error":"#N/A"},{"$error":"#N/A"},{"$error":"#N/A"},{"$error":"#N/A"},{"$error":"#N/A"},0,{"$error":"#N/A"},"","","",null,{"$error":"#N/A"}]
["23-3-2021","12:25:00","2021-03-23T12:25:00",null,{"$f":"_xlfn.XLOOKUP(C28,Data!C:C,Data!I:I)","v":{"$error":"#N/A"}},{"$error":"#N/A"},{"$f":"_xlfn.XLOOKUP(C28,Data!C:C,Data!G:G,0)","v":0},{"$f":"_xlfn.XLOOKUP(C28,Data!C:C,Data!F:F)","v":{"$error":"#N/A"}},{"$f":"_xlfn.XLOOKUP(C28,Data!C:C,Data!H:H,0)","v":0},{"$error":"#N/A"},{"$error":"#N/A"},{"$error":"#N/A"},{"$error":"#N/A"},{"$error":"#N/A"},0,{"$error":"#N/A"},"","","",null,{"$error":"#N/A"}]
["23-3-2021","12:26:00","2021-03-23T12:26:00",null,{"$f":"_xlfn.XLOOKUP(C29,Data!C:C,Data!I:I)","v":{"$error":"#N/A"}},{"$error":"#N/A"},{"$f":"_xlfn.XLOOKUP(C29,Data!C:C,Data!G:G,0)","v":0},{"$f":"_xlfn.XLOOKUP(C29,Data!C:C,Data!F:F)","v":{"$error":"#N/A"}},{"$f":"_xlfn.XLOOKUP(C29,Data!C:C,Data!H:H,0)","v":0},{"$error":"#N/A"},{"$error":"#N/A"},{"$error":"#N/A"},{"$error":"#N/A"},{"$error":"#N/A"},0,{"$error":"#N/A"},"","","",null,{"$error":"#N/A"}]
["23-3-2021","12:27:00","2021-03-23T12:27:00",null,{"$f":"_xlfn.XLOOKUP(C30,Data!C:C,Data!I:I)","v":{"$error":"#N/A"}},{"$error":"#N/A"},{"$f":"_xlfn.XLOOKUP(C30,Data!C:C,Data!G:G,0)","v":0},{"$f":"_xlfn.XLOOKUP(C30,Data!C:C,Data!F:F)","v":{"$error":"#N/A"}},{"$f":"_xlfn.XLOOKUP(C30,Data!C:C,Data!H:H,0)","v":0},{"$error":"#N/A"},{"$error":"#N/A"},{"$error":"#N/A"},{"$error":"#N/A"},{"$error":"#N/A"},0,{"$error":"#N/A"},"","","",null,{"$error":"#N/A"}]
["23-3-2021","12:28:00","2021-03-23T12:28:00",null,{"$f":"_xlfn.XLOOKUP(C31,Data!C:C,Data!I:I)","v":{"$error":"#N/A"}},{"$error":"#N/A"},{"$f":"_xlfn.XLOOKUP(C31,Data!C:C,Data!G:G,0)","v":0},{"$f":"_xlfn.XLOOKUP(C31,Data!C:C,Data!F:F)","v":{"$error":"#N/A"}},{"$f":"_xlfn.XLOOKUP(C31,Data!C:C,Data!H:H,0)","v":0},{"$error":"#N/A"},{"$error":"#N/A"},{"$error":"#N/A"},{"$error":"#N/A"},{"$error":"#N/A"},0,{"$error":"#N/A"},"","","",null,{"$error":"#N/A"}]
["23-3-2021","12:29:00","2021-03-23T12:29:00",null,{"$f":"_xlfn.XLOOKUP(C32,Data!C:C,Data!I:I)","v":{"$error":"#N/A"}},{"$error":"#N/A"},{"$f":"_xlfn.XLOOKUP(C32,Data!C:C,Data!G:G,0)","v":0},{"$f":"_xlfn.XLOOKUP(C32,Data!C:C,Data!F:F)","v":{"$error":"#N/A"}},{"$f":"_xlfn.XLOOKUP(C32,Data!C:C,Data!H:H,0)","v":0},{"$error":"#N/A"},{"$error":"#N/A"},{"$error":"#N/A"},{"$error":"#N/A"},{"$error":"#N/A"},0,{"$error":"#N/A"},"","","",null,{"$error":"#N/A"}]
["23-3-2021","12:30:00","2021-03-23T12:30:00",null,{"$f":"_xlfn.XLOOKUP(C33,Data!C:C,Data!I:I)","v":{"$error":"#N/A"}},{"$error":"#N/A"},{"$f":"_xlfn.XLOOKUP(C33,Data!C:C,Data!G:G,0)","v":0},{"$f":"_xlfn.XLOOKUP(C33,Data!C:C,Data!F:F)","v":{"$error":"#N/A"}},{"$f":"_xlfn.XLOOKUP(C33,Data!C:C,Data!H:H,0)","v":0},{"$error":"#N/A"},{"$error":"#N/A"},{"$error":"#N/A"},{"$error":"#N/A"},{"$error":"#N/A"},0,{"$error":"#N/A"},"","","",null,{"$error":"#N/A"}]
["23-3-2021","12:31:00","2021-03-23T12:31:00",null,{"$f":"_xlfn.XLOOKUP(C34,Data!C:C,Data!I:I)","v":{"$error":"#N/A"}},{"$error":"#N/A"},{"$f":"_xlfn.XLOOKUP(C34,Data!C:C,Data!G:G,0)","v":0},{"$f":"_xlfn.XLOOKUP(C34,Data!C:C,Data!F:F)","v":{"$error":"#N/A"}},{"$f":"_xlfn.XLOOKUP(C34,Data!C:C,Data!H:H,0)","v":0},{"$error":"#N/A"},{"$error":"#N/A"},{"$error":"#N/A"},{"$error":"#N/A"},{"$error":"#N/A"},0,{"$error":"#N/A"},"","","",null,{"$error":"#N/A"}]
["23-3-2021","12:32:00","2021-03-23T12:32:00",null,{"$f":"_xlfn.XLOOKUP(C35,Data!C:C,Data!I:I)","v":{"$error":"#N/A"}},{"$error":"#N/A"},{"$f":"_xlfn.XLOOKUP(C35,Data!C:C,Data!G:G,0)","v":0},{"$f":"_xlfn.XLOOKUP(C35,Data!C:C,Data!F:F)","v":{"$error":"#N/A"}},{"$f":"_xlfn.XLOOKUP(C35,Data!C:C,Data!H:H,0)","v":0},{"$error":"#N/A"},{"$error":"#N/A"},{"$error":"#N/A"},{"$error":"#N/A"},{"$error":"#N/A"},0,{"$error":"#N/A"},"","","",null,{"$error":"#N/A"}]
["23-3-2021","12:33:00","2021-03-23T12:33:00",null,{"$f":"_xlfn.XLOOKUP(C36,Data!C:C,Data!I:I)","v":{"$error":"#N/A"}},{"$error":"#N/A"},{"$f":"_xlfn.XLOOKUP(C36,Data!C:C,Data!G:G,0)","v":0},{"$f":"_xlfn.XLOOKUP(C36,Data!C:C,Data!F:F)","v":{"$error":"#N/A"}},{"$f":"_xlfn.XLOOKUP(C36,Data!C:C,Data!H:H,0)","v":0},{"$error":"#N/A"},{"$error":"#N/A"},{"$error":"#N/A"},{"$error":"#N/A"},{"$error":"#N/A"},0,{"$error":"#N/A"},"","","",null,{"$error":"#N/A"}]
["23-3-2021","12:34:00","2021-03-23T12:34:00",null,{"$f":"_xlfn.XLOOKUP(C37,Data!C:C,Data!I:I)","v":{"$error":"#N/A"}},{"$error":"#N/A"},{"$f":"_xlfn.XLOOKUP(C37,Data!C:C,Data!G:G,0)","v":0},{"$f":"_xlfn.XLOOKUP(C37,Data!C:C,Data!F:F)","v":{"$error":"#N/A"}},{"$f":"_xlfn.XLOOKUP(C37,Data!C:C,Data!H:H,0)","v":0},{"$error":"#N/A"},{"$error":"#N/A"},{"$error":"#N/A"},{"$error":"#N/A"},{"$error":"#N/A"},0,{"$error":"#N/A"},"","","",null,{"$error":"#N/A"}]
["23-3-2021","12:35:00","2021-03-23T12:35:00",null,{"$f":"_xlfn.XLOOKUP(C38,Data!C:C,Data!I:I)","v":{"$error":"#N/A"}},{"$error":"#N/A"},{"$f":"_xlfn.XLOOKUP(C38,Data!C:C,Data!G:G,0)","v":0},{"$f":"_xlfn.XLOOKUP(C38,Data!C:C,Data!F:F)","v":{"$error":"#N/A"}},{"$f":"_xlfn.XLOOKUP(C38,Data!C:C,Data!H:H,0)","v":0},{"$error":"#N/A"},{"$error":"#N/A"},{"$error":"#N/A"},{"$error":"#N/A"},{"$error":"#N/A"},0,{"$error":"#N/A"},"","","",null,{"$error":"#N/A"}]
["23-3-2021","12:36:00","2021-03-23T12:36:00",null,{"$f":"_xlfn.XLOOKUP(C39,Data!C:C,Data!I:I)","v":{"$error":"#N/A"}},{"$error":"#N/A"},{"$f":"_xlfn.XLOOKUP(C39,Data!C:C,Data!G:G,0)","v":0},{"$f":"_xlfn.XLOOKUP(C39,Data!C:C,Data!F:F)","v":{"$error":"#N/A"}},{"$f":"_xlfn.XLOOKUP(C39,Data!C:C,Data!H:H,0)","v":0},{"$error":"#N/A"},{"$error":"#N/A"},{"$error":"#N/A"},{"$error":"#N/A"},{"$error":"#N/A"},0,{"$error":"#N/A"},"","","",null,{"$error":"#N/A"}]
["23-3-2021","12:37:00","2021-03-23T12:37:00",null,{"$f":"_xlfn.XLOOKUP(C40,Data!C:C,Data!I:I)","v":{"$error":"#N/A"}},{"$error":"#N/A"},{"$f":"_xlfn.XLOOKUP(C40,Data!C:C,Data!G:G,0)","v":0},{"$f":"_xlfn.XLOOKUP(C40,Data!C:C,Data!F:F)","v":{"$error":"#N/A"}},{"$f":"_xlfn.XLOOKUP(C40,Data!C:C,Data!H:H,0)","v":0},{"$error":"#N/A"},{"$error":"#N/A"},{"$error":"#N/A"},{"$error":"#N/A"},{"$error":"#N/A"},0,{"$error":"#N/A"},"","","",null,{"$error":"#N/A"}]
["23-3-2021","12:38:00","2021-03-23T12:38:00",null,{"$f":"_xlfn.XLOOKUP(C41,Data!C:C,Data!I:I)","v":{"$error":"#N/A"}},{"$error":"#N/A"},{"$f":"_xlfn.XLOOKUP(C41,Data!C:C,Data!G:G,0)","v":0},{"$f":"_xlfn.XLOOKUP(C41,Data!C:C,Data!F:F)","v":{"$error":"#N/A"}},{"$f":"_xlfn.XLOOKUP(C41,Data!C:C,Data!H:H,0)","v":0},{"$error":"#N/A"},{"$error":"#N/A"},{"$error":"#N/A"},{"$error":"#N/A"},{"$error":"#N/A"},0,{"$error":"#N/A"},"","","",null,{"$error":"#N/A"}]
["23-3-2021","12:39:00","2021-03-23T12:39:00",null,{"$f":"_xlfn.XLOOKUP(C42,Data!C:C,Data!I:I)","v":{"$error":"#N/A"}},{"$error":"#N/A"},{"$f":"_xlfn.XLOOKUP(C42,Data!C:C,Data!G:G,0)","v":0},{"$f":"_xlfn.XLOOKUP(C42,Data!C:C,Data!F:F)","v":{"$error":"#N/A"}},{"$f":"_xlfn.XLOOKUP(C42,Data!C:C,Data!H:H,0)","v":0},{"$error":"#N/A"},{"$error":"#N/A"},{"$error":"#N/A"},{"$error":"#N/A"},{"$error":"#N/A"},0,{"$error":"#N/A"},"","","",null,{"$error":"#N/A"}]
["23-3-2021","12:40:00","2021-03-23T12:40:00",null,{"$f":"_xlfn.XLOOKUP(C43,Data!C:C,Data!I:I)","v":{"$error":"#N/A"}},{"$error":"#N/A"},{"$f":"_xlfn.XLOOKUP(C43,Data!C:C,Data!G:G,0)","v":0},{"$f":"_xlfn.XLOOKUP(C43,Data!C:C,Data!F:F)","v":{"$error":"#N/A"}},{"$f":"_xlfn.XLOOKUP(C43,Data!C:C,Data!H:H,0)","v":0},{"$error":"#N/A"},{"$error":"#N/A"},{"$error":"#N/A"},{"$error":"#N/A"},{"$error":"#N/A"},0,{"$error":"#N/A"},"","","",null,{"$error":"#N/A"}]
["23-3-2021","12:41:00","2021-03-23T12:41:00",null,{"$f":"_xlfn.XLOOKUP(C44,Data!C:C,Data!I:I)","v":{"$error":"#N/A"}},{"$error":"#N/A"},{"$f":"_xlfn.XLOOKUP(C44,Data!C:C,Data!G:G,0)","v":0},{"$f":"_xlfn.XLOOKUP(C44,Data!C:C,Data!F:F)","v":{"$error":"#N/A"}},{"$f":"_xlfn.XLOOKUP(C44,Data!C:C,Data!H:H,0)","v":0},{"$error":"#N/A"},{"$error":"#N/A"},{"$error":"#N/A"},{"$error":"#N/A"},{"$error":"#N/A"},0,{"$error":"#N/A"},"","","",null,{"$error":"#N/A"}]
["23-3-2021","12:42:00","2021-03-23T12:42:00",null,{"$f":"_xlfn.XLOOKUP(C45,Data!C:C,Data!I:I)","v":{"$error":"#N/A"}},{"$error":"#N/A"},{"$f":"_xlfn.XLOOKUP(C45,Data!C:C,Data!G:G,0)","v":0},{"$f":"_xlfn.XLOOKUP(C45,Data!C:C,Data!F:F)","v":{"$error":"#N/A"}},{"$f":"_xlfn.XLOOKUP(C45,Data!C:C,Data!H:H,0)","v":0},{"$error":"#N/A"},{"$error":"#N/A"},{"$error":"#N/A"},{"$error":"#N/A"},{"$error":"#N/A"},0,{"$error":"#N/A"},"","","",null,{"$error":"#N/A"}]
["23-3-2021","12:43:00","2021-03-23T12:43:00",null,{"$f":"_xlfn.XLOOKUP(C46,Data!C:C,Data!I:I)","v":{"$error":"#N/A"}},{"$error":"#N/A"},{"$f":"_xlfn.XLOOKUP(C46,Data!C:C,Data!G:G,0)","v":0},{"$f":"_xlfn.XLOOKUP(C46,Data!C:C,Data!F:F)","v":{"$error":"#N/A"}},{"$f":"_xlfn.XLOOKUP(C46,Data!C:C,Data!H:H,0)","v":0},{"$error":"#N/A"},{"$error":"#N/A"},{"$error":"#N/A"},{"$error":"#N/A"},{"$error":"#N/A"},0,{"$error":"#N/A"},"","","",null,{"$error":"#N/A"}]
["23-3-2021","12:44:00","2021-03-23T12:44:00",null,{"$f":"_xlfn.XLOOKUP(C47,Data!C:C,Data!I:I)","v":{"$error":"#N/A"}},{"$error":"#N/A"},{"$f":"_xlfn.XLOOKUP(C47,Data!C:C,Data!G:G,0)","v":0},{"$f":"_xlfn.XLOOKUP(C47,Data!C:C,Data!F:F)","v":{"$error":"#N/A"}},{"$f":"_xlfn.XLOOKUP(C47,Data!C:C,Data!H:H,0)","v":0},{"$error":"#N/A"},{"$error":"#N/A"},{"$error":"#N/A"},{"$error":"#N/A"},{"$error":"#N/A"},0,{"$error":"#N/A"},"","","",null,{"$error":"#N/A"}]
["23-3-2021","12:45:00","2021-03-23T12:45:00",null,{"$f":"_xlfn.XLOOKUP(C48,Data!C:C,Data!I:I)","v":{"$error":"#N/A"}},{"$error":"#N/A"},{"$f":"_xlfn.XLOOKUP(C48,Data!C:C,Data!G:G,0)","v":0},{"$f":"_xlfn.XLOOKUP(C48,Data!C:C,Data!F:F)","v":{"$error":"#N/A"}},{"$f":"_xlfn.XLOOKUP(C48,Data!C:C,Data!H:H,0)","v":0},{"$error":"#N/A"},{"$error":"#N/A"},{"$error":"#N/A"},{"$error":"#N/A"},{"$error":"#N/A"},0,{"$error":"#N/A"},"","","",null,{"$error":"#N/A"}]
["23-3-2021","12:46:00","2021-03-23T12:46:00",null,{"$f":"_xlfn.XLOOKUP(C49,Data!C:C,Data!I:I)","v":{"$error":"#N/A"}},{"$error":"#N/A"},{"$f":"_xlfn.XLOOKUP(C49,Data!C:C,Data!G:G,0)","v":0},{"$f":"_xlfn.XLOOKUP(C49,Data!C:C,Data!F:F)","v":{"$error":"#N/A"}},{"$f":"_xlfn.XLOOKUP(C49,Data!C:C,Data!H:H,0)","v":0},{"$error":"#N/A"},{"$error":"#N/A"},{"$error":"#N/A"},{"$error":"#N/A"},{"$error":"#N/A"},0,{"$error":"#N/A"},"","","",null,{"$error":"#N/A"}]
["23-3-2021","12:47:00","2021-03-23T12:47:00",null,{"$f":"_xlfn.XLOOKUP(C50,Data!C:C,Data!I:I)","v":{"$error":"#N/A"}},{"$error":"#N/A"},{"$f":"_xlfn.XLOOKUP(C50,Data!C:C,Data!G:G,0)","v":0},{"$f":"_xlfn.XLOOKUP(C50,Data!C:C,Data!F:F)","v":{"$error":"#N/A"}},{"$f":"_xlfn.XLOOKUP(C50,Data!C:C,Data!H:H,0)","v":0},{"$error":"#N/A"},{"$error":"#N/A"},{"$error":"#N/A"},{"$error":"#N/A"},{"$error":"#N/A"},0,{"$error":"#N/A"},"","","",null,{"$error":"#N/A"}]
["23-3-2021","12:48:00","2021-03-23T12:48:00",null,{"$f":"_xlfn.XLOOKUP(C51,Data!C:C,Data!I:I)","v":{"$error":"#N/A"}},{"$error":"#N/A"},{"$f":"_xlfn.XLOOKUP(C51,Data!C:C,Data!G:G,0)","v":0},{"$f":"_xlfn.XLOOKUP(C51,Data!C:C,Data!F:F)","v":{"$error":"#N/A"}},{"$f":"_xlfn.XLOOKUP(C51,Data!C:C,Data!H:H,0)","v":0},{"$error":"#N/A"},{"$error":"#N/A"},{"$error":"#N/A"},{"$error":"#N/A"},{"$error":"#N/A"},0,{"$error":"#N/A"},"","","",null,{"$error":"#N/A"}]
["23-3-2021","12:49:00","2021-03-23T12:49:00",null,{"$f":"_xlfn.XLOOKUP(C52,Data!C:C,Data!I:I)","v":{"$error":"#N/A"}},{"$error":"#N/A"},{"$f":"_xlfn.XLOOKUP(C52,Data!C:C,Data!G:G,0)","v":0},{"$f":"_xlfn.XLOOKUP(C52,Data!C:C,Data!F:F)","v":{"$error":"#N/A"}},{"$f":"_xlfn.XLOOKUP(C52,Data!C:C,Data!H:H,0)","v":0},{"$error":"#N/A"},{"$error":"#N/A"},{"$error":"#N/A"},{"$error":"#N/A"},{"$error":"#N/A"},0,{"$error":"#N/A"},"","","",null,{"$error":"#N/A"}]
["23-3-2021","12:50:00","2021-03-23T12:50:00",null,{"$f":"_xlfn.XLOOKUP(C53,Data!C:C,Data!I:I)","v":{"$error":"#N/A"}},{"$error":"#N/A"},{"$f":"_xlfn.XLOOKUP(C53,Data!C:C,Data!G:G,0)","v":0},{"$f":"_xlfn.XLOOKUP(C53,Data!C:C,Data!F:F)","v":{"$error":"#N/A"}},{"$f":"_xlfn.XLOOKUP(C53,Data!C:C,Data!H:H,0)","v":0},{"$error":"#N/A"},{"$error":"#N/A"},{"$error":"#N/A"},{"$error":"#N/A"},{"$error":"#N/A"},0,{"$error":"#N/A"},"","","",null,{"$error":"#N/A"}]
["23-3-2021","12:51:00","2021-03-23T12:51:00",null,{"$f":"_xlfn.XLOOKUP(C54,Data!C:C,Data!I:I)","v":{"$error":"#N/A"}},{"$error":"#N/A"},{"$f":"_xlfn.XLOOKUP(C54,Data!C:C,Data!G:G,0)","v":0},{"$f":"_xlfn.XLOOKUP(C54,Data!C:C,Data!F:F)","v":{"$error":"#N/A"}},{"$f":"_xlfn.XLOOKUP(C54,Data!C:C,Data!H:H,0)","v":0},{"$error":"#N/A"},{"$error":"#N/A"},{"$error":"#N/A"},{"$error":"#N/A"},{"$error":"#N/A"},0,{"$error":"#N/A"},"","","",null,{"$error":"#N/A"}]
["23-3-2021","12:52:00","2021-03-23T12:52:00",null,{"$f":"_xlfn.XLOOKUP(C55,Data!C:C,Data!I:I)","v":{"$error":"#N/A"}},{"$error":"#N/A"},{"$f":"_xlfn.XLOOKUP(C55,Data!C:C,Data!G:G,0)","v":0},{"$f":"_xlfn.XLOOKUP(C55,Data!C:C,Data!F:F)","v":{"$error":"#N/A"}},{"$f":"_xlfn.XLOOKUP(C55,Data!C:C,Data!H:H,0)","v":0},{"$error":"#N/A"},{"$error":"#N/A"},{"$error":"#N/A"},{"$error":"#N/A"},{"$error":"#N/A"},0,{"$error":"#N/A"},"","","",null,{"$error":"#N/A"}]
["23-3-2021","12:53:00","2021-03-23T12:53:00",null,{"$f":"_xlfn.XLOOKUP(C56,Data!C:C,Data!I:I)","v":{"$error":"#N/A"}},{"$error":"#N/A"},{"$f":"_xlfn.XLOOKUP(C56,Data!C:C,Data!G:G,0)","v":0},{"$f":"_xlfn.XLOOKUP(C56,Data!C:C,Data!F:F)","v":{"$error":"#N/A"}},{"$f":"_xlfn.XLOOKUP(C56,Data!C:C,Data!H:H,0)","v":0},{"$error":"#N/A"},{"$error":"#N/A"},{"$error":"#N/A"},{"$error":"#N/A"},{"$error":"#N/A"},0,{"$error":"#N/A"},"","","",null,{"$error":"#N/A"}]
["23-3-2021","12:54:00","2021-03-23T12:54:00",null,{"$f":"_xlfn.XLOOKUP(C57,Data!C:C,Data!I:I)","v":{"$error":"#N/A"}},{"$error":"#N/A"},{"$f":"_xlfn.XLOOKUP(C57,Data!C:C,Data!G:G,0)","v":0},{"$f":"_xlfn.XLOOKUP(C57,Data!C:C,Data!F:F)","v":{"$error":"#N/A"}},{"$f":"_xlfn.XLOOKUP(C57,Data!C:C,Data!H:H,0)","v":0},{"$error":"#N/A"},{"$error":"#N/A"},{"$error":"#N/A"},{"$error":"#N/A"},{"$error":"#N/A"},0,{"$error":"#N/A"},"","","",null,{"$error":"#N/A"}]
["23-3-2021","12:55:00","2021-03-23T12:55:00",null,{"$f":"_xlfn.XLOOKUP(C58,Data!C:C,Data!I:I)","v":{"$error":"#N/A"}},{"$error":"#N/A"},{"$f":"_xlfn.XLOOKUP(C58,Data!C:C,Data!G:G,0)","v":0},{"$f":"_xlfn.XLOOKUP(C58,Data!C:C,Data!F:F)","v":{"$error":"#N/A"}},{"$f":"_xlfn.XLOOKUP(C58,Data!C:C,Data!H:H,0)","v":0},{"$error":"#N/A"},{"$error":"#N/A"},{"$error":"#N/A"},{"$error":"#N/A"},{"$error":"#N/A"},0,{"$error":"#N/A"},"","","",null,{"$error":"#N/A"}]
["23-3-2021","12:56:00","2021-03-23T12:56:00",null,{"$f":"_xlfn.XLOOKUP(C59,Data!C:C,Data!I:I)","v":{"$error":"#N/A"}},{"$error":"#N/A"},{"$f":"_xlfn.XLOOKUP(C59,Data!C:C,Data!G:G,0)","v":0},{"$f":"_xlfn.XLOOKUP(C59,Data!C:C,Data!F:F)","v":{"$error":"#N/A"}},{"$f":"_xlfn.XLOOKUP(C59,Data!C:C,Data!H:H,0)","v":0},{"$error":"#N/A"},{"$error":"#N/A"},{"$error":"#N/A"},{"$error":"#N/A"},{"$error":"#N/A"},0,{"$error":"#N/A"},"","","",null,{"$error":"#N/A"}]
["23-3-2021","12:57:00","2021-03-23T12:57:00",null,{"$f":"_xlfn.XLOOKUP(C60,Data!C:C,Data!I:I)","v":{"$error":"#N/A"}},{"$error":"#N/A"},{"$f":"_xlfn.XLOOKUP(C60,Data!C:C,Data!G:G,0)","v":0},{"$f":"_xlfn.XLOOKUP(C60,Data!C:C,Data!F:F)","v":{"$error":"#N/A"}},{"$f":"_xlfn.XLOOKUP(C60,Data!C:C,Data!H:H,0)","v":0},{"$error":"#N/A"},{"$error":"#N/A"},{"$error":"#N/A"},{"$error":"#N/A"},{"$error":"#N/A"},0,{"$error":"#N/A"},"","","",null,{"$error":"#N/A"}]
["23-3-2021","12:58:00","2021-03-23T12:58:00",null,{"$f":"_xlfn.XLOOKUP(C61,Data!C:C,Data!I:I)","v":{"$error":"#N/A"}},{"$error":"#N/A"},{"$f":"_xlfn.XLOOKUP(C61,Data!C:C,Data!G:G,0)","v":0},{"$f":"_xlfn.XLOOKUP(C61,Data!C:C,Data!F:F)","v":{"$error":"#N/A"}},{"$f":"_xlfn.XLOOKUP(C61,Data!C:C,Data!H:H,0)","v":0},{"$error":"#N/A"},{"$error":"#N/A"},{"$error":"#N/A"},{"$error":"#N/A"},{"$error":"#N/A"},0,{"$error":"#N/A"},"","","",null,{"$error":"#N/A"}]
["23-3-2021","12:59:00","2021-03-23T12:59:00",null,{"$f":"_xlfn.XLOOKUP(C62,Data!C:C,Data!I:I)","v":{"$error":"#N/A"}},{"$error":"#N/A"},{"$f":"_xlfn.XLOOKUP(C62,Data!C:C,Data!G:G,0)","v":0},{"$f":"_xlfn.XLOOKUP(C62,Data!C:C,Data!F:F)","v":{"$error":"#N/A"}},{"$f":"_xlfn.XLOOKUP(C62,Data!C:C,Data!H:H,0)","v":0},{"$error":"#N/A"},{"$error":"#N/A"},{"$error":"#N/A"},{"$error":"#N/A"},{"$error":"#N/A"},0,{"$error":"#N/A"},"","","",null,{"$error":"#N/A"}]
["23-3-2021","13:00:00","2021-03-23T13:00:00",null,{"$f":"_xlfn.XLOOKUP(C63,Data!C:C,Data!I:I)","v":{"$error":"#N/A"}},{"$error":"#N/A"},{"$f":"_xlfn.XLOOKUP(C63,Data!C:C,Data!G:G,0)","v":0},{"$f":"_xlfn.XLOOKUP(C63,Data!C:C,Data!F:F)","v":{"$error":"#N/A"}},{"$f":"_xlfn.XLOOKUP(C63,Data!C:C,Data!H:H,0)","v":0},{"$error":"#N/A"},{"$error":"#N/A"},{"$error":"#N/A"},{"$error":"#N/A"},{"$error":"#N/A"},0,{"$error":"#N/A"},"","","",null,{"$error":"#N/A"}]
["23-3-2021","13:01:00","2021-03-23T13:01:00",null,{"$f":"_xlfn.XLOOKUP(C64,Data!C:C,Data!I:I)","v":{"$error":"#N/A"}},{"$error":"#N/A"},{"$f":"_xlfn.XLOOKUP(C64,Data!C:C,Data!G:G,0)","v":0},{"$f":"_xlfn.XLOOKUP(C64,Data!C:C,Data!F:F)","v":{"$error":"#N/A"}},{"$f":"_xlfn.XLOOKUP(C64,Data!C:C,Data!H:H,0)","v":0},{"$error":"#N/A"},{"$error":"#N/A"},{"$error":"#N/A"},{"$error":"#N/A"},{"$error":"#N/A"},0,{"$error":"#N/A"},"","","",null,{"$error":"#N/A"}]
["23-3-2021","13:02:00","2021-03-23T13:02:00",null,{"$f":"_xlfn.XLOOKUP(C65,Data!C:C,Data!I:I)","v":{"$error":"#N/A"}},{"$error":"#N/A"},{"$f":"_xlfn.XLOOKUP(C65,Data!C:C,Data!G:G,0)","v":0},{"$f":"_xlfn.XLOOKUP(C65,Data!C:C,Data!F:F)","v":{"$error":"#N/A"}},{"$f":"_xlfn.XLOOKUP(C65,Data!C:C,Data!H:H,0)","v":0},{"$error":"#N/A"},{"$error":"#N/A"},{"$error":"#N/A"},{"$error":"#N/A"},{"$error":"#N/A"},0,{"$error":"#N/A"},"","","",null,{"$error":"#N/A"}]
["23-3-2021","13:03:00","2021-03-23T13:03:00",null,{"$f":"_xlfn.XLOOKUP(C66,Data!C:C,Data!I:I)","v":{"$error":"#N/A"}},{"$error":"#N/A"},{"$f":"_xlfn.XLOOKUP(C66,Data!C:C,Data!G:G,0)","v":0},{"$f":"_xlfn.XLOOKUP(C66,Data!C:C,Data!F:F)","v":{"$error":"#N/A"}},{"$f":"_xlfn.XLOOKUP(C66,Data!C:C,Data!H:H,0)","v":0},{"$error":"#N/A"},{"$error":"#N/A"},{"$error":"#N/A"},{"$error":"#N/A"},{"$error":"#N/A"},0,{"$error":"#N/A"},"","","",null,{"$error":"#N/A"}]
["23-3-2021","13:04:00",{"$f":"A67+B67","v":"2021-03-23T13:04:00"},null,{"$f":"_xlfn.XLOOKUP(C67,Data!C:C,Data!I:I)","v":{"$error":"#N/A"}},{"$error":"#N/A"},{"$f":"_xlfn.XLOOKUP(C67,Data!C:C,Data!G:G,0)","v":0},{"$f":"_xlfn.XLOOKUP(C67,Data!C:C,Data!F:F)","v":{"$error":"#N/A"}},{"$f":"_xlfn.XLOOKUP(C67,Data!C:C,Data!H:H,0)","v":0},{"$error":"#N/A"},{"$f":"IF(AND(I67<100,  I67>=80,  OR(J67=105, J67=106,  J67=123)),  5,  0)","v":{"$error":"#N/A"}},{"$error":"#N/A"},{"$error":"#N/A"},{"$error":"#N/A"},{"$f":"IFERROR(F67,0)","v":0},{"$error":"#N/A"},"","","",null,{"$error":"#N/A"}]
[{"$f":"$A$3","v":"23-3-2021"},"13:05:00","2021-03-23T13:05:00",null,{"$f":"_xlfn.XLOOKUP(C68,Data!C:C,Data!I:I)","v":{"$error":"#N/A"}},{"$error":"#N/A"},{"$f":"_xlfn.XLOOKUP(C68,Data!C:C,Data!G:G,0)","v":0},{"$f":"_xlfn.XLOOKUP(C68,Data!C:C,Data!F:F)","v":{"$error":"#N/A"}},{"$f":"_xlfn.XLOOKUP(C68,Data!C:C,Data!H:H,0)","v":0},{"$error":"#N/A"},{"$error":"#N/A"},{"$f":"IF(AND(I68<130,  I68>104,  OR(J68=105, J68=106,  J68=123),  S68>$S$1450+$S$1443),  20,  0)","v":{"$error":"#N/A"}},{"$f":"IF(AND(I68<130,  I68>104,  OR(J68=105, J68=106,  J68=123),  R68>$Q$1449,  S68<=$S$1450+$S$1443),  20,  0)","v":{"$error":"#N/A"}},{"$f":"IF(AND(I68<130,  I68>104,  OR(J68=105, J68=106,  J68=123),  R68<=$Q$1449,  S68<=$S$1450+$S$1443),  20,  0)","v":{"$error":"#N/A"}},0,{"$f":"IF(Q68=\"\",F68,IF(Q68=0,P67,Q68))","v":{"$error":"#N/A"}},{"$f":"IF(I68>109,IF(O68*$Q$1451>(O67+O69)/2,MIN(O67:O69),O68),\"\")","v":""},"","",null,{"$error":"#N/A"}]
["23-3-2021","13:06:00","2021-03-23T13:06:00",null,{"$f":"_xlfn.XLOOKUP(C69,Data!C:C,Data!I:I)","v":{"$error":"#N/A"}},{"$f":"IF(E69=255,IF(MIN(E68:E70)=255,#N/A,MIN(E68:E70)),E69)","v":{"$error":"#N/A"}},{"$f":"_xlfn.XLOOKUP(C69,Data!C:C,Data!G:G,0)","v":0},{"$f":"_xlfn.XLOOKUP(C69,Data!C:C,Data!F:F)","v":{"$error":"#N/A"}},{"$f":"_xlfn.XLOOKUP(C69,Data!C:C,Data!H:H,0)","v":0},{"$error":"#N/A"},{"$error":"#N/A"},{"$error":"#N/A"},{"$error":"#N/A"},{"$error":"#N/A"},0,{"$error":"#N/A"},"","","",null,{"$error":"#N/A"}]
["23-3-2021","13:07:00","2021-03-23T13:07:00",null,{"$f":"_xlfn.XLOOKUP(C70,Data!C:C,Data!I:I)","v":{"$error":"#N/A"}},{"$error":"#N/A"},{"$f":"_xlfn.XLOOKUP(C70,Data!C:C,Data!G:G,0)","v":0},{"$f":"_xlfn.XLOOKUP(C70,Data!C:C,Data!F:F)","v":{"$error":"#N/A"}},{"$f":"_xlfn.XLOOKUP(C70,Data!C:C,Data!H:H,0)","v":0},{"$f":"IF(AND(MAX(E68:E69)=255,MAX(E70:E71)=255,  E69+E70+E71<3*255, OR(I70=123,I70=124,I70=106,I70=108)),   I70,   IF(AND(MAX(E68:E69)=255,MAX(E70:E71)=255,  E69+E70+E71<3*255, OR(I70>=80,I70<100)),106,108))","v":{"$error":"#N/A"}},{"$error":"#N/A"},{"$error":"#N/A"},{"$error":"#N/A"},{"$error":"#N/A"},0,{"$error":"#N/A"},"","","",null,{"$error":"#N/A"}]
["23-3-2021","13:08:00","2021-03-23T13:08:00",null,{"$f":"_xlfn.XLOOKUP(C71,Data!C:C,Data!I:I)","v":{"$error":"#N/A"}},{"$error":"#N/A"},{"$f":"_xlfn.XLOOKUP(C71,Data!C:C,Data!G:G,0)","v":0},{"$f":"_xlfn.XLOOKUP(C71,Data!C:C,Data!F:F)","v":{"$error":"#N/A"}},{"$f":"_xlfn.XLOOKUP(C71,Data!C:C,Data!H:H,0)","v":0},{"$error":"#N/A"},{"$error":"#N/A"},{"$error":"#N/A"},{"$error":"#N/A"},{"$error":"#N/A"},0,{"$error":"#N/A"},"","","",null,{"$f":"IF(F71=\"\",\"\",AVERAGE(F67:F75))","v":{"$error":"#N/A"}}]
["23-3-2021","13:09:00","2021-03-23T13:09:00",null,{"$f":"_xlfn.XLOOKUP(C72,Data!C:C,Data!I:I)","v":{"$error":"#N/A"}},{"$error":"#N/A"},{"$f":"_xlfn.XLOOKUP(C72,Data!C:C,Data!G:G,0)","v":0},{"$f":"_xlfn.XLOOKUP(C72,Data!C:C,Data!F:F)","v":{"$error":"#N/A"}},{"$f":"_xlfn.XLOOKUP(C72,Data!C:C,Data!H:H,0)","v":0},{"$error":"#N/A"},{"$error":"#N/A"},{"$error":"#N/A"},{"$error":"#N/A"},{"$error":"#N/A"},0,{"$error":"#N/A"},"",{"$f":"IF(Q72=\"\",\"\",AVERAGE(Q68:Q76))","v":""},{"$f":"IF(Q72=\"\",\"\",MAX(Q68:Q76)-MIN(Q68:Q76))","v":""},null,{"$error":"#N/A"}]
["23-3-2021","13:10:00","2021-03-23T13:10:00",null,{"$f":"_xlfn.XLOOKUP(C73,Data!C:C,Data!I:I)","v":{"$error":"#N/A"}},{"$error":"#N/A"},{"$f":"_xlfn.XLOOKUP(C73,Data!C:C,Data!G:G,0)","v":0},{"$f":"_xlfn.XLOOKUP(C73,Data!C:C,Data!F:F)","v":{"$error":"#N/A"}},{"$f":"_xlfn.XLOOKUP(C73,Data!C:C,Data!H:H,0)","v":0},{"$error":"#N/A"},{"$error":"#N/A"},{"$error":"#N/A"},{"$error":"#N/A"},{"$error":"#N/A"},0,{"$error":"#N/A"},"","","",null,{"$error":"#N/A"}]
["23-3-2021","13:11:00","2021-03-23T13:11:00",null,{"$f":"_xlfn.XLOOKUP(C74,Data!C:C,Data!I:I)","v":{"$error":"#N/A"}},{"$error":"#N/A"},{"$f":"_xlfn.XLOOKUP(C74,Data!C:C,Data!G:G,0)","v":0},{"$f":"_xlfn.XLOOKUP(C74,Data!C:C,Data!F:F)","v":{"$error":"#N/A"}},{"$f":"_xlfn.XLOOKUP(C74,Data!C:C,Data!H:H,0)","v":0},{"$error":"#N/A"},{"$error":"#N/A"},{"$error":"#N/A"},{"$error":"#N/A"},{"$error":"#N/A"},0,{"$error":"#N/A"},"","","",null,{"$error":"#N/A"}]
["23-3-2021","13:12:00","2021-03-23T13:12:00",null,{"$f":"_xlfn.XLOOKUP(C75,Data!C:C,Data!I:I)","v":{"$error":"#N/A"}},{"$error":"#N/A"},{"$f":"_xlfn.XLOOKUP(C75,Data!C:C,Data!G:G,0)","v":0},{"$f":"_xlfn.XLOOKUP(C75,Data!C:C,Data!F:F)","v":{"$error":"#N/A"}},{"$f":"_xlfn.XLOOKUP(C75,Data!C:C,Data!H:H,0)","v":0},{"$error":"#N/A"},{"$error":"#N/A"},{"$error":"#N/A"},{"$error":"#N/A"},{"$error":"#N/A"},0,{"$error":"#N/A"},"","","",null,{"$error":"#N/A"}]
["23-3-2021","13:13:00","2021-03-23T13:13:00",null,{"$f":"_xlfn.XLOOKUP(C76,Data!C:C,Data!I:I)","v":{"$error":"#N/A"}},{"$error":"#N/A"},{"$f":"_xlfn.XLOOKUP(C76,Data!C:C,Data!G:G,0)","v":0},{"$f":"_xlfn.XLOOKUP(C76,Data!C:C,Data!F:F)","v":{"$error":"#N/A"}},{"$f":"_xlfn.XLOOKUP(C76,Data!C:C,Data!H:H,0)","v":0},{"$error":"#N/A"},{"$error":"#N/A"},{"$error":"#N/A"},{"$error":"#N/A"},{"$error":"#N/A"},0,{"$error":"#N/A"},"","","",null,{"$error":"#N/A"}]
["23-3-2021","13:14:00","2021-03-23T13:14:00",null,{"$f":"_xlfn.XLOOKUP(C77,Data!C:C,Data!I:I)","v":{"$error":"#N/A"}},{"$error":"#N/A"},{"$f":"_xlfn.XLOOKUP(C77,Data!C:C,Data!G:G,0)","v":0},{"$f":"_xlfn.XLOOKUP(C77,Data!C:C,Data!F:F)","v":{"$error":"#N/A"}},{"$f":"_xlfn.XLOOKUP(C77,Data!C:C,Data!H:H,0)","v":0},{"$error":"#N/A"},{"$error":"#N/A"},{"$error":"#N/A"},{"$error":"#N/A"},{"$error":"#N/A"},0,{"$error":"#N/A"},"","","",null,{"$error":"#N/A"}]
["23-3-2021","13:15:00","2021-03-23T13:15:00",null,{"$f":"_xlfn.XLOOKUP(C78,Data!C:C,Data!I:I)","v":{"$error":"#N/A"}},{"$error":"#N/A"},{"$f":"_xlfn.XLOOKUP(C78,Data!C:C,Data!G:G,0)","v":0},{"$f":"_xlfn.XLOOKUP(C78,Data!C:C,Data!F:F)","v":{"$error":"#N/A"}},{"$f":"_xlfn.XLOOKUP(C78,Data!C:C,Data!H:H,0)","v":0},{"$error":"#N/A"},{"$error":"#N/A"},{"$error":"#N/A"},{"$error":"#N/A"},{"$error":"#N/A"},0,{"$error":"#N/A"},"","","",null,{"$error":"#N/A"}]
["23-3-2021","13:16:00","2021-03-23T13:16:00",null,{"$f":"_xlfn.XLOOKUP(C79,Data!C:C,Data!I:I)","v":{"$error":"#N/A"}},{"$error":"#N/A"},{"$f":"_xlfn.XLOOKUP(C79,Data!C:C,Data!G:G,0)","v":0},{"$f":"_xlfn.XLOOKUP(C79,Data!C:C,Data!F:F)","v":{"$error":"#N/A"}},{"$f":"_xlfn.XLOOKUP(C79,Data!C:C,Data!H:H,0)","v":0},{"$error":"#N/A"},{"$error":"#N/A"},{"$error":"#N/A"},{"$error":"#N/A"},{"$error":"#N/A"},0,{"$error":"#N/A"},"","","",null,{"$error":"#N/A"}]
["23-3-2021","13:17:00","2021-03-23T13:17:00",null,{"$f":"_xlfn.XLOOKUP(C80,Data!C:C,Data!I:I)","v":{"$error":"#N/A"}},{"$error":"#N/A"},{"$f":"_xlfn.XLOOKUP(C80,Data!C:C,Data!G:G,0)","v":0},{"$f":"_xlfn.XLOOKUP(C80,Data!C:C,Data!F:F)","v":{"$error":"#N/A"}},{"$f":"_xlfn.XLOOKUP(C80,Data!C:C,Data!H:H,0)","v":0},{"$error":"#N/A"},{"$error":"#N/A"},{"$error":"#N/A"},{"$error":"#N/A"},{"$error":"#N/A"},0,{"$error":"#N/A"},"","","",null,{"$error":"#N/A"}]
["23-3-2021","13:18:00","2021-03-23T13:18:00",null,{"$f":"_xlfn.XLOOKUP(C81,Data!C:C,Data!I:I)","v":{"$error":"#N/A"}},{"$error":"#N/A"},{"$f":"_xlfn.XLOOKUP(C81,Data!C:C,Data!G:G,0)","v":0},{"$f":"_xlfn.XLOOKUP(C81,Data!C:C,Data!F:F)","v":{"$error":"#N/A"}},{"$f":"_xlfn.XLOOKUP(C81,Data!C:C,Data!H:H,0)","v":0},{"$error":"#N/A"},{"$error":"#N/A"},{"$error":"#N/A"},{"$error":"#N/A"},{"$error":"#N/A"},0,{"$error":"#N/A"},"","","",null,{"$error":"#N/A"}]
["23-3-2021","13:19:00","2021-03-23T13:19:00",null,{"$f":"_xlfn.XLOOKUP(C82,Data!C:C,Data!I:I)","v":{"$error":"#N/A"}},{"$error":"#N/A"},{"$f":"_xlfn.XLOOKUP(C82,Data!C:C,Data!G:G,0)","v":0},{"$f":"_xlfn.XLOOKUP(C82,Data!C:C,Data!F:F)","v":{"$error":"#N/A"}},{"$f":"_xlfn.XLOOKUP(C82,Data!C:C,Data!H:H,0)","v":0},{"$error":"#N/A"},{"$error":"#N/A"},{"$error":"#N/A"},{"$error":"#N/A"},{"$error":"#N/A"},0,{"$error":"#N/A"},"","","",null,{"$error":"#N/A"}]
["23-3-2021","13:20:00","2021-03-23T13:20:00",null,{"$f":"_xlfn.XLOOKUP(C83,Data!C:C,Data!I:I)","v":{"$error":"#N/A"}},{"$error":"#N/A"},{"$f":"_xlfn.XLOOKUP(C83,Data!C:C,Data!G:G,0)","v":0},{"$f":"_xlfn.XLOOKUP(C83,Data!C:C,Data!F:F)","v":{"$error":"#N/A"}},{"$f":"_xlfn.XLOOKUP(C83,Data!C:C,Data!H:H,0)","v":0},{"$error":"#N/A"},{"$error":"#N/A"},{"$error":"#N/A"},{"$error":"#N/A"},{"$error":"#N/A"},0,{"$error":"#N/A"},"","","",null,{"$error":"#N/A"}]
["23-3-2021","13:21:00","2021-03-23T13:21:00",null,{"$f":"_xlfn.XLOOKUP(C84,Data!C:C,Data!I:I)","v":{"$error":"#N/A"}},{"$error":"#N/A"},{"$f":"_xlfn.XLOOKUP(C84,Data!C:C,Data!G:G,0)","v":0},{"$f":"_xlfn.XLOOKUP(C84,Data!C:C,Data!F:F)","v":{"$error":"#N/A"}},{"$f":"_xlfn.XLOOKUP(C84,Data!C:C,Data!H:H,0)","v":0},{"$error":"#N/A"},{"$error":"#N/A"},{"$error":"#N/A"},{"$error":"#N/A"},{"$error":"#N/A"},0,{"$error":"#N/A"},"","","",null,{"$error":"#N/A"}]
["23-3-2021","13:22:00","2021-03-23T13:22:00",null,{"$f":"_xlfn.XLOOKUP(C85,Data!C:C,Data!I:I)","v":{"$error":"#N/A"}},{"$error":"#N/A"},{"$f":"_xlfn.XLOOKUP(C85,Data!C:C,Data!G:G,0)","v":0},{"$f":"_xlfn.XLOOKUP(C85,Data!C:C,Data!F:F)","v":{"$error":"#N/A"}},{"$f":"_xlfn.XLOOKUP(C85,Data!C:C,Data!H:H,0)","v":0},{"$error":"#N/A"},{"$error":"#N/A"},{"$error":"#N/A"},{"$error":"#N/A"},{"$error":"#N/A"},0,{"$error":"#N/A"},"","","",null,{"$error":"#N/A"}]
["23-3-2021","13:23:00","2021-03-23T13:23:00",null,{"$f":"_xlfn.XLOOKUP(C86,Data!C:C,Data!I:I)","v":{"$error":"#N/A"}},{"$error":"#N/A"},{"$f":"_xlfn.XLOOKUP(C86,Data!C:C,Data!G:G,0)","v":0},{"$f":"_xlfn.XLOOKUP(C86,Data!C:C,Data!F:F)","v":{"$error":"#N/A"}},{"$f":"_xlfn.XLOOKUP(C86,Data!C:C,Data!H:H,0)","v":0},{"$error":"#N/A"},{"$error":"#N/A"},{"$error":"#N/A"},{"$error":"#N/A"},{"$error":"#N/A"},0,{"$error":"#N/A"},"","","",null,{"$error":"#N/A"}]
["23-3-2021","13:24:00","2021-03-23T13:24:00",null,{"$f":"_xlfn.XLOOKUP(C87,Data!C:C,Data!I:I)","v":{"$error":"#N/A"}},{"$error":"#N/A"},{"$f":"_xlfn.XLOOKUP(C87,Data!C:C,Data!G:G,0)","v":0},{"$f":"_xlfn.XLOOKUP(C87,Data!C:C,Data!F:F)","v":{"$error":"#N/A"}},{"$f":"_xlfn.XLOOKUP(C87,Data!C:C,Data!H:H,0)","v":0},{"$error":"#N/A"},{"$error":"#N/A"},{"$error":"#N/A"},{"$error":"#N/A"},{"$error":"#N/A"},0,{"$error":"#N/A"},"","","",null,{"$error":"#N/A"}]
["23-3-2021","13:25:00","2021-03-23T13:25:00",null,{"$f":"_xlfn.XLOOKUP(C88,Data!C:C,Data!I:I)","v":{"$error":"#N/A"}},{"$error":"#N/A"},{"$f":"_xlfn.XLOOKUP(C88,Data!C:C,Data!G:G,0)","v":0},{"$f":"_xlfn.XLOOKUP(C88,Data!C:C,Data!F:F)","v":{"$error":"#N/A"}},{"$f":"_xlfn.XLOOKUP(C88,Data!C:C,Data!H:H,0)","v":0},{"$error":"#N/A"},{"$error":"#N/A"},{"$error":"#N/A"},{"$error":"#N/A"},{"$error":"#N/A"},0,{"$error":"#N/A"},"","","",null,{"$error":"#N/A"}]
["23-3-2021","13:26:00","2021-03-23T13:26:00",null,{"$f":"_xlfn.XLOOKUP(C89,Data!C:C,Data!I:I)","v":{"$error":"#N/A"}},{"$error":"#N/A"},{"$f":"_xlfn.XLOOKUP(C89,Data!C:C,Data!G:G,0)","v":0},{"$f":"_xlfn.XLOOKUP(C89,Data!C:C,Data!F:F)","v":{"$error":"#N/A"}},{"$f":"_xlfn.XLOOKUP(C89,Data!C:C,Data!H:H,0)","v":0},{"$error":"#N/A"},{"$error":"#N/A"},{"$error":"#N/A"},{"$error":"#N/A"},{"$error":"#N/A"},0,{"$error":"#N/A"},"","","",null,{"$error":"#N/A"}]
["23-3-2021","13:27:00","2021-03-23T13:27:00",null,{"$f":"_xlfn.XLOOKUP(C90,Data!C:C,Data!I:I)","v":{"$error":"#N/A"}},{"$error":"#N/A"},{"$f":"_xlfn.XLOOKUP(C90,Data!C:C,Data!G:G,0)","v":0},{"$f":"_xlfn.XLOOKUP(C90,Data!C:C,Data!F:F)","v":{"$error":"#N/A"}},{"$f":"_xlfn.XLOOKUP(C90,Data!C:C,Data!H:H,0)","v":0},{"$error":"#N/A"},{"$error":"#N/A"},{"$error":"#N/A"},{"$error":"#N/A"},{"$error":"#N/A"},0,{"$error":"#N/A"},"","","",null,{"$error":"#N/A"}]
["23-3-2021","13:28:00","2021-03-23T13:28:00",null,{"$f":"_xlfn.XLOOKUP(C91,Data!C:C,Data!I:I)","v":{"$error":"#N/A"}},{"$error":"#N/A"},{"$f":"_xlfn.XLOOKUP(C91,Data!C:C,Data!G:G,0)","v":0},{"$f":"_xlfn.XLOOKUP(C91,Data!C:C,Data!F:F)","v":{"$error":"#N/A"}},{"$f":"_xlfn.XLOOKUP(C91,Data!C:C,Data!H:H,0)","v":0},{"$error":"#N/A"},{"$error":"#N/A"},{"$error":"#N/A"},{"$error":"#N/A"},{"$error":"#N/A"},0,{"$error":"#N/A"},"","","",null,{"$error":"#N/A"}]
["23-3-2021","13:29:00","2021-03-23T13:29:00",null,{"$f":"_xlfn.XLOOKUP(C92,Data!C:C,Data!I:I)","v":{"$error":"#N/A"}},{"$error":"#N/A"},{"$f":"_xlfn.XLOOKUP(C92,Data!C:C,Data!G:G,0)","v":0},{"$f":"_xlfn.XLOOKUP(C92,Data!C:C,Data!F:F)","v":{"$error":"#N/A"}},{"$f":"_xlfn.XLOOKUP(C92,Data!C:C,Data!H:H,0)","v":0},{"$error":"#N/A"},{"$error":"#N/A"},{"$error":"#N/A"},{"$error":"#N/A"},{"$error":"#N/A"},0,{"$error":"#N/A"},"","","",null,{"$error":"#N/A"}]
["23-3-2021","13:30:00","2021-03-23T13:30:00",null,{"$f":"_xlfn.XLOOKUP(C93,Data!C:C,Data!I:I)","v":{"$error":"#N/A"}},{"$error":"#N/A"},{"$f":"_xlfn.XLOOKUP(C93,Data!C:C,Data!G:G,0)","v":0},{"$f":"_xlfn.XLOOKUP(C93,Data!C:C,Data!F:F)","v":{"$error":"#N/A"}},{"$f":"_xlfn.XLOOKUP(C93,Data!C:C,Data!H:H,0)","v":0},{"$error":"#N/A"},{"$error":"#N/A"},{"$error":"#N/A"},{"$error":"#N/A"},{"$error":"#N/A"},0,{"$error":"#N/A"},"","","",null,{"$error":"#N/A"}]
["23-3-2021","13:31:00","2021-03-23T13:31:00",null,{"$f":"_xlfn.XLOOKUP(C94,Data!C:C,Data!I:I)","v":{"$error":"#N/A"}},{"$error":"#N/A"},{"$f":"_xlfn.XLOOKUP(C94,Data!C:C,Data!G:G,0)","v":0},{"$f":"_xlfn.XLOOKUP(C94,Data!C:C,Data!F:F)","v":{"$error":"#N/A"}},{"$f":"_xlfn.XLOOKUP(C94,Data!C:C,Data!H:H,0)","v":0},{"$error":"#N/A"},{"$error":"#N/A"},{"$error":"#N/A"},{"$error":"#N/A"},{"$error":"#N/A"},0,{"$error":"#N/A"},"","","",null,{"$error":"#N/A"}]
["23-3-2021","13:32:00","2021-03-23T13:32:00",null,{"$f":"_xlfn.XLOOKUP(C95,Data!C:C,Data!I:I)","v":{"$error":"#N/A"}},{"$error":"#N/A"},{"$f":"_xlfn.XLOOKUP(C95,Data!C:C,Data!G:G,0)","v":0},{"$f":"_xlfn.XLOOKUP(C95,Data!C:C,Data!F:F)","v":{"$error":"#N/A"}},{"$f":"_xlfn.XLOOKUP(C95,Data!C:C,Data!H:H,0)","v":0},{"$error":"#N/A"},{"$error":"#N/A"},{"$error":"#N/A"},{"$error":"#N/A"},{"$error":"#N/A"},0,{"$error":"#N/A"},"","","",null,{"$error":"#N/A"}]
["23-3-2021","13:33:00","2021-03-23T13:33:00",null,{"$f":"_xlfn.XLOOKUP(C96,Data!C:C,Data!I:I)","v":{"$error":"#N/A"}},{"$error":"#N/A"},{"$f":"_xlfn.XLOOKUP(C96,Data!C:C,Data!G:G,0)","v":0},{"$f":"_xlfn.XLOOKUP(C96,Data!C:C,Data!F:F)","v":{"$error":"#N/A"}},{"$f":"_xlfn.XLOOKUP(C96,Data!C:C,Data!H:H,0)","v":0},{"$error":"#N/A"},{"$error":"#N/A"},{"$error":"#N/A"},{"$error":"#N/A"},{"$error":"#N/A"},0,{"$error":"#N/A"},"","","",null,{"$error":"#N/A"}]
["23-3-2021","13:34:00","2021-03-23T13:34:00",null,{"$f":"_xlfn.XLOOKUP(C97,Data!C:C,Data!I:I)","v":{"$error":"#N/A"}},{"$error":"#N/A"},{"$f":"_xlfn.XLOOKUP(C97,Data!C:C,Data!G:G,0)","v":0},{"$f":"_xlfn.XLOOKUP(C97,Data!C:C,Data!F:F)","v":{"$error":"#N/A"}},{"$f":"_xlfn.XLOOKUP(C97,Data!C:C,Data!H:H,0)","v":0},{"$error":"#N/A"},{"$error":"#N/A"},{"$error":"#N/A"},{"$error":"#N/A"},{"$error":"#N/A"},0,{"$error":"#N/A"},"","","",null,{"$error":"#N/A"}]
["23-3-2021","13:35:00","2021-03-23T13:35:00",null,{"$f":"_xlfn.XLOOKUP(C98,Data!C:C,Data!I:I)","v":{"$error":"#N/A"}},{"$error":"#N/A"},{"$f":"_xlfn.XLOOKUP(C98,Data!C:C,Data!G:G,0)","v":0},{"$f":"_xlfn.XLOOKUP(C98,Data!C:C,Data!F:F)","v":{"$error":"#N/A"}},{"$f":"_xlfn.XLOOKUP(C98,Data!C:C,Data!H:H,0)","v":0},{"$error":"#N/A"},{"$error":"#N/A"},{"$error":"#N/A"},{"$error":"#N/A"},{"$error":"#N/A"},0,{"$error":"#N/A"},"","","",null,{"$error":"#N/A"}]
["23-3-2021","13:36:00","2021-03-23T13:36:00",null,{"$f":"_xlfn.XLOOKUP(C99,Data!C:C,Data!I:I)","v":{"$error":"#N/A"}},{"$error":"#N/A"},{"$f":"_xlfn.XLOOKUP(C99,Data!C:C,Data!G:G,0)","v":0},{"$f":"_xlfn.XLOOKUP(C99,Data!C:C,Data!F:F)","v":{"$error":"#N/A"}},{"$f":"_xlfn.XLOOKUP(C99,Data!C:C,Data!H:H,0)","v":0},{"$error":"#N/A"},{"$error":"#N/A"},{"$error":"#N/A"},{"$error":"#N/A"},{"$error":"#N/A"},0,{"$error":"#N/A"},"","","",null,{"$error":"#N/A"}]
["23-3-2021","13:37:00","2021-03-23T13:37:00",null,{"$f":"_xlfn.XLOOKUP(C100,Data!C:C,Data!I:I)","v":{"$error":"#N/A"}},{"$error":"#N/A"},{"$f":"_xlfn.XLOOKUP(C100,Data!C:C,Data!G:G,0)","v":0},{"$f":"_xlfn.XLOOKUP(C100,Data!C:C,Data!F:F)","v":{"$error":"#N/A"}},{"$f":"_xlfn.XLOOKUP(C100,Data!C:C,Data!H:H,0)","v":0},{"$error":"#N/A"},{"$error":"#N/A"},{"$error":"#N/A"},{"$error":"#N/A"},{"$error":"#N/A"},0,{"$error":"#N/A"},"","","",null,{"$error":"#N/A"}]
["23-3-2021","13:38:00","2021-03-23T13:38:00",null,{"$f":"_xlfn.XLOOKUP(C101,Data!C:C,Data!I:I)","v":{"$error":"#N/A"}},{"$error":"#N/A"},{"$f":"_xlfn.XLOOKUP(C101,Data!C:C,Data!G:G,0)","v":0},{"$f":"_xlfn.XLOOKUP(C101,Data!C:C,Data!F:F)","v":{"$error":"#N/A"}},{"$f":"_xlfn.XLOOKUP(C101,Data!C:C,Data!H:H,0)","v":0},{"$error":"#N/A"},{"$error":"#N/A"},{"$error":"#N/A"},{"$error":"#N/A"},{"$error":"#N/A"},0,{"$error":"#N/A"},"","","",null,{"$error":"#N/A"}]
["23-3-2021","13:39:00","2021-03-23T13:39:00",null,{"$f":"_xlfn.XLOOKUP(C102,Data!C:C,Data!I:I)","v":{"$error":"#N/A"}},{"$error":"#N/A"},{"$f":"_xlfn.XLOOKUP(C102,Data!C:C,Data!G:G,0)","v":0},{"$f":"_xlfn.XLOOKUP(C102,Data!C:C,Data!F:F)","v":{"$error":"#N/A"}},{"$f":"_xlfn.XLOOKUP(C102,Data!C:C,Data!H:H,0)","v":0},{"$error":"#N/A"},{"$error":"#N/A"},{"$error":"#N/A"},{"$error":"#N/A"},{"$error":"#N/A"},0,{"$error":"#N/A"},"","","",null,{"$error":"#N/A"}]
["23-3-2021","13:40:00","2021-03-23T13:40:00",null,{"$f":"_xlfn.XLOOKUP(C103,Data!C:C,Data!I:I)","v":{"$error":"#N/A"}},{"$error":"#N/A"},{"$f":"_xlfn.XLOOKUP(C103,Data!C:C,Data!G:G,0)","v":0},{"$f":"_xlfn.XLOOKUP(C103,Data!C:C,Data!F:F)","v":{"$error":"#N/A"}},{"$f":"_xlfn.XLOOKUP(C103,Data!C:C,Data!H:H,0)","v":0},{"$error":"#N/A"},{"$error":"#N/A"},{"$error":"#N/A"},{"$error":"#N/A"},{"$error":"#N/A"},0,{"$error":"#N/A"},"","","",null,{"$error":"#N/A"}]
["23-3-2021","13:41:00","2021-03-23T13:41:00",null,{"$f":"_xlfn.XLOOKUP(C104,Data!C:C,Data!I:I)","v":{"$error":"#N/A"}},{"$error":"#N/A"},{"$f":"_xlfn.XLOOKUP(C104,Data!C:C,Data!G:G,0)","v":0},{"$f":"_xlfn.XLOOKUP(C104,Data!C:C,Data!F:F)","v":{"$error":"#N/A"}},{"$f":"_xlfn.XLOOKUP(C104,Data!C:C,Data!H:H,0)","v":0},{"$error":"#N/A"},{"$error":"#N/A"},{"$error":"#N/A"},{"$error":"#N/A"},{"$error":"#N/A"},0,{"$error":"#N/A"},"","","",null,{"$error":"#N/A"}]
["23-3-2021","13:42:00","2021-03-23T13:42:00",null,{"$f":"_xlfn.XLOOKUP(C105,Data!C:C,Data!I:I)","v":{"$error":"#N/A"}},{"$error":"#N/A"},{"$f":"_xlfn.XLOOKUP(C105,Data!C:C,Data!G:G,0)","v":0},{"$f":"_xlfn.XLOOKUP(C105,Data!C:C,Data!F:F)","v":{"$error":"#N/A"}},{"$f":"_xlfn.XLOOKUP(C105,Data!C:C,Data!H:H,0)","v":0},{"$error":"#N/A"},{"$error":"#N/A"},{"$error":"#N/A"},{"$error":"#N/A"},{"$error":"#N/A"},0,{"$error":"#N/A"},"","","",null,{"$error":"#N/A"}]
["23-3-2021","13:43:00","2021-03-23T13:43:00",null,{"$f":"_xlfn.XLOOKUP(C106,Data!C:C,Data!I:I)","v":{"$error":"#N/A"}},{"$error":"#N/A"},{"$f":"_xlfn.XLOOKUP(C106,Data!C:C,Data!G:G,0)","v":0},{"$f":"_xlfn.XLOOKUP(C106,Data!C:C,Data!F:F)","v":{"$error":"#N/A"}},{"$f":"_xlfn.XLOOKUP(C106,Data!C:C,Data!H:H,0)","v":0},{"$error":"#N/A"},{"$error":"#N/A"},{"$error":"#N/A"},{"$error":"#N/A"},{"$error":"#N/A"},0,{"$error":"#N/A"},"","","",null,{"$error":"#N/A"}]
["23-3-2021","13:44:00","2021-03-23T13:44:00",null,{"$f":"_xlfn.XLOOKUP(C107,Data!C:C,Data!I:I)","v":{"$error":"#N/A"}},{"$error":"#N/A"},{"$f":"_xlfn.XLOOKUP(C107,Data!C:C,Data!G:G,0)","v":0},{"$f":"_xlfn.XLOOKUP(C107,Data!C:C,Data!F:F)","v":{"$error":"#N/A"}},{"$f":"_xlfn.XLOOKUP(C107,Data!C:C,Data!H:H,0)","v":0},{"$error":"#N/A"},{"$error":"#N/A"},{"$error":"#N/A"},{"$error":"#N/A"},{"$error":"#N/A"},0,{"$error":"#N/A"},"","","",null,{"$error":"#N/A"}]
["23-3-2021","13:45:00","2021-03-23T13:45:00",null,{"$f":"_xlfn.XLOOKUP(C108,Data!C:C,Data!I:I)","v":{"$error":"#N/A"}},{"$error":"#N/A"},{"$f":"_xlfn.XLOOKUP(C108,Data!C:C,Data!G:G,0)","v":0},{"$f":"_xlfn.XLOOKUP(C108,Data!C:C,Data!F:F)","v":{"$error":"#N/A"}},{"$f":"_xlfn.XLOOKUP(C108,Data!C:C,Data!H:H,0)","v":0},{"$error":"#N/A"},{"$error":"#N/A"},{"$error":"#N/A"},{"$error":"#N/A"},{"$error":"#N/A"},0,{"$error":"#N/A"},"","","",null,{"$error":"#N/A"}]
["23-3-2021","13:46:00","2021-03-23T13:46:00",null,{"$f":"_xlfn.XLOOKUP(C109,Data!C:C,Data!I:I)","v":{"$error":"#N/A"}},{"$error":"#N/A"},{"$f":"_xlfn.XLOOKUP(C109,Data!C:C,Data!G:G,0)","v":0},{"$f":"_xlfn.XLOOKUP(C109,Data!C:C,Data!F:F)","v":{"$error":"#N/A"}},{"$f":"_xlfn.XLOOKUP(C109,Data!C:C,Data!H:H,0)","v":0},{"$error":"#N/A"},{"$error":"#N/A"},{"$error":"#N/A"},{"$error":"#N/A"},{"$error":"#N/A"},0,{"$error":"#N/A"},"","","",null,{"$error":"#N/A"}]
["23-3-2021","13:47:00","2021-03-23T13:47:00",null,{"$f":"_xlfn.XLOOKUP(C110,Data!C:C,Data!I:I)","v":{"$error":"#N/A"}},{"$error":"#N/A"},{"$f":"_xlfn.XLOOKUP(C110,Data!C:C,Data!G:G,0)","v":0},{"$f":"_xlfn.XLOOKUP(C110,Data!C:C,Data!F:F)","v":{"$error":"#N/A"}},{"$f":"_xlfn.XLOOKUP(C110,Data!C:C,Data!H:H,0)","v":0},{"$error":"#N/A"},{"$error":"#N/A"},{"$error":"#N/A"},{"$error":"#N/A"},{"$error":"#N/A"},0,{"$error":"#N/A"},"","","",null,{"$error":"#N/A"}]
["23-3-2021","13:48:00","2021-03-23T13:48:00",null,{"$f":"_xlfn.XLOOKUP(C111,Data!C:C,Data!I:I)","v":{"$error":"#N/A"}},{"$error":"#N/A"},{"$f":"_xlfn.XLOOKUP(C111,Data!C:C,Data!G:G,0)","v":0},{"$f":"_xlfn.XLOOKUP(C111,Data!C:C,Data!F:F)","v":{"$error":"#N/A"}},{"$f":"_xlfn.XLOOKUP(C111,Data!C:C,Data!H:H,0)","v":0},{"$error":"#N/A"},{"$error":"#N/A"},{"$error":"#N/A"},{"$error":"#N/A"},{"$error":"#N/A"},0,{"$error":"#N/A"},"","","",null,{"$error":"#N/A"}]
["23-3-2021","13:49:00","2021-03-23T13:49:00",null,{"$f":"_xlfn.XLOOKUP(C112,Data!C:C,Data!I:I)","v":{"$error":"#N/A"}},{"$error":"#N/A"},{"$f":"_xlfn.XLOOKUP(C112,Data!C:C,Data!G:G,0)","v":0},{"$f":"_xlfn.XLOOKUP(C112,Data!C:C,Data!F:F)","v":{"$error":"#N/A"}},{"$f":"_xlfn.XLOOKUP(C112,Data!C:C,Data!H:H,0)","v":0},{"$error":"#N/A"},{"$error":"#N/A"},{"$error":"#N/A"},{"$error":"#N/A"},{"$error":"#N/A"},0,{"$error":"#N/A"},"","","",null,{"$error":"#N/A"}]
["23-3-2021","13:50:00","2021-03-23T13:50:00",null,{"$f":"_xlfn.XLOOKUP(C113,Data!C:C,Data!I:I)","v":{"$error":"#N/A"}},{"$error":"#N/A"},{"$f":"_xlfn.XLOOKUP(C113,Data!C:C,Data!G:G,0)","v":0},{"$f":"_xlfn.XLOOKUP(C113,Data!C:C,Data!F:F)","v":{"$error":"#N/A"}},{"$f":"_xlfn.XLOOKUP(C113,Data!C:C,Data!H:H,0)","v":0},{"$error":"#N/A"},{"$error":"#N/A"},{"$error":"#N/A"},{"$error":"#N/A"},{"$error":"#N/A"},0,{"$error":"#N/A"},"","","",null,{"$error":"#N/A"}]
["23-3-2021","13:51:00","2021-03-23T13:51:00",null,{"$f":"_xlfn.XLOOKUP(C114,Data!C:C,Data!I:I)","v":{"$error":"#N/A"}},{"$error":"#N/A"},{"$f":"_xlfn.XLOOKUP(C114,Data!C:C,Data!G:G,0)","v":0},{"$f":"_xlfn.XLOOKUP(C114,Data!C:C,Data!F:F)","v":{"$error":"#N/A"}},{"$f":"_xlfn.XLOOKUP(C114,Data!C:C,Data!H:H,0)","v":0},{"$error":"#N/A"},{"$error":"#N/A"},{"$error":"#N/A"},{"$error":"#N/A"},{"$error":"#N/A"},0,{"$error":"#N/A"},"","","",null,{"$error":"#N/A"}]
["23-3-2021","13:52:00","2021-03-23T13:52:00",null,{"$f":"_xlfn.XLOOKUP(C115,Data!C:C,Data!I:I)","v":{"$error":"#N/A"}},{"$error":"#N/A"},{"$f":"_xlfn.XLOOKUP(C115,Data!C:C,Data!G:G,0)","v":0},{"$f":"_xlfn.XLOOKUP(C115,Data!C:C,Data!F:F)","v":{"$error":"#N/A"}},{"$f":"_xlfn.XLOOKUP(C115,Data!C:C,Data!H:H,0)","v":0},{"$error":"#N/A"},{"$error":"#N/A"},{"$error":"#N/A"},{"$error":"#N/A"},{"$error":"#N/A"},0,{"$error":"#N/A"},"","","",null,{"$error":"#N/A"}]
["23-3-2021","13:53:00","2021-03-23T13:53:00",null,{"$f":"_xlfn.XLOOKUP(C116,Data!C:C,Data!I:I)","v":{"$error":"#N/A"}},{"$error":"#N/A"},{"$f":"_xlfn.XLOOKUP(C116,Data!C:C,Data!G:G,0)","v":0},{"$f":"_xlfn.XLOOKUP(C116,Data!C:C,Data!F:F)","v":{"$error":"#N/A"}},{"$f":"_xlfn.XLOOKUP(C116,Data!C:C,Data!H:H,0)","v":0},{"$error":"#N/A"},{"$error":"#N/A"},{"$error":"#N/A"},{"$error":"#N/A"},{"$error":"#N/A"},0,{"$error":"#N/A"},"","","",null,{"$error":"#N/A"}]
["23-3-2021","13:54:00","2021-03-23T13:54:00",null,{"$f":"_xlfn.XLOOKUP(C117,Data!C:C,Data!I:I)","v":{"$error":"#N/A"}},{"$error":"#N/A"},{"$f":"_xlfn.XLOOKUP(C117,Data!C:C,Data!G:G,0)","v":0},{"$f":"_xlfn.XLOOKUP(C117,Data!C:C,Data!F:F)","v":{"$error":"#N/A"}},{"$f":"_xlfn.XLOOKUP(C117,Data!C:C,Data!H:H,0)","v":0},{"$error":"#N/A"},{"$error":"#N/A"},{"$error":"#N/A"},{"$error":"#N/A"},{"$error":"#N/A"},0,{"$error":"#N/A"},"","","",null,{"$error":"#N/A"}]
["23-3-2021","13:55:00","2021-03-23T13:55:00",null,{"$f":"_xlfn.XLOOKUP(C118,Data!C:C,Data!I:I)","v":{"$error":"#N/A"}},{"$error":"#N/A"},{"$f":"_xlfn.XLOOKUP(C118,Data!C:C,Data!G:G,0)","v":0},{"$f":"_xlfn.XLOOKUP(C118,Data!C:C,Data!F:F)","v":{"$error":"#N/A"}},{"$f":"_xlfn.XLOOKUP(C118,Data!C:C,Data!H:H,0)","v":0},{"$error":"#N/A"},{"$error":"#N/A"},{"$error":"#N/A"},{"$error":"#N/A"},{"$error":"#N/A"},0,{"$error":"#N/A"},"","","",null,{"$error":"#N/A"}]
["23-3-2021","13:56:00","2021-03-23T13:56:00",null,{"$f":"_xlfn.XLOOKUP(C119,Data!C:C,Data!I:I)","v":{"$error":"#N/A"}},{"$error":"#N/A"},{"$f":"_xlfn.XLOOKUP(C119,Data!C:C,Data!G:G,0)","v":0},{"$f":"_xlfn.XLOOKUP(C119,Data!C:C,Data!F:F)","v":{"$error":"#N/A"}},{"$f":"_xlfn.XLOOKUP(C119,Data!C:C,Data!H:H,0)","v":0},{"$error":"#N/A"},{"$error":"#N/A"},{"$error":"#N/A"},{"$error":"#N/A"},{"$error":"#N/A"},0,{"$error":"#N/A"},"","","",null,{"$error":"#N/A"}]
["23-3-2021","13:57:00","2021-03-23T13:57:00",null,{"$f":"_xlfn.XLOOKUP(C120,Data!C:C,Data!I:I)","v":{"$error":"#N/A"}},{"$error":"#N/A"},{"$f":"_xlfn.XLOOKUP(C120,Data!C:C,Data!G:G,0)","v":0},{"$f":"_xlfn.XLOOKUP(C120,Data!C:C,Data!F:F)","v":{"$error":"#N/A"}},{"$f":"_xlfn.XLOOKUP(C120,Data!C:C,Data!H:H,0)","v":0},{"$error":"#N/A"},{"$error":"#N/A"},{"$error":"#N/A"},{"$error":"#N/A"},{"$error":"#N/A"},0,{"$error":"#N/A"},"","","",null,{"$error":"#N/A"}]
["23-3-2021","13:58:00","2021-03-23T13:58:00",null,{"$f":"_xlfn.XLOOKUP(C121,Data!C:C,Data!I:I)","v":{"$error":"#N/A"}},{"$error":"#N/A"},{"$f":"_xlfn.XLOOKUP(C121,Data!C:C,Data!G:G,0)","v":0},{"$f":"_xlfn.XLOOKUP(C121,Data!C:C,Data!F:F)","v":{"$error":"#N/A"}},{"$f":"_xlfn.XLOOKUP(C121,Data!C:C,Data!H:H,0)","v":0},{"$error":"#N/A"},{"$error":"#N/A"},{"$error":"#N/A"},{"$error":"#N/A"},{"$error":"#N/A"},0,{"$error":"#N/A"},"","","",null,{"$error":"#N/A"}]
["23-3-2021","13:59:00","2021-03-23T13:59:00",null,{"$f":"_xlfn.XLOOKUP(C122,Data!C:C,Data!I:I)","v":{"$error":"#N/A"}},{"$error":"#N/A"},{"$f":"_xlfn.XLOOKUP(C122,Data!C:C,Data!G:G,0)","v":0},{"$f":"_xlfn.XLOOKUP(C122,Data!C:C,Data!F:F)","v":{"$error":"#N/A"}},{"$f":"_xlfn.XLOOKUP(C122,Data!C:C,Data!H:H,0)","v":0},{"$error":"#N/A"},{"$error":"#N/A"},{"$error":"#N/A"},{"$error":"#N/A"},{"$error":"#N/A"},0,{"$error":"#N/A"},"","","",null,{"$error":"#N/A"}]
["23-3-2021","14:00:00","2021-03-23T14:00:00",null,{"$f":"_xlfn.XLOOKUP(C123,Data!C:C,Data!I:I)","v":{"$error":"#N/A"}},{"$error":"#N/A"},{"$f":"_xlfn.XLOOKUP(C123,Data!C:C,Data!G:G,0)","v":0},{"$f":"_xlfn.XLOOKUP(C123,Data!C:C,Data!F:F)","v":{"$error":"#N/A"}},{"$f":"_xlfn.XLOOKUP(C123,Data!C:C,Data!H:H,0)","v":0},{"$error":"#N/A"},{"$error":"#N/A"},{"$error":"#N/A"},{"$error":"#N/A"},{"$error":"#N/A"},0,{"$error":"#N/A"},"","","",null,{"$error":"#N/A"}]
["23-3-2021","14:01:00","2021-03-23T14:01:00",null,{"$f":"_xlfn.XLOOKUP(C124,Data!C:C,Data!I:I)","v":{"$error":"#N/A"}},{"$error":"#N/A"},{"$f":"_xlfn.XLOOKUP(C124,Data!C:C,Data!G:G,0)","v":0},{"$f":"_xlfn.XLOOKUP(C124,Data!C:C,Data!F:F)","v":{"$error":"#N/A"}},{"$f":"_xlfn.XLOOKUP(C124,Data!C:C,Data!H:H,0)","v":0},{"$error":"#N/A"},{"$error":"#N/A"},{"$error":"#N/A"},{"$error":"#N/A"},{"$error":"#N/A"},0,{"$error":"#N/A"},"","","",null,{"$error":"#N/A"}]
["23-3-2021","14:02:00","2021-03-23T14:02:00",null,{"$f":"_xlfn.XLOOKUP(C125,Data!C:C,Data!I:I)","v":{"$error":"#N/A"}},{"$error":"#N/A"},{"$f":"_xlfn.XLOOKUP(C125,Data!C:C,Data!G:G,0)","v":0},{"$f":"_xlfn.XLOOKUP(C125,Data!C:C,Data!F:F)","v":{"$error":"#N/A"}},{"$f":"_xlfn.XLOOKUP(C125,Data!C:C,Data!H:H,0)","v":0},{"$error":"#N/A"},{"$error":"#N/A"},{"$error":"#N/A"},{"$error":"#N/A"},{"$error":"#N/A"},0,{"$error":"#N/A"},"","","",null,{"$error":"#N/A"}]
["23-3-2021","14:03:00","2021-03-23T14:03:00",null,{"$f":"_xlfn.XLOOKUP(C126,Data!C:C,Data!I:I)","v":{"$error":"#N/A"}},{"$error":"#N/A"},{"$f":"_xlfn.XLOOKUP(C126,Data!C:C,Data!G:G,0)","v":0},{"$f":"_xlfn.XLOOKUP(C126,Data!C:C,Data!F:F)","v":{"$error":"#N/A"}},{"$f":"_xlfn.XLOOKUP(C126,Data!C:C,Data!H:H,0)","v":0},{"$error":"#N/A"},{"$error":"#N/A"},{"$error":"#N/A"},{"$error":"#N/A"},{"$error":"#N/A"},0,{"$error":"#N/A"},"","","",null,{"$error":"#N/A"}]
["23-3-2021","14:04:00","2021-03-23T14:04:00",null,{"$f":"_xlfn.XLOOKUP(C127,Data!C:C,Data!I:I)","v":{"$error":"#N/A"}},{"$error":"#N/A"},{"$f":"_xlfn.XLOOKUP(C127,Data!C:C,Data!G:G,0)","v":0},{"$f":"_xlfn.XLOOKUP(C127,Data!C:C,Data!F:F)","v":{"$error":"#N/A"}},{"$f":"_xlfn.XLOOKUP(C127,Data!C:C,Data!H:H,0)","v":0},{"$error":"#N/A"},{"$error":"#N/A"},{"$error":"#N/A"},{"$error":"#N/A"},{"$error":"#N/A"},0,{"$error":"#N/A"},"","","",null,{"$error":"#N/A"}]
["23-3-2021","14:05:00","2021-03-23T14:05:00",null,{"$f":"_xlfn.XLOOKUP(C128,Data!C:C,Data!I:I)","v":{"$error":"#N/A"}},{"$error":"#N/A"},{"$f":"_xlfn.XLOOKUP(C128,Data!C:C,Data!G:G,0)","v":0},{"$f":"_xlfn.XLOOKUP(C128,Data!C:C,Data!F:F)","v":{"$error":"#N/A"}},{"$f":"_xlfn.XLOOKUP(C128,Data!C:C,Data!H:H,0)","v":0},{"$error":"#N/A"},{"$error":"#N/A"},{"$error":"#N/A"},{"$error":"#N/A"},{"$error":"#N/A"},0,{"$error":"#N/A"},"","","",null,{"$error":"#N/A"}]
["23-3-2021","14:06:00","2021-03-23T14:06:00",null,{"$f":"_xlfn.XLOOKUP(C129,Data!C:C,Data!I:I)","v":{"$error":"#N/A"}},{"$error":"#N/A"},{"$f":"_xlfn.XLOOKUP(C129,Data!C:C,Data!G:G,0)","v":0},{"$f":"_xlfn.XLOOKUP(C129,Data!C:C,Data!F:F)","v":{"$error":"#N/A"}},{"$f":"_xlfn.XLOOKUP(C129,Data!C:C,Data!H:H,0)","v":0},{"$error":"#N/A"},{"$error":"#N/A"},{"$error":"#N/A"},{"$error":"#N/A"},{"$error":"#N/A"},0,{"$error":"#N/A"},"","","",null,{"$error":"#N/A"}]
["23-3-2021","14:07:00","2021-03-23T14:07:00",null,{"$f":"_xlfn.XLOOKUP(C130,Data!C:C,Data!I:I)","v":{"$error":"#N/A"}},{"$error":"#N/A"},{"$f":"_xlfn.XLOOKUP(C130,Data!C:C,Data!G:G,0)","v":0},{"$f":"_xlfn.XLOOKUP(C130,Data!C:C,Data!F:F)","v":{"$error":"#N/A"}},{"$f":"_xlfn.XLOOKUP(C130,Data!C:C,Data!H:H,0)","v":0},{"$error":"#N/A"},{"$error":"#N/A"},{"$error":"#N/A"},{"$error":"#N/A"},{"$error":"#N/A"},0,{"$error":"#N/A"},"","","",null,{"$error":"#N/A"}]
["23-3-2021","14:08:00",{"$f":"A131+B131","v":"2021-03-23T14:08:00"},null,{"$f":"_xlfn.XLOOKUP(C131,Data!C:C,Data!I:I)","v":{"$error":"#N/A"}},{"$error":"#N/A"},{"$f":"_xlfn.XLOOKUP(C131,Data!C:C,Data!G:G,0)","v":0},{"$f":"_xlfn.XLOOKUP(C131,Data!C:C,Data!F:F)","v":{"$error":"#N/A"}},{"$f":"_xlfn.XLOOKUP(C131,Data!C:C,Data!H:H,0)","v":0},{"$error":"#N/A"},{"$f":"IF(AND(I131<100,  I131>=80,  OR(J131=105, J131=106,  J131=123)),  5,  0)","v":{"$error":"#N/A"}},{"$error":"#N/A"},{"$error":"#N/A"},{"$error":"#N/A"},{"$f":"IFERROR(F131,0)","v":0},{"$error":"#N/A"},"","","",null,{"$error":"#N/A"}]
[{"$f":"$A$3","v":"23-3-2021"},"14:09:00","2021-03-23T14:09:00",null,{"$f":"_xlfn.XLOOKUP(C132,Data!C:C,Data!I:I)","v":{"$error":"#N/A"}},{"$error":"#N/A"},{"$f":"_xlfn.XLOOKUP(C132,Data!C:C,Data!G:G,0)","v":0},{"$f":"_xlfn.XLOOKUP(C132,Data!C:C,Data!F:F)","v":{"$error":"#N/A"}},{"$f":"_xlfn.XLOOKUP(C132,Data!C:C,Data!H:H,0)","v":0},{"$error":"#N/A"},{"$error":"#N/A"},{"$f":"IF(AND(I132<130,  I132>104,  OR(J132=105, J132=106,  J132=123),  S132>$S$1450+$S$1443),  20,  0)","v":{"$error":"#N/A"}},{"$f":"IF(AND(I132<130,  I132>104,  OR(J132=105, J132=106,  J132=123),  R132>$Q$1449,  S132<=$S$1450+$S$1443),  20,  0)","v":{"$error":"#N/A"}},{"$f":"IF(AND(I132<130,  I132>104,  OR(J132=105, J132=106,  J132=123),  R132<=$Q$1449,  S132<=$S$1450+$S$1443),  20,  0)","v":{"$error":"#N/A"}},0,{"$f":"IF(Q132=\"\",F132,IF(Q132=0,P131,Q132))","v":{"$error":"#N/A"}},{"$f":"IF(I132>109,IF(O132*$Q$1451>(O131+O133)/2,MIN(O131:O133),O132),\"\")","v":""},"","",null,{"$error":"#N/A"}]
["23-3-2021","14:10:00","2021-03-23T14:10:00",null,{"$f":"_xlfn.XLOOKUP(C133,Data!C:C,Data!I:I)","v":{"$error":"#N/A"}},{"$f":"IF(E133=255,IF(MIN(E132:E134)=255,#N/A,MIN(E132:E134)),E133)","v":{"$error":"#N/A"}},{"$f":"_xlfn.XLOOKUP(C133,Data!C:C,Data!G:G,0)","v":0},{"$f":"_xlfn.XLOOKUP(C133,Data!C:C,Data!F:F)","v":{"$error":"#N/A"}},{"$f":"_xlfn.XLOOKUP(C133,Data!C:C,Data!H:H,0)","v":0},{"$error":"#N/A"},{"$error":"#N/A"},{"$error":"#N/A"},{"$error":"#N/A"},{"$error":"#N/A"},0,{"$error":"#N/A"},"","","",null,{"$error":"#N/A"}]
["23-3-2021","14:11:00","2021-03-23T14:11:00",null,{"$f":"_xlfn.XLOOKUP(C134,Data!C:C,Data!I:I)","v":{"$error":"#N/A"}},{"$error":"#N/A"},{"$f":"_xlfn.XLOOKUP(C134,Data!C:C,Data!G:G,0)","v":0},{"$f":"_xlfn.XLOOKUP(C134,Data!C:C,Data!F:F)","v":{"$error":"#N/A"}},{"$f":"_xlfn.XLOOKUP(C134,Data!C:C,Data!H:H,0)","v":0},{"$f":"IF(AND(MAX(E132:E133)=255,MAX(E134:E135)=255,  E133+E134+E135<3*255, OR(I134=123,I134=124,I134=106,I134=108)),   I134,   IF(AND(MAX(E132:E133)=255,MAX(E134:E135)=255,  E133+E134+E135<3*255, OR(I134>=80,I134<100)),106,108))","v":{"$error":"#N/A"}},{"$error":"#N/A"},{"$error":"#N/A"},{"$error":"#N/A"},{"$error":"#N/A"},0,{"$error":"#N/A"},"","","",null,{"$error":"#N/A"}]
["23-3-2021","14:12:00","2021-03-23T14:12:00",null,{"$f":"_xlfn.XLOOKUP(C135,Data!C:C,Data!I:I)","v":{"$error":"#N/A"}},{"$error":"#N/A"},{"$f":"_xlfn.XLOOKUP(C135,Data!C:C,Data!G:G,0)","v":0},{"$f":"_xlfn.XLOOKUP(C135,Data!C:C,Data!F:F)","v":{"$error":"#N/A"}},{"$f":"_xlfn.XLOOKUP(C135,Data!C:C,Data!H:H,0)","v":0},{"$error":"#N/A"},{"$error":"#N/A"},{"$error":"#N/A"},{"$error":"#N/A"},{"$error":"#N/A"},0,{"$error":"#N/A"},"","","",null,{"$f":"IF(F135=\"\",\"\",AVERAGE(F131:F139))","v":{"$error":"#N/A"}}]
["23-3-2021","14:13:00","2021-03-23T14:13:00",null,{"$f":"_xlfn.XLOOKUP(C136,Data!C:C,Data!I:I)","v":{"$error":"#N/A"}},{"$error":"#N/A"},{"$f":"_xlfn.XLOOKUP(C136,Data!C:C,Data!G:G,0)","v":0},{"$f":"_xlfn.XLOOKUP(C136,Data!C:C,Data!F:F)","v":{"$error":"#N/A"}},{"$f":"_xlfn.XLOOKUP(C136,Data!C:C,Data!H:H,0)","v":0},{"$error":"#N/A"},{"$error":"#N/A"},{"$error":"#N/A"},{"$error":"#N/A"},{"$error":"#N/A"},0,{"$error":"#N/A"},"",{"$f":"IF(Q136=\"\",\"\",AVERAGE(Q132:Q140))","v":""},{"$f":"IF(Q136=\"\",\"\",MAX(Q132:Q140)-MIN(Q132:Q140))","v":""},null,{"$error":"#N/A"}]
["23-3-2021","14:14:00","2021-03-23T14:14:00",null,{"$f":"_xlfn.XLOOKUP(C137,Data!C:C,Data!I:I)","v":{"$error":"#N/A"}},{"$error":"#N/A"},{"$f":"_xlfn.XLOOKUP(C137,Data!C:C,Data!G:G,0)","v":0},{"$f":"_xlfn.XLOOKUP(C137,Data!C:C,Data!F:F)","v":{"$error":"#N/A"}},{"$f":"_xlfn.XLOOKUP(C137,Data!C:C,Data!H:H,0)","v":0},{"$error":"#N/A"},{"$error":"#N/A"},{"$error":"#N/A"},{"$error":"#N/A"},{"$error":"#N/A"},0,{"$error":"#N/A"},"","","",null,{"$error":"#N/A"}]
["23-3-2021","14:15:00","2021-03-23T14:15:00",null,{"$f":"_xlfn.XLOOKUP(C138,Data!C:C,Data!I:I)","v":{"$error":"#N/A"}},{"$error":"#N/A"},{"$f":"_xlfn.XLOOKUP(C138,Data!C:C,Data!G:G,0)","v":0},{"$f":"_xlfn.XLOOKUP(C138,Data!C:C,Data!F:F)","v":{"$error":"#N/A"}},{"$f":"_xlfn.XLOOKUP(C138,Data!C:C,Data!H:H,0)","v":0},{"$error":"#N/A"},{"$error":"#N/A"},{"$error":"#N/A"},{"$error":"#N/A"},{"$error":"#N/A"},0,{"$error":"#N/A"},"","","",null,{"$error":"#N/A"}]
["23-3-2021","14:16:00","2021-03-23T14:16:00",null,{"$f":"_xlfn.XLOOKUP(C139,Data!C:C,Data!I:I)","v":{"$error":"#N/A"}},{"$error":"#N/A"},{"$f":"_xlfn.XLOOKUP(C139,Data!C:C,Data!G:G,0)","v":0},{"$f":"_xlfn.XLOOKUP(C139,Data!C:C,Data!F:F)","v":{"$error":"#N/A"}},{"$f":"_xlfn.XLOOKUP(C139,Data!C:C,Data!H:H,0)","v":0},{"$error":"#N/A"},{"$error":"#N/A"},{"$error":"#N/A"},{"$error":"#N/A"},{"$error":"#N/A"},0,{"$error":"#N/A"},"","","",null,{"$error":"#N/A"}]
["23-3-2021","14:17:00","2021-03-23T14:17:00",null,{"$f":"_xlfn.XLOOKUP(C140,Data!C:C,Data!I:I)","v":{"$error":"#N/A"}},{"$error":"#N/A"},{"$f":"_xlfn.XLOOKUP(C140,Data!C:C,Data!G:G,0)","v":0},{"$f":"_xlfn.XLOOKUP(C140,Data!C:C,Data!F:F)","v":{"$error":"#N/A"}},{"$f":"_xlfn.XLOOKUP(C140,Data!C:C,Data!H:H,0)","v":0},{"$error":"#N/A"},{"$error":"#N/A"},{"$error":"#N/A"},{"$error":"#N/A"},{"$error":"#N/A"},0,{"$error":"#N/A"},"","","",null,{"$error":"#N/A"}]
["23-3-2021","14:18:00","2021-03-23T14:18:00",null,{"$f":"_xlfn.XLOOKUP(C141,Data!C:C,Data!I:I)","v":{"$error":"#N/A"}},{"$error":"#N/A"},{"$f":"_xlfn.XLOOKUP(C141,Data!C:C,Data!G:G,0)","v":0},{"$f":"_xlfn.XLOOKUP(C141,Data!C:C,Data!F:F)","v":{"$error":"#N/A"}},{"$f":"_xlfn.XLOOKUP(C141,Data!C:C,Data!H:H,0)","v":0},{"$error":"#N/A"},{"$error":"#N/A"},{"$error":"#N/A"},{"$error":"#N/A"},{"$error":"#N/A"},0,{"$error":"#N/A"},"","","",null,{"$error":"#N/A"}]
["23-3-2021","14:19:00","2021-03-23T14:19:00",null,{"$f":"_xlfn.XLOOKUP(C142,Data!C:C,Data!I:I)","v":{"$error":"#N/A"}},{"$error":"#N/A"},{"$f":"_xlfn.XLOOKUP(C142,Data!C:C,Data!G:G,0)","v":0},{"$f":"_xlfn.XLOOKUP(C142,Data!C:C,Data!F:F)","v":{"$error":"#N/A"}},{"$f":"_xlfn.XLOOKUP(C142,Data!C:C,Data!H:H,0)","v":0},{"$error":"#N/A"},{"$error":"#N/A"},{"$error":"#N/A"},{"$error":"#N/A"},{"$error":"#N/A"},0,{"$error":"#N/A"},"","","",null,{"$error":"#N/A"}]
["23-3-2021","14:20:00","2021-03-23T14:20:00",null,{"$f":"_xlfn.XLOOKUP(C143,Data!C:C,Data!I:I)","v":{"$error":"#N/A"}},{"$error":"#N/A"},{"$f":"_xlfn.XLOOKUP(C143,Data!C:C,Data!G:G,0)","v":0},{"$f":"_xlfn.XLOOKUP(C143,Data!C:C,Data!F:F)","v":{"$error":"#N/A"}},{"$f":"_xlfn.XLOOKUP(C143,Data!C:C,Data!H:H,0)","v":0},{"$error":"#N/A"},{"$error":"#N/A"},{"$error":"#N/A"},{"$error":"#N/A"},{"$error":"#N/A"},0,{"$error":"#N/A"},"","","",null,{"$error":"#N/A"}]
["23-3-2021","14:21:00","2021-03-23T14:21:00",null,{"$f":"_xlfn.XLOOKUP(C144,Data!C:C,Data!I:I)","v":{"$error":"#N/A"}},{"$error":"#N/A"},{"$f":"_xlfn.XLOOKUP(C144,Data!C:C,Data!G:G,0)","v":0},{"$f":"_xlfn.XLOOKUP(C144,Data!C:C,Data!F:F)","v":{"$error":"#N/A"}},{"$f":"_xlfn.XLOOKUP(C144,Data!C:C,Data!H:H,0)","v":0},{"$error":"#N/A"},{"$error":"#N/A"},{"$error":"#N/A"},{"$error":"#N/A"},{"$error":"#N/A"},0,{"$error":"#N/A"},"","","",null,{"$error":"#N/A"}]
["23-3-2021","14:22:00","2021-03-23T14:22:00",null,{"$f":"_xlfn.XLOOKUP(C145,Data!C:C,Data!I:I)","v":{"$error":"#N/A"}},{"$error":"#N/A"},{"$f":"_xlfn.XLOOKUP(C145,Data!C:C,Data!G:G,0)","v":0},{"$f":"_xlfn.XLOOKUP(C145,Data!C:C,Data!F:F)","v":{"$error":"#N/A"}},{"$f":"_xlfn.XLOOKUP(C145,Data!C:C,Data!H:H,0)","v":0},{"$error":"#N/A"},{"$error":"#N/A"},{"$error":"#N/A"},{"$error":"#N/A"},{"$error":"#N/A"},0,{"$error":"#N/A"},"","","",null,{"$error":"#N/A"}]
["23-3-2021","14:23:00","2021-03-23T14:23:00",null,{"$f":"_xlfn.XLOOKUP(C146,Data!C:C,Data!I:I)","v":{"$error":"#N/A"}},{"$error":"#N/A"},{"$f":"_xlfn.XLOOKUP(C146,Data!C:C,Data!G:G,0)","v":0},{"$f":"_xlfn.XLOOKUP(C146,Data!C:C,Data!F:F)","v":{"$error":"#N/A"}},{"$f":"_xlfn.XLOOKUP(C146,Data!C:C,Data!H:H,0)","v":0},{"$error":"#N/A"},{"$error":"#N/A"},{"$error":"#N/A"},{"$error":"#N/A"},{"$error":"#N/A"},0,{"$error":"#N/A"},"","","",null,{"$error":"#N/A"}]
["23-3-2021","14:24:00","2021-03-23T14:24:00",null,{"$f":"_xlfn.XLOOKUP(C147,Data!C:C,Data!I:I)","v":{"$error":"#N/A"}},{"$error":"#N/A"},{"$f":"_xlfn.XLOOKUP(C147,Data!C:C,Data!G:G,0)","v":0},{"$f":"_xlfn.XLOOKUP(C147,Data!C:C,Data!F:F)","v":{"$error":"#N/A"}},{"$f":"_xlfn.XLOOKUP(C147,Data!C:C,Data!H:H,0)","v":0},{"$error":"#N/A"},{"$error":"#N/A"},{"$error":"#N/A"},{"$error":"#N/A"},{"$error":"#N/A"},0,{"$error":"#N/A"},"","","",null,{"$error":"#N/A"}]
["23-3-2021","14:25:00","2021-03-23T14:25:00",null,{"$f":"_xlfn.XLOOKUP(C148,Data!C:C,Data!I:I)","v":{"$error":"#N/A"}},{"$error":"#N/A"},{"$f":"_xlfn.XLOOKUP(C148,Data!C:C,Data!G:G,0)","v":0},{"$f":"_xlfn.XLOOKUP(C148,Data!C:C,Data!F:F)","v":{"$error":"#N/A"}},{"$f":"_xlfn.XLOOKUP(C148,Data!C:C,Data!H:H,0)","v":0},{"$error":"#N/A"},{"$error":"#N/A"},{"$error":"#N/A"},{"$error":"#N/A"},{"$error":"#N/A"},0,{"$error":"#N/A"},"","","",null,{"$error":"#N/A"}]
["23-3-2021","14:26:00","2021-03-23T14:26:00",null,{"$f":"_xlfn.XLOOKUP(C149,Data!C:C,Data!I:I)","v":{"$error":"#N/A"}},{"$error":"#N/A"},{"$f":"_xlfn.XLOOKUP(C149,Data!C:C,Data!G:G,0)","v":0},{"$f":"_xlfn.XLOOKUP(C149,Data!C:C,Data!F:F)","v":{"$error":"#N/A"}},{"$f":"_xlfn.XLOOKUP(C149,Data!C:C,Data!H:H,0)","v":0},{"$error":"#N/A"},{"$error":"#N/A"},{"$error":"#N/A"},{"$error":"#N/A"},{"$error":"#N/A"},0,{"$error":"#N/A"},"","","",null,{"$error":"#N/A"}]
["23-3-2021","14:27:00","2021-03-23T14:27:00",null,{"$f":"_xlfn.XLOOKUP(C150,Data!C:C,Data!I:I)","v":{"$error":"#N/A"}},{"$error":"#N/A"},{"$f":"_xlfn.XLOOKUP(C150,Data!C:C,Data!G:G,0)","v":0},{"$f":"_xlfn.XLOOKUP(C150,Data!C:C,Data!F:F)","v":{"$error":"#N/A"}},{"$f":"_xlfn.XLOOKUP(C150,Data!C:C,Data!H:H,0)","v":0},{"$error":"#N/A"},{"$error":"#N/A"},{"$error":"#N/A"},{"$error":"#N/A"},{"$error":"#N/A"},0,{"$error":"#N/A"},"","","",null,{"$error":"#N/A"}]
["23-3-2021","14:28:00","2021-03-23T14:28:00",null,{"$f":"_xlfn.XLOOKUP(C151,Data!C:C,Data!I:I)","v":{"$error":"#N/A"}},{"$error":"#N/A"},{"$f":"_xlfn.XLOOKUP(C151,Data!C:C,Data!G:G,0)","v":0},{"$f":"_xlfn.XLOOKUP(C151,Data!C:C,Data!F:F)","v":{"$error":"#N/A"}},{"$f":"_xlfn.XLOOKUP(C151,Data!C:C,Data!H:H,0)","v":0},{"$error":"#N/A"},{"$error":"#N/A"},{"$error":"#N/A"},{"$error":"#N/A"},{"$error":"#N/A"},0,{"$error":"#N/A"},"","","",null,{"$error":"#N/A"}]
["23-3-2021","14:29:00","2021-03-23T14:29:00",null,{"$f":"_xlfn.XLOOKUP(C152,Data!C:C,Data!I:I)","v":{"$error":"#N/A"}},{"$error":"#N/A"},{"$f":"_xlfn.XLOOKUP(C152,Data!C:C,Data!G:G,0)","v":0},{"$f":"_xlfn.XLOOKUP(C152,Data!C:C,Data!F:F)","v":{"$error":"#N/A"}},{"$f":"_xlfn.XLOOKUP(C152,Data!C:C,Data!H:H,0)","v":0},{"$error":"#N/A"},{"$error":"#N/A"},{"$error":"#N/A"},{"$error":"#N/A"},{"$error":"#N/A"},0,{"$error":"#N/A"},"","","",null,{"$error":"#N/A"}]
["23-3-2021","14:30:00","2021-03-23T14:30:00",null,{"$f":"_xlfn.XLOOKUP(C153,Data!C:C,Data!I:I)","v":{"$error":"#N/A"}},{"$error":"#N/A"},{"$f":"_xlfn.XLOOKUP(C153,Data!C:C,Data!G:G,0)","v":0},{"$f":"_xlfn.XLOOKUP(C153,Data!C:C,Data!F:F)","v":{"$error":"#N/A"}},{"$f":"_xlfn.XLOOKUP(C153,Data!C:C,Data!H:H,0)","v":0},{"$error":"#N/A"},{"$error":"#N/A"},{"$error":"#N/A"},{"$error":"#N/A"},{"$error":"#N/A"},0,{"$error":"#N/A"},"","","",null,{"$error":"#N/A"}]
["23-3-2021","14:31:00","2021-03-23T14:31:00",null,{"$f":"_xlfn.XLOOKUP(C154,Data!C:C,Data!I:I)","v":{"$error":"#N/A"}},{"$error":"#N/A"},{"$f":"_xlfn.XLOOKUP(C154,Data!C:C,Data!G:G,0)","v":0},{"$f":"_xlfn.XLOOKUP(C154,Data!C:C,Data!F:F)","v":{"$error":"#N/A"}},{"$f":"_xlfn.XLOOKUP(C154,Data!C:C,Data!H:H,0)","v":0},{"$error":"#N/A"},{"$error":"#N/A"},{"$error":"#N/A"},{"$error":"#N/A"},{"$error":"#N/A"},0,{"$error":"#N/A"},"","","",null,{"$error":"#N/A"}]
["23-3-2021","14:32:00","2021-03-23T14:32:00",null,{"$f":"_xlfn.XLOOKUP(C155,Data!C:C,Data!I:I)","v":{"$error":"#N/A"}},{"$error":"#N/A"},{"$f":"_xlfn.XLOOKUP(C155,Data!C:C,Data!G:G,0)","v":0},{"$f":"_xlfn.XLOOKUP(C155,Data!C:C,Data!F:F)","v":{"$error":"#N/A"}},{"$f":"_xlfn.XLOOKUP(C155,Data!C:C,Data!H:H,0)","v":0},{"$error":"#N/A"},{"$error":"#N/A"},{"$error":"#N/A"},{"$error":"#N/A"},{"$error":"#N/A"},0,{"$error":"#N/A"},"","","",null,{"$error":"#N/A"}]
["23-3-2021","14:33:00","2021-03-23T14:33:00",null,{"$f":"_xlfn.XLOOKUP(C156,Data!C:C,Data!I:I)","v":{"$error":"#N/A"}},{"$error":"#N/A"},{"$f":"_xlfn.XLOOKUP(C156,Data!C:C,Data!G:G,0)","v":0},{"$f":"_xlfn.XLOOKUP(C156,Data!C:C,Data!F:F)","v":{"$error":"#N/A"}},{"$f":"_xlfn.XLOOKUP(C156,Data!C:C,Data!H:H,0)","v":0},{"$error":"#N/A"},{"$error":"#N/A"},{"$error":"#N/A"},{"$error":"#N/A"},{"$error":"#N/A"},0,{"$error":"#N/A"},"","","",null,{"$error":"#N/A"}]
["23-3-2021","14:34:00","2021-03-23T14:34:00",null,{"$f":"_xlfn.XLOOKUP(C157,Data!C:C,Data!I:I)","v":{"$error":"#N/A"}},{"$error":"#N/A"},{"$f":"_xlfn.XLOOKUP(C157,Data!C:C,Data!G:G,0)","v":0},{"$f":"_xlfn.XLOOKUP(C157,Data!C:C,Data!F:F)","v":{"$error":"#N/A"}},{"$f":"_xlfn.XLOOKUP(C157,Data!C:C,Data!H:H,0)","v":0},{"$error":"#N/A"},{"$error":"#N/A"},{"$error":"#N/A"},{"$error":"#N/A"},{"$error":"#N/A"},0,{"$error":"#N/A"},"","","",null,{"$error":"#N/A"}]
["23-3-2021","14:35:00","2021-03-23T14:35:00",null,{"$f":"_xlfn.XLOOKUP(C158,Data!C:C,Data!I:I)","v":{"$error":"#N/A"}},{"$error":"#N/A"},{"$f":"_xlfn.XLOOKUP(C158,Data!C:C,Data!G:G,0)","v":0},{"$f":"_xlfn.XLOOKUP(C158,Data!C:C,Data!F:F)","v":{"$error":"#N/A"}},{"$f":"_xlfn.XLOOKUP(C158,Data!C:C,Data!H:H,0)","v":0},{"$error":"#N/A"},{"$error":"#N/A"},{"$error":"#N/A"},{"$error":"#N/A"},{"$error":"#N/A"},0,{"$error":"#N/A"},"","","",null,{"$error":"#N/A"}]
["23-3-2021","14:36:00","2021-03-23T14:36:00",null,{"$f":"_xlfn.XLOOKUP(C159,Data!C:C,Data!I:I)","v":{"$error":"#N/A"}},{"$error":"#N/A"},{"$f":"_xlfn.XLOOKUP(C159,Data!C:C,Data!G:G,0)","v":0},{"$f":"_xlfn.XLOOKUP(C159,Data!C:C,Data!F:F)","v":{"$error":"#N/A"}},{"$f":"_xlfn.XLOOKUP(C159,Data!C:C,Data!H:H,0)","v":0},{"$error":"#N/A"},{"$error":"#N/A"},{"$error":"#N/A"},{"$error":"#N/A"},{"$error":"#N/A"},0,{"$error":"#N/A"},"","","",null,{"$error":"#N/A"}]
["23-3-2021","14:37:00","2021-03-23T14:37:00",null,{"$f":"_xlfn.XLOOKUP(C160,Data!C:C,Data!I:I)","v":{"$error":"#N/A"}},{"$error":"#N/A"},{"$f":"_xlfn.XLOOKUP(C160,Data!C:C,Data!G:G,0)","v":0},{"$f":"_xlfn.XLOOKUP(C160,Data!C:C,Data!F:F)","v":{"$error":"#N/A"}},{"$f":"_xlfn.XLOOKUP(C160,Data!C:C,Data!H:H,0)","v":0},{"$error":"#N/A"},{"$error":"#N/A"},{"$error":"#N/A"},{"$error":"#N/A"},{"$error":"#N/A"},0,{"$error":"#N/A"},"","","",null,{"$error":"#N/A"}]
["23-3-2021","14:38:00","2021-03-23T14:38:00",null,{"$f":"_xlfn.XLOOKUP(C161,Data!C:C,Data!I:I)","v":{"$error":"#N/A"}},{"$error":"#N/A"},{"$f":"_xlfn.XLOOKUP(C161,Data!C:C,Data!G:G,0)","v":0},{"$f":"_xlfn.XLOOKUP(C161,Data!C:C,Data!F:F)","v":{"$error":"#N/A"}},{"$f":"_xlfn.XLOOKUP(C161,Data!C:C,Data!H:H,0)","v":0},{"$error":"#N/A"},{"$error":"#N/A"},{"$error":"#N/A"},{"$error":"#N/A"},{"$error":"#N/A"},0,{"$error":"#N/A"},"","","",null,{"$error":"#N/A"}]
["23-3-2021","14:39:00","2021-03-23T14:39:00",null,{"$f":"_xlfn.XLOOKUP(C162,Data!C:C,Data!I:I)","v":{"$error":"#N/A"}},{"$error":"#N/A"},{"$f":"_xlfn.XLOOKUP(C162,Data!C:C,Data!G:G,0)","v":0},{"$f":"_xlfn.XLOOKUP(C162,Data!C:C,Data!F:F)","v":{"$error":"#N/A"}},{"$f":"_xlfn.XLOOKUP(C162,Data!C:C,Data!H:H,0)","v":0},{"$error":"#N/A"},{"$error":"#N/A"},{"$error":"#N/A"},{"$error":"#N/A"},{"$error":"#N/A"},0,{"$error":"#N/A"},"","","",null,{"$error":"#N/A"}]
["23-3-2021","14:40:00","2021-03-23T14:40:00",null,{"$f":"_xlfn.XLOOKUP(C163,Data!C:C,Data!I:I)","v":{"$error":"#N/A"}},{"$error":"#N/A"},{"$f":"_xlfn.XLOOKUP(C163,Data!C:C,Data!G:G,0)","v":0},{"$f":"_xlfn.XLOOKUP(C163,Data!C:C,Data!F:F)","v":{"$error":"#N/A"}},{"$f":"_xlfn.XLOOKUP(C163,Data!C:C,Data!H:H,0)","v":0},{"$error":"#N/A"},{"$error":"#N/A"},{"$error":"#N/A"},{"$error":"#N/A"},{"$error":"#N/A"},0,{"$error":"#N/A"},"","","",null,{"$error":"#N/A"}]
["23-3-2021","14:41:00","2021-03-23T14:41:00",null,{"$f":"_xlfn.XLOOKUP(C164,Data!C:C,Data!I:I)","v":{"$error":"#N/A"}},{"$error":"#N/A"},{"$f":"_xlfn.XLOOKUP(C164,Data!C:C,Data!G:G,0)","v":0},{"$f":"_xlfn.XLOOKUP(C164,Data!C:C,Data!F:F)","v":{"$error":"#N/A"}},{"$f":"_xlfn.XLOOKUP(C164,Data!C:C,Data!H:H,0)","v":0},{"$error":"#N/A"},{"$error":"#N/A"},{"$error":"#N/A"},{"$error":"#N/A"},{"$error":"#N/A"},0,{"$error":"#N/A"},"","","",null,{"$error":"#N/A"}]
["23-3-2021","14:42:00","2021-03-23T14:42:00",null,{"$f":"_xlfn.XLOOKUP(C165,Data!C:C,Data!I:I)","v":{"$error":"#N/A"}},{"$error":"#N/A"},{"$f":"_xlfn.XLOOKUP(C165,Data!C:C,Data!G:G,0)","v":0},{"$f":"_xlfn.XLOOKUP(C165,Data!C:C,Data!F:F)","v":{"$error":"#N/A"}},{"$f":"_xlfn.XLOOKUP(C165,Data!C:C,Data!H:H,0)","v":0},{"$error":"#N/A"},{"$error":"#N/A"},{"$error":"#N/A"},{"$error":"#N/A"},{"$error":"#N/A"},0,{"$error":"#N/A"},"","","",null,{"$error":"#N/A"}]
["23-3-2021","14:43:00","2021-03-23T14:43:00",null,{"$f":"_xlfn.XLOOKUP(C166,Data!C:C,Data!I:I)","v":{"$error":"#N/A"}},{"$error":"#N/A"},{"$f":"_xlfn.XLOOKUP(C166,Data!C:C,Data!G:G,0)","v":0},{"$f":"_xlfn.XLOOKUP(C166,Data!C:C,Data!F:F)","v":{"$error":"#N/A"}},{"$f":"_xlfn.XLOOKUP(C166,Data!C:C,Data!H:H,0)","v":0},{"$error":"#N/A"},{"$error":"#N/A"},{"$error":"#N/A"},{"$error":"#N/A"},{"$error":"#N/A"},0,{"$error":"#N/A"},"","","",null,{"$error":"#N/A"}]
["23-3-2021","14:44:00","2021-03-23T14:44:00",null,{"$f":"_xlfn.XLOOKUP(C167,Data!C:C,Data!I:I)","v":{"$error":"#N/A"}},{"$error":"#N/A"},{"$f":"_xlfn.XLOOKUP(C167,Data!C:C,Data!G:G,0)","v":0},{"$f":"_xlfn.XLOOKUP(C167,Data!C:C,Data!F:F)","v":{"$error":"#N/A"}},{"$f":"_xlfn.XLOOKUP(C167,Data!C:C,Data!H:H,0)","v":0},{"$error":"#N/A"},{"$error":"#N/A"},{"$error":"#N/A"},{"$error":"#N/A"},{"$error":"#N/A"},0,{"$error":"#N/A"},"","","",null,{"$error":"#N/A"}]
["23-3-2021","14:45:00","2021-03-23T14:45:00",null,{"$f":"_xlfn.XLOOKUP(C168,Data!C:C,Data!I:I)","v":{"$error":"#N/A"}},{"$error":"#N/A"},{"$f":"_xlfn.XLOOKUP(C168,Data!C:C,Data!G:G,0)","v":0},{"$f":"_xlfn.XLOOKUP(C168,Data!C:C,Data!F:F)","v":{"$error":"#N/A"}},{"$f":"_xlfn.XLOOKUP(C168,Data!C:C,Data!H:H,0)","v":0},{"$error":"#N/A"},{"$error":"#N/A"},{"$error":"#N/A"},{"$error":"#N/A"},{"$error":"#N/A"},0,{"$error":"#N/A"},"","","",null,{"$error":"#N/A"}]
["23-3-2021","14:46:00","2021-03-23T14:46:00",null,{"$f":"_xlfn.XLOOKUP(C169,Data!C:C,Data!I:I)","v":{"$error":"#N/A"}},{"$error":"#N/A"},{"$f":"_xlfn.XLOOKUP(C169,Data!C:C,Data!G:G,0)","v":0},{"$f":"_xlfn.XLOOKUP(C169,Data!C:C,Data!F:F)","v":{"$error":"#N/A"}},{"$f":"_xlfn.XLOOKUP(C169,Data!C:C,Data!H:H,0)","v":0},{"$error":"#N/A"},{"$error":"#N/A"},{"$error":"#N/A"},{"$error":"#N/A"},{"$error":"#N/A"},0,{"$error":"#N/A"},"","","",null,{"$error":"#N/A"}]
["23-3-2021","14:47:00","2021-03-23T14:47:00",null,{"$f":"_xlfn.XLOOKUP(C170,Data!C:C,Data!I:I)","v":{"$error":"#N/A"}},{"$error":"#N/A"},{"$f":"_xlfn.XLOOKUP(C170,Data!C:C,Data!G:G,0)","v":0},{"$f":"_xlfn.XLOOKUP(C170,Data!C:C,Data!F:F)","v":{"$error":"#N/A"}},{"$f":"_xlfn.XLOOKUP(C170,Data!C:C,Data!H:H,0)","v":0},{"$error":"#N/A"},{"$error":"#N/A"},{"$error":"#N/A"},{"$error":"#N/A"},{"$error":"#N/A"},0,{"$error":"#N/A"},"","","",null,{"$error":"#N/A"}]
["23-3-2021","14:48:00","2021-03-23T14:48:00",null,{"$f":"_xlfn.XLOOKUP(C171,Data!C:C,Data!I:I)","v":{"$error":"#N/A"}},{"$error":"#N/A"},{"$f":"_xlfn.XLOOKUP(C171,Data!C:C,Data!G:G,0)","v":0},{"$f":"_xlfn.XLOOKUP(C171,Data!C:C,Data!F:F)","v":{"$error":"#N/A"}},{"$f":"_xlfn.XLOOKUP(C171,Data!C:C,Data!H:H,0)","v":0},{"$error":"#N/A"},{"$error":"#N/A"},{"$error":"#N/A"},{"$error":"#N/A"},{"$error":"#N/A"},0,{"$error":"#N/A"},"","","",null,{"$error":"#N/A"}]
["23-3-2021","14:49:00","2021-03-23T14:49:00",null,{"$f":"_xlfn.XLOOKUP(C172,Data!C:C,Data!I:I)","v":{"$error":"#N/A"}},{"$error":"#N/A"},{"$f":"_xlfn.XLOOKUP(C172,Data!C:C,Data!G:G,0)","v":0},{"$f":"_xlfn.XLOOKUP(C172,Data!C:C,Data!F:F)","v":{"$error":"#N/A"}},{"$f":"_xlfn.XLOOKUP(C172,Data!C:C,Data!H:H,0)","v":0},{"$error":"#N/A"},{"$error":"#N/A"},{"$error":"#N/A"},{"$error":"#N/A"},{"$error":"#N/A"},0,{"$error":"#N/A"},"","","",null,{"$error":"#N/A"}]
["23-3-2021","14:50:00","2021-03-23T14:50:00",null,{"$f":"_xlfn.XLOOKUP(C173,Data!C:C,Data!I:I)","v":{"$error":"#N/A"}},{"$error":"#N/A"},{"$f":"_xlfn.XLOOKUP(C173,Data!C:C,Data!G:G,0)","v":0},{"$f":"_xlfn.XLOOKUP(C173,Data!C:C,Data!F:F)","v":{"$error":"#N/A"}},{"$f":"_xlfn.XLOOKUP(C173,Data!C:C,Data!H:H,0)","v":0},{"$error":"#N/A"},{"$error":"#N/A"},{"$error":"#N/A"},{"$error":"#N/A"},{"$error":"#N/A"},0,{"$error":"#N/A"},"","","",null,{"$error":"#N/A"}]
["23-3-2021","14:51:00","2021-03-23T14:51:00",null,{"$f":"_xlfn.XLOOKUP(C174,Data!C:C,Data!I:I)","v":{"$error":"#N/A"}},{"$error":"#N/A"},{"$f":"_xlfn.XLOOKUP(C174,Data!C:C,Data!G:G,0)","v":0},{"$f":"_xlfn.XLOOKUP(C174,Data!C:C,Data!F:F)","v":{"$error":"#N/A"}},{"$f":"_xlfn.XLOOKUP(C174,Data!C:C,Data!H:H,0)","v":0},{"$error":"#N/A"},{"$error":"#N/A"},{"$error":"#N/A"},{"$error":"#N/A"},{"$error":"#N/A"},0,{"$error":"#N/A"},"","","",null,{"$error":"#N/A"}]
["23-3-2021","14:52:00","2021-03-23T14:52:00",null,{"$f":"_xlfn.XLOOKUP(C175,Data!C:C,Data!I:I)","v":{"$error":"#N/A"}},{"$error":"#N/A"},{"$f":"_xlfn.XLOOKUP(C175,Data!C:C,Data!G:G,0)","v":0},{"$f":"_xlfn.XLOOKUP(C175,Data!C:C,Data!F:F)","v":{"$error":"#N/A"}},{"$f":"_xlfn.XLOOKUP(C175,Data!C:C,Data!H:H,0)","v":0},{"$error":"#N/A"},{"$error":"#N/A"},{"$error":"#N/A"},{"$error":"#N/A"},{"$error":"#N/A"},0,{"$error":"#N/A"},"","","",null,{"$error":"#N/A"}]
["23-3-2021","14:53:00","2021-03-23T14:53:00",null,{"$f":"_xlfn.XLOOKUP(C176,Data!C:C,Data!I:I)","v":{"$error":"#N/A"}},{"$error":"#N/A"},{"$f":"_xlfn.XLOOKUP(C176,Data!C:C,Data!G:G,0)","v":0},{"$f":"_xlfn.XLOOKUP(C176,Data!C:C,Data!F:F)","v":{"$error":"#N/A"}},{"$f":"_xlfn.XLOOKUP(C176,Data!C:C,Data!H:H,0)","v":0},{"$error":"#N/A"},{"$error":"#N/A"},{"$error":"#N/A"},{"$error":"#N/A"},{"$error":"#N/A"},0,{"$error":"#N/A"},"","","",null,{"$error":"#N/A"}]
["23-3-2021","14:54:00","2021-03-23T14:54:00",null,{"$f":"_xlfn.XLOOKUP(C177,Data!C:C,Data!I:I)","v":{"$error":"#N/A"}},{"$error":"#N/A"},{"$f":"_xlfn.XLOOKUP(C177,Data!C:C,Data!G:G,0)","v":0},{"$f":"_xlfn.XLOOKUP(C177,Data!C:C,Data!F:F)","v":{"$error":"#N/A"}},{"$f":"_xlfn.XLOOKUP(C177,Data!C:C,Data!H:H,0)","v":0},{"$error":"#N/A"},{"$error":"#N/A"},{"$error":"#N/A"},{"$error":"#N/A"},{"$error":"#N/A"},0,{"$error":"#N/A"},"","","",null,{"$error":"#N/A"}]
["23-3-2021","14:55:00","2021-03-23T14:55:00",null,{"$f":"_xlfn.XLOOKUP(C178,Data!C:C,Data!I:I)","v":{"$error":"#N/A"}},{"$error":"#N/A"},{"$f":"_xlfn.XLOOKUP(C178,Data!C:C,Data!G:G,0)","v":0},{"$f":"_xlfn.XLOOKUP(C178,Data!C:C,Data!F:F)","v":{"$error":"#N/A"}},{"$f":"_xlfn.XLOOKUP(C178,Data!C:C,Data!H:H,0)","v":0},{"$error":"#N/A"},{"$error":"#N/A"},{"$error":"#N/A"},{"$error":"#N/A"},{"$error":"#N/A"},0,{"$error":"#N/A"},"","","",null,{"$error":"#N/A"}]
["23-3-2021","14:56:00","2021-03-23T14:56:00",null,{"$f":"_xlfn.XLOOKUP(C179,Data!C:C,Data!I:I)","v":{"$error":"#N/A"}},{"$error":"#N/A"},{"$f":"_xlfn.XLOOKUP(C179,Data!C:C,Data!G:G,0)","v":0},{"$f":"_xlfn.XLOOKUP(C179,Data!C:C,Data!F:F)","v":{"$error":"#N/A"}},{"$f":"_xlfn.XLOOKUP(C179,Data!C:C,Data!H:H,0)","v":0},{"$error":"#N/A"},{"$error":"#N/A"},{"$error":"#N/A"},{"$error":"#N/A"},{"$error":"#N/A"},0,{"$error":"#N/A"},"","","",null,{"$error":"#N/A"}]
["23-3-2021","14:57:00","2021-03-23T14:57:00",null,{"$f":"_xlfn.XLOOKUP(C180,Data!C:C,Data!I:I)","v":{"$error":"#N/A"}},{"$error":"#N/A"},{"$f":"_xlfn.XLOOKUP(C180,Data!C:C,Data!G:G,0)","v":0},{"$f":"_xlfn.XLOOKUP(C180,Data!C:C,Data!F:F)","v":{"$error":"#N/A"}},{"$f":"_xlfn.XLOOKUP(C180,Data!C:C,Data!H:H,0)","v":0},{"$error":"#N/A"},{"$error":"#N/A"},{"$error":"#N/A"},{"$error":"#N/A"},{"$error":"#N/A"},0,{"$error":"#N/A"},"","","",null,{"$error":"#N/A"}]
["23-3-2021","14:58:00","2021-03-23T14:58:00",null,{"$f":"_xlfn.XLOOKUP(C181,Data!C:C,Data!I:I)","v":{"$error":"#N/A"}},{"$error":"#N/A"},{"$f":"_xlfn.XLOOKUP(C181,Data!C:C,Data!G:G,0)","v":0},{"$f":"_xlfn.XLOOKUP(C181,Data!C:C,Data!F:F)","v":{"$error":"#N/A"}},{"$f":"_xlfn.XLOOKUP(C181,Data!C:C,Data!H:H,0)","v":0},{"$error":"#N/A"},{"$error":"#N/A"},{"$error":"#N/A"},{"$error":"#N/A"},{"$error":"#N/A"},0,{"$error":"#N/A"},"","","",null,{"$error":"#N/A"}]
["23-3-2021","14:59:00","2021-03-23T14:59:00",null,{"$f":"_xlfn.XLOOKUP(C182,Data!C:C,Data!I:I)","v":{"$error":"#N/A"}},{"$error":"#N/A"},{"$f":"_xlfn.XLOOKUP(C182,Data!C:C,Data!G:G,0)","v":0},{"$f":"_xlfn.XLOOKUP(C182,Data!C:C,Data!F:F)","v":{"$error":"#N/A"}},{"$f":"_xlfn.XLOOKUP(C182,Data!C:C,Data!H:H,0)","v":0},{"$error":"#N/A"},{"$error":"#N/A"},{"$error":"#N/A"},{"$error":"#N/A"},{"$error":"#N/A"},0,{"$error":"#N/A"},"","","",null,{"$error":"#N/A"}]
["23-3-2021","15:00:00","2021-03-23T15:00:00",null,{"$f":"_xlfn.XLOOKUP(C183,Data!C:C,Data!I:I)","v":{"$error":"#N/A"}},{"$error":"#N/A"},{"$f":"_xlfn.XLOOKUP(C183,Data!C:C,Data!G:G,0)","v":0},{"$f":"_xlfn.XLOOKUP(C183,Data!C:C,Data!F:F)","v":{"$error":"#N/A"}},{"$f":"_xlfn.XLOOKUP(C183,Data!C:C,Data!H:H,0)","v":0},{"$error":"#N/A"},{"$error":"#N/A"},{"$error":"#N/A"},{"$error":"#N/A"},{"$error":"#N/A"},0,{"$error":"#N/A"},"","","",null,{"$error":"#N/A"}]
["23-3-2021","15:01:00","2021-03-23T15:01:00",null,{"$f":"_xlfn.XLOOKUP(C184,Data!C:C,Data!I:I)","v":{"$error":"#N/A"}},{"$error":"#N/A"},{"$f":"_xlfn.XLOOKUP(C184,Data!C:C,Data!G:G,0)","v":0},{"$f":"_xlfn.XLOOKUP(C184,Data!C:C,Data!F:F)","v":{"$error":"#N/A"}},{"$f":"_xlfn.XLOOKUP(C184,Data!C:C,Data!H:H,0)","v":0},{"$error":"#N/A"},{"$error":"#N/A"},{"$error":"#N/A"},{"$error":"#N/A"},{"$error":"#N/A"},0,{"$error":"#N/A"},"","","",null,{"$error":"#N/A"}]
["23-3-2021","15:02:00","2021-03-23T15:02:00",null,{"$f":"_xlfn.XLOOKUP(C185,Data!C:C,Data!I:I)","v":{"$error":"#N/A"}},{"$error":"#N/A"},{"$f":"_xlfn.XLOOKUP(C185,Data!C:C,Data!G:G,0)","v":0},{"$f":"_xlfn.XLOOKUP(C185,Data!C:C,Data!F:F)","v":{"$error":"#N/A"}},{"$f":"_xlfn.XLOOKUP(C185,Data!C:C,Data!H:H,0)","v":0},{"$error":"#N/A"},{"$error":"#N/A"},{"$error":"#N/A"},{"$error":"#N/A"},{"$error":"#N/A"},0,{"$error":"#N/A"},"","","",null,{"$error":"#N/A"}]
["23-3-2021","15:03:00","2021-03-23T15:03:00",null,{"$f":"_xlfn.XLOOKUP(C186,Data!C:C,Data!I:I)","v":{"$error":"#N/A"}},{"$error":"#N/A"},{"$f":"_xlfn.XLOOKUP(C186,Data!C:C,Data!G:G,0)","v":0},{"$f":"_xlfn.XLOOKUP(C186,Data!C:C,Data!F:F)","v":{"$error":"#N/A"}},{"$f":"_xlfn.XLOOKUP(C186,Data!C:C,Data!H:H,0)","v":0},{"$error":"#N/A"},{"$error":"#N/A"},{"$error":"#N/A"},{"$error":"#N/A"},{"$error":"#N/A"},0,{"$error":"#N/A"},"","","",null,{"$error":"#N/A"}]
["23-3-2021","15:04:00","2021-03-23T15:04:00",null,{"$f":"_xlfn.XLOOKUP(C187,Data!C:C,Data!I:I)","v":{"$error":"#N/A"}},{"$error":"#N/A"},{"$f":"_xlfn.XLOOKUP(C187,Data!C:C,Data!G:G,0)","v":0},{"$f":"_xlfn.XLOOKUP(C187,Data!C:C,Data!F:F)","v":{"$error":"#N/A"}},{"$f":"_xlfn.XLOOKUP(C187,Data!C:C,Data!H:H,0)","v":0},{"$error":"#N/A"},{"$error":"#N/A"},{"$error":"#N/A"},{"$error":"#N/A"},{"$error":"#N/A"},0,{"$error":"#N/A"},"","","",null,{"$error":"#N/A"}]
["23-3-2021","15:05:00","2021-03-23T15:05:00",null,{"$f":"_xlfn.XLOOKUP(C188,Data!C:C,Data!I:I)","v":{"$error":"#N/A"}},{"$error":"#N/A"},{"$f":"_xlfn.XLOOKUP(C188,Data!C:C,Data!G:G,0)","v":0},{"$f":"_xlfn.XLOOKUP(C188,Data!C:C,Data!F:F)","v":{"$error":"#N/A"}},{"$f":"_xlfn.XLOOKUP(C188,Data!C:C,Data!H:H,0)","v":0},{"$error":"#N/A"},{"$error":"#N/A"},{"$error":"#N/A"},{"$error":"#N/A"},{"$error":"#N/A"},0,{"$error":"#N/A"},"","","",null,{"$error":"#N/A"}]
["23-3-2021","15:06:00","2021-03-23T15:06:00",null,{"$f":"_xlfn.XLOOKUP(C189,Data!C:C,Data!I:I)","v":{"$error":"#N/A"}},{"$error":"#N/A"},{"$f":"_xlfn.XLOOKUP(C189,Data!C:C,Data!G:G,0)","v":0},{"$f":"_xlfn.XLOOKUP(C189,Data!C:C,Data!F:F)","v":{"$error":"#N/A"}},{"$f":"_xlfn.XLOOKUP(C189,Data!C:C,Data!H:H,0)","v":0},{"$error":"#N/A"},{"$error":"#N/A"},{"$error":"#N/A"},{"$error":"#N/A"},{"$error":"#N/A"},0,{"$error":"#N/A"},"","","",null,{"$error":"#N/A"}]
["23-3-2021","15:07:00","2021-03-23T15:07:00",null,{"$f":"_xlfn.XLOOKUP(C190,Data!C:C,Data!I:I)","v":{"$error":"#N/A"}},{"$error":"#N/A"},{"$f":"_xlfn.XLOOKUP(C190,Data!C:C,Data!G:G,0)","v":0},{"$f":"_xlfn.XLOOKUP(C190,Data!C:C,Data!F:F)","v":{"$error":"#N/A"}},{"$f":"_xlfn.XLOOKUP(C190,Data!C:C,Data!H:H,0)","v":0},{"$error":"#N/A"},{"$error":"#N/A"},{"$error":"#N/A"},{"$error":"#N/A"},{"$error":"#N/A"},0,{"$error":"#N/A"},"","","",null,{"$error":"#N/A"}]
["23-3-2021","15:08:00","2021-03-23T15:08:00",null,{"$f":"_xlfn.XLOOKUP(C191,Data!C:C,Data!I:I)","v":{"$error":"#N/A"}},{"$error":"#N/A"},{"$f":"_xlfn.XLOOKUP(C191,Data!C:C,Data!G:G,0)","v":0},{"$f":"_xlfn.XLOOKUP(C191,Data!C:C,Data!F:F)","v":{"$error":"#N/A"}},{"$f":"_xlfn.XLOOKUP(C191,Data!C:C,Data!H:H,0)","v":0},{"$error":"#N/A"},{"$error":"#N/A"},{"$error":"#N/A"},{"$error":"#N/A"},{"$error":"#N/A"},0,{"$error":"#N/A"},"","","",null,{"$error":"#N/A"}]
["23-3-2021","15:09:00","2021-03-23T15:09:00",null,{"$f":"_xlfn.XLOOKUP(C192,Data!C:C,Data!I:I)","v":{"$error":"#N/A"}},{"$error":"#N/A"},{"$f":"_xlfn.XLOOKUP(C192,Data!C:C,Data!G:G,0)","v":0},{"$f":"_xlfn.XLOOKUP(C192,Data!C:C,Data!F:F)","v":{"$error":"#N/A"}},{"$f":"_xlfn.XLOOKUP(C192,Data!C:C,Data!H:H,0)","v":0},{"$error":"#N/A"},{"$error":"#N/A"},{"$error":"#N/A"},{"$error":"#N/A"},{"$error":"#N/A"},0,{"$error":"#N/A"},"","","",null,{"$error":"#N/A"}]
["23-3-2021","15:10:00","2021-03-23T15:10:00",null,{"$f":"_xlfn.XLOOKUP(C193,Data!C:C,Data!I:I)","v":{"$error":"#N/A"}},{"$error":"#N/A"},{"$f":"_xlfn.XLOOKUP(C193,Data!C:C,Data!G:G,0)","v":0},{"$f":"_xlfn.XLOOKUP(C193,Data!C:C,Data!F:F)","v":{"$error":"#N/A"}},{"$f":"_xlfn.XLOOKUP(C193,Data!C:C,Data!H:H,0)","v":0},{"$error":"#N/A"},{"$error":"#N/A"},{"$error":"#N/A"},{"$error":"#N/A"},{"$error":"#N/A"},0,{"$error":"#N/A"},"","","",null,{"$error":"#N/A"}]
["23-3-2021","15:11:00","2021-03-23T15:11:00",null,{"$f":"_xlfn.XLOOKUP(C194,Data!C:C,Data!I:I)","v":{"$error":"#N/A"}},{"$error":"#N/A"},{"$f":"_xlfn.XLOOKUP(C194,Data!C:C,Data!G:G,0)","v":0},{"$f":"_xlfn.XLOOKUP(C194,Data!C:C,Data!F:F)","v":{"$error":"#N/A"}},{"$f":"_xlfn.XLOOKUP(C194,Data!C:C,Data!H:H,0)","v":0},{"$error":"#N/A"},{"$error":"#N/A"},{"$error":"#N/A"},{"$error":"#N/A"},{"$error":"#N/A"},0,{"$error":"#N/A"},"","","",null,{"$error":"#N/A"}]
["23-3-2021","15:12:00",{"$f":"A195+B195","v":"2021-03-23T15:12:00"},null,{"$f":"_xlfn.XLOOKUP(C195,Data!C:C,Data!I:I)","v":{"$error":"#N/A"}},{"$error":"#N/A"},{"$f":"_xlfn.XLOOKUP(C195,Data!C:C,Data!G:G,0)","v":0},{"$f":"_xlfn.XLOOKUP(C195,Data!C:C,Data!F:F)","v":{"$error":"#N/A"}},{"$f":"_xlfn.XLOOKUP(C195,Data!C:C,Data!H:H,0)","v":0},{"$error":"#N/A"},{"$f":"IF(AND(I195<100,  I195>=80,  OR(J195=105, J195=106,  J195=123)),  5,  0)","v":{"$error":"#N/A"}},{"$error":"#N/A"},{"$error":"#N/A"},{"$error":"#N/A"},{"$f":"IFERROR(F195,0)","v":0},{"$error":"#N/A"},"","","",null,{"$error":"#N/A"}]
[{"$f":"$A$3","v":"23-3-2021"},"15:13:00","2021-03-23T15:13:00",null,{"$f":"_xlfn.XLOOKUP(C196,Data!C:C,Data!I:I)","v":{"$error":"#N/A"}},{"$error":"#N/A"},{"$f":"_xlfn.XLOOKUP(C196,Data!C:C,Data!G:G,0)","v":0},{"$f":"_xlfn.XLOOKUP(C196,Data!C:C,Data!F:F)","v":{"$error":"#N/A"}},{"$f":"_xlfn.XLOOKUP(C196,Data!C:C,Data!H:H,0)","v":0},{"$error":"#N/A"},{"$error":"#N/A"},{"$f":"IF(AND(I196<130,  I196>104,  OR(J196=105, J196=106,  J196=123),  S196>$S$1450+$S$1443),  20,  0)","v":{"$error":"#N/A"}},{"$f":"IF(AND(I196<130,  I196>104,  OR(J196=105, J196=106,  J196=123),  R196>$Q$1449,  S196<=$S$1450+$S$1443),  20,  0)","v":{"$error":"#N/A"}},{"$f":"IF(AND(I196<130,  I196>104,  OR(J196=105, J196=106,  J196=123),  R196<=$Q$1449,  S196<=$S$1450+$S$1443),  20,  0)","v":{"$error":"#N/A"}},0,{"$f":"IF(Q196=\"\",F196,IF(Q196=0,P195,Q196))","v":{"$error":"#N/A"}},{"$f":"IF(I196>109,IF(O196*$Q$1451>(O195+O197)/2,MIN(O195:O197),O196),\"\")","v":""},"","",null,{"$error":"#N/A"}]
["23-3-2021","15:14:00","2021-03-23T15:14:00",null,{"$f":"_xlfn.XLOOKUP(C197,Data!C:C,Data!I:I)","v":{"$error":"#N/A"}},{"$f":"IF(E197=255,IF(MIN(E196:E198)=255,#N/A,MIN(E196:E198)),E197)","v":{"$error":"#N/A"}},{"$f":"_xlfn.XLOOKUP(C197,Data!C:C,Data!G:G,0)","v":0},{"$f":"_xlfn.XLOOKUP(C197,Data!C:C,Data!F:F)","v":{"$error":"#N/A"}},{"$f":"_xlfn.XLOOKUP(C197,Data!C:C,Data!H:H,0)","v":0},{"$error":"#N/A"},{"$error":"#N/A"},{"$error":"#N/A"},{"$error":"#N/A"},{"$error":"#N/A"},0,{"$error":"#N/A"},"","","",null,{"$error":"#N/A"}]
["23-3-2021","15:15:00","2021-03-23T15:15:00",null,{"$f":"_xlfn.XLOOKUP(C198,Data!C:C,Data!I:I)","v":{"$error":"#N/A"}},{"$error":"#N/A"},{"$f":"_xlfn.XLOOKUP(C198,Data!C:C,Data!G:G,0)","v":0},{"$f":"_xlfn.XLOOKUP(C198,Data!C:C,Data!F:F)","v":{"$error":"#N/A"}},{"$f":"_xlfn.XLOOKUP(C198,Data!C:C,Data!H:H,0)","v":0},{"$f":"IF(AND(MAX(E196:E197)=255,MAX(E198:E199)=255,  E197+E198+E199<3*255, OR(I198=123,I198=124,I198=106,I198=108)),   I198,   IF(AND(MAX(E196:E197)=255,MAX(E198:E199)=255,  E197+E198+E199<3*255, OR(I198>=80,I198<100)),106,108))","v":{"$error":"#N/A"}},{"$error":"#N/A"},{"$error":"#N/A"},{"$error":"#N/A"},{"$error":"#N/A"},0,{"$error":"#N/A"},"","","",null,{"$error":"#N/A"}]
["23-3-2021","15:16:00","2021-03-23T15:16:00",null,{"$f":"_xlfn.XLOOKUP(C199,Data!C:C,Data!I:I)","v":{"$error":"#N/A"}},{"$error":"#N/A"},{"$f":"_xlfn.XLOOKUP(C199,Data!C:C,Data!G:G,0)","v":0},{"$f":"_xlfn.XLOOKUP(C199,Data!C:C,Data!F:F)","v":{"$error":"#N/A"}},{"$f":"_xlfn.XLOOKUP(C199,Data!C:C,Data!H:H,0)","v":0},{"$error":"#N/A"},{"$error":"#N/A"},{"$error":"#N/A"},{"$error":"#N/A"},{"$error":"#N/A"},0,{"$error":"#N/A"},"","","",null,{"$f":"IF(F199=\"\",\"\",AVERAGE(F195:F203))","v":{"$error":"#N/A"}}]
["23-3-2021","15:17:00","2021-03-23T15:17:00",null,{"$f":"_xlfn.XLOOKUP(C200,Data!C:C,Data!I:I)","v":{"$error":"#N/A"}},{"$error":"#N/A"},{"$f":"_xlfn.XLOOKUP(C200,Data!C:C,Data!G:G,0)","v":0},{"$f":"_xlfn.XLOOKUP(C200,Data!C:C,Data!F:F)","v":{"$error":"#N/A"}},{"$f":"_xlfn.XLOOKUP(C200,Data!C:C,Data!H:H,0)","v":0},{"$error":"#N/A"},{"$error":"#N/A"},{"$error":"#N/A"},{"$error":"#N/A"},{"$error":"#N/A"},0,{"$error":"#N/A"},"",{"$f":"IF(Q200=\"\",\"\",AVERAGE(Q196:Q204))","v":""},{"$f":"IF(Q200=\"\",\"\",MAX(Q196:Q204)-MIN(Q196:Q204))","v":""},null,{"$error":"#N/A"}]
["23-3-2021","15:18:00","2021-03-23T15:18:00",null,{"$f":"_xlfn.XLOOKUP(C201,Data!C:C,Data!I:I)","v":{"$error":"#N/A"}},{"$error":"#N/A"},{"$f":"_xlfn.XLOOKUP(C201,Data!C:C,Data!G:G,0)","v":0},{"$f":"_xlfn.XLOOKUP(C201,Data!C:C,Data!F:F)","v":{"$error":"#N/A"}},{"$f":"_xlfn.XLOOKUP(C201,Data!C:C,Data!H:H,0)","v":0},{"$error":"#N/A"},{"$error":"#N/A"},{"$error":"#N/A"},{"$error":"#N/A"},{"$error":"#N/A"},0,{"$error":"#N/A"},"","","",null,{"$error":"#N/A"}]
["23-3-2021","15:19:00","2021-03-23T15:19:00",null,{"$f":"_xlfn.XLOOKUP(C202,Data!C:C,Data!I:I)","v":{"$error":"#N/A"}},{"$error":"#N/A"},{"$f":"_xlfn.XLOOKUP(C202,Data!C:C,Data!G:G,0)","v":0},{"$f":"_xlfn.XLOOKUP(C202,Data!C:C,Data!F:F)","v":{"$error":"#N/A"}},{"$f":"_xlfn.XLOOKUP(C202,Data!C:C,Data!H:H,0)","v":0},{"$error":"#N/A"},{"$error":"#N/A"},{"$error":"#N/A"},{"$error":"#N/A"},{"$error":"#N/A"},0,{"$error":"#N/A"},"","","",null,{"$error":"#N/A"}]
["23-3-2021","15:20:00","2021-03-23T15:20:00",null,{"$f":"_xlfn.XLOOKUP(C203,Data!C:C,Data!I:I)","v":{"$error":"#N/A"}},{"$error":"#N/A"},{"$f":"_xlfn.XLOOKUP(C203,Data!C:C,Data!G:G,0)","v":0},{"$f":"_xlfn.XLOOKUP(C203,Data!C:C,Data!F:F)","v":{"$error":"#N/A"}},{"$f":"_xlfn.XLOOKUP(C203,Data!C:C,Data!H:H,0)","v":0},{"$error":"#N/A"},{"$error":"#N/A"},{"$error":"#N/A"},{"$error":"#N/A"},{"$error":"#N/A"},0,{"$error":"#N/A"},"","","",null,{"$error":"#N/A"}]
["23-3-2021","15:21:00","2021-03-23T15:21:00",null,{"$f":"_xlfn.XLOOKUP(C204,Data!C:C,Data!I:I)","v":{"$error":"#N/A"}},{"$error":"#N/A"},{"$f":"_xlfn.XLOOKUP(C204,Data!C:C,Data!G:G,0)","v":0},{"$f":"_xlfn.XLOOKUP(C204,Data!C:C,Data!F:F)","v":{"$error":"#N/A"}},{"$f":"_xlfn.XLOOKUP(C204,Data!C:C,Data!H:H,0)","v":0},{"$error":"#N/A"},{"$error":"#N/A"},{"$error":"#N/A"},{"$error":"#N/A"},{"$error":"#N/A"},0,{"$error":"#N/A"},"","","",null,{"$error":"#N/A"}]
["23-3-2021","15:22:00","2021-03-23T15:22:00",null,{"$f":"_xlfn.XLOOKUP(C205,Data!C:C,Data!I:I)","v":{"$error":"#N/A"}},{"$error":"#N/A"},{"$f":"_xlfn.XLOOKUP(C205,Data!C:C,Data!G:G,0)","v":0},{"$f":"_xlfn.XLOOKUP(C205,Data!C:C,Data!F:F)","v":{"$error":"#N/A"}},{"$f":"_xlfn.XLOOKUP(C205,Data!C:C,Data!H:H,0)","v":0},{"$error":"#N/A"},{"$error":"#N/A"},{"$error":"#N/A"},{"$error":"#N/A"},{"$error":"#N/A"},0,{"$error":"#N/A"},"","","",null,{"$error":"#N/A"}]
["23-3-2021","15:23:00","2021-03-23T15:23:00",null,{"$f":"_xlfn.XLOOKUP(C206,Data!C:C,Data!I:I)","v":{"$error":"#N/A"}},{"$error":"#N/A"},{"$f":"_xlfn.XLOOKUP(C206,Data!C:C,Data!G:G,0)","v":0},{"$f":"_xlfn.XLOOKUP(C206,Data!C:C,Data!F:F)","v":{"$error":"#N/A"}},{"$f":"_xlfn.XLOOKUP(C206,Data!C:C,Data!H:H,0)","v":0},{"$error":"#N/A"},{"$error":"#N/A"},{"$error":"#N/A"},{"$error":"#N/A"},{"$error":"#N/A"},0,{"$error":"#N/A"},"","","",null,{"$error":"#N/A"}]
["23-3-2021","15:24:00","2021-03-23T15:24:00",null,{"$f":"_xlfn.XLOOKUP(C207,Data!C:C,Data!I:I)","v":{"$error":"#N/A"}},{"$error":"#N/A"},{"$f":"_xlfn.XLOOKUP(C207,Data!C:C,Data!G:G,0)","v":0},{"$f":"_xlfn.XLOOKUP(C207,Data!C:C,Data!F:F)","v":{"$error":"#N/A"}},{"$f":"_xlfn.XLOOKUP(C207,Data!C:C,Data!H:H,0)","v":0},{"$error":"#N/A"},{"$error":"#N/A"},{"$error":"#N/A"},{"$error":"#N/A"},{"$error":"#N/A"},0,{"$error":"#N/A"},"","","",null,{"$error":"#N/A"}]
["23-3-2021","15:25:00","2021-03-23T15:25:00",null,{"$f":"_xlfn.XLOOKUP(C208,Data!C:C,Data!I:I)","v":{"$error":"#N/A"}},{"$error":"#N/A"},{"$f":"_xlfn.XLOOKUP(C208,Data!C:C,Data!G:G,0)","v":0},{"$f":"_xlfn.XLOOKUP(C208,Data!C:C,Data!F:F)","v":{"$error":"#N/A"}},{"$f":"_xlfn.XLOOKUP(C208,Data!C:C,Data!H:H,0)","v":0},{"$error":"#N/A"},{"$error":"#N/A"},{"$error":"#N/A"},{"$error":"#N/A"},{"$error":"#N/A"},0,{"$error":"#N/A"},"","","",null,{"$error":"#N/A"}]
["23-3-2021","15:26:00","2021-03-23T15:26:00",null,{"$f":"_xlfn.XLOOKUP(C209,Data!C:C,Data!I:I)","v":{"$error":"#N/A"}},{"$error":"#N/A"},{"$f":"_xlfn.XLOOKUP(C209,Data!C:C,Data!G:G,0)","v":0},{"$f":"_xlfn.XLOOKUP(C209,Data!C:C,Data!F:F)","v":{"$error":"#N/A"}},{"$f":"_xlfn.XLOOKUP(C209,Data!C:C,Data!H:H,0)","v":0},{"$error":"#N/A"},{"$error":"#N/A"},{"$error":"#N/A"},{"$error":"#N/A"},{"$error":"#N/A"},0,{"$error":"#N/A"},"","","",null,{"$error":"#N/A"}]
["23-3-2021","15:27:00","2021-03-23T15:27:00",null,{"$f":"_xlfn.XLOOKUP(C210,Data!C:C,Data!I:I)","v":{"$error":"#N/A"}},{"$error":"#N/A"},{"$f":"_xlfn.XLOOKUP(C210,Data!C:C,Data!G:G,0)","v":0},{"$f":"_xlfn.XLOOKUP(C210,Data!C:C,Data!F:F)","v":{"$error":"#N/A"}},{"$f":"_xlfn.XLOOKUP(C210,Data!C:C,Data!H:H,0)","v":0},{"$error":"#N/A"},{"$error":"#N/A"},{"$error":"#N/A"},{"$error":"#N/A"},{"$error":"#N/A"},0,{"$error":"#N/A"},"","","",null,{"$error":"#N/A"}]
["23-3-2021","15:28:00","2021-03-23T15:28:00",null,{"$f":"_xlfn.XLOOKUP(C211,Data!C:C,Data!I:I)","v":{"$error":"#N/A"}},{"$error":"#N/A"},{"$f":"_xlfn.XLOOKUP(C211,Data!C:C,Data!G:G,0)","v":0},{"$f":"_xlfn.XLOOKUP(C211,Data!C:C,Data!F:F)","v":{"$error":"#N/A"}},{"$f":"_xlfn.XLOOKUP(C211,Data!C:C,Data!H:H,0)","v":0},{"$error":"#N/A"},{"$error":"#N/A"},{"$error":"#N/A"},{"$error":"#N/A"},{"$error":"#N/A"},0,{"$error":"#N/A"},"","","",null,{"$error":"#N/A"}]
["23-3-2021","15:29:00","2021-03-23T15:29:00",null,{"$f":"_xlfn.XLOOKUP(C212,Data!C:C,Data!I:I)","v":{"$error":"#N/A"}},{"$error":"#N/A"},{"$f":"_xlfn.XLOOKUP(C212,Data!C:C,Data!G:G,0)","v":0},{"$f":"_xlfn.XLOOKUP(C212,Data!C:C,Data!F:F)","v":{"$error":"#N/A"}},{"$f":"_xlfn.XLOOKUP(C212,Data!C:C,Data!H:H,0)","v":0},{"$error":"#N/A"},{"$error":"#N/A"},{"$error":"#N/A"},{"$error":"#N/A"},{"$error":"#N/A"},0,{"$error":"#N/A"},"","","",null,{"$error":"#N/A"}]
["23-3-2021","15:30:00","2021-03-23T15:30:00",null,{"$f":"_xlfn.XLOOKUP(C213,Data!C:C,Data!I:I)","v":{"$error":"#N/A"}},{"$error":"#N/A"},{"$f":"_xlfn.XLOOKUP(C213,Data!C:C,Data!G:G,0)","v":0},{"$f":"_xlfn.XLOOKUP(C213,Data!C:C,Data!F:F)","v":{"$error":"#N/A"}},{"$f":"_xlfn.XLOOKUP(C213,Data!C:C,Data!H:H,0)","v":0},{"$error":"#N/A"},{"$error":"#N/A"},{"$error":"#N/A"},{"$error":"#N/A"},{"$error":"#N/A"},0,{"$error":"#N/A"},"","","",null,{"$error":"#N/A"}]
["23-3-2021","15:31:00","2021-03-23T15:31:00",null,{"$f":"_xlfn.XLOOKUP(C214,Data!C:C,Data!I:I)","v":{"$error":"#N/A"}},{"$error":"#N/A"},{"$f":"_xlfn.XLOOKUP(C214,Data!C:C,Data!G:G,0)","v":0},{"$f":"_xlfn.XLOOKUP(C214,Data!C:C,Data!F:F)","v":{"$error":"#N/A"}},{"$f":"_xlfn.XLOOKUP(C214,Data!C:C,Data!H:H,0)","v":0},{"$error":"#N/A"},{"$error":"#N/A"},{"$error":"#N/A"},{"$error":"#N/A"},{"$error":"#N/A"},0,{"$error":"#N/A"},"","","",null,{"$error":"#N/A"}]
["23-3-2021","15:32:00","2021-03-23T15:32:00",null,{"$f":"_xlfn.XLOOKUP(C215,Data!C:C,Data!I:I)","v":{"$error":"#N/A"}},{"$error":"#N/A"},{"$f":"_xlfn.XLOOKUP(C215,Data!C:C,Data!G:G,0)","v":0},{"$f":"_xlfn.XLOOKUP(C215,Data!C:C,Data!F:F)","v":{"$error":"#N/A"}},{"$f":"_xlfn.XLOOKUP(C215,Data!C:C,Data!H:H,0)","v":0},{"$error":"#N/A"},{"$error":"#N/A"},{"$error":"#N/A"},{"$error":"#N/A"},{"$error":"#N/A"},0,{"$error":"#N/A"},"","","",null,{"$error":"#N/A"}]
["23-3-2021","15:33:00","2021-03-23T15:33:00",null,{"$f":"_xlfn.XLOOKUP(C216,Data!C:C,Data!I:I)","v":{"$error":"#N/A"}},{"$error":"#N/A"},{"$f":"_xlfn.XLOOKUP(C216,Data!C:C,Data!G:G,0)","v":0},{"$f":"_xlfn.XLOOKUP(C216,Data!C:C,Data!F:F)","v":{"$error":"#N/A"}},{"$f":"_xlfn.XLOOKUP(C216,Data!C:C,Data!H:H,0)","v":0},{"$error":"#N/A"},{"$error":"#N/A"},{"$error":"#N/A"},{"$error":"#N/A"},{"$error":"#N/A"},0,{"$error":"#N/A"},"","","",null,{"$error":"#N/A"}]
["23-3-2021","15:34:00","2021-03-23T15:34:00",null,{"$f":"_xlfn.XLOOKUP(C217,Data!C:C,Data!I:I)","v":{"$error":"#N/A"}},{"$error":"#N/A"},{"$f":"_xlfn.XLOOKUP(C217,Data!C:C,Data!G:G,0)","v":0},{"$f":"_xlfn.XLOOKUP(C217,Data!C:C,Data!F:F)","v":{"$error":"#N/A"}},{"$f":"_xlfn.XLOOKUP(C217,Data!C:C,Data!H:H,0)","v":0},{"$error":"#N/A"},{"$error":"#N/A"},{"$error":"#N/A"},{"$error":"#N/A"},{"$error":"#N/A"},0,{"$error":"#N/A"},"","","",null,{"$error":"#N/A"}]
["23-3-2021","15:35:00","2021-03-23T15:35:00",null,{"$f":"_xlfn.XLOOKUP(C218,Data!C:C,Data!I:I)","v":{"$error":"#N/A"}},{"$error":"#N/A"},{"$f":"_xlfn.XLOOKUP(C218,Data!C:C,Data!G:G,0)","v":0},{"$f":"_xlfn.XLOOKUP(C218,Data!C:C,Data!F:F)","v":{"$error":"#N/A"}},{"$f":"_xlfn.XLOOKUP(C218,Data!C:C,Data!H:H,0)","v":0},{"$error":"#N/A"},{"$error":"#N/A"},{"$error":"#N/A"},{"$error":"#N/A"},{"$error":"#N/A"},0,{"$error":"#N/A"},"","","",null,{"$error":"#N/A"}]
["23-3-2021","15:36:00","2021-03-23T15:36:00",null,{"$f":"_xlfn.XLOOKUP(C219,Data!C:C,Data!I:I)","v":{"$error":"#N/A"}},{"$error":"#N/A"},{"$f":"_xlfn.XLOOKUP(C219,Data!C:C,Data!G:G,0)","v":0},{"$f":"_xlfn.XLOOKUP(C219,Data!C:C,Data!F:F)","v":{"$error":"#N/A"}},{"$f":"_xlfn.XLOOKUP(C219,Data!C:C,Data!H:H,0)","v":0},{"$error":"#N/A"},{"$error":"#N/A"},{"$error":"#N/A"},{"$error":"#N/A"},{"$error":"#N/A"},0,{"$error":"#N/A"},"","","",null,{"$error":"#N/A"}]
["23-3-2021","15:37:00","2021-03-23T15:37:00",null,{"$f":"_xlfn.XLOOKUP(C220,Data!C:C,Data!I:I)","v":{"$error":"#N/A"}},{"$error":"#N/A"},{"$f":"_xlfn.XLOOKUP(C220,Data!C:C,Data!G:G,0)","v":0},{"$f":"_xlfn.XLOOKUP(C220,Data!C:C,Data!F:F)","v":{"$error":"#N/A"}},{"$f":"_xlfn.XLOOKUP(C220,Data!C:C,Data!H:H,0)","v":0},{"$error":"#N/A"},{"$error":"#N/A"},{"$error":"#N/A"},{"$error":"#N/A"},{"$error":"#N/A"},0,{"$error":"#N/A"},"","","",null,{"$error":"#N/A"}]
["23-3-2021","15:38:00","2021-03-23T15:38:00",null,{"$f":"_xlfn.XLOOKUP(C221,Data!C:C,Data!I:I)","v":{"$error":"#N/A"}},{"$error":"#N/A"},{"$f":"_xlfn.XLOOKUP(C221,Data!C:C,Data!G:G,0)","v":0},{"$f":"_xlfn.XLOOKUP(C221,Data!C:C,Data!F:F)","v":{"$error":"#N/A"}},{"$f":"_xlfn.XLOOKUP(C221,Data!C:C,Data!H:H,0)","v":0},{"$error":"#N/A"},{"$error":"#N/A"},{"$error":"#N/A"},{"$error":"#N/A"},{"$error":"#N/A"},0,{"$error":"#N/A"},"","","",null,{"$error":"#N/A"}]
["23-3-2021","15:39:00","2021-03-23T15:39:00",null,{"$f":"_xlfn.XLOOKUP(C222,Data!C:C,Data!I:I)","v":{"$error":"#N/A"}},{"$error":"#N/A"},{"$f":"_xlfn.XLOOKUP(C222,Data!C:C,Data!G:G,0)","v":0},{"$f":"_xlfn.XLOOKUP(C222,Data!C:C,Data!F:F)","v":{"$error":"#N/A"}},{"$f":"_xlfn.XLOOKUP(C222,Data!C:C,Data!H:H,0)","v":0},{"$error":"#N/A"},{"$error":"#N/A"},{"$error":"#N/A"},{"$error":"#N/A"},{"$error":"#N/A"},0,{"$error":"#N/A"},"","","",null,{"$error":"#N/A"}]
["23-3-2021","15:40:00","2021-03-23T15:40:00",null,{"$f":"_xlfn.XLOOKUP(C223,Data!C:C,Data!I:I)","v":{"$error":"#N/A"}},{"$error":"#N/A"},{"$f":"_xlfn.XLOOKUP(C223,Data!C:C,Data!G:G,0)","v":0},{"$f":"_xlfn.XLOOKUP(C223,Data!C:C,Data!F:F)","v":{"$error":"#N/A"}},{"$f":"_xlfn.XLOOKUP(C223,Data!C:C,Data!H:H,0)","v":0},{"$error":"#N/A"},{"$error":"#N/A"},{"$error":"#N/A"},{"$error":"#N/A"},{"$error":"#N/A"},0,{"$error":"#N/A"},"","","",null,{"$error":"#N/A"}]
["23-3-2021","15:41:00","2021-03-23T15:41:00",null,{"$f":"_xlfn.XLOOKUP(C224,Data!C:C,Data!I:I)","v":{"$error":"#N/A"}},{"$error":"#N/A"},{"$f":"_xlfn.XLOOKUP(C224,Data!C:C,Data!G:G,0)","v":0},{"$f":"_xlfn.XLOOKUP(C224,Data!C:C,Data!F:F)","v":{"$error":"#N/A"}},{"$f":"_xlfn.XLOOKUP(C224,Data!C:C,Data!H:H,0)","v":0},{"$error":"#N/A"},{"$error":"#N/A"},{"$error":"#N/A"},{"$error":"#N/A"},{"$error":"#N/A"},0,{"$error":"#N/A"},"","","",null,{"$error":"#N/A"}]
["23-3-2021","15:42:00","2021-03-23T15:42:00",null,{"$f":"_xlfn.XLOOKUP(C225,Data!C:C,Data!I:I)","v":{"$error":"#N/A"}},{"$error":"#N/A"},{"$f":"_xlfn.XLOOKUP(C225,Data!C:C,Data!G:G,0)","v":0},{"$f":"_xlfn.XLOOKUP(C225,Data!C:C,Data!F:F)","v":{"$error":"#N/A"}},{"$f":"_xlfn.XLOOKUP(C225,Data!C:C,Data!H:H,0)","v":0},{"$error":"#N/A"},{"$error":"#N/A"},{"$error":"#N/A"},{"$error":"#N/A"},{"$error":"#N/A"},0,{"$error":"#N/A"},"","","",null,{"$error":"#N/A"}]
["23-3-2021","15:43:00","2021-03-23T15:43:00",null,{"$f":"_xlfn.XLOOKUP(C226,Data!C:C,Data!I:I)","v":{"$error":"#N/A"}},{"$error":"#N/A"},{"$f":"_xlfn.XLOOKUP(C226,Data!C:C,Data!G:G,0)","v":0},{"$f":"_xlfn.XLOOKUP(C226,Data!C:C,Data!F:F)","v":{"$error":"#N/A"}},{"$f":"_xlfn.XLOOKUP(C226,Data!C:C,Data!H:H,0)","v":0},{"$error":"#N/A"},{"$error":"#N/A"},{"$error":"#N/A"},{"$error":"#N/A"},{"$error":"#N/A"},0,{"$error":"#N/A"},"","","",null,{"$error":"#N/A"}]
["23-3-2021","15:44:00","2021-03-23T15:44:00",null,{"$f":"_xlfn.XLOOKUP(C227,Data!C:C,Data!I:I)","v":{"$error":"#N/A"}},{"$error":"#N/A"},{"$f":"_xlfn.XLOOKUP(C227,Data!C:C,Data!G:G,0)","v":0},{"$f":"_xlfn.XLOOKUP(C227,Data!C:C,Data!F:F)","v":{"$error":"#N/A"}},{"$f":"_xlfn.XLOOKUP(C227,Data!C:C,Data!H:H,0)","v":0},{"$error":"#N/A"},{"$error":"#N/A"},{"$error":"#N/A"},{"$error":"#N/A"},{"$error":"#N/A"},0,{"$error":"#N/A"},"","","",null,{"$error":"#N/A"}]
["23-3-2021","15:45:00","2021-03-23T15:45:00",null,{"$f":"_xlfn.XLOOKUP(C228,Data!C:C,Data!I:I)","v":{"$error":"#N/A"}},{"$error":"#N/A"},{"$f":"_xlfn.XLOOKUP(C228,Data!C:C,Data!G:G,0)","v":0},{"$f":"_xlfn.XLOOKUP(C228,Data!C:C,Data!F:F)","v":{"$error":"#N/A"}},{"$f":"_xlfn.XLOOKUP(C228,Data!C:C,Data!H:H,0)","v":0},{"$error":"#N/A"},{"$error":"#N/A"},{"$error":"#N/A"},{"$error":"#N/A"},{"$error":"#N/A"},0,{"$error":"#N/A"},"","","",null,{"$error":"#N/A"}]
["23-3-2021","15:46:00","2021-03-23T15:46:00",null,{"$f":"_xlfn.XLOOKUP(C229,Data!C:C,Data!I:I)","v":{"$error":"#N/A"}},{"$error":"#N/A"},{"$f":"_xlfn.XLOOKUP(C229,Data!C:C,Data!G:G,0)","v":0},{"$f":"_xlfn.XLOOKUP(C229,Data!C:C,Data!F:F)","v":{"$error":"#N/A"}},{"$f":"_xlfn.XLOOKUP(C229,Data!C:C,Data!H:H,0)","v":0},{"$error":"#N/A"},{"$error":"#N/A"},{"$error":"#N/A"},{"$error":"#N/A"},{"$error":"#N/A"},0,{"$error":"#N/A"},"","","",null,{"$error":"#N/A"}]
["23-3-2021","15:47:00","2021-03-23T15:47:00",null,{"$f":"_xlfn.XLOOKUP(C230,Data!C:C,Data!I:I)","v":{"$error":"#N/A"}},{"$error":"#N/A"},{"$f":"_xlfn.XLOOKUP(C230,Data!C:C,Data!G:G,0)","v":0},{"$f":"_xlfn.XLOOKUP(C230,Data!C:C,Data!F:F)","v":{"$error":"#N/A"}},{"$f":"_xlfn.XLOOKUP(C230,Data!C:C,Data!H:H,0)","v":0},{"$error":"#N/A"},{"$error":"#N/A"},{"$error":"#N/A"},{"$error":"#N/A"},{"$error":"#N/A"},0,{"$error":"#N/A"},"","","",null,{"$error":"#N/A"}]
["23-3-2021","15:48:00","2021-03-23T15:48:00",null,{"$f":"_xlfn.XLOOKUP(C231,Data!C:C,Data!I:I)","v":{"$error":"#N/A"}},{"$error":"#N/A"},{"$f":"_xlfn.XLOOKUP(C231,Data!C:C,Data!G:G,0)","v":0},{"$f":"_xlfn.XLOOKUP(C231,Data!C:C,Data!F:F)","v":{"$error":"#N/A"}},{"$f":"_xlfn.XLOOKUP(C231,Data!C:C,Data!H:H,0)","v":0},{"$error":"#N/A"},{"$error":"#N/A"},{"$error":"#N/A"},{"$error":"#N/A"},{"$error":"#N/A"},0,{"$error":"#N/A"},"","","",null,{"$error":"#N/A"}]
["23-3-2021","15:49:00","2021-03-23T15:49:00",null,{"$f":"_xlfn.XLOOKUP(C232,Data!C:C,Data!I:I)","v":{"$error":"#N/A"}},{"$error":"#N/A"},{"$f":"_xlfn.XLOOKUP(C232,Data!C:C,Data!G:G,0)","v":0},{"$f":"_xlfn.XLOOKUP(C232,Data!C:C,Data!F:F)","v":{"$error":"#N/A"}},{"$f":"_xlfn.XLOOKUP(C232,Data!C:C,Data!H:H,0)","v":0},{"$error":"#N/A"},{"$error":"#N/A"},{"$error":"#N/A"},{"$error":"#N/A"},{"$error":"#N/A"},0,{"$error":"#N/A"},"","","",null,{"$error":"#N/A"}]
["23-3-2021","15:50:00","2021-03-23T15:50:00",null,{"$f":"_xlfn.XLOOKUP(C233,Data!C:C,Data!I:I)","v":{"$error":"#N/A"}},{"$error":"#N/A"},{"$f":"_xlfn.XLOOKUP(C233,Data!C:C,Data!G:G,0)","v":0},{"$f":"_xlfn.XLOOKUP(C233,Data!C:C,Data!F:F)","v":{"$error":"#N/A"}},{"$f":"_xlfn.XLOOKUP(C233,Data!C:C,Data!H:H,0)","v":0},{"$error":"#N/A"},{"$error":"#N/A"},{"$error":"#N/A"},{"$error":"#N/A"},{"$error":"#N/A"},0,{"$error":"#N/A"},"","","",null,{"$error":"#N/A"}]
["23-3-2021","15:51:00","2021-03-23T15:51:00",null,{"$f":"_xlfn.XLOOKUP(C234,Data!C:C,Data!I:I)","v":{"$error":"#N/A"}},{"$error":"#N/A"},{"$f":"_xlfn.XLOOKUP(C234,Data!C:C,Data!G:G,0)","v":0},{"$f":"_xlfn.XLOOKUP(C234,Data!C:C,Data!F:F)","v":{"$error":"#N/A"}},{"$f":"_xlfn.XLOOKUP(C234,Data!C:C,Data!H:H,0)","v":0},{"$error":"#N/A"},{"$error":"#N/A"},{"$error":"#N/A"},{"$error":"#N/A"},{"$error":"#N/A"},0,{"$error":"#N/A"},"","","",null,{"$error":"#N/A"}]
["23-3-2021","15:52:00","2021-03-23T15:52:00",null,{"$f":"_xlfn.XLOOKUP(C235,Data!C:C,Data!I:I)","v":{"$error":"#N/A"}},{"$error":"#N/A"},{"$f":"_xlfn.XLOOKUP(C235,Data!C:C,Data!G:G,0)","v":0},{"$f":"_xlfn.XLOOKUP(C235,Data!C:C,Data!F:F)","v":{"$error":"#N/A"}},{"$f":"_xlfn.XLOOKUP(C235,Data!C:C,Data!H:H,0)","v":0},{"$error":"#N/A"},{"$error":"#N/A"},{"$error":"#N/A"},{"$error":"#N/A"},{"$error":"#N/A"},0,{"$error":"#N/A"},"","","",null,{"$error":"#N/A"}]
["23-3-2021","15:53:00","2021-03-23T15:53:00",null,{"$f":"_xlfn.XLOOKUP(C236,Data!C:C,Data!I:I)","v":{"$error":"#N/A"}},{"$error":"#N/A"},{"$f":"_xlfn.XLOOKUP(C236,Data!C:C,Data!G:G,0)","v":0},{"$f":"_xlfn.XLOOKUP(C236,Data!C:C,Data!F:F)","v":{"$error":"#N/A"}},{"$f":"_xlfn.XLOOKUP(C236,Data!C:C,Data!H:H,0)","v":0},{"$error":"#N/A"},{"$error":"#N/A"},{"$error":"#N/A"},{"$error":"#N/A"},{"$error":"#N/A"},0,{"$error":"#N/A"},"","","",null,{"$error":"#N/A"}]
["23-3-2021","15:54:00","2021-03-23T15:54:00",null,{"$f":"_xlfn.XLOOKUP(C237,Data!C:C,Data!I:I)","v":{"$error":"#N/A"}},{"$error":"#N/A"},{"$f":"_xlfn.XLOOKUP(C237,Data!C:C,Data!G:G,0)","v":0},{"$f":"_xlfn.XLOOKUP(C237,Data!C:C,Data!F:F)","v":{"$error":"#N/A"}},{"$f":"_xlfn.XLOOKUP(C237,Data!C:C,Data!H:H,0)","v":0},{"$error":"#N/A"},{"$error":"#N/A"},{"$error":"#N/A"},{"$error":"#N/A"},{"$error":"#N/A"},0,{"$error":"#N/A"},"","","",null,{"$error":"#N/A"}]
["23-3-2021","15:55:00","2021-03-23T15:55:00",null,{"$f":"_xlfn.XLOOKUP(C238,Data!C:C,Data!I:I)","v":{"$error":"#N/A"}},{"$error":"#N/A"},{"$f":"_xlfn.XLOOKUP(C238,Data!C:C,Data!G:G,0)","v":0},{"$f":"_xlfn.XLOOKUP(C238,Data!C:C,Data!F:F)","v":{"$error":"#N/A"}},{"$f":"_xlfn.XLOOKUP(C238,Data!C:C,Data!H:H,0)","v":0},{"$error":"#N/A"},{"$error":"#N/A"},{"$error":"#N/A"},{"$error":"#N/A"},{"$error":"#N/A"},0,{"$error":"#N/A"},"","","",null,{"$error":"#N/A"}]
["23-3-2021","15:56:00","2021-03-23T15:56:00",null,{"$f":"_xlfn.XLOOKUP(C239,Data!C:C,Data!I:I)","v":{"$error":"#N/A"}},{"$error":"#N/A"},{"$f":"_xlfn.XLOOKUP(C239,Data!C:C,Data!G:G,0)","v":0},{"$f":"_xlfn.XLOOKUP(C239,Data!C:C,Data!F:F)","v":{"$error":"#N/A"}},{"$f":"_xlfn.XLOOKUP(C239,Data!C:C,Data!H:H,0)","v":0},{"$error":"#N/A"},{"$error":"#N/A"},{"$error":"#N/A"},{"$error":"#N/A"},{"$error":"#N/A"},0,{"$error":"#N/A"},"","","",null,{"$error":"#N/A"}]
["23-3-2021","15:57:00","2021-03-23T15:57:00",null,{"$f":"_xlfn.XLOOKUP(C240,Data!C:C,Data!I:I)","v":{"$error":"#N/A"}},{"$error":"#N/A"},{"$f":"_xlfn.XLOOKUP(C240,Data!C:C,Data!G:G,0)","v":0},{"$f":"_xlfn.XLOOKUP(C240,Data!C:C,Data!F:F)","v":{"$error":"#N/A"}},{"$f":"_xlfn.XLOOKUP(C240,Data!C:C,Data!H:H,0)","v":0},{"$error":"#N/A"},{"$error":"#N/A"},{"$error":"#N/A"},{"$error":"#N/A"},{"$error":"#N/A"},0,{"$error":"#N/A"},"","","",null,{"$error":"#N/A"}]
["23-3-2021","15:58:00","2021-03-23T15:58:00",null,{"$f":"_xlfn.XLOOKUP(C241,Data!C:C,Data!I:I)","v":{"$error":"#N/A"}},{"$error":"#N/A"},{"$f":"_xlfn.XLOOKUP(C241,Data!C:C,Data!G:G,0)","v":0},{"$f":"_xlfn.XLOOKUP(C241,Data!C:C,Data!F:F)","v":{"$error":"#N/A"}},{"$f":"_xlfn.XLOOKUP(C241,Data!C:C,Data!H:H,0)","v":0},{"$error":"#N/A"},{"$error":"#N/A"},{"$error":"#N/A"},{"$error":"#N/A"},{"$error":"#N/A"},0,{"$error":"#N/A"},"","","",null,{"$error":"#N/A"}]
["23-3-2021","15:59:00","2021-03-23T15:59:00",null,{"$f":"_xlfn.XLOOKUP(C242,Data!C:C,Data!I:I)","v":{"$error":"#N/A"}},{"$error":"#N/A"},{"$f":"_xlfn.XLOOKUP(C242,Data!C:C,Data!G:G,0)","v":0},{"$f":"_xlfn.XLOOKUP(C242,Data!C:C,Data!F:F)","v":{"$error":"#N/A"}},{"$f":"_xlfn.XLOOKUP(C242,Data!C:C,Data!H:H,0)","v":0},{"$error":"#N/A"},{"$error":"#N/A"},{"$error":"#N/A"},{"$error":"#N/A"},{"$error":"#N/A"},0,{"$error":"#N/A"},"","","",null,{"$error":"#N/A"}]
["23-3-2021","16:00:00","2021-03-23T16:00:00",null,{"$f":"_xlfn.XLOOKUP(C243,Data!C:C,Data!I:I)","v":{"$error":"#N/A"}},{"$error":"#N/A"},{"$f":"_xlfn.XLOOKUP(C243,Data!C:C,Data!G:G,0)","v":0},{"$f":"_xlfn.XLOOKUP(C243,Data!C:C,Data!F:F)","v":{"$error":"#N/A"}},{"$f":"_xlfn.XLOOKUP(C243,Data!C:C,Data!H:H,0)","v":0},{"$error":"#N/A"},{"$error":"#N/A"},{"$error":"#N/A"},{"$error":"#N/A"},{"$error":"#N/A"},0,{"$error":"#N/A"},"","","",null,{"$error":"#N/A"}]
["23-3-2021","16:01:00","2021-03-23T16:01:00",null,{"$f":"_xlfn.XLOOKUP(C244,Data!C:C,Data!I:I)","v":{"$error":"#N/A"}},{"$error":"#N/A"},{"$f":"_xlfn.XLOOKUP(C244,Data!C:C,Data!G:G,0)","v":0},{"$f":"_xlfn.XLOOKUP(C244,Data!C:C,Data!F:F)","v":{"$error":"#N/A"}},{"$f":"_xlfn.XLOOKUP(C244,Data!C:C,Data!H:H,0)","v":0},{"$error":"#N/A"},{"$error":"#N/A"},{"$error":"#N/A"},{"$error":"#N/A"},{"$error":"#N/A"},0,{"$error":"#N/A"},"","","",null,{"$error":"#N/A"}]
["23-3-2021","16:02:00","2021-03-23T16:02:00",null,{"$f":"_xlfn.XLOOKUP(C245,Data!C:C,Data!I:I)","v":{"$error":"#N/A"}},{"$error":"#N/A"},{"$f":"_xlfn.XLOOKUP(C245,Data!C:C,Data!G:G,0)","v":0},{"$f":"_xlfn.XLOOKUP(C245,Data!C:C,Data!F:F)","v":{"$error":"#N/A"}},{"$f":"_xlfn.XLOOKUP(C245,Data!C:C,Data!H:H,0)","v":0},{"$error":"#N/A"},{"$error":"#N/A"},{"$error":"#N/A"},{"$error":"#N/A"},{"$error":"#N/A"},0,{"$error":"#N/A"},"","","",null,{"$error":"#N/A"}]
["23-3-2021","16:03:00","2021-03-23T16:03:00",null,{"$f":"_xlfn.XLOOKUP(C246,Data!C:C,Data!I:I)","v":{"$error":"#N/A"}},{"$error":"#N/A"},{"$f":"_xlfn.XLOOKUP(C246,Data!C:C,Data!G:G,0)","v":0},{"$f":"_xlfn.XLOOKUP(C246,Data!C:C,Data!F:F)","v":{"$error":"#N/A"}},{"$f":"_xlfn.XLOOKUP(C246,Data!C:C,Data!H:H,0)","v":0},{"$error":"#N/A"},{"$error":"#N/A"},{"$error":"#N/A"},{"$error":"#N/A"},{"$error":"#N/A"},0,{"$error":"#N/A"},"","","",null,{"$error":"#N/A"}]
["23-3-2021","16:04:00","2021-03-23T16:04:00",null,{"$f":"_xlfn.XLOOKUP(C247,Data!C:C,Data!I:I)","v":{"$error":"#N/A"}},{"$error":"#N/A"},{"$f":"_xlfn.XLOOKUP(C247,Data!C:C,Data!G:G,0)","v":0},{"$f":"_xlfn.XLOOKUP(C247,Data!C:C,Data!F:F)","v":{"$error":"#N/A"}},{"$f":"_xlfn.XLOOKUP(C247,Data!C:C,Data!H:H,0)","v":0},{"$error":"#N/A"},{"$error":"#N/A"},{"$error":"#N/A"},{"$error":"#N/A"},{"$error":"#N/A"},0,{"$error":"#N/A"},"","","",null,{"$error":"#N/A"}]
["23-3-2021","16:05:00","2021-03-23T16:05:00",null,{"$f":"_xlfn.XLOOKUP(C248,Data!C:C,Data!I:I)","v":{"$error":"#N/A"}},{"$error":"#N/A"},{"$f":"_xlfn.XLOOKUP(C248,Data!C:C,Data!G:G,0)","v":0},{"$f":"_xlfn.XLOOKUP(C248,Data!C:C,Data!F:F)","v":{"$error":"#N/A"}},{"$f":"_xlfn.XLOOKUP(C248,Data!C:C,Data!H:H,0)","v":0},{"$error":"#N/A"},{"$error":"#N/A"},{"$error":"#N/A"},{"$error":"#N/A"},{"$error":"#N/A"},0,{"$error":"#N/A"},"","","",null,{"$error":"#N/A"}]
["23-3-2021","16:06:00","2021-03-23T16:06:00",null,{"$f":"_xlfn.XLOOKUP(C249,Data!C:C,Data!I:I)","v":{"$error":"#N/A"}},{"$error":"#N/A"},{"$f":"_xlfn.XLOOKUP(C249,Data!C:C,Data!G:G,0)","v":0},{"$f":"_xlfn.XLOOKUP(C249,Data!C:C,Data!F:F)","v":{"$error":"#N/A"}},{"$f":"_xlfn.XLOOKUP(C249,Data!C:C,Data!H:H,0)","v":0},{"$error":"#N/A"},{"$error":"#N/A"},{"$error":"#N/A"},{"$error":"#N/A"},{"$error":"#N/A"},0,{"$error":"#N/A"},"","","",null,{"$error":"#N/A"}]
["23-3-2021","16:07:00","2021-03-23T16:07:00",null,{"$f":"_xlfn.XLOOKUP(C250,Data!C:C,Data!I:I)","v":{"$error":"#N/A"}},{"$error":"#N/A"},{"$f":"_xlfn.XLOOKUP(C250,Data!C:C,Data!G:G,0)","v":0},{"$f":"_xlfn.XLOOKUP(C250,Data!C:C,Data!F:F)","v":{"$error":"#N/A"}},{"$f":"_xlfn.XLOOKUP(C250,Data!C:C,Data!H:H,0)","v":0},{"$error":"#N/A"},{"$error":"#N/A"},{"$error":"#N/A"},{"$error":"#N/A"},{"$error":"#N/A"},0,{"$error":"#N/A"},"","","",null,{"$error":"#N/A"}]
["23-3-2021","16:08:00","2021-03-23T16:08:00",null,{"$f":"_xlfn.XLOOKUP(C251,Data!C:C,Data!I:I)","v":{"$error":"#N/A"}},{"$error":"#N/A"},{"$f":"_xlfn.XLOOKUP(C251,Data!C:C,Data!G:G,0)","v":0},{"$f":"_xlfn.XLOOKUP(C251,Data!C:C,Data!F:F)","v":{"$error":"#N/A"}},{"$f":"_xlfn.XLOOKUP(C251,Data!C:C,Data!H:H,0)","v":0},{"$error":"#N/A"},{"$error":"#N/A"},{"$error":"#N/A"},{"$error":"#N/A"},{"$error":"#N/A"},0,{"$error":"#N/A"},"","","",null,{"$error":"#N/A"}]
["23-3-2021","16:09:00","2021-03-23T16:09:00",null,{"$f":"_xlfn.XLOOKUP(C252,Data!C:C,Data!I:I)","v":{"$error":"#N/A"}},{"$error":"#N/A"},{"$f":"_xlfn.XLOOKUP(C252,Data!C:C,Data!G:G,0)","v":0},{"$f":"_xlfn.XLOOKUP(C252,Data!C:C,Data!F:F)","v":{"$error":"#N/A"}},{"$f":"_xlfn.XLOOKUP(C252,Data!C:C,Data!H:H,0)","v":0},{"$error":"#N/A"},{"$error":"#N/A"},{"$error":"#N/A"},{"$error":"#N/A"},{"$error":"#N/A"},0,{"$error":"#N/A"},"","","",null,{"$error":"#N/A"}]
["23-3-2021","16:10:00","2021-03-23T16:10:00",null,{"$f":"_xlfn.XLOOKUP(C253,Data!C:C,Data!I:I)","v":{"$error":"#N/A"}},{"$error":"#N/A"},{"$f":"_xlfn.XLOOKUP(C253,Data!C:C,Data!G:G,0)","v":0},{"$f":"_xlfn.XLOOKUP(C253,Data!C:C,Data!F:F)","v":{"$error":"#N/A"}},{"$f":"_xlfn.XLOOKUP(C253,Data!C:C,Data!H:H,0)","v":0},{"$error":"#N/A"},{"$error":"#N/A"},{"$error":"#N/A"},{"$error":"#N/A"},{"$error":"#N/A"},0,{"$error":"#N/A"},"","","",null,{"$error":"#N/A"}]
["23-3-2021","16:11:00","2021-03-23T16:11:00",null,{"$f":"_xlfn.XLOOKUP(C254,Data!C:C,Data!I:I)","v":{"$error":"#N/A"}},{"$error":"#N/A"},{"$f":"_xlfn.XLOOKUP(C254,Data!C:C,Data!G:G,0)","v":0},{"$f":"_xlfn.XLOOKUP(C254,Data!C:C,Data!F:F)","v":{"$error":"#N/A"}},{"$f":"_xlfn.XLOOKUP(C254,Data!C:C,Data!H:H,0)","v":0},{"$error":"#N/A"},{"$error":"#N/A"},{"$error":"#N/A"},{"$error":"#N/A"},{"$error":"#N/A"},0,{"$error":"#N/A"},"","","",null,{"$error":"#N/A"}]
["23-3-2021","16:12:00","2021-03-23T16:12:00",null,{"$f":"_xlfn.XLOOKUP(C255,Data!C:C,Data!I:I)","v":{"$error":"#N/A"}},{"$error":"#N/A"},{"$f":"_xlfn.XLOOKUP(C255,Data!C:C,Data!G:G,0)","v":0},{"$f":"_xlfn.XLOOKUP(C255,Data!C:C,Data!F:F)","v":{"$error":"#N/A"}},{"$f":"_xlfn.XLOOKUP(C255,Data!C:C,Data!H:H,0)","v":0},{"$f":"IF(AND(MAX(E253:E254)=255,MAX(E255:E256)=255,  E254+E255+E256<3*255, OR(I255=123,I255=124,I255=106,I255=108)),   I255,   IF(AND(MAX(E253:E254)=255,MAX(E255:E256)=255,  E254+E255+E256<3*255, OR(I255>=80,I255<100)),106,108))","v":{"$error":"#N/A"}},{"$error":"#N/A"},{"$error":"#N/A"},{"$error":"#N/A"},{"$error":"#N/A"},0,{"$error":"#N/A"},"","","",null,{"$error":"#N/A"}]
["23-3-2021","16:13:00","2021-03-23T16:13:00",null,{"$f":"_xlfn.XLOOKUP(C256,Data!C:C,Data!I:I)","v":{"$error":"#N/A"}},{"$error":"#N/A"},{"$f":"_xlfn.XLOOKUP(C256,Data!C:C,Data!G:G,0)","v":0},{"$f":"_xlfn.XLOOKUP(C256,Data!C:C,Data!F:F)","v":{"$error":"#N/A"}},{"$f":"_xlfn.XLOOKUP(C256,Data!C:C,Data!H:H,0)","v":0},{"$f":"IF(AND(MAX(E254:E255)=255,MAX(E256:E257)=255,  E255+E256+E257<3*255, OR(I256=123,I256=124,I256=106,I256=108)),   I256,   IF(AND(MAX(E254:E255)=255,MAX(E256:E257)=255,  E255+E256+E257<3*255, OR(I256>=80,I256<100)),106,108))","v":{"$error":"#N/A"}},{"$error":"#N/A"},{"$error":"#N/A"},{"$error":"#N/A"},{"$error":"#N/A"},0,{"$error":"#N/A"},"","","",null,{"$error":"#N/A"}]
["23-3-2021","16:14:00","2021-03-23T16:14:00",null,{"$f":"_xlfn.XLOOKUP(C257,Data!C:C,Data!I:I)","v":{"$error":"#N/A"}},{"$error":"#N/A"},{"$f":"_xlfn.XLOOKUP(C257,Data!C:C,Data!G:G,0)","v":0},{"$f":"_xlfn.XLOOKUP(C257,Data!C:C,Data!F:F)","v":{"$error":"#N/A"}},{"$f":"_xlfn.XLOOKUP(C257,Data!C:C,Data!H:H,0)","v":0},{"$error":"#N/A"},{"$error":"#N/A"},{"$error":"#N/A"},{"$error":"#N/A"},{"$error":"#N/A"},0,{"$error":"#N/A"},"","","",null,{"$error":"#N/A"}]
["23-3-2021","16:15:00","2021-03-23T16:15:00",null,{"$f":"_xlfn.XLOOKUP(C258,Data!C:C,Data!I:I)","v":{"$error":"#N/A"}},{"$error":"#N/A"},{"$f":"_xlfn.XLOOKUP(C258,Data!C:C,Data!G:G,0)","v":0},{"$f":"_xlfn.XLOOKUP(C258,Data!C:C,Data!F:F)","v":{"$error":"#N/A"}},{"$f":"_xlfn.XLOOKUP(C258,Data!C:C,Data!H:H,0)","v":0},{"$error":"#N/A"},{"$error":"#N/A"},{"$error":"#N/A"},{"$error":"#N/A"},{"$error":"#N/A"},0,{"$error":"#N/A"},"","","",null,{"$error":"#N/A"}]
["23-3-2021","16:16:00",{"$f":"A259+B259","v":"2021-03-23T16:16:00"},null,{"$f":"_xlfn.XLOOKUP(C259,Data!C:C,Data!I:I)","v":{"$error":"#N/A"}},{"$error":"#N/A"},{"$f":"_xlfn.XLOOKUP(C259,Data!C:C,Data!G:G,0)","v":0},{"$f":"_xlfn.XLOOKUP(C259,Data!C:C,Data!F:F)","v":{"$error":"#N/A"}},{"$f":"_xlfn.XLOOKUP(C259,Data!C:C,Data!H:H,0)","v":0},{"$error":"#N/A"},{"$f":"IF(AND(I259<100,  I259>=80,  OR(J259=105, J259=106,  J259=123)),  5,  0)","v":{"$error":"#N/A"}},{"$error":"#N/A"},{"$error":"#N/A"},{"$error":"#N/A"},{"$f":"IFERROR(F259,0)","v":0},{"$error":"#N/A"},"","","",null,{"$error":"#N/A"}]
[{"$f":"$A$3","v":"23-3-2021"},"16:17:00","2021-03-23T16:17:00",null,{"$f":"_xlfn.XLOOKUP(C260,Data!C:C,Data!I:I)","v":{"$error":"#N/A"}},{"$error":"#N/A"},{"$f":"_xlfn.XLOOKUP(C260,Data!C:C,Data!G:G,0)","v":0},{"$f":"_xlfn.XLOOKUP(C260,Data!C:C,Data!F:F)","v":{"$error":"#N/A"}},{"$f":"_xlfn.XLOOKUP(C260,Data!C:C,Data!H:H,0)","v":0},{"$error":"#N/A"},{"$error":"#N/A"},{"$f":"IF(AND(I260<130,  I260>104,  OR(J260=105, J260=106,  J260=123),  S260>$S$1450+$S$1443),  20,  0)","v":{"$error":"#N/A"}},{"$f":"IF(AND(I260<130,  I260>104,  OR(J260=105, J260=106,  J260=123),  R260>$Q$1449,  S260<=$S$1450+$S$1443),  20,  0)","v":{"$error":"#N/A"}},{"$f":"IF(AND(I260<130,  I260>104,  OR(J260=105, J260=106,  J260=123),  R260<=$Q$1449,  S260<=$S$1450+$S$1443),  20,  0)","v":{"$error":"#N/A"}},0,{"$f":"IF(Q260=\"\",F260,IF(Q260=0,P259,Q260))","v":{"$error":"#N/A"}},{"$f":"IF(I260>109,IF(O260*$Q$1451>(O259+O261)/2,MIN(O259:O261),O260),\"\")","v":""},"","",null,{"$error":"#N/A"}]
["23-3-2021","16:18:00","2021-03-23T16:18:00",null,{"$f":"_xlfn.XLOOKUP(C261,Data!C:C,Data!I:I)","v":{"$error":"#N/A"}},{"$f":"IF(E261=255,IF(MIN(E260:E262)=255,#N/A,MIN(E260:E262)),E261)","v":{"$error":"#N/A"}},{"$f":"_xlfn.XLOOKUP(C261,Data!C:C,Data!G:G,0)","v":0},{"$f":"_xlfn.XLOOKUP(C261,Data!C:C,Data!F:F)","v":{"$error":"#N/A"}},{"$f":"_xlfn.XLOOKUP(C261,Data!C:C,Data!H:H,0)","v":0},{"$error":"#N/A"},{"$error":"#N/A"},{"$error":"#N/A"},{"$error":"#N/A"},{"$error":"#N/A"},0,{"$error":"#N/A"},"","","",null,{"$error":"#N/A"}]
["23-3-2021","16:19:00","2021-03-23T16:19:00",null,{"$f":"_xlfn.XLOOKUP(C262,Data!C:C,Data!I:I)","v":{"$error":"#N/A"}},{"$error":"#N/A"},{"$f":"_xlfn.XLOOKUP(C262,Data!C:C,Data!G:G,0)","v":0},{"$f":"_xlfn.XLOOKUP(C262,Data!C:C,Data!F:F)","v":{"$error":"#N/A"}},{"$f":"_xlfn.XLOOKUP(C262,Data!C:C,Data!H:H,0)","v":0},{"$error":"#N/A"},{"$error":"#N/A"},{"$error":"#N/A"},{"$error":"#N/A"},{"$error":"#N/A"},0,{"$error":"#N/A"},"","","",null,{"$error":"#N/A"}]
["23-3-2021","16:20:00","2021-03-23T16:20:00",null,{"$f":"_xlfn.XLOOKUP(C263,Data!C:C,Data!I:I)","v":{"$error":"#N/A"}},{"$error":"#N/A"},{"$f":"_xlfn.XLOOKUP(C263,Data!C:C,Data!G:G,0)","v":0},{"$f":"_xlfn.XLOOKUP(C263,Data!C:C,Data!F:F)","v":{"$error":"#N/A"}},{"$f":"_xlfn.XLOOKUP(C263,Data!C:C,Data!H:H,0)","v":0},{"$error":"#N/A"},{"$error":"#N/A"},{"$error":"#N/A"},{"$error":"#N/A"},{"$error":"#N/A"},0,{"$error":"#N/A"},"","","",null,{"$f":"IF(F263=\"\",\"\",AVERAGE(F259:F267))","v":{"$error":"#N/A"}}]
["23-3-2021","16:21:00","2021-03-23T16:21:00",null,{"$f":"_xlfn.XLOOKUP(C264,Data!C:C,Data!I:I)","v":{"$error":"#N/A"}},{"$error":"#N/A"},{"$f":"_xlfn.XLOOKUP(C264,Data!C:C,Data!G:G,0)","v":0},{"$f":"_xlfn.XLOOKUP(C264,Data!C:C,Data!F:F)","v":{"$error":"#N/A"}},{"$f":"_xlfn.XLOOKUP(C264,Data!C:C,Data!H:H,0)","v":0},{"$error":"#N/A"},{"$error":"#N/A"},{"$error":"#N/A"},{"$error":"#N/A"},{"$error":"#N/A"},0,{"$error":"#N/A"},"",{"$f":"IF(Q264=\"\",\"\",AVERAGE(Q260:Q268))","v":""},{"$f":"IF(Q264=\"\",\"\",MAX(Q260:Q268)-MIN(Q260:Q268))","v":""},null,{"$error":"#N/A"}]
["23-3-2021","16:22:00","2021-03-23T16:22:00",null,{"$f":"_xlfn.XLOOKUP(C265,Data!C:C,Data!I:I)","v":{"$error":"#N/A"}},{"$error":"#N/A"},{"$f":"_xlfn.XLOOKUP(C265,Data!C:C,Data!G:G,0)","v":0},{"$f":"_xlfn.XLOOKUP(C265,Data!C:C,Data!F:F)","v":{"$error":"#N/A"}},{"$f":"_xlfn.XLOOKUP(C265,Data!C:C,Data!H:H,0)","v":0},{"$error":"#N/A"},{"$error":"#N/A"},{"$error":"#N/A"},{"$error":"#N/A"},{"$error":"#N/A"},0,{"$error":"#N/A"},"","","",null,{"$error":"#N/A"}]
["23-3-2021","16:23:00","2021-03-23T16:23:00",null,{"$f":"_xlfn.XLOOKUP(C266,Data!C:C,Data!I:I)","v":{"$error":"#N/A"}},{"$error":"#N/A"},{"$f":"_xlfn.XLOOKUP(C266,Data!C:C,Data!G:G,0)","v":0},{"$f":"_xlfn.XLOOKUP(C266,Data!C:C,Data!F:F)","v":{"$error":"#N/A"}},{"$f":"_xlfn.XLOOKUP(C266,Data!C:C,Data!H:H,0)","v":0},{"$error":"#N/A"},{"$error":"#N/A"},{"$error":"#N/A"},{"$error":"#N/A"},{"$error":"#N/A"},0,{"$error":"#N/A"},"","","",null,{"$error":"#N/A"}]
["23-3-2021","16:24:00","2021-03-23T16:24:00",null,{"$f":"_xlfn.XLOOKUP(C267,Data!C:C,Data!I:I)","v":{"$error":"#N/A"}},{"$error":"#N/A"},{"$f":"_xlfn.XLOOKUP(C267,Data!C:C,Data!G:G,0)","v":0},{"$f":"_xlfn.XLOOKUP(C267,Data!C:C,Data!F:F)","v":{"$error":"#N/A"}},{"$f":"_xlfn.XLOOKUP(C267,Data!C:C,Data!H:H,0)","v":0},{"$error":"#N/A"},{"$error":"#N/A"},{"$error":"#N/A"},{"$error":"#N/A"},{"$error":"#N/A"},0,{"$error":"#N/A"},"","","",null,{"$error":"#N/A"}]
["23-3-2021","16:25:00","2021-03-23T16:25:00",null,{"$f":"_xlfn.XLOOKUP(C268,Data!C:C,Data!I:I)","v":{"$error":"#N/A"}},{"$error":"#N/A"},{"$f":"_xlfn.XLOOKUP(C268,Data!C:C,Data!G:G,0)","v":0},{"$f":"_xlfn.XLOOKUP(C268,Data!C:C,Data!F:F)","v":{"$error":"#N/A"}},{"$f":"_xlfn.XLOOKUP(C268,Data!C:C,Data!H:H,0)","v":0},{"$error":"#N/A"},{"$error":"#N/A"},{"$error":"#N/A"},{"$error":"#N/A"},{"$error":"#N/A"},0,{"$error":"#N/A"},"","","",null,{"$error":"#N/A"}]
["23-3-2021","16:26:00","2021-03-23T16:26:00",null,{"$f":"_xlfn.XLOOKUP(C269,Data!C:C,Data!I:I)","v":{"$error":"#N/A"}},{"$error":"#N/A"},{"$f":"_xlfn.XLOOKUP(C269,Data!C:C,Data!G:G,0)","v":0},{"$f":"_xlfn.XLOOKUP(C269,Data!C:C,Data!F:F)","v":{"$error":"#N/A"}},{"$f":"_xlfn.XLOOKUP(C269,Data!C:C,Data!H:H,0)","v":0},{"$error":"#N/A"},{"$error":"#N/A"},{"$error":"#N/A"},{"$error":"#N/A"},{"$error":"#N/A"},0,{"$error":"#N/A"},"","","",null,{"$error":"#N/A"}]
["23-3-2021","16:27:00","2021-03-23T16:27:00",null,{"$f":"_xlfn.XLOOKUP(C270,Data!C:C,Data!I:I)","v":{"$error":"#N/A"}},{"$error":"#N/A"},{"$f":"_xlfn.XLOOKUP(C270,Data!C:C,Data!G:G,0)","v":0},{"$f":"_xlfn.XLOOKUP(C270,Data!C:C,Data!F:F)","v":{"$error":"#N/A"}},{"$f":"_xlfn.XLOOKUP(C270,Data!C:C,Data!H:H,0)","v":0},{"$error":"#N/A"},{"$error":"#N/A"},{"$error":"#N/A"},{"$error":"#N/A"},{"$error":"#N/A"},0,{"$error":"#N/A"},"","","",null,{"$error":"#N/A"}]
["23-3-2021","16:28:00","2021-03-23T16:28:00",null,{"$f":"_xlfn.XLOOKUP(C271,Data!C:C,Data!I:I)","v":{"$error":"#N/A"}},{"$error":"#N/A"},{"$f":"_xlfn.XLOOKUP(C271,Data!C:C,Data!G:G,0)","v":0},{"$f":"_xlfn.XLOOKUP(C271,Data!C:C,Data!F:F)","v":{"$error":"#N/A"}},{"$f":"_xlfn.XLOOKUP(C271,Data!C:C,Data!H:H,0)","v":0},{"$error":"#N/A"},{"$error":"#N/A"},{"$error":"#N/A"},{"$error":"#N/A"},{"$error":"#N/A"},0,{"$error":"#N/A"},"","","",null,{"$error":"#N/A"}]
["23-3-2021","16:29:00","2021-03-23T16:29:00",null,{"$f":"_xlfn.XLOOKUP(C272,Data!C:C,Data!I:I)","v":{"$error":"#N/A"}},{"$error":"#N/A"},{"$f":"_xlfn.XLOOKUP(C272,Data!C:C,Data!G:G,0)","v":0},{"$f":"_xlfn.XLOOKUP(C272,Data!C:C,Data!F:F)","v":{"$error":"#N/A"}},{"$f":"_xlfn.XLOOKUP(C272,Data!C:C,Data!H:H,0)","v":0},{"$error":"#N/A"},{"$error":"#N/A"},{"$error":"#N/A"},{"$error":"#N/A"},{"$error":"#N/A"},0,{"$error":"#N/A"},"","","",null,{"$error":"#N/A"}]
["23-3-2021","16:30:00","2021-03-23T16:30:00",null,{"$f":"_xlfn.XLOOKUP(C273,Data!C:C,Data!I:I)","v":{"$error":"#N/A"}},{"$error":"#N/A"},{"$f":"_xlfn.XLOOKUP(C273,Data!C:C,Data!G:G,0)","v":0},{"$f":"_xlfn.XLOOKUP(C273,Data!C:C,Data!F:F)","v":{"$error":"#N/A"}},{"$f":"_xlfn.XLOOKUP(C273,Data!C:C,Data!H:H,0)","v":0},{"$error":"#N/A"},{"$error":"#N/A"},{"$error":"#N/A"},{"$error":"#N/A"},{"$error":"#N/A"},0,{"$error":"#N/A"},"","","",null,{"$error":"#N/A"}]
["23-3-2021","16:31:00","2021-03-23T16:31:00",null,{"$f":"_xlfn.XLOOKUP(C274,Data!C:C,Data!I:I)","v":{"$error":"#N/A"}},{"$error":"#N/A"},{"$f":"_xlfn.XLOOKUP(C274,Data!C:C,Data!G:G,0)","v":0},{"$f":"_xlfn.XLOOKUP(C274,Data!C:C,Data!F:F)","v":{"$error":"#N/A"}},{"$f":"_xlfn.XLOOKUP(C274,Data!C:C,Data!H:H,0)","v":0},{"$error":"#N/A"},{"$error":"#N/A"},{"$error":"#N/A"},{"$error":"#N/A"},{"$error":"#N/A"},0,{"$error":"#N/A"},"","","",null,{"$error":"#N/A"}]
["23-3-2021","16:32:00","2021-03-23T16:32:00",null,{"$f":"_xlfn.XLOOKUP(C275,Data!C:C,Data!I:I)","v":{"$error":"#N/A"}},{"$error":"#N/A"},{"$f":"_xlfn.XLOOKUP(C275,Data!C:C,Data!G:G,0)","v":0},{"$f":"_xlfn.XLOOKUP(C275,Data!C:C,Data!F:F)","v":{"$error":"#N/A"}},{"$f":"_xlfn.XLOOKUP(C275,Data!C:C,Data!H:H,0)","v":0},{"$error":"#N/A"},{"$error":"#N/A"},{"$error":"#N/A"},{"$error":"#N/A"},{"$error":"#N/A"},0,{"$error":"#N/A"},"","","",null,{"$error":"#N/A"}]
["23-3-2021","16:33:00","2021-03-23T16:33:00",null,{"$f":"_xlfn.XLOOKUP(C276,Data!C:C,Data!I:I)","v":{"$error":"#N/A"}},{"$error":"#N/A"},{"$f":"_xlfn.XLOOKUP(C276,Data!C:C,Data!G:G,0)","v":0},{"$f":"_xlfn.XLOOKUP(C276,Data!C:C,Data!F:F)","v":{"$error":"#N/A"}},{"$f":"_xlfn.XLOOKUP(C276,Data!C:C,Data!H:H,0)","v":0},{"$error":"#N/A"},{"$error":"#N/A"},{"$error":"#N/A"},{"$error":"#N/A"},{"$error":"#N/A"},0,{"$error":"#N/A"},"","","",null,{"$error":"#N/A"}]
["23-3-2021","16:34:00","2021-03-23T16:34:00",null,{"$f":"_xlfn.XLOOKUP(C277,Data!C:C,Data!I:I)","v":{"$error":"#N/A"}},{"$error":"#N/A"},{"$f":"_xlfn.XLOOKUP(C277,Data!C:C,Data!G:G,0)","v":0},{"$f":"_xlfn.XLOOKUP(C277,Data!C:C,Data!F:F)","v":{"$error":"#N/A"}},{"$f":"_xlfn.XLOOKUP(C277,Data!C:C,Data!H:H,0)","v":0},{"$error":"#N/A"},{"$error":"#N/A"},{"$error":"#N/A"},{"$error":"#N/A"},{"$error":"#N/A"},0,{"$error":"#N/A"},"","","",null,{"$error":"#N/A"}]
["23-3-2021","16:35:00","2021-03-23T16:35:00",null,{"$f":"_xlfn.XLOOKUP(C278,Data!C:C,Data!I:I)","v":{"$error":"#N/A"}},{"$error":"#N/A"},{"$f":"_xlfn.XLOOKUP(C278,Data!C:C,Data!G:G,0)","v":0},{"$f":"_xlfn.XLOOKUP(C278,Data!C:C,Data!F:F)","v":{"$error":"#N/A"}},{"$f":"_xlfn.XLOOKUP(C278,Data!C:C,Data!H:H,0)","v":0},{"$error":"#N/A"},{"$error":"#N/A"},{"$error":"#N/A"},{"$error":"#N/A"},{"$error":"#N/A"},0,{"$error":"#N/A"},"","","",null,{"$error":"#N/A"}]
["23-3-2021","16:36:00","2021-03-23T16:36:00",null,{"$f":"_xlfn.XLOOKUP(C279,Data!C:C,Data!I:I)","v":{"$error":"#N/A"}},{"$error":"#N/A"},{"$f":"_xlfn.XLOOKUP(C279,Data!C:C,Data!G:G,0)","v":0},{"$f":"_xlfn.XLOOKUP(C279,Data!C:C,Data!F:F)","v":{"$error":"#N/A"}},{"$f":"_xlfn.XLOOKUP(C279,Data!C:C,Data!H:H,0)","v":0},{"$error":"#N/A"},{"$error":"#N/A"},{"$error":"#N/A"},{"$error":"#N/A"},{"$error":"#N/A"},0,{"$error":"#N/A"},"","","",null,{"$error":"#N/A"}]
["23-3-2021","16:37:00","2021-03-23T16:37:00",null,{"$f":"_xlfn.XLOOKUP(C280,Data!C:C,Data!I:I)","v":{"$error":"#N/A"}},{"$error":"#N/A"},{"$f":"_xlfn.XLOOKUP(C280,Data!C:C,Data!G:G,0)","v":0},{"$f":"_xlfn.XLOOKUP(C280,Data!C:C,Data!F:F)","v":{"$error":"#N/A"}},{"$f":"_xlfn.XLOOKUP(C280,Data!C:C,Data!H:H,0)","v":0},{"$error":"#N/A"},{"$error":"#N/A"},{"$error":"#N/A"},{"$error":"#N/A"},{"$error":"#N/A"},0,{"$error":"#N/A"},"","","",null,{"$error":"#N/A"}]
["23-3-2021","16:38:00","2021-03-23T16:38:00",null,{"$f":"_xlfn.XLOOKUP(C281,Data!C:C,Data!I:I)","v":{"$error":"#N/A"}},{"$error":"#N/A"},{"$f":"_xlfn.XLOOKUP(C281,Data!C:C,Data!G:G,0)","v":0},{"$f":"_xlfn.XLOOKUP(C281,Data!C:C,Data!F:F)","v":{"$error":"#N/A"}},{"$f":"_xlfn.XLOOKUP(C281,Data!C:C,Data!H:H,0)","v":0},{"$error":"#N/A"},{"$error":"#N/A"},{"$error":"#N/A"},{"$error":"#N/A"},{"$error":"#N/A"},0,{"$error":"#N/A"},"","","",null,{"$error":"#N/A"}]
["23-3-2021","16:39:00","2021-03-23T16:39:00",null,{"$f":"_xlfn.XLOOKUP(C282,Data!C:C,Data!I:I)","v":{"$error":"#N/A"}},{"$error":"#N/A"},{"$f":"_xlfn.XLOOKUP(C282,Data!C:C,Data!G:G,0)","v":0},{"$f":"_xlfn.XLOOKUP(C282,Data!C:C,Data!F:F)","v":{"$error":"#N/A"}},{"$f":"_xlfn.XLOOKUP(C282,Data!C:C,Data!H:H,0)","v":0},{"$error":"#N/A"},{"$error":"#N/A"},{"$error":"#N/A"},{"$error":"#N/A"},{"$error":"#N/A"},0,{"$error":"#N/A"},"","","",null,{"$error":"#N/A"}]
["23-3-2021","16:40:00","2021-03-23T16:40:00",null,{"$f":"_xlfn.XLOOKUP(C283,Data!C:C,Data!I:I)","v":{"$error":"#N/A"}},{"$error":"#N/A"},{"$f":"_xlfn.XLOOKUP(C283,Data!C:C,Data!G:G,0)","v":0},{"$f":"_xlfn.XLOOKUP(C283,Data!C:C,Data!F:F)","v":{"$error":"#N/A"}},{"$f":"_xlfn.XLOOKUP(C283,Data!C:C,Data!H:H,0)","v":0},{"$error":"#N/A"},{"$error":"#N/A"},{"$error":"#N/A"},{"$error":"#N/A"},{"$error":"#N/A"},0,{"$error":"#N/A"},"","","",null,{"$error":"#N/A"}]
["23-3-2021","16:41:00","2021-03-23T16:41:00",null,{"$f":"_xlfn.XLOOKUP(C284,Data!C:C,Data!I:I)","v":{"$error":"#N/A"}},{"$error":"#N/A"},{"$f":"_xlfn.XLOOKUP(C284,Data!C:C,Data!G:G,0)","v":0},{"$f":"_xlfn.XLOOKUP(C284,Data!C:C,Data!F:F)","v":{"$error":"#N/A"}},{"$f":"_xlfn.XLOOKUP(C284,Data!C:C,Data!H:H,0)","v":0},{"$error":"#N/A"},{"$error":"#N/A"},{"$error":"#N/A"},{"$error":"#N/A"},{"$error":"#N/A"},0,{"$error":"#N/A"},"","","",null,{"$error":"#N/A"}]
["23-3-2021","16:42:00","2021-03-23T16:42:00",null,{"$f":"_xlfn.XLOOKUP(C285,Data!C:C,Data!I:I)","v":{"$error":"#N/A"}},{"$error":"#N/A"},{"$f":"_xlfn.XLOOKUP(C285,Data!C:C,Data!G:G,0)","v":0},{"$f":"_xlfn.XLOOKUP(C285,Data!C:C,Data!F:F)","v":{"$error":"#N/A"}},{"$f":"_xlfn.XLOOKUP(C285,Data!C:C,Data!H:H,0)","v":0},{"$error":"#N/A"},{"$error":"#N/A"},{"$error":"#N/A"},{"$error":"#N/A"},{"$error":"#N/A"},0,{"$error":"#N/A"},"","","",null,{"$error":"#N/A"}]
["23-3-2021","16:43:00","2021-03-23T16:43:00",null,{"$f":"_xlfn.XLOOKUP(C286,Data!C:C,Data!I:I)","v":{"$error":"#N/A"}},{"$error":"#N/A"},{"$f":"_xlfn.XLOOKUP(C286,Data!C:C,Data!G:G,0)","v":0},{"$f":"_xlfn.XLOOKUP(C286,Data!C:C,Data!F:F)","v":{"$error":"#N/A"}},{"$f":"_xlfn.XLOOKUP(C286,Data!C:C,Data!H:H,0)","v":0},{"$error":"#N/A"},{"$error":"#N/A"},{"$error":"#N/A"},{"$error":"#N/A"},{"$error":"#N/A"},0,{"$error":"#N/A"},"","","",null,{"$error":"#N/A"}]
["23-3-2021","16:44:00","2021-03-23T16:44:00",null,{"$f":"_xlfn.XLOOKUP(C287,Data!C:C,Data!I:I)","v":{"$error":"#N/A"}},{"$error":"#N/A"},{"$f":"_xlfn.XLOOKUP(C287,Data!C:C,Data!G:G,0)","v":0},{"$f":"_xlfn.XLOOKUP(C287,Data!C:C,Data!F:F)","v":{"$error":"#N/A"}},{"$f":"_xlfn.XLOOKUP(C287,Data!C:C,Data!H:H,0)","v":0},{"$error":"#N/A"},{"$error":"#N/A"},{"$error":"#N/A"},{"$error":"#N/A"},{"$error":"#N/A"},0,{"$error":"#N/A"},"","","",null,{"$error":"#N/A"}]
["23-3-2021","16:45:00","2021-03-23T16:45:00",null,{"$f":"_xlfn.XLOOKUP(C288,Data!C:C,Data!I:I)","v":{"$error":"#N/A"}},{"$error":"#N/A"},{"$f":"_xlfn.XLOOKUP(C288,Data!C:C,Data!G:G,0)","v":0},{"$f":"_xlfn.XLOOKUP(C288,Data!C:C,Data!F:F)","v":{"$error":"#N/A"}},{"$f":"_xlfn.XLOOKUP(C288,Data!C:C,Data!H:H,0)","v":0},{"$error":"#N/A"},{"$error":"#N/A"},{"$error":"#N/A"},{"$error":"#N/A"},{"$error":"#N/A"},0,{"$error":"#N/A"},"","","",null,{"$error":"#N/A"}]
["23-3-2021","16:46:00","2021-03-23T16:46:00",null,{"$f":"_xlfn.XLOOKUP(C289,Data!C:C,Data!I:I)","v":{"$error":"#N/A"}},{"$error":"#N/A"},{"$f":"_xlfn.XLOOKUP(C289,Data!C:C,Data!G:G,0)","v":0},{"$f":"_xlfn.XLOOKUP(C289,Data!C:C,Data!F:F)","v":{"$error":"#N/A"}},{"$f":"_xlfn.XLOOKUP(C289,Data!C:C,Data!H:H,0)","v":0},{"$error":"#N/A"},{"$error":"#N/A"},{"$error":"#N/A"},{"$error":"#N/A"},{"$error":"#N/A"},0,{"$error":"#N/A"},"","","",null,{"$error":"#N/A"}]
["23-3-2021","16:47:00","2021-03-23T16:47:00",null,{"$f":"_xlfn.XLOOKUP(C290,Data!C:C,Data!I:I)","v":{"$error":"#N/A"}},{"$error":"#N/A"},{"$f":"_xlfn.XLOOKUP(C290,Data!C:C,Data!G:G,0)","v":0},{"$f":"_xlfn.XLOOKUP(C290,Data!C:C,Data!F:F)","v":{"$error":"#N/A"}},{"$f":"_xlfn.XLOOKUP(C290,Data!C:C,Data!H:H,0)","v":0},{"$error":"#N/A"},{"$error":"#N/A"},{"$error":"#N/A"},{"$error":"#N/A"},{"$error":"#N/A"},0,{"$error":"#N/A"},"","","",null,{"$error":"#N/A"}]
["23-3-2021","16:48:00","2021-03-23T16:48:00",null,{"$f":"_xlfn.XLOOKUP(C291,Data!C:C,Data!I:I)","v":{"$error":"#N/A"}},{"$error":"#N/A"},{"$f":"_xlfn.XLOOKUP(C291,Data!C:C,Data!G:G,0)","v":0},{"$f":"_xlfn.XLOOKUP(C291,Data!C:C,Data!F:F)","v":{"$error":"#N/A"}},{"$f":"_xlfn.XLOOKUP(C291,Data!C:C,Data!H:H,0)","v":0},{"$error":"#N/A"},{"$error":"#N/A"},{"$error":"#N/A"},{"$error":"#N/A"},{"$error":"#N/A"},0,{"$error":"#N/A"},"","","",null,{"$error":"#N/A"}]
["23-3-2021","16:49:00","2021-03-23T16:49:00",null,{"$f":"_xlfn.XLOOKUP(C292,Data!C:C,Data!I:I)","v":{"$error":"#N/A"}},{"$error":"#N/A"},{"$f":"_xlfn.XLOOKUP(C292,Data!C:C,Data!G:G,0)","v":0},{"$f":"_xlfn.XLOOKUP(C292,Data!C:C,Data!F:F)","v":{"$error":"#N/A"}},{"$f":"_xlfn.XLOOKUP(C292,Data!C:C,Data!H:H,0)","v":0},{"$error":"#N/A"},{"$error":"#N/A"},{"$error":"#N/A"},{"$error":"#N/A"},{"$error":"#N/A"},0,{"$error":"#N/A"},"","","",null,{"$error":"#N/A"}]
["23-3-2021","16:50:00","2021-03-23T16:50:00",null,{"$f":"_xlfn.XLOOKUP(C293,Data!C:C,Data!I:I)","v":{"$error":"#N/A"}},{"$error":"#N/A"},{"$f":"_xlfn.XLOOKUP(C293,Data!C:C,Data!G:G,0)","v":0},{"$f":"_xlfn.XLOOKUP(C293,Data!C:C,Data!F:F)","v":{"$error":"#N/A"}},{"$f":"_xlfn.XLOOKUP(C293,Data!C:C,Data!H:H,0)","v":0},{"$error":"#N/A"},{"$error":"#N/A"},{"$error":"#N/A"},{"$error":"#N/A"},{"$error":"#N/A"},0,{"$error":"#N/A"},"","","",null,{"$error":"#N/A"}]
["23-3-2021","16:51:00","2021-03-23T16:51:00",null,{"$f":"_xlfn.XLOOKUP(C294,Data!C:C,Data!I:I)","v":{"$error":"#N/A"}},{"$error":"#N/A"},{"$f":"_xlfn.XLOOKUP(C294,Data!C:C,Data!G:G,0)","v":0},{"$f":"_xlfn.XLOOKUP(C294,Data!C:C,Data!F:F)","v":{"$error":"#N/A"}},{"$f":"_xlfn.XLOOKUP(C294,Data!C:C,Data!H:H,0)","v":0},{"$error":"#N/A"},{"$error":"#N/A"},{"$error":"#N/A"},{"$error":"#N/A"},{"$error":"#N/A"},0,{"$error":"#N/A"},"","","",null,{"$error":"#N/A"}]
["23-3-2021","16:52:00","2021-03-23T16:52:00",null,{"$f":"_xlfn.XLOOKUP(C295,Data!C:C,Data!I:I)","v":{"$error":"#N/A"}},{"$error":"#N/A"},{"$f":"_xlfn.XLOOKUP(C295,Data!C:C,Data!G:G,0)","v":0},{"$f":"_xlfn.XLOOKUP(C295,Data!C:C,Data!F:F)","v":{"$error":"#N/A"}},{"$f":"_xlfn.XLOOKUP(C295,Data!C:C,Data!H:H,0)","v":0},{"$error":"#N/A"},{"$error":"#N/A"},{"$error":"#N/A"},{"$error":"#N/A"},{"$error":"#N/A"},0,{"$error":"#N/A"},"","","",null,{"$error":"#N/A"}]
["23-3-2021","16:53:00","2021-03-23T16:53:00",null,{"$f":"_xlfn.XLOOKUP(C296,Data!C:C,Data!I:I)","v":{"$error":"#N/A"}},{"$error":"#N/A"},{"$f":"_xlfn.XLOOKUP(C296,Data!C:C,Data!G:G,0)","v":0},{"$f":"_xlfn.XLOOKUP(C296,Data!C:C,Data!F:F)","v":{"$error":"#N/A"}},{"$f":"_xlfn.XLOOKUP(C296,Data!C:C,Data!H:H,0)","v":0},{"$error":"#N/A"},{"$error":"#N/A"},{"$error":"#N/A"},{"$error":"#N/A"},{"$error":"#N/A"},0,{"$error":"#N/A"},"","","",null,{"$error":"#N/A"}]
["23-3-2021","16:54:00","2021-03-23T16:54:00",null,{"$f":"_xlfn.XLOOKUP(C297,Data!C:C,Data!I:I)","v":{"$error":"#N/A"}},{"$error":"#N/A"},{"$f":"_xlfn.XLOOKUP(C297,Data!C:C,Data!G:G,0)","v":0},{"$f":"_xlfn.XLOOKUP(C297,Data!C:C,Data!F:F)","v":{"$error":"#N/A"}},{"$f":"_xlfn.XLOOKUP(C297,Data!C:C,Data!H:H,0)","v":0},{"$error":"#N/A"},{"$error":"#N/A"},{"$error":"#N/A"},{"$error":"#N/A"},{"$error":"#N/A"},0,{"$error":"#N/A"},"","","",null,{"$error":"#N/A"}]
["23-3-2021","16:55:00","2021-03-23T16:55:00",null,{"$f":"_xlfn.XLOOKUP(C298,Data!C:C,Data!I:I)","v":{"$error":"#N/A"}},{"$error":"#N/A"},{"$f":"_xlfn.XLOOKUP(C298,Data!C:C,Data!G:G,0)","v":0},{"$f":"_xlfn.XLOOKUP(C298,Data!C:C,Data!F:F)","v":{"$error":"#N/A"}},{"$f":"_xlfn.XLOOKUP(C298,Data!C:C,Data!H:H,0)","v":0},{"$error":"#N/A"},{"$error":"#N/A"},{"$error":"#N/A"},{"$error":"#N/A"},{"$error":"#N/A"},0,{"$error":"#N/A"},"","","",null,{"$error":"#N/A"}]
["23-3-2021","16:56:00","2021-03-23T16:56:00",null,{"$f":"_xlfn.XLOOKUP(C299,Data!C:C,Data!I:I)","v":{"$error":"#N/A"}},{"$error":"#N/A"},{"$f":"_xlfn.XLOOKUP(C299,Data!C:C,Data!G:G,0)","v":0},{"$f":"_xlfn.XLOOKUP(C299,Data!C:C,Data!F:F)","v":{"$error":"#N/A"}},{"$f":"_xlfn.XLOOKUP(C299,Data!C:C,Data!H:H,0)","v":0},{"$error":"#N/A"},{"$error":"#N/A"},{"$error":"#N/A"},{"$error":"#N/A"},{"$error":"#N/A"},0,{"$error":"#N/A"},"","","",null,{"$error":"#N/A"}]
["23-3-2021","16:57:00","2021-03-23T16:57:00",null,{"$f":"_xlfn.XLOOKUP(C300,Data!C:C,Data!I:I)","v":{"$error":"#N/A"}},{"$error":"#N/A"},{"$f":"_xlfn.XLOOKUP(C300,Data!C:C,Data!G:G,0)","v":0},{"$f":"_xlfn.XLOOKUP(C300,Data!C:C,Data!F:F)","v":{"$error":"#N/A"}},{"$f":"_xlfn.XLOOKUP(C300,Data!C:C,Data!H:H,0)","v":0},{"$error":"#N/A"},{"$error":"#N/A"},{"$error":"#N/A"},{"$error":"#N/A"},{"$error":"#N/A"},0,{"$error":"#N/A"},"","","",null,{"$error":"#N/A"}]
["23-3-2021","16:58:00","2021-03-23T16:58:00",null,{"$f":"_xlfn.XLOOKUP(C301,Data!C:C,Data!I:I)","v":{"$error":"#N/A"}},{"$error":"#N/A"},{"$f":"_xlfn.XLOOKUP(C301,Data!C:C,Data!G:G,0)","v":0},{"$f":"_xlfn.XLOOKUP(C301,Data!C:C,Data!F:F)","v":{"$error":"#N/A"}},{"$f":"_xlfn.XLOOKUP(C301,Data!C:C,Data!H:H,0)","v":0},{"$error":"#N/A"},{"$error":"#N/A"},{"$error":"#N/A"},{"$error":"#N/A"},{"$error":"#N/A"},0,{"$error":"#N/A"},"","","",null,{"$error":"#N/A"}]
["23-3-2021","16:59:00","2021-03-23T16:59:00",null,{"$f":"_xlfn.XLOOKUP(C302,Data!C:C,Data!I:I)","v":{"$error":"#N/A"}},{"$error":"#N/A"},{"$f":"_xlfn.XLOOKUP(C302,Data!C:C,Data!G:G,0)","v":0},{"$f":"_xlfn.XLOOKUP(C302,Data!C:C,Data!F:F)","v":{"$error":"#N/A"}},{"$f":"_xlfn.XLOOKUP(C302,Data!C:C,Data!H:H,0)","v":0},{"$error":"#N/A"},{"$error":"#N/A"},{"$error":"#N/A"},{"$error":"#N/A"},{"$error":"#N/A"},0,{"$error":"#N/A"},"","","",null,{"$error":"#N/A"}]
["23-3-2021","17:00:00","2021-03-23T17:00:00",null,{"$f":"_xlfn.XLOOKUP(C303,Data!C:C,Data!I:I)","v":{"$error":"#N/A"}},{"$error":"#N/A"},{"$f":"_xlfn.XLOOKUP(C303,Data!C:C,Data!G:G,0)","v":0},{"$f":"_xlfn.XLOOKUP(C303,Data!C:C,Data!F:F)","v":{"$error":"#N/A"}},{"$f":"_xlfn.XLOOKUP(C303,Data!C:C,Data!H:H,0)","v":0},{"$error":"#N/A"},{"$error":"#N/A"},{"$error":"#N/A"},{"$error":"#N/A"},{"$error":"#N/A"},0,{"$error":"#N/A"},"","","",null,{"$error":"#N/A"}]
["23-3-2021","17:01:00","2021-03-23T17:01:00",null,{"$f":"_xlfn.XLOOKUP(C304,Data!C:C,Data!I:I)","v":{"$error":"#N/A"}},{"$error":"#N/A"},{"$f":"_xlfn.XLOOKUP(C304,Data!C:C,Data!G:G,0)","v":0},{"$f":"_xlfn.XLOOKUP(C304,Data!C:C,Data!F:F)","v":{"$error":"#N/A"}},{"$f":"_xlfn.XLOOKUP(C304,Data!C:C,Data!H:H,0)","v":0},{"$error":"#N/A"},{"$error":"#N/A"},{"$error":"#N/A"},{"$error":"#N/A"},{"$error":"#N/A"},0,{"$error":"#N/A"},"","","",null,{"$error":"#N/A"}]
["23-3-2021","17:02:00","2021-03-23T17:02:00",null,{"$f":"_xlfn.XLOOKUP(C305,Data!C:C,Data!I:I)","v":{"$error":"#N/A"}},{"$error":"#N/A"},{"$f":"_xlfn.XLOOKUP(C305,Data!C:C,Data!G:G,0)","v":0},{"$f":"_xlfn.XLOOKUP(C305,Data!C:C,Data!F:F)","v":{"$error":"#N/A"}},{"$f":"_xlfn.XLOOKUP(C305,Data!C:C,Data!H:H,0)","v":0},{"$error":"#N/A"},{"$error":"#N/A"},{"$error":"#N/A"},{"$error":"#N/A"},{"$error":"#N/A"},0,{"$error":"#N/A"},"","","",null,{"$error":"#N/A"}]
["23-3-2021","17:03:00","2021-03-23T17:03:00",null,{"$f":"_xlfn.XLOOKUP(C306,Data!C:C,Data!I:I)","v":{"$error":"#N/A"}},{"$error":"#N/A"},{"$f":"_xlfn.XLOOKUP(C306,Data!C:C,Data!G:G,0)","v":0},{"$f":"_xlfn.XLOOKUP(C306,Data!C:C,Data!F:F)","v":{"$error":"#N/A"}},{"$f":"_xlfn.XLOOKUP(C306,Data!C:C,Data!H:H,0)","v":0},{"$error":"#N/A"},{"$error":"#N/A"},{"$error":"#N/A"},{"$error":"#N/A"},{"$error":"#N/A"},0,{"$error":"#N/A"},"","","",null,{"$error":"#N/A"}]
["23-3-2021","17:04:00","2021-03-23T17:04:00",null,{"$f":"_xlfn.XLOOKUP(C307,Data!C:C,Data!I:I)","v":{"$error":"#N/A"}},{"$error":"#N/A"},{"$f":"_xlfn.XLOOKUP(C307,Data!C:C,Data!G:G,0)","v":0},{"$f":"_xlfn.XLOOKUP(C307,Data!C:C,Data!F:F)","v":{"$error":"#N/A"}},{"$f":"_xlfn.XLOOKUP(C307,Data!C:C,Data!H:H,0)","v":0},{"$error":"#N/A"},{"$error":"#N/A"},{"$error":"#N/A"},{"$error":"#N/A"},{"$error":"#N/A"},0,{"$error":"#N/A"},"","","",null,{"$error":"#N/A"}]
["23-3-2021","17:05:00","2021-03-23T17:05:00",null,{"$f":"_xlfn.XLOOKUP(C308,Data!C:C,Data!I:I)","v":{"$error":"#N/A"}},{"$error":"#N/A"},{"$f":"_xlfn.XLOOKUP(C308,Data!C:C,Data!G:G,0)","v":0},{"$f":"_xlfn.XLOOKUP(C308,Data!C:C,Data!F:F)","v":{"$error":"#N/A"}},{"$f":"_xlfn.XLOOKUP(C308,Data!C:C,Data!H:H,0)","v":0},{"$error":"#N/A"},{"$error":"#N/A"},{"$error":"#N/A"},{"$error":"#N/A"},{"$error":"#N/A"},0,{"$error":"#N/A"},"","","",null,{"$error":"#N/A"}]
["23-3-2021","17:06:00","2021-03-23T17:06:00",null,{"$f":"_xlfn.XLOOKUP(C309,Data!C:C,Data!I:I)","v":{"$error":"#N/A"}},{"$error":"#N/A"},{"$f":"_xlfn.XLOOKUP(C309,Data!C:C,Data!G:G,0)","v":0},{"$f":"_xlfn.XLOOKUP(C309,Data!C:C,Data!F:F)","v":{"$error":"#N/A"}},{"$f":"_xlfn.XLOOKUP(C309,Data!C:C,Data!H:H,0)","v":0},{"$error":"#N/A"},{"$error":"#N/A"},{"$error":"#N/A"},{"$error":"#N/A"},{"$error":"#N/A"},0,{"$error":"#N/A"},"","","",null,{"$error":"#N/A"}]
["23-3-2021","17:07:00","2021-03-23T17:07:00",null,{"$f":"_xlfn.XLOOKUP(C310,Data!C:C,Data!I:I)","v":{"$error":"#N/A"}},{"$error":"#N/A"},{"$f":"_xlfn.XLOOKUP(C310,Data!C:C,Data!G:G,0)","v":0},{"$f":"_xlfn.XLOOKUP(C310,Data!C:C,Data!F:F)","v":{"$error":"#N/A"}},{"$f":"_xlfn.XLOOKUP(C310,Data!C:C,Data!H:H,0)","v":0},{"$error":"#N/A"},{"$error":"#N/A"},{"$error":"#N/A"},{"$error":"#N/A"},{"$error":"#N/A"},0,{"$error":"#N/A"},"","","",null,{"$error":"#N/A"}]
["23-3-2021","17:08:00","2021-03-23T17:08:00",null,{"$f":"_xlfn.XLOOKUP(C311,Data!C:C,Data!I:I)","v":{"$error":"#N/A"}},{"$error":"#N/A"},{"$f":"_xlfn.XLOOKUP(C311,Data!C:C,Data!G:G,0)","v":0},{"$f":"_xlfn.XLOOKUP(C311,Data!C:C,Data!F:F)","v":{"$error":"#N/A"}},{"$f":"_xlfn.XLOOKUP(C311,Data!C:C,Data!H:H,0)","v":0},{"$error":"#N/A"},{"$error":"#N/A"},{"$error":"#N/A"},{"$error":"#N/A"},{"$error":"#N/A"},0,{"$error":"#N/A"},"","","",null,{"$error":"#N/A"}]
["23-3-2021","17:09:00","2021-03-23T17:09:00",null,{"$f":"_xlfn.XLOOKUP(C312,Data!C:C,Data!I:I)","v":{"$error":"#N/A"}},{"$error":"#N/A"},{"$f":"_xlfn.XLOOKUP(C312,Data!C:C,Data!G:G,0)","v":0},{"$f":"_xlfn.XLOOKUP(C312,Data!C:C,Data!F:F)","v":{"$error":"#N/A"}},{"$f":"_xlfn.XLOOKUP(C312,Data!C:C,Data!H:H,0)","v":0},{"$error":"#N/A"},{"$error":"#N/A"},{"$error":"#N/A"},{"$error":"#N/A"},{"$error":"#N/A"},0,{"$error":"#N/A"},"","","",null,{"$error":"#N/A"}]
["23-3-2021","17:10:00","2021-03-23T17:10:00",null,{"$f":"_xlfn.XLOOKUP(C313,Data!C:C,Data!I:I)","v":{"$error":"#N/A"}},{"$error":"#N/A"},{"$f":"_xlfn.XLOOKUP(C313,Data!C:C,Data!G:G,0)","v":0},{"$f":"_xlfn.XLOOKUP(C313,Data!C:C,Data!F:F)","v":{"$error":"#N/A"}},{"$f":"_xlfn.XLOOKUP(C313,Data!C:C,Data!H:H,0)","v":0},{"$error":"#N/A"},{"$error":"#N/A"},{"$error":"#N/A"},{"$error":"#N/A"},{"$error":"#N/A"},0,{"$error":"#N/A"},"","","",null,{"$error":"#N/A"}]
["23-3-2021","17:11:00","2021-03-23T17:11:00",null,{"$f":"_xlfn.XLOOKUP(C314,Data!C:C,Data!I:I)","v":{"$error":"#N/A"}},{"$error":"#N/A"},{"$f":"_xlfn.XLOOKUP(C314,Data!C:C,Data!G:G,0)","v":0},{"$f":"_xlfn.XLOOKUP(C314,Data!C:C,Data!F:F)","v":{"$error":"#N/A"}},{"$f":"_xlfn.XLOOKUP(C314,Data!C:C,Data!H:H,0)","v":0},{"$error":"#N/A"},{"$error":"#N/A"},{"$error":"#N/A"},{"$error":"#N/A"},{"$error":"#N/A"},0,{"$error":"#N/A"},"","","",null,{"$error":"#N/A"}]
["23-3-2021","17:12:00","2021-03-23T17:12:00",null,{"$f":"_xlfn.XLOOKUP(C315,Data!C:C,Data!I:I)","v":{"$error":"#N/A"}},{"$error":"#N/A"},{"$f":"_xlfn.XLOOKUP(C315,Data!C:C,Data!G:G,0)","v":0},{"$f":"_xlfn.XLOOKUP(C315,Data!C:C,Data!F:F)","v":{"$error":"#N/A"}},{"$f":"_xlfn.XLOOKUP(C315,Data!C:C,Data!H:H,0)","v":0},{"$error":"#N/A"},{"$error":"#N/A"},{"$error":"#N/A"},{"$error":"#N/A"},{"$error":"#N/A"},0,{"$error":"#N/A"},"","","",null,{"$error":"#N/A"}]
["23-3-2021","17:13:00","2021-03-23T17:13:00",null,{"$f":"_xlfn.XLOOKUP(C316,Data!C:C,Data!I:I)","v":{"$error":"#N/A"}},{"$error":"#N/A"},{"$f":"_xlfn.XLOOKUP(C316,Data!C:C,Data!G:G,0)","v":0},{"$f":"_xlfn.XLOOKUP(C316,Data!C:C,Data!F:F)","v":{"$error":"#N/A"}},{"$f":"_xlfn.XLOOKUP(C316,Data!C:C,Data!H:H,0)","v":0},{"$error":"#N/A"},{"$error":"#N/A"},{"$error":"#N/A"},{"$error":"#N/A"},{"$error":"#N/A"},0,{"$error":"#N/A"},"","","",null,{"$error":"#N/A"}]
["23-3-2021","17:14:00","2021-03-23T17:14:00",null,{"$f":"_xlfn.XLOOKUP(C317,Data!C:C,Data!I:I)","v":{"$error":"#N/A"}},{"$error":"#N/A"},{"$f":"_xlfn.XLOOKUP(C317,Data!C:C,Data!G:G,0)","v":0},{"$f":"_xlfn.XLOOKUP(C317,Data!C:C,Data!F:F)","v":{"$error":"#N/A"}},{"$f":"_xlfn.XLOOKUP(C317,Data!C:C,Data!H:H,0)","v":0},{"$error":"#N/A"},{"$error":"#N/A"},{"$error":"#N/A"},{"$error":"#N/A"},{"$error":"#N/A"},0,{"$error":"#N/A"},"","","",null,{"$error":"#N/A"}]
["23-3-2021","17:15:00","2021-03-23T17:15:00",null,{"$f":"_xlfn.XLOOKUP(C318,Data!C:C,Data!I:I)","v":{"$error":"#N/A"}},{"$error":"#N/A"},{"$f":"_xlfn.XLOOKUP(C318,Data!C:C,Data!G:G,0)","v":0},{"$f":"_xlfn.XLOOKUP(C318,Data!C:C,Data!F:F)","v":{"$error":"#N/A"}},{"$f":"_xlfn.XLOOKUP(C318,Data!C:C,Data!H:H,0)","v":0},{"$error":"#N/A"},{"$error":"#N/A"},{"$error":"#N/A"},{"$error":"#N/A"},{"$error":"#N/A"},0,{"$error":"#N/A"},"","","",null,{"$error":"#N/A"}]
["23-3-2021","17:16:00","2021-03-23T17:16:00",null,{"$f":"_xlfn.XLOOKUP(C319,Data!C:C,Data!I:I)","v":{"$error":"#N/A"}},{"$error":"#N/A"},{"$f":"_xlfn.XLOOKUP(C319,Data!C:C,Data!G:G,0)","v":0},{"$f":"_xlfn.XLOOKUP(C319,Data!C:C,Data!F:F)","v":{"$error":"#N/A"}},{"$f":"_xlfn.XLOOKUP(C319,Data!C:C,Data!H:H,0)","v":0},{"$error":"#N/A"},{"$error":"#N/A"},{"$error":"#N/A"},{"$error":"#N/A"},{"$error":"#N/A"},0,{"$error":"#N/A"},"","","",null,{"$error":"#N/A"}]
["23-3-2021","17:17:00","2021-03-23T17:17:00",null,{"$f":"_xlfn.XLOOKUP(C320,Data!C:C,Data!I:I)","v":{"$error":"#N/A"}},{"$error":"#N/A"},{"$f":"_xlfn.XLOOKUP(C320,Data!C:C,Data!G:G,0)","v":0},{"$f":"_xlfn.XLOOKUP(C320,Data!C:C,Data!F:F)","v":{"$error":"#N/A"}},{"$f":"_xlfn.XLOOKUP(C320,Data!C:C,Data!H:H,0)","v":0},{"$f":"IF(AND(MAX(E318:E319)=255,MAX(E320:E321)=255,  E319+E320+E321<3*255, OR(I320=123,I320=124,I320=106,I320=108)),   I320,   IF(AND(MAX(E318:E319)=255,MAX(E320:E321)=255,  E319+E320+E321<3*255, OR(I320>=80,I320<100)),106,108))","v":{"$error":"#N/A"}},{"$error":"#N/A"},{"$error":"#N/A"},{"$error":"#N/A"},{"$error":"#N/A"},0,{"$error":"#N/A"},"","","",null,{"$error":"#N/A"}]
["23-3-2021","17:18:00","2021-03-23T17:18:00",null,{"$f":"_xlfn.XLOOKUP(C321,Data!C:C,Data!I:I)","v":{"$error":"#N/A"}},{"$error":"#N/A"},{"$f":"_xlfn.XLOOKUP(C321,Data!C:C,Data!G:G,0)","v":0},{"$f":"_xlfn.XLOOKUP(C321,Data!C:C,Data!F:F)","v":{"$error":"#N/A"}},{"$f":"_xlfn.XLOOKUP(C321,Data!C:C,Data!H:H,0)","v":0},{"$error":"#N/A"},{"$error":"#N/A"},{"$error":"#N/A"},{"$error":"#N/A"},{"$error":"#N/A"},0,{"$error":"#N/A"},"","","",null,{"$error":"#N/A"}]
["23-3-2021","17:19:00","2021-03-23T17:19:00",null,{"$f":"_xlfn.XLOOKUP(C322,Data!C:C,Data!I:I)","v":{"$error":"#N/A"}},{"$error":"#N/A"},{"$f":"_xlfn.XLOOKUP(C322,Data!C:C,Data!G:G,0)","v":0},{"$f":"_xlfn.XLOOKUP(C322,Data!C:C,Data!F:F)","v":{"$error":"#N/A"}},{"$f":"_xlfn.XLOOKUP(C322,Data!C:C,Data!H:H,0)","v":0},{"$error":"#N/A"},{"$error":"#N/A"},{"$error":"#N/A"},{"$error":"#N/A"},{"$error":"#N/A"},0,{"$error":"#N/A"},"","","",null,{"$error":"#N/A"}]
["23-3-2021","17:20:00",{"$f":"A323+B323","v":"2021-03-23T17:20:00"},null,{"$f":"_xlfn.XLOOKUP(C323,Data!C:C,Data!I:I)","v":{"$error":"#N/A"}},{"$error":"#N/A"},{"$f":"_xlfn.XLOOKUP(C323,Data!C:C,Data!G:G,0)","v":0},{"$f":"_xlfn.XLOOKUP(C323,Data!C:C,Data!F:F)","v":{"$error":"#N/A"}},{"$f":"_xlfn.XLOOKUP(C323,Data!C:C,Data!H:H,0)","v":0},{"$error":"#N/A"},{"$f":"IF(AND(I323<100,  I323>=80,  OR(J323=105, J323=106,  J323=123)),  5,  0)","v":{"$error":"#N/A"}},{"$error":"#N/A"},{"$error":"#N/A"},{"$error":"#N/A"},{"$f":"IFERROR(F323,0)","v":0},{"$error":"#N/A"},"","","",null,{"$error":"#N/A"}]
[{"$f":"$A$3","v":"23-3-2021"},"17:21:00","2021-03-23T17:21:00",null,{"$f":"_xlfn.XLOOKUP(C324,Data!C:C,Data!I:I)","v":{"$error":"#N/A"}},{"$error":"#N/A"},{"$f":"_xlfn.XLOOKUP(C324,Data!C:C,Data!G:G,0)","v":0},{"$f":"_xlfn.XLOOKUP(C324,Data!C:C,Data!F:F)","v":{"$error":"#N/A"}},{"$f":"_xlfn.XLOOKUP(C324,Data!C:C,Data!H:H,0)","v":0},{"$error":"#N/A"},{"$error":"#N/A"},{"$f":"IF(AND(I324<130,  I324>104,  OR(J324=105, J324=106,  J324=123),  S324>$S$1450+$S$1443),  20,  0)","v":{"$error":"#N/A"}},{"$f":"IF(AND(I324<130,  I324>104,  OR(J324=105, J324=106,  J324=123),  R324>$Q$1449,  S324<=$S$1450+$S$1443),  20,  0)","v":{"$error":"#N/A"}},{"$f":"IF(AND(I324<130,  I324>104,  OR(J324=105, J324=106,  J324=123),  R324<=$Q$1449,  S324<=$S$1450+$S$1443),  20,  0)","v":{"$error":"#N/A"}},0,{"$f":"IF(Q324=\"\",F324,IF(Q324=0,P323,Q324))","v":{"$error":"#N/A"}},{"$f":"IF(I324>109,IF(O324*$Q$1451>(O323+O325)/2,MIN(O323:O325),O324),\"\")","v":""},"","",null,{"$error":"#N/A"}]
["23-3-2021","17:22:00","2021-03-23T17:22:00",null,{"$f":"_xlfn.XLOOKUP(C325,Data!C:C,Data!I:I)","v":{"$error":"#N/A"}},{"$f":"IF(E325=255,IF(MIN(E324:E326)=255,#N/A,MIN(E324:E326)),E325)","v":{"$error":"#N/A"}},{"$f":"_xlfn.XLOOKUP(C325,Data!C:C,Data!G:G,0)","v":0},{"$f":"_xlfn.XLOOKUP(C325,Data!C:C,Data!F:F)","v":{"$error":"#N/A"}},{"$f":"_xlfn.XLOOKUP(C325,Data!C:C,Data!H:H,0)","v":0},{"$error":"#N/A"},{"$error":"#N/A"},{"$error":"#N/A"},{"$error":"#N/A"},{"$error":"#N/A"},0,{"$error":"#N/A"},"","","",null,{"$error":"#N/A"}]
["23-3-2021","17:23:00","2021-03-23T17:23:00",null,{"$f":"_xlfn.XLOOKUP(C326,Data!C:C,Data!I:I)","v":{"$error":"#N/A"}},{"$error":"#N/A"},{"$f":"_xlfn.XLOOKUP(C326,Data!C:C,Data!G:G,0)","v":0},{"$f":"_xlfn.XLOOKUP(C326,Data!C:C,Data!F:F)","v":{"$error":"#N/A"}},{"$f":"_xlfn.XLOOKUP(C326,Data!C:C,Data!H:H,0)","v":0},{"$error":"#N/A"},{"$error":"#N/A"},{"$error":"#N/A"},{"$error":"#N/A"},{"$error":"#N/A"},0,{"$error":"#N/A"},"","","",null,{"$error":"#N/A"}]
["23-3-2021","17:24:00","2021-03-23T17:24:00",null,{"$f":"_xlfn.XLOOKUP(C327,Data!C:C,Data!I:I)","v":{"$error":"#N/A"}},{"$error":"#N/A"},{"$f":"_xlfn.XLOOKUP(C327,Data!C:C,Data!G:G,0)","v":0},{"$f":"_xlfn.XLOOKUP(C327,Data!C:C,Data!F:F)","v":{"$error":"#N/A"}},{"$f":"_xlfn.XLOOKUP(C327,Data!C:C,Data!H:H,0)","v":0},{"$error":"#N/A"},{"$error":"#N/A"},{"$error":"#N/A"},{"$error":"#N/A"},{"$error":"#N/A"},0,{"$error":"#N/A"},"","","",null,{"$f":"IF(F327=\"\",\"\",AVERAGE(F323:F331))","v":{"$error":"#N/A"}}]
["23-3-2021","17:25:00","2021-03-23T17:25:00",null,{"$f":"_xlfn.XLOOKUP(C328,Data!C:C,Data!I:I)","v":{"$error":"#N/A"}},{"$error":"#N/A"},{"$f":"_xlfn.XLOOKUP(C328,Data!C:C,Data!G:G,0)","v":0},{"$f":"_xlfn.XLOOKUP(C328,Data!C:C,Data!F:F)","v":{"$error":"#N/A"}},{"$f":"_xlfn.XLOOKUP(C328,Data!C:C,Data!H:H,0)","v":0},{"$error":"#N/A"},{"$error":"#N/A"},{"$error":"#N/A"},{"$error":"#N/A"},{"$error":"#N/A"},0,{"$error":"#N/A"},"",{"$f":"IF(Q328=\"\",\"\",AVERAGE(Q324:Q332))","v":""},{"$f":"IF(Q328=\"\",\"\",MAX(Q324:Q332)-MIN(Q324:Q332))","v":""},null,{"$error":"#N/A"}]
["23-3-2021","17:26:00","2021-03-23T17:26:00",null,{"$f":"_xlfn.XLOOKUP(C329,Data!C:C,Data!I:I)","v":{"$error":"#N/A"}},{"$error":"#N/A"},{"$f":"_xlfn.XLOOKUP(C329,Data!C:C,Data!G:G,0)","v":0},{"$f":"_xlfn.XLOOKUP(C329,Data!C:C,Data!F:F)","v":{"$error":"#N/A"}},{"$f":"_xlfn.XLOOKUP(C329,Data!C:C,Data!H:H,0)","v":0},{"$error":"#N/A"},{"$error":"#N/A"},{"$error":"#N/A"},{"$error":"#N/A"},{"$error":"#N/A"},0,{"$error":"#N/A"},"","","",null,{"$error":"#N/A"}]
["23-3-2021","17:27:00","2021-03-23T17:27:00",null,{"$f":"_xlfn.XLOOKUP(C330,Data!C:C,Data!I:I)","v":{"$error":"#N/A"}},{"$error":"#N/A"},{"$f":"_xlfn.XLOOKUP(C330,Data!C:C,Data!G:G,0)","v":0},{"$f":"_xlfn.XLOOKUP(C330,Data!C:C,Data!F:F)","v":{"$error":"#N/A"}},{"$f":"_xlfn.XLOOKUP(C330,Data!C:C,Data!H:H,0)","v":0},{"$error":"#N/A"},{"$error":"#N/A"},{"$error":"#N/A"},{"$error":"#N/A"},{"$error":"#N/A"},0,{"$error":"#N/A"},"","","",null,{"$error":"#N/A"}]
["23-3-2021","17:28:00","2021-03-23T17:28:00",null,{"$f":"_xlfn.XLOOKUP(C331,Data!C:C,Data!I:I)","v":{"$error":"#N/A"}},{"$error":"#N/A"},{"$f":"_xlfn.XLOOKUP(C331,Data!C:C,Data!G:G,0)","v":0},{"$f":"_xlfn.XLOOKUP(C331,Data!C:C,Data!F:F)","v":{"$error":"#N/A"}},{"$f":"_xlfn.XLOOKUP(C331,Data!C:C,Data!H:H,0)","v":0},{"$error":"#N/A"},{"$error":"#N/A"},{"$error":"#N/A"},{"$error":"#N/A"},{"$error":"#N/A"},0,{"$error":"#N/A"},"","","",null,{"$error":"#N/A"}]
["23-3-2021","17:29:00","2021-03-23T17:29:00",null,{"$f":"_xlfn.XLOOKUP(C332,Data!C:C,Data!I:I)","v":{"$error":"#N/A"}},{"$error":"#N/A"},{"$f":"_xlfn.XLOOKUP(C332,Data!C:C,Data!G:G,0)","v":0},{"$f":"_xlfn.XLOOKUP(C332,Data!C:C,Data!F:F)","v":{"$error":"#N/A"}},{"$f":"_xlfn.XLOOKUP(C332,Data!C:C,Data!H:H,0)","v":0},{"$error":"#N/A"},{"$error":"#N/A"},{"$error":"#N/A"},{"$error":"#N/A"},{"$error":"#N/A"},0,{"$error":"#N/A"},"","","",null,{"$error":"#N/A"}]
["23-3-2021","17:30:00","2021-03-23T17:30:00",null,{"$f":"_xlfn.XLOOKUP(C333,Data!C:C,Data!I:I)","v":{"$error":"#N/A"}},{"$error":"#N/A"},{"$f":"_xlfn.XLOOKUP(C333,Data!C:C,Data!G:G,0)","v":0},{"$f":"_xlfn.XLOOKUP(C333,Data!C:C,Data!F:F)","v":{"$error":"#N/A"}},{"$f":"_xlfn.XLOOKUP(C333,Data!C:C,Data!H:H,0)","v":0},{"$error":"#N/A"},{"$error":"#N/A"},{"$error":"#N/A"},{"$error":"#N/A"},{"$error":"#N/A"},0,{"$error":"#N/A"},"","","",null,{"$error":"#N/A"}]
["23-3-2021","17:31:00","2021-03-23T17:31:00",null,{"$f":"_xlfn.XLOOKUP(C334,Data!C:C,Data!I:I)","v":{"$error":"#N/A"}},{"$error":"#N/A"},{"$f":"_xlfn.XLOOKUP(C334,Data!C:C,Data!G:G,0)","v":0},{"$f":"_xlfn.XLOOKUP(C334,Data!C:C,Data!F:F)","v":{"$error":"#N/A"}},{"$f":"_xlfn.XLOOKUP(C334,Data!C:C,Data!H:H,0)","v":0},{"$error":"#N/A"},{"$error":"#N/A"},{"$error":"#N/A"},{"$error":"#N/A"},{"$error":"#N/A"},0,{"$error":"#N/A"},"","","",null,{"$error":"#N/A"}]
["23-3-2021","17:32:00","2021-03-23T17:32:00",null,{"$f":"_xlfn.XLOOKUP(C335,Data!C:C,Data!I:I)","v":{"$error":"#N/A"}},{"$error":"#N/A"},{"$f":"_xlfn.XLOOKUP(C335,Data!C:C,Data!G:G,0)","v":0},{"$f":"_xlfn.XLOOKUP(C335,Data!C:C,Data!F:F)","v":{"$error":"#N/A"}},{"$f":"_xlfn.XLOOKUP(C335,Data!C:C,Data!H:H,0)","v":0},{"$error":"#N/A"},{"$error":"#N/A"},{"$error":"#N/A"},{"$error":"#N/A"},{"$error":"#N/A"},0,{"$error":"#N/A"},"","","",null,{"$error":"#N/A"}]
["23-3-2021","17:33:00","2021-03-23T17:33:00",null,{"$f":"_xlfn.XLOOKUP(C336,Data!C:C,Data!I:I)","v":{"$error":"#N/A"}},{"$error":"#N/A"},{"$f":"_xlfn.XLOOKUP(C336,Data!C:C,Data!G:G,0)","v":0},{"$f":"_xlfn.XLOOKUP(C336,Data!C:C,Data!F:F)","v":{"$error":"#N/A"}},{"$f":"_xlfn.XLOOKUP(C336,Data!C:C,Data!H:H,0)","v":0},{"$error":"#N/A"},{"$error":"#N/A"},{"$error":"#N/A"},{"$error":"#N/A"},{"$error":"#N/A"},0,{"$error":"#N/A"},"","","",null,{"$error":"#N/A"}]
["23-3-2021","17:34:00","2021-03-23T17:34:00",null,{"$f":"_xlfn.XLOOKUP(C337,Data!C:C,Data!I:I)","v":{"$error":"#N/A"}},{"$error":"#N/A"},{"$f":"_xlfn.XLOOKUP(C337,Data!C:C,Data!G:G,0)","v":0},{"$f":"_xlfn.XLOOKUP(C337,Data!C:C,Data!F:F)","v":{"$error":"#N/A"}},{"$f":"_xlfn.XLOOKUP(C337,Data!C:C,Data!H:H,0)","v":0},{"$error":"#N/A"},{"$error":"#N/A"},{"$error":"#N/A"},{"$error":"#N/A"},{"$error":"#N/A"},0,{"$error":"#N/A"},"","","",null,{"$error":"#N/A"}]
["23-3-2021","17:35:00","2021-03-23T17:35:00",null,{"$f":"_xlfn.XLOOKUP(C338,Data!C:C,Data!I:I)","v":{"$error":"#N/A"}},{"$error":"#N/A"},{"$f":"_xlfn.XLOOKUP(C338,Data!C:C,Data!G:G,0)","v":0},{"$f":"_xlfn.XLOOKUP(C338,Data!C:C,Data!F:F)","v":{"$error":"#N/A"}},{"$f":"_xlfn.XLOOKUP(C338,Data!C:C,Data!H:H,0)","v":0},{"$error":"#N/A"},{"$error":"#N/A"},{"$error":"#N/A"},{"$error":"#N/A"},{"$error":"#N/A"},0,{"$error":"#N/A"},"","","",null,{"$error":"#N/A"}]
["23-3-2021","17:36:00","2021-03-23T17:36:00",null,{"$f":"_xlfn.XLOOKUP(C339,Data!C:C,Data!I:I)","v":{"$error":"#N/A"}},{"$error":"#N/A"},{"$f":"_xlfn.XLOOKUP(C339,Data!C:C,Data!G:G,0)","v":0},{"$f":"_xlfn.XLOOKUP(C339,Data!C:C,Data!F:F)","v":{"$error":"#N/A"}},{"$f":"_xlfn.XLOOKUP(C339,Data!C:C,Data!H:H,0)","v":0},{"$error":"#N/A"},{"$error":"#N/A"},{"$error":"#N/A"},{"$error":"#N/A"},{"$error":"#N/A"},0,{"$error":"#N/A"},"","","",null,{"$error":"#N/A"}]
["23-3-2021","17:37:00","2021-03-23T17:37:00",null,{"$f":"_xlfn.XLOOKUP(C340,Data!C:C,Data!I:I)","v":{"$error":"#N/A"}},{"$error":"#N/A"},{"$f":"_xlfn.XLOOKUP(C340,Data!C:C,Data!G:G,0)","v":0},{"$f":"_xlfn.XLOOKUP(C340,Data!C:C,Data!F:F)","v":{"$error":"#N/A"}},{"$f":"_xlfn.XLOOKUP(C340,Data!C:C,Data!H:H,0)","v":0},{"$error":"#N/A"},{"$error":"#N/A"},{"$error":"#N/A"},{"$error":"#N/A"},{"$error":"#N/A"},0,{"$error":"#N/A"},"","","",null,{"$error":"#N/A"}]
["23-3-2021","17:38:00","2021-03-23T17:38:00",null,{"$f":"_xlfn.XLOOKUP(C341,Data!C:C,Data!I:I)","v":{"$error":"#N/A"}},{"$error":"#N/A"},{"$f":"_xlfn.XLOOKUP(C341,Data!C:C,Data!G:G,0)","v":0},{"$f":"_xlfn.XLOOKUP(C341,Data!C:C,Data!F:F)","v":{"$error":"#N/A"}},{"$f":"_xlfn.XLOOKUP(C341,Data!C:C,Data!H:H,0)","v":0},{"$error":"#N/A"},{"$error":"#N/A"},{"$error":"#N/A"},{"$error":"#N/A"},{"$error":"#N/A"},0,{"$error":"#N/A"},"","","",null,{"$error":"#N/A"}]
["23-3-2021","17:39:00","2021-03-23T17:39:00",null,{"$f":"_xlfn.XLOOKUP(C342,Data!C:C,Data!I:I)","v":{"$error":"#N/A"}},{"$error":"#N/A"},{"$f":"_xlfn.XLOOKUP(C342,Data!C:C,Data!G:G,0)","v":0},{"$f":"_xlfn.XLOOKUP(C342,Data!C:C,Data!F:F)","v":{"$error":"#N/A"}},{"$f":"_xlfn.XLOOKUP(C342,Data!C:C,Data!H:H,0)","v":0},{"$error":"#N/A"},{"$error":"#N/A"},{"$error":"#N/A"},{"$error":"#N/A"},{"$error":"#N/A"},0,{"$error":"#N/A"},"","","",null,{"$error":"#N/A"}]
["23-3-2021","17:40:00","2021-03-23T17:40:00",null,{"$f":"_xlfn.XLOOKUP(C343,Data!C:C,Data!I:I)","v":{"$error":"#N/A"}},{"$error":"#N/A"},{"$f":"_xlfn.XLOOKUP(C343,Data!C:C,Data!G:G,0)","v":0},{"$f":"_xlfn.XLOOKUP(C343,Data!C:C,Data!F:F)","v":{"$error":"#N/A"}},{"$f":"_xlfn.XLOOKUP(C343,Data!C:C,Data!H:H,0)","v":0},{"$error":"#N/A"},{"$error":"#N/A"},{"$error":"#N/A"},{"$error":"#N/A"},{"$error":"#N/A"},0,{"$error":"#N/A"},"","","",null,{"$error":"#N/A"}]
["23-3-2021","17:41:00","2021-03-23T17:41:00",null,{"$f":"_xlfn.XLOOKUP(C344,Data!C:C,Data!I:I)","v":{"$error":"#N/A"}},{"$error":"#N/A"},{"$f":"_xlfn.XLOOKUP(C344,Data!C:C,Data!G:G,0)","v":0},{"$f":"_xlfn.XLOOKUP(C344,Data!C:C,Data!F:F)","v":{"$error":"#N/A"}},{"$f":"_xlfn.XLOOKUP(C344,Data!C:C,Data!H:H,0)","v":0},{"$error":"#N/A"},{"$error":"#N/A"},{"$error":"#N/A"},{"$error":"#N/A"},{"$error":"#N/A"},0,{"$error":"#N/A"},"","","",null,{"$error":"#N/A"}]
["23-3-2021","17:42:00","2021-03-23T17:42:00",null,{"$f":"_xlfn.XLOOKUP(C345,Data!C:C,Data!I:I)","v":{"$error":"#N/A"}},{"$error":"#N/A"},{"$f":"_xlfn.XLOOKUP(C345,Data!C:C,Data!G:G,0)","v":0},{"$f":"_xlfn.XLOOKUP(C345,Data!C:C,Data!F:F)","v":{"$error":"#N/A"}},{"$f":"_xlfn.XLOOKUP(C345,Data!C:C,Data!H:H,0)","v":0},{"$error":"#N/A"},{"$error":"#N/A"},{"$error":"#N/A"},{"$error":"#N/A"},{"$error":"#N/A"},0,{"$error":"#N/A"},"","","",null,{"$error":"#N/A"}]
["23-3-2021","17:43:00","2021-03-23T17:43:00",null,{"$f":"_xlfn.XLOOKUP(C346,Data!C:C,Data!I:I)","v":{"$error":"#N/A"}},{"$error":"#N/A"},{"$f":"_xlfn.XLOOKUP(C346,Data!C:C,Data!G:G,0)","v":0},{"$f":"_xlfn.XLOOKUP(C346,Data!C:C,Data!F:F)","v":{"$error":"#N/A"}},{"$f":"_xlfn.XLOOKUP(C346,Data!C:C,Data!H:H,0)","v":0},{"$error":"#N/A"},{"$error":"#N/A"},{"$error":"#N/A"},{"$error":"#N/A"},{"$error":"#N/A"},0,{"$error":"#N/A"},"","","",null,{"$error":"#N/A"}]
["23-3-2021","17:44:00","2021-03-23T17:44:00",null,{"$f":"_xlfn.XLOOKUP(C347,Data!C:C,Data!I:I)","v":{"$error":"#N/A"}},{"$error":"#N/A"},{"$f":"_xlfn.XLOOKUP(C347,Data!C:C,Data!G:G,0)","v":0},{"$f":"_xlfn.XLOOKUP(C347,Data!C:C,Data!F:F)","v":{"$error":"#N/A"}},{"$f":"_xlfn.XLOOKUP(C347,Data!C:C,Data!H:H,0)","v":0},{"$error":"#N/A"},{"$error":"#N/A"},{"$error":"#N/A"},{"$error":"#N/A"},{"$error":"#N/A"},0,{"$error":"#N/A"},"","","",null,{"$error":"#N/A"}]
["23-3-2021","17:45:00","2021-03-23T17:45:00",null,{"$f":"_xlfn.XLOOKUP(C348,Data!C:C,Data!I:I)","v":{"$error":"#N/A"}},{"$error":"#N/A"},{"$f":"_xlfn.XLOOKUP(C348,Data!C:C,Data!G:G,0)","v":0},{"$f":"_xlfn.XLOOKUP(C348,Data!C:C,Data!F:F)","v":{"$error":"#N/A"}},{"$f":"_xlfn.XLOOKUP(C348,Data!C:C,Data!H:H,0)","v":0},{"$error":"#N/A"},{"$error":"#N/A"},{"$error":"#N/A"},{"$error":"#N/A"},{"$error":"#N/A"},0,{"$error":"#N/A"},"","","",null,{"$error":"#N/A"}]
["23-3-2021","17:46:00","2021-03-23T17:46:00",null,{"$f":"_xlfn.XLOOKUP(C349,Data!C:C,Data!I:I)","v":{"$error":"#N/A"}},{"$error":"#N/A"},{"$f":"_xlfn.XLOOKUP(C349,Data!C:C,Data!G:G,0)","v":0},{"$f":"_xlfn.XLOOKUP(C349,Data!C:C,Data!F:F)","v":{"$error":"#N/A"}},{"$f":"_xlfn.XLOOKUP(C349,Data!C:C,Data!H:H,0)","v":0},{"$error":"#N/A"},{"$error":"#N/A"},{"$error":"#N/A"},{"$error":"#N/A"},{"$error":"#N/A"},0,{"$error":"#N/A"},"","","",null,{"$error":"#N/A"}]
["23-3-2021","17:47:00","2021-03-23T17:47:00",null,{"$f":"_xlfn.XLOOKUP(C350,Data!C:C,Data!I:I)","v":{"$error":"#N/A"}},{"$error":"#N/A"},{"$f":"_xlfn.XLOOKUP(C350,Data!C:C,Data!G:G,0)","v":0},{"$f":"_xlfn.XLOOKUP(C350,Data!C:C,Data!F:F)","v":{"$error":"#N/A"}},{"$f":"_xlfn.XLOOKUP(C350,Data!C:C,Data!H:H,0)","v":0},{"$error":"#N/A"},{"$error":"#N/A"},{"$error":"#N/A"},{"$error":"#N/A"},{"$error":"#N/A"},0,{"$error":"#N/A"},"","","",null,{"$error":"#N/A"}]
["23-3-2021","17:48:00","2021-03-23T17:48:00",null,{"$f":"_xlfn.XLOOKUP(C351,Data!C:C,Data!I:I)","v":{"$error":"#N/A"}},{"$error":"#N/A"},{"$f":"_xlfn.XLOOKUP(C351,Data!C:C,Data!G:G,0)","v":0},{"$f":"_xlfn.XLOOKUP(C351,Data!C:C,Data!F:F)","v":{"$error":"#N/A"}},{"$f":"_xlfn.XLOOKUP(C351,Data!C:C,Data!H:H,0)","v":0},{"$error":"#N/A"},{"$error":"#N/A"},{"$error":"#N/A"},{"$error":"#N/A"},{"$error":"#N/A"},0,{"$error":"#N/A"},"","","",null,{"$error":"#N/A"}]
["23-3-2021","17:49:00","2021-03-23T17:49:00",null,{"$f":"_xlfn.XLOOKUP(C352,Data!C:C,Data!I:I)","v":{"$error":"#N/A"}},{"$error":"#N/A"},{"$f":"_xlfn.XLOOKUP(C352,Data!C:C,Data!G:G,0)","v":0},{"$f":"_xlfn.XLOOKUP(C352,Data!C:C,Data!F:F)","v":{"$error":"#N/A"}},{"$f":"_xlfn.XLOOKUP(C352,Data!C:C,Data!H:H,0)","v":0},{"$error":"#N/A"},{"$error":"#N/A"},{"$error":"#N/A"},{"$error":"#N/A"},{"$error":"#N/A"},0,{"$error":"#N/A"},"","","",null,{"$error":"#N/A"}]
["23-3-2021","17:50:00","2021-03-23T17:50:00",null,{"$f":"_xlfn.XLOOKUP(C353,Data!C:C,Data!I:I)","v":{"$error":"#N/A"}},{"$error":"#N/A"},{"$f":"_xlfn.XLOOKUP(C353,Data!C:C,Data!G:G,0)","v":0},{"$f":"_xlfn.XLOOKUP(C353,Data!C:C,Data!F:F)","v":{"$error":"#N/A"}},{"$f":"_xlfn.XLOOKUP(C353,Data!C:C,Data!H:H,0)","v":0},{"$error":"#N/A"},{"$error":"#N/A"},{"$error":"#N/A"},{"$error":"#N/A"},{"$error":"#N/A"},0,{"$error":"#N/A"},"","","",null,{"$error":"#N/A"}]
["23-3-2021","17:51:00","2021-03-23T17:51:00",null,{"$f":"_xlfn.XLOOKUP(C354,Data!C:C,Data!I:I)","v":{"$error":"#N/A"}},{"$error":"#N/A"},{"$f":"_xlfn.XLOOKUP(C354,Data!C:C,Data!G:G,0)","v":0},{"$f":"_xlfn.XLOOKUP(C354,Data!C:C,Data!F:F)","v":{"$error":"#N/A"}},{"$f":"_xlfn.XLOOKUP(C354,Data!C:C,Data!H:H,0)","v":0},{"$error":"#N/A"},{"$error":"#N/A"},{"$error":"#N/A"},{"$error":"#N/A"},{"$error":"#N/A"},0,{"$error":"#N/A"},"","","",null,{"$error":"#N/A"}]
["23-3-2021","17:52:00","2021-03-23T17:52:00",null,{"$f":"_xlfn.XLOOKUP(C355,Data!C:C,Data!I:I)","v":{"$error":"#N/A"}},{"$error":"#N/A"},{"$f":"_xlfn.XLOOKUP(C355,Data!C:C,Data!G:G,0)","v":0},{"$f":"_xlfn.XLOOKUP(C355,Data!C:C,Data!F:F)","v":{"$error":"#N/A"}},{"$f":"_xlfn.XLOOKUP(C355,Data!C:C,Data!H:H,0)","v":0},{"$error":"#N/A"},{"$error":"#N/A"},{"$error":"#N/A"},{"$error":"#N/A"},{"$error":"#N/A"},0,{"$error":"#N/A"},"","","",null,{"$error":"#N/A"}]
["23-3-2021","17:53:00","2021-03-23T17:53:00",null,{"$f":"_xlfn.XLOOKUP(C356,Data!C:C,Data!I:I)","v":{"$error":"#N/A"}},{"$error":"#N/A"},{"$f":"_xlfn.XLOOKUP(C356,Data!C:C,Data!G:G,0)","v":0},{"$f":"_xlfn.XLOOKUP(C356,Data!C:C,Data!F:F)","v":{"$error":"#N/A"}},{"$f":"_xlfn.XLOOKUP(C356,Data!C:C,Data!H:H,0)","v":0},{"$error":"#N/A"},{"$error":"#N/A"},{"$error":"#N/A"},{"$error":"#N/A"},{"$error":"#N/A"},0,{"$error":"#N/A"},"","","",null,{"$error":"#N/A"}]
["23-3-2021","17:54:00","2021-03-23T17:54:00",null,{"$f":"_xlfn.XLOOKUP(C357,Data!C:C,Data!I:I)","v":{"$error":"#N/A"}},{"$error":"#N/A"},{"$f":"_xlfn.XLOOKUP(C357,Data!C:C,Data!G:G,0)","v":0},{"$f":"_xlfn.XLOOKUP(C357,Data!C:C,Data!F:F)","v":{"$error":"#N/A"}},{"$f":"_xlfn.XLOOKUP(C357,Data!C:C,Data!H:H,0)","v":0},{"$error":"#N/A"},{"$error":"#N/A"},{"$error":"#N/A"},{"$error":"#N/A"},{"$error":"#N/A"},0,{"$error":"#N/A"},"","","",null,{"$error":"#N/A"}]
["23-3-2021","17:55:00","2021-03-23T17:55:00",null,{"$f":"_xlfn.XLOOKUP(C358,Data!C:C,Data!I:I)","v":{"$error":"#N/A"}},{"$error":"#N/A"},{"$f":"_xlfn.XLOOKUP(C358,Data!C:C,Data!G:G,0)","v":0},{"$f":"_xlfn.XLOOKUP(C358,Data!C:C,Data!F:F)","v":{"$error":"#N/A"}},{"$f":"_xlfn.XLOOKUP(C358,Data!C:C,Data!H:H,0)","v":0},{"$error":"#N/A"},{"$error":"#N/A"},{"$error":"#N/A"},{"$error":"#N/A"},{"$error":"#N/A"},0,{"$error":"#N/A"},"","","",null,{"$error":"#N/A"}]
["23-3-2021","17:56:00","2021-03-23T17:56:00",null,{"$f":"_xlfn.XLOOKUP(C359,Data!C:C,Data!I:I)","v":{"$error":"#N/A"}},{"$error":"#N/A"},{"$f":"_xlfn.XLOOKUP(C359,Data!C:C,Data!G:G,0)","v":0},{"$f":"_xlfn.XLOOKUP(C359,Data!C:C,Data!F:F)","v":{"$error":"#N/A"}},{"$f":"_xlfn.XLOOKUP(C359,Data!C:C,Data!H:H,0)","v":0},{"$error":"#N/A"},{"$error":"#N/A"},{"$error":"#N/A"},{"$error":"#N/A"},{"$error":"#N/A"},0,{"$error":"#N/A"},"","","",null,{"$error":"#N/A"}]
["23-3-2021","17:57:00","2021-03-23T17:57:00",null,{"$f":"_xlfn.XLOOKUP(C360,Data!C:C,Data!I:I)","v":{"$error":"#N/A"}},{"$error":"#N/A"},{"$f":"_xlfn.XLOOKUP(C360,Data!C:C,Data!G:G,0)","v":0},{"$f":"_xlfn.XLOOKUP(C360,Data!C:C,Data!F:F)","v":{"$error":"#N/A"}},{"$f":"_xlfn.XLOOKUP(C360,Data!C:C,Data!H:H,0)","v":0},{"$error":"#N/A"},{"$error":"#N/A"},{"$error":"#N/A"},{"$error":"#N/A"},{"$error":"#N/A"},0,{"$error":"#N/A"},"","","",null,{"$error":"#N/A"}]
["23-3-2021","17:58:00","2021-03-23T17:58:00",null,{"$f":"_xlfn.XLOOKUP(C361,Data!C:C,Data!I:I)","v":{"$error":"#N/A"}},{"$error":"#N/A"},{"$f":"_xlfn.XLOOKUP(C361,Data!C:C,Data!G:G,0)","v":0},{"$f":"_xlfn.XLOOKUP(C361,Data!C:C,Data!F:F)","v":{"$error":"#N/A"}},{"$f":"_xlfn.XLOOKUP(C361,Data!C:C,Data!H:H,0)","v":0},{"$error":"#N/A"},{"$error":"#N/A"},{"$error":"#N/A"},{"$error":"#N/A"},{"$error":"#N/A"},0,{"$error":"#N/A"},"","","",null,{"$error":"#N/A"}]
["23-3-2021","17:59:00","2021-03-23T17:59:00",null,{"$f":"_xlfn.XLOOKUP(C362,Data!C:C,Data!I:I)","v":{"$error":"#N/A"}},{"$error":"#N/A"},{"$f":"_xlfn.XLOOKUP(C362,Data!C:C,Data!G:G,0)","v":0},{"$f":"_xlfn.XLOOKUP(C362,Data!C:C,Data!F:F)","v":{"$error":"#N/A"}},{"$f":"_xlfn.XLOOKUP(C362,Data!C:C,Data!H:H,0)","v":0},{"$error":"#N/A"},{"$error":"#N/A"},{"$error":"#N/A"},{"$error":"#N/A"},{"$error":"#N/A"},0,{"$error":"#N/A"},"","","",null,{"$error":"#N/A"}]
["23-3-2021","18:00:00","2021-03-23T18:00:00",null,{"$f":"_xlfn.XLOOKUP(C363,Data!C:C,Data!I:I)","v":{"$error":"#N/A"}},{"$error":"#N/A"},{"$f":"_xlfn.XLOOKUP(C363,Data!C:C,Data!G:G,0)","v":0},{"$f":"_xlfn.XLOOKUP(C363,Data!C:C,Data!F:F)","v":{"$error":"#N/A"}},{"$f":"_xlfn.XLOOKUP(C363,Data!C:C,Data!H:H,0)","v":0},{"$error":"#N/A"},{"$error":"#N/A"},{"$error":"#N/A"},{"$error":"#N/A"},{"$error":"#N/A"},0,{"$error":"#N/A"},"","","",null,{"$error":"#N/A"}]
["23-3-2021","18:01:00","2021-03-23T18:01:00",null,{"$f":"_xlfn.XLOOKUP(C364,Data!C:C,Data!I:I)","v":{"$error":"#N/A"}},{"$error":"#N/A"},{"$f":"_xlfn.XLOOKUP(C364,Data!C:C,Data!G:G,0)","v":0},{"$f":"_xlfn.XLOOKUP(C364,Data!C:C,Data!F:F)","v":{"$error":"#N/A"}},{"$f":"_xlfn.XLOOKUP(C364,Data!C:C,Data!H:H,0)","v":0},{"$error":"#N/A"},{"$error":"#N/A"},{"$error":"#N/A"},{"$error":"#N/A"},{"$error":"#N/A"},0,{"$error":"#N/A"},"","","",null,{"$error":"#N/A"}]
["23-3-2021","18:02:00","2021-03-23T18:02:00",null,{"$f":"_xlfn.XLOOKUP(C365,Data!C:C,Data!I:I)","v":{"$error":"#N/A"}},{"$error":"#N/A"},{"$f":"_xlfn.XLOOKUP(C365,Data!C:C,Data!G:G,0)","v":0},{"$f":"_xlfn.XLOOKUP(C365,Data!C:C,Data!F:F)","v":{"$error":"#N/A"}},{"$f":"_xlfn.XLOOKUP(C365,Data!C:C,Data!H:H,0)","v":0},{"$error":"#N/A"},{"$error":"#N/A"},{"$error":"#N/A"},{"$error":"#N/A"},{"$error":"#N/A"},0,{"$error":"#N/A"},"","","",null,{"$error":"#N/A"}]
["23-3-2021","18:03:00","2021-03-23T18:03:00",null,{"$f":"_xlfn.XLOOKUP(C366,Data!C:C,Data!I:I)","v":{"$error":"#N/A"}},{"$error":"#N/A"},{"$f":"_xlfn.XLOOKUP(C366,Data!C:C,Data!G:G,0)","v":0},{"$f":"_xlfn.XLOOKUP(C366,Data!C:C,Data!F:F)","v":{"$error":"#N/A"}},{"$f":"_xlfn.XLOOKUP(C366,Data!C:C,Data!H:H,0)","v":0},{"$error":"#N/A"},{"$error":"#N/A"},{"$error":"#N/A"},{"$error":"#N/A"},{"$error":"#N/A"},0,{"$error":"#N/A"},"","","",null,{"$error":"#N/A"}]
["23-3-2021","18:04:00","2021-03-23T18:04:00",null,{"$f":"_xlfn.XLOOKUP(C367,Data!C:C,Data!I:I)","v":{"$error":"#N/A"}},{"$error":"#N/A"},{"$f":"_xlfn.XLOOKUP(C367,Data!C:C,Data!G:G,0)","v":0},{"$f":"_xlfn.XLOOKUP(C367,Data!C:C,Data!F:F)","v":{"$error":"#N/A"}},{"$f":"_xlfn.XLOOKUP(C367,Data!C:C,Data!H:H,0)","v":0},{"$error":"#N/A"},{"$error":"#N/A"},{"$error":"#N/A"},{"$error":"#N/A"},{"$error":"#N/A"},0,{"$error":"#N/A"},"","","",null,{"$error":"#N/A"}]
["23-3-2021","18:05:00","2021-03-23T18:05:00",null,{"$f":"_xlfn.XLOOKUP(C368,Data!C:C,Data!I:I)","v":{"$error":"#N/A"}},{"$error":"#N/A"},{"$f":"_xlfn.XLOOKUP(C368,Data!C:C,Data!G:G,0)","v":0},{"$f":"_xlfn.XLOOKUP(C368,Data!C:C,Data!F:F)","v":{"$error":"#N/A"}},{"$f":"_xlfn.XLOOKUP(C368,Data!C:C,Data!H:H,0)","v":0},{"$error":"#N/A"},{"$error":"#N/A"},{"$error":"#N/A"},{"$error":"#N/A"},{"$error":"#N/A"},0,{"$error":"#N/A"},"","","",null,{"$error":"#N/A"}]
["23-3-2021","18:06:00","2021-03-23T18:06:00",null,{"$f":"_xlfn.XLOOKUP(C369,Data!C:C,Data!I:I)","v":{"$error":"#N/A"}},{"$error":"#N/A"},{"$f":"_xlfn.XLOOKUP(C369,Data!C:C,Data!G:G,0)","v":0},{"$f":"_xlfn.XLOOKUP(C369,Data!C:C,Data!F:F)","v":{"$error":"#N/A"}},{"$f":"_xlfn.XLOOKUP(C369,Data!C:C,Data!H:H,0)","v":0},{"$error":"#N/A"},{"$error":"#N/A"},{"$error":"#N/A"},{"$error":"#N/A"},{"$error":"#N/A"},0,{"$error":"#N/A"},"","","",null,{"$error":"#N/A"}]
["23-3-2021","18:07:00","2021-03-23T18:07:00",null,{"$f":"_xlfn.XLOOKUP(C370,Data!C:C,Data!I:I)","v":{"$error":"#N/A"}},{"$error":"#N/A"},{"$f":"_xlfn.XLOOKUP(C370,Data!C:C,Data!G:G,0)","v":0},{"$f":"_xlfn.XLOOKUP(C370,Data!C:C,Data!F:F)","v":{"$error":"#N/A"}},{"$f":"_xlfn.XLOOKUP(C370,Data!C:C,Data!H:H,0)","v":0},{"$error":"#N/A"},{"$error":"#N/A"},{"$error":"#N/A"},{"$error":"#N/A"},{"$error":"#N/A"},0,{"$error":"#N/A"},"","","",null,{"$error":"#N/A"}]
["23-3-2021","18:08:00","2021-03-23T18:08:00",null,{"$f":"_xlfn.XLOOKUP(C371,Data!C:C,Data!I:I)","v":{"$error":"#N/A"}},{"$error":"#N/A"},{"$f":"_xlfn.XLOOKUP(C371,Data!C:C,Data!G:G,0)","v":0},{"$f":"_xlfn.XLOOKUP(C371,Data!C:C,Data!F:F)","v":{"$error":"#N/A"}},{"$f":"_xlfn.XLOOKUP(C371,Data!C:C,Data!H:H,0)","v":0},{"$error":"#N/A"},{"$error":"#N/A"},{"$error":"#N/A"},{"$error":"#N/A"},{"$error":"#N/A"},0,{"$error":"#N/A"},"","","",null,{"$error":"#N/A"}]
["23-3-2021","18:09:00","2021-03-23T18:09:00",null,{"$f":"_xlfn.XLOOKUP(C372,Data!C:C,Data!I:I)","v":{"$error":"#N/A"}},{"$error":"#N/A"},{"$f":"_xlfn.XLOOKUP(C372,Data!C:C,Data!G:G,0)","v":0},{"$f":"_xlfn.XLOOKUP(C372,Data!C:C,Data!F:F)","v":{"$error":"#N/A"}},{"$f":"_xlfn.XLOOKUP(C372,Data!C:C,Data!H:H,0)","v":0},{"$error":"#N/A"},{"$error":"#N/A"},{"$error":"#N/A"},{"$error":"#N/A"},{"$error":"#N/A"},0,{"$error":"#N/A"},"","","",null,{"$error":"#N/A"}]
["23-3-2021","18:10:00","2021-03-23T18:10:00",null,{"$f":"_xlfn.XLOOKUP(C373,Data!C:C,Data!I:I)","v":{"$error":"#N/A"}},{"$error":"#N/A"},{"$f":"_xlfn.XLOOKUP(C373,Data!C:C,Data!G:G,0)","v":0},{"$f":"_xlfn.XLOOKUP(C373,Data!C:C,Data!F:F)","v":{"$error":"#N/A"}},{"$f":"_xlfn.XLOOKUP(C373,Data!C:C,Data!H:H,0)","v":0},{"$error":"#N/A"},{"$error":"#N/A"},{"$error":"#N/A"},{"$error":"#N/A"},{"$error":"#N/A"},0,{"$error":"#N/A"},"","","",null,{"$error":"#N/A"}]
["23-3-2021","18:11:00","2021-03-23T18:11:00",null,{"$f":"_xlfn.XLOOKUP(C374,Data!C:C,Data!I:I)","v":{"$error":"#N/A"}},{"$error":"#N/A"},{"$f":"_xlfn.XLOOKUP(C374,Data!C:C,Data!G:G,0)","v":0},{"$f":"_xlfn.XLOOKUP(C374,Data!C:C,Data!F:F)","v":{"$error":"#N/A"}},{"$f":"_xlfn.XLOOKUP(C374,Data!C:C,Data!H:H,0)","v":0},{"$error":"#N/A"},{"$error":"#N/A"},{"$error":"#N/A"},{"$error":"#N/A"},{"$error":"#N/A"},0,{"$error":"#N/A"},"","","",null,{"$error":"#N/A"}]
["23-3-2021","18:12:00","2021-03-23T18:12:00",null,{"$f":"_xlfn.XLOOKUP(C375,Data!C:C,Data!I:I)","v":{"$error":"#N/A"}},{"$error":"#N/A"},{"$f":"_xlfn.XLOOKUP(C375,Data!C:C,Data!G:G,0)","v":0},{"$f":"_xlfn.XLOOKUP(C375,Data!C:C,Data!F:F)","v":{"$error":"#N/A"}},{"$f":"_xlfn.XLOOKUP(C375,Data!C:C,Data!H:H,0)","v":0},{"$error":"#N/A"},{"$error":"#N/A"},{"$error":"#N/A"},{"$error":"#N/A"},{"$error":"#N/A"},0,{"$error":"#N/A"},"","","",null,{"$error":"#N/A"}]
["23-3-2021","18:13:00","2021-03-23T18:13:00",null,{"$f":"_xlfn.XLOOKUP(C376,Data!C:C,Data!I:I)","v":{"$error":"#N/A"}},{"$error":"#N/A"},{"$f":"_xlfn.XLOOKUP(C376,Data!C:C,Data!G:G,0)","v":0},{"$f":"_xlfn.XLOOKUP(C376,Data!C:C,Data!F:F)","v":{"$error":"#N/A"}},{"$f":"_xlfn.XLOOKUP(C376,Data!C:C,Data!H:H,0)","v":0},{"$error":"#N/A"},{"$error":"#N/A"},{"$error":"#N/A"},{"$error":"#N/A"},{"$error":"#N/A"},0,{"$error":"#N/A"},"","","",null,{"$error":"#N/A"}]
["23-3-2021","18:14:00","2021-03-23T18:14:00",null,{"$f":"_xlfn.XLOOKUP(C377,Data!C:C,Data!I:I)","v":{"$error":"#N/A"}},{"$error":"#N/A"},{"$f":"_xlfn.XLOOKUP(C377,Data!C:C,Data!G:G,0)","v":0},{"$f":"_xlfn.XLOOKUP(C377,Data!C:C,Data!F:F)","v":{"$error":"#N/A"}},{"$f":"_xlfn.XLOOKUP(C377,Data!C:C,Data!H:H,0)","v":0},{"$error":"#N/A"},{"$error":"#N/A"},{"$error":"#N/A"},{"$error":"#N/A"},{"$error":"#N/A"},0,{"$error":"#N/A"},"","","",null,{"$error":"#N/A"}]
["23-3-2021","18:15:00","2021-03-23T18:15:00",null,{"$f":"_xlfn.XLOOKUP(C378,Data!C:C,Data!I:I)","v":{"$error":"#N/A"}},{"$error":"#N/A"},{"$f":"_xlfn.XLOOKUP(C378,Data!C:C,Data!G:G,0)","v":0},{"$f":"_xlfn.XLOOKUP(C378,Data!C:C,Data!F:F)","v":{"$error":"#N/A"}},{"$f":"_xlfn.XLOOKUP(C378,Data!C:C,Data!H:H,0)","v":0},{"$error":"#N/A"},{"$error":"#N/A"},{"$error":"#N/A"},{"$error":"#N/A"},{"$error":"#N/A"},0,{"$error":"#N/A"},"","","",null,{"$error":"#N/A"}]
["23-3-2021","18:16:00","2021-03-23T18:16:00",null,{"$f":"_xlfn.XLOOKUP(C379,Data!C:C,Data!I:I)","v":{"$error":"#N/A"}},{"$error":"#N/A"},{"$f":"_xlfn.XLOOKUP(C379,Data!C:C,Data!G:G,0)","v":0},{"$f":"_xlfn.XLOOKUP(C379,Data!C:C,Data!F:F)","v":{"$error":"#N/A"}},{"$f":"_xlfn.XLOOKUP(C379,Data!C:C,Data!H:H,0)","v":0},{"$error":"#N/A"},{"$error":"#N/A"},{"$error":"#N/A"},{"$error":"#N/A"},{"$error":"#N/A"},0,{"$error":"#N/A"},"","","",null,{"$error":"#N/A"}]
["23-3-2021","18:17:00","2021-03-23T18:17:00",null,{"$f":"_xlfn.XLOOKUP(C380,Data!C:C,Data!I:I)","v":{"$error":"#N/A"}},{"$error":"#N/A"},{"$f":"_xlfn.XLOOKUP(C380,Data!C:C,Data!G:G,0)","v":0},{"$f":"_xlfn.XLOOKUP(C380,Data!C:C,Data!F:F)","v":{"$error":"#N/A"}},{"$f":"_xlfn.XLOOKUP(C380,Data!C:C,Data!H:H,0)","v":0},{"$error":"#N/A"},{"$error":"#N/A"},{"$error":"#N/A"},{"$error":"#N/A"},{"$error":"#N/A"},0,{"$error":"#N/A"},"","","",null,{"$error":"#N/A"}]
["23-3-2021","18:18:00","2021-03-23T18:18:00",null,{"$f":"_xlfn.XLOOKUP(C381,Data!C:C,Data!I:I)","v":{"$error":"#N/A"}},{"$error":"#N/A"},{"$f":"_xlfn.XLOOKUP(C381,Data!C:C,Data!G:G,0)","v":0},{"$f":"_xlfn.XLOOKUP(C381,Data!C:C,Data!F:F)","v":{"$error":"#N/A"}},{"$f":"_xlfn.XLOOKUP(C381,Data!C:C,Data!H:H,0)","v":0},{"$error":"#N/A"},{"$error":"#N/A"},{"$error":"#N/A"},{"$error":"#N/A"},{"$error":"#N/A"},0,{"$error":"#N/A"},"","","",null,{"$error":"#N/A"}]
["23-3-2021","18:19:00","2021-03-23T18:19:00",null,{"$f":"_xlfn.XLOOKUP(C382,Data!C:C,Data!I:I)","v":{"$error":"#N/A"}},{"$error":"#N/A"},{"$f":"_xlfn.XLOOKUP(C382,Data!C:C,Data!G:G,0)","v":0},{"$f":"_xlfn.XLOOKUP(C382,Data!C:C,Data!F:F)","v":{"$error":"#N/A"}},{"$f":"_xlfn.XLOOKUP(C382,Data!C:C,Data!H:H,0)","v":0},{"$error":"#N/A"},{"$error":"#N/A"},{"$error":"#N/A"},{"$error":"#N/A"},{"$error":"#N/A"},0,{"$error":"#N/A"},"","","",null,{"$error":"#N/A"}]
["23-3-2021","18:20:00","2021-03-23T18:20:00",null,{"$f":"_xlfn.XLOOKUP(C383,Data!C:C,Data!I:I)","v":{"$error":"#N/A"}},{"$error":"#N/A"},{"$f":"_xlfn.XLOOKUP(C383,Data!C:C,Data!G:G,0)","v":0},{"$f":"_xlfn.XLOOKUP(C383,Data!C:C,Data!F:F)","v":{"$error":"#N/A"}},{"$f":"_xlfn.XLOOKUP(C383,Data!C:C,Data!H:H,0)","v":0},{"$error":"#N/A"},{"$error":"#N/A"},{"$error":"#N/A"},{"$error":"#N/A"},{"$error":"#N/A"},0,{"$error":"#N/A"},"","","",null,{"$error":"#N/A"}]
["23-3-2021","18:21:00","2021-03-23T18:21:00",null,{"$f":"_xlfn.XLOOKUP(C384,Data!C:C,Data!I:I)","v":{"$error":"#N/A"}},{"$error":"#N/A"},{"$f":"_xlfn.XLOOKUP(C384,Data!C:C,Data!G:G,0)","v":0},{"$f":"_xlfn.XLOOKUP(C384,Data!C:C,Data!F:F)","v":{"$error":"#N/A"}},{"$f":"_xlfn.XLOOKUP(C384,Data!C:C,Data!H:H,0)","v":0},{"$f":"IF(AND(MAX(E382:E383)=255,MAX(E384:E385)=255,  E383+E384+E385<3*255, OR(I384=123,I384=124,I384=106,I384=108)),   I384,   IF(AND(MAX(E382:E383)=255,MAX(E384:E385)=255,  E383+E384+E385<3*255, OR(I384>=80,I384<100)),106,108))","v":{"$error":"#N/A"}},{"$error":"#N/A"},{"$error":"#N/A"},{"$error":"#N/A"},{"$error":"#N/A"},0,{"$error":"#N/A"},"","","",null,{"$error":"#N/A"}]
["23-3-2021","18:22:00","2021-03-23T18:22:00",null,{"$f":"_xlfn.XLOOKUP(C385,Data!C:C,Data!I:I)","v":{"$error":"#N/A"}},{"$error":"#N/A"},{"$f":"_xlfn.XLOOKUP(C385,Data!C:C,Data!G:G,0)","v":0},{"$f":"_xlfn.XLOOKUP(C385,Data!C:C,Data!F:F)","v":{"$error":"#N/A"}},{"$f":"_xlfn.XLOOKUP(C385,Data!C:C,Data!H:H,0)","v":0},{"$error":"#N/A"},{"$error":"#N/A"},{"$error":"#N/A"},{"$error":"#N/A"},{"$error":"#N/A"},0,{"$error":"#N/A"},"","","",null,{"$error":"#N/A"}]
["23-3-2021","18:23:00","2021-03-23T18:23:00",null,{"$f":"_xlfn.XLOOKUP(C386,Data!C:C,Data!I:I)","v":{"$error":"#N/A"}},{"$error":"#N/A"},{"$f":"_xlfn.XLOOKUP(C386,Data!C:C,Data!G:G,0)","v":0},{"$f":"_xlfn.XLOOKUP(C386,Data!C:C,Data!F:F)","v":{"$error":"#N/A"}},{"$f":"_xlfn.XLOOKUP(C386,Data!C:C,Data!H:H,0)","v":0},{"$error":"#N/A"},{"$error":"#N/A"},{"$error":"#N/A"},{"$error":"#N/A"},{"$error":"#N/A"},0,{"$error":"#N/A"},"","","",null,{"$error":"#N/A"}]
["23-3-2021","18:24:00",{"$f":"A387+B387","v":"2021-03-23T18:24:00"},null,{"$f":"_xlfn.XLOOKUP(C387,Data!C:C,Data!I:I)","v":{"$error":"#N/A"}},{"$error":"#N/A"},{"$f":"_xlfn.XLOOKUP(C387,Data!C:C,Data!G:G,0)","v":0},{"$f":"_xlfn.XLOOKUP(C387,Data!C:C,Data!F:F)","v":{"$error":"#N/A"}},{"$f":"_xlfn.XLOOKUP(C387,Data!C:C,Data!H:H,0)","v":0},{"$error":"#N/A"},{"$f":"IF(AND(I387<100,  I387>=80,  OR(J387=105, J387=106,  J387=123)),  5,  0)","v":{"$error":"#N/A"}},{"$error":"#N/A"},{"$error":"#N/A"},{"$error":"#N/A"},{"$f":"IFERROR(F387,0)","v":0},{"$error":"#N/A"},"","","",null,{"$error":"#N/A"}]
[{"$f":"$A$3","v":"23-3-2021"},"18:25:00","2021-03-23T18:25:00",null,{"$f":"_xlfn.XLOOKUP(C388,Data!C:C,Data!I:I)","v":{"$error":"#N/A"}},{"$error":"#N/A"},{"$f":"_xlfn.XLOOKUP(C388,Data!C:C,Data!G:G,0)","v":0},{"$f":"_xlfn.XLOOKUP(C388,Data!C:C,Data!F:F)","v":{"$error":"#N/A"}},{"$f":"_xlfn.XLOOKUP(C388,Data!C:C,Data!H:H,0)","v":0},{"$error":"#N/A"},{"$error":"#N/A"},{"$f":"IF(AND(I388<130,  I388>104,  OR(J388=105, J388=106,  J388=123),  S388>$S$1450+$S$1443),  20,  0)","v":{"$error":"#N/A"}},{"$f":"IF(AND(I388<130,  I388>104,  OR(J388=105, J388=106,  J388=123),  R388>$Q$1449,  S388<=$S$1450+$S$1443),  20,  0)","v":{"$error":"#N/A"}},{"$f":"IF(AND(I388<130,  I388>104,  OR(J388=105, J388=106,  J388=123),  R388<=$Q$1449,  S388<=$S$1450+$S$1443),  20,  0)","v":{"$error":"#N/A"}},0,{"$f":"IF(Q388=\"\",F388,IF(Q388=0,P387,Q388))","v":{"$error":"#N/A"}},{"$f":"IF(I388>109,IF(O388*$Q$1451>(O387+O389)/2,MIN(O387:O389),O388),\"\")","v":""},"","",null,{"$error":"#N/A"}]
["23-3-2021","18:26:00","2021-03-23T18:26:00",null,{"$f":"_xlfn.XLOOKUP(C389,Data!C:C,Data!I:I)","v":{"$error":"#N/A"}},{"$f":"IF(E389=255,IF(MIN(E388:E390)=255,#N/A,MIN(E388:E390)),E389)","v":{"$error":"#N/A"}},{"$f":"_xlfn.XLOOKUP(C389,Data!C:C,Data!G:G,0)","v":0},{"$f":"_xlfn.XLOOKUP(C389,Data!C:C,Data!F:F)","v":{"$error":"#N/A"}},{"$f":"_xlfn.XLOOKUP(C389,Data!C:C,Data!H:H,0)","v":0},{"$error":"#N/A"},{"$error":"#N/A"},{"$error":"#N/A"},{"$error":"#N/A"},{"$error":"#N/A"},0,{"$error":"#N/A"},"","","",null,{"$error":"#N/A"}]
["23-3-2021","18:27:00","2021-03-23T18:27:00",null,{"$f":"_xlfn.XLOOKUP(C390,Data!C:C,Data!I:I)","v":{"$error":"#N/A"}},{"$error":"#N/A"},{"$f":"_xlfn.XLOOKUP(C390,Data!C:C,Data!G:G,0)","v":0},{"$f":"_xlfn.XLOOKUP(C390,Data!C:C,Data!F:F)","v":{"$error":"#N/A"}},{"$f":"_xlfn.XLOOKUP(C390,Data!C:C,Data!H:H,0)","v":0},{"$error":"#N/A"},{"$error":"#N/A"},{"$error":"#N/A"},{"$error":"#N/A"},{"$error":"#N/A"},0,{"$error":"#N/A"},"","","",null,{"$error":"#N/A"}]
["23-3-2021","18:28:00","2021-03-23T18:28:00",null,{"$f":"_xlfn.XLOOKUP(C391,Data!C:C,Data!I:I)","v":{"$error":"#N/A"}},{"$error":"#N/A"},{"$f":"_xlfn.XLOOKUP(C391,Data!C:C,Data!G:G,0)","v":0},{"$f":"_xlfn.XLOOKUP(C391,Data!C:C,Data!F:F)","v":{"$error":"#N/A"}},{"$f":"_xlfn.XLOOKUP(C391,Data!C:C,Data!H:H,0)","v":0},{"$error":"#N/A"},{"$error":"#N/A"},{"$error":"#N/A"},{"$error":"#N/A"},{"$error":"#N/A"},0,{"$error":"#N/A"},"","","",null,{"$f":"IF(F391=\"\",\"\",AVERAGE(F387:F395))","v":{"$error":"#N/A"}}]
["23-3-2021","18:29:00","2021-03-23T18:29:00",null,{"$f":"_xlfn.XLOOKUP(C392,Data!C:C,Data!I:I)","v":{"$error":"#N/A"}},{"$error":"#N/A"},{"$f":"_xlfn.XLOOKUP(C392,Data!C:C,Data!G:G,0)","v":0},{"$f":"_xlfn.XLOOKUP(C392,Data!C:C,Data!F:F)","v":{"$error":"#N/A"}},{"$f":"_xlfn.XLOOKUP(C392,Data!C:C,Data!H:H,0)","v":0},{"$error":"#N/A"},{"$error":"#N/A"},{"$error":"#N/A"},{"$error":"#N/A"},{"$error":"#N/A"},0,{"$error":"#N/A"},"",{"$f":"IF(Q392=\"\",\"\",AVERAGE(Q388:Q396))","v":""},{"$f":"IF(Q392=\"\",\"\",MAX(Q388:Q396)-MIN(Q388:Q396))","v":""},null,{"$error":"#N/A"}]
["23-3-2021","18:30:00","2021-03-23T18:30:00",null,{"$f":"_xlfn.XLOOKUP(C393,Data!C:C,Data!I:I)","v":{"$error":"#N/A"}},{"$error":"#N/A"},{"$f":"_xlfn.XLOOKUP(C393,Data!C:C,Data!G:G,0)","v":0},{"$f":"_xlfn.XLOOKUP(C393,Data!C:C,Data!F:F)","v":{"$error":"#N/A"}},{"$f":"_xlfn.XLOOKUP(C393,Data!C:C,Data!H:H,0)","v":0},{"$error":"#N/A"},{"$error":"#N/A"},{"$error":"#N/A"},{"$error":"#N/A"},{"$error":"#N/A"},0,{"$error":"#N/A"},"","","",null,{"$error":"#N/A"}]
["23-3-2021","18:31:00","2021-03-23T18:31:00",null,{"$f":"_xlfn.XLOOKUP(C394,Data!C:C,Data!I:I)","v":{"$error":"#N/A"}},{"$error":"#N/A"},{"$f":"_xlfn.XLOOKUP(C394,Data!C:C,Data!G:G,0)","v":0},{"$f":"_xlfn.XLOOKUP(C394,Data!C:C,Data!F:F)","v":{"$error":"#N/A"}},{"$f":"_xlfn.XLOOKUP(C394,Data!C:C,Data!H:H,0)","v":0},{"$error":"#N/A"},{"$error":"#N/A"},{"$error":"#N/A"},{"$error":"#N/A"},{"$error":"#N/A"},0,{"$error":"#N/A"},"","","",null,{"$error":"#N/A"}]
["23-3-2021","18:32:00","2021-03-23T18:32:00",null,{"$f":"_xlfn.XLOOKUP(C395,Data!C:C,Data!I:I)","v":{"$error":"#N/A"}},{"$error":"#N/A"},{"$f":"_xlfn.XLOOKUP(C395,Data!C:C,Data!G:G,0)","v":0},{"$f":"_xlfn.XLOOKUP(C395,Data!C:C,Data!F:F)","v":{"$error":"#N/A"}},{"$f":"_xlfn.XLOOKUP(C395,Data!C:C,Data!H:H,0)","v":0},{"$error":"#N/A"},{"$error":"#N/A"},{"$error":"#N/A"},{"$error":"#N/A"},{"$error":"#N/A"},0,{"$error":"#N/A"},"","","",null,{"$error":"#N/A"}]
["23-3-2021","18:33:00","2021-03-23T18:33:00",null,{"$f":"_xlfn.XLOOKUP(C396,Data!C:C,Data!I:I)","v":{"$error":"#N/A"}},{"$error":"#N/A"},{"$f":"_xlfn.XLOOKUP(C396,Data!C:C,Data!G:G,0)","v":0},{"$f":"_xlfn.XLOOKUP(C396,Data!C:C,Data!F:F)","v":{"$error":"#N/A"}},{"$f":"_xlfn.XLOOKUP(C396,Data!C:C,Data!H:H,0)","v":0},{"$error":"#N/A"},{"$error":"#N/A"},{"$error":"#N/A"},{"$error":"#N/A"},{"$error":"#N/A"},0,{"$error":"#N/A"},"","","",null,{"$error":"#N/A"}]
["23-3-2021","18:34:00","2021-03-23T18:34:00",null,{"$f":"_xlfn.XLOOKUP(C397,Data!C:C,Data!I:I)","v":{"$error":"#N/A"}},{"$error":"#N/A"},{"$f":"_xlfn.XLOOKUP(C397,Data!C:C,Data!G:G,0)","v":0},{"$f":"_xlfn.XLOOKUP(C397,Data!C:C,Data!F:F)","v":{"$error":"#N/A"}},{"$f":"_xlfn.XLOOKUP(C397,Data!C:C,Data!H:H,0)","v":0},{"$error":"#N/A"},{"$error":"#N/A"},{"$error":"#N/A"},{"$error":"#N/A"},{"$error":"#N/A"},0,{"$error":"#N/A"},"","","",null,{"$error":"#N/A"}]
["23-3-2021","18:35:00","2021-03-23T18:35:00",null,{"$f":"_xlfn.XLOOKUP(C398,Data!C:C,Data!I:I)","v":{"$error":"#N/A"}},{"$error":"#N/A"},{"$f":"_xlfn.XLOOKUP(C398,Data!C:C,Data!G:G,0)","v":0},{"$f":"_xlfn.XLOOKUP(C398,Data!C:C,Data!F:F)","v":{"$error":"#N/A"}},{"$f":"_xlfn.XLOOKUP(C398,Data!C:C,Data!H:H,0)","v":0},{"$error":"#N/A"},{"$error":"#N/A"},{"$error":"#N/A"},{"$error":"#N/A"},{"$error":"#N/A"},0,{"$error":"#N/A"},"","","",null,{"$error":"#N/A"}]
["23-3-2021","18:36:00","2021-03-23T18:36:00",null,{"$f":"_xlfn.XLOOKUP(C399,Data!C:C,Data!I:I)","v":{"$error":"#N/A"}},{"$error":"#N/A"},{"$f":"_xlfn.XLOOKUP(C399,Data!C:C,Data!G:G,0)","v":0},{"$f":"_xlfn.XLOOKUP(C399,Data!C:C,Data!F:F)","v":{"$error":"#N/A"}},{"$f":"_xlfn.XLOOKUP(C399,Data!C:C,Data!H:H,0)","v":0},{"$error":"#N/A"},{"$error":"#N/A"},{"$error":"#N/A"},{"$error":"#N/A"},{"$error":"#N/A"},0,{"$error":"#N/A"},"","","",null,{"$error":"#N/A"}]
["23-3-2021","18:37:00","2021-03-23T18:37:00",null,{"$f":"_xlfn.XLOOKUP(C400,Data!C:C,Data!I:I)","v":{"$error":"#N/A"}},{"$error":"#N/A"},{"$f":"_xlfn.XLOOKUP(C400,Data!C:C,Data!G:G,0)","v":0},{"$f":"_xlfn.XLOOKUP(C400,Data!C:C,Data!F:F)","v":{"$error":"#N/A"}},{"$f":"_xlfn.XLOOKUP(C400,Data!C:C,Data!H:H,0)","v":0},{"$error":"#N/A"},{"$error":"#N/A"},{"$error":"#N/A"},{"$error":"#N/A"},{"$error":"#N/A"},0,{"$error":"#N/A"},"","","",null,{"$error":"#N/A"}]
["23-3-2021","18:38:00","2021-03-23T18:38:00",null,{"$f":"_xlfn.XLOOKUP(C401,Data!C:C,Data!I:I)","v":{"$error":"#N/A"}},{"$error":"#N/A"},{"$f":"_xlfn.XLOOKUP(C401,Data!C:C,Data!G:G,0)","v":0},{"$f":"_xlfn.XLOOKUP(C401,Data!C:C,Data!F:F)","v":{"$error":"#N/A"}},{"$f":"_xlfn.XLOOKUP(C401,Data!C:C,Data!H:H,0)","v":0},{"$error":"#N/A"},{"$error":"#N/A"},{"$error":"#N/A"},{"$error":"#N/A"},{"$error":"#N/A"},0,{"$error":"#N/A"},"","","",null,{"$error":"#N/A"}]
["23-3-2021","18:39:00","2021-03-23T18:39:00",null,{"$f":"_xlfn.XLOOKUP(C402,Data!C:C,Data!I:I)","v":{"$error":"#N/A"}},{"$error":"#N/A"},{"$f":"_xlfn.XLOOKUP(C402,Data!C:C,Data!G:G,0)","v":0},{"$f":"_xlfn.XLOOKUP(C402,Data!C:C,Data!F:F)","v":{"$error":"#N/A"}},{"$f":"_xlfn.XLOOKUP(C402,Data!C:C,Data!H:H,0)","v":0},{"$error":"#N/A"},{"$error":"#N/A"},{"$error":"#N/A"},{"$error":"#N/A"},{"$error":"#N/A"},0,{"$error":"#N/A"},"","","",null,{"$error":"#N/A"}]
["23-3-2021","18:40:00","2021-03-23T18:40:00",null,{"$f":"_xlfn.XLOOKUP(C403,Data!C:C,Data!I:I)","v":{"$error":"#N/A"}},{"$error":"#N/A"},{"$f":"_xlfn.XLOOKUP(C403,Data!C:C,Data!G:G,0)","v":0},{"$f":"_xlfn.XLOOKUP(C403,Data!C:C,Data!F:F)","v":{"$error":"#N/A"}},{"$f":"_xlfn.XLOOKUP(C403,Data!C:C,Data!H:H,0)","v":0},{"$error":"#N/A"},{"$error":"#N/A"},{"$error":"#N/A"},{"$error":"#N/A"},{"$error":"#N/A"},0,{"$error":"#N/A"},"","","",null,{"$error":"#N/A"}]
["23-3-2021","18:41:00","2021-03-23T18:41:00",null,{"$f":"_xlfn.XLOOKUP(C404,Data!C:C,Data!I:I)","v":{"$error":"#N/A"}},{"$error":"#N/A"},{"$f":"_xlfn.XLOOKUP(C404,Data!C:C,Data!G:G,0)","v":0},{"$f":"_xlfn.XLOOKUP(C404,Data!C:C,Data!F:F)","v":{"$error":"#N/A"}},{"$f":"_xlfn.XLOOKUP(C404,Data!C:C,Data!H:H,0)","v":0},{"$error":"#N/A"},{"$error":"#N/A"},{"$error":"#N/A"},{"$error":"#N/A"},{"$error":"#N/A"},0,{"$error":"#N/A"},"","","",null,{"$error":"#N/A"}]
["23-3-2021","18:42:00","2021-03-23T18:42:00",null,{"$f":"_xlfn.XLOOKUP(C405,Data!C:C,Data!I:I)","v":{"$error":"#N/A"}},{"$error":"#N/A"},{"$f":"_xlfn.XLOOKUP(C405,Data!C:C,Data!G:G,0)","v":0},{"$f":"_xlfn.XLOOKUP(C405,Data!C:C,Data!F:F)","v":{"$error":"#N/A"}},{"$f":"_xlfn.XLOOKUP(C405,Data!C:C,Data!H:H,0)","v":0},{"$error":"#N/A"},{"$error":"#N/A"},{"$error":"#N/A"},{"$error":"#N/A"},{"$error":"#N/A"},0,{"$error":"#N/A"},"","","",null,{"$error":"#N/A"}]
["23-3-2021","18:43:00","2021-03-23T18:43:00",null,{"$f":"_xlfn.XLOOKUP(C406,Data!C:C,Data!I:I)","v":{"$error":"#N/A"}},{"$error":"#N/A"},{"$f":"_xlfn.XLOOKUP(C406,Data!C:C,Data!G:G,0)","v":0},{"$f":"_xlfn.XLOOKUP(C406,Data!C:C,Data!F:F)","v":{"$error":"#N/A"}},{"$f":"_xlfn.XLOOKUP(C406,Data!C:C,Data!H:H,0)","v":0},{"$error":"#N/A"},{"$error":"#N/A"},{"$error":"#N/A"},{"$error":"#N/A"},{"$error":"#N/A"},0,{"$error":"#N/A"},"","","",null,{"$error":"#N/A"}]
["23-3-2021","18:44:00","2021-03-23T18:44:00",null,{"$f":"_xlfn.XLOOKUP(C407,Data!C:C,Data!I:I)","v":{"$error":"#N/A"}},{"$error":"#N/A"},{"$f":"_xlfn.XLOOKUP(C407,Data!C:C,Data!G:G,0)","v":0},{"$f":"_xlfn.XLOOKUP(C407,Data!C:C,Data!F:F)","v":{"$error":"#N/A"}},{"$f":"_xlfn.XLOOKUP(C407,Data!C:C,Data!H:H,0)","v":0},{"$error":"#N/A"},{"$error":"#N/A"},{"$error":"#N/A"},{"$error":"#N/A"},{"$error":"#N/A"},0,{"$error":"#N/A"},"","","",null,{"$error":"#N/A"}]
["23-3-2021","18:45:00","2021-03-23T18:45:00",null,{"$f":"_xlfn.XLOOKUP(C408,Data!C:C,Data!I:I)","v":{"$error":"#N/A"}},{"$error":"#N/A"},{"$f":"_xlfn.XLOOKUP(C408,Data!C:C,Data!G:G,0)","v":0},{"$f":"_xlfn.XLOOKUP(C408,Data!C:C,Data!F:F)","v":{"$error":"#N/A"}},{"$f":"_xlfn.XLOOKUP(C408,Data!C:C,Data!H:H,0)","v":0},{"$error":"#N/A"},{"$error":"#N/A"},{"$error":"#N/A"},{"$error":"#N/A"},{"$error":"#N/A"},0,{"$error":"#N/A"},"","","",null,{"$error":"#N/A"}]
["23-3-2021","18:46:00","2021-03-23T18:46:00",null,{"$f":"_xlfn.XLOOKUP(C409,Data!C:C,Data!I:I)","v":{"$error":"#N/A"}},{"$error":"#N/A"},{"$f":"_xlfn.XLOOKUP(C409,Data!C:C,Data!G:G,0)","v":0},{"$f":"_xlfn.XLOOKUP(C409,Data!C:C,Data!F:F)","v":{"$error":"#N/A"}},{"$f":"_xlfn.XLOOKUP(C409,Data!C:C,Data!H:H,0)","v":0},{"$error":"#N/A"},{"$error":"#N/A"},{"$error":"#N/A"},{"$error":"#N/A"},{"$error":"#N/A"},0,{"$error":"#N/A"},"","","",null,{"$error":"#N/A"}]
["23-3-2021","18:47:00","2021-03-23T18:47:00",null,{"$f":"_xlfn.XLOOKUP(C410,Data!C:C,Data!I:I)","v":{"$error":"#N/A"}},{"$error":"#N/A"},{"$f":"_xlfn.XLOOKUP(C410,Data!C:C,Data!G:G,0)","v":0},{"$f":"_xlfn.XLOOKUP(C410,Data!C:C,Data!F:F)","v":{"$error":"#N/A"}},{"$f":"_xlfn.XLOOKUP(C410,Data!C:C,Data!H:H,0)","v":0},{"$error":"#N/A"},{"$error":"#N/A"},{"$error":"#N/A"},{"$error":"#N/A"},{"$error":"#N/A"},0,{"$error":"#N/A"},"","","",null,{"$error":"#N/A"}]
["23-3-2021","18:48:00","2021-03-23T18:48:00",null,{"$f":"_xlfn.XLOOKUP(C411,Data!C:C,Data!I:I)","v":{"$error":"#N/A"}},{"$error":"#N/A"},{"$f":"_xlfn.XLOOKUP(C411,Data!C:C,Data!G:G,0)","v":0},{"$f":"_xlfn.XLOOKUP(C411,Data!C:C,Data!F:F)","v":{"$error":"#N/A"}},{"$f":"_xlfn.XLOOKUP(C411,Data!C:C,Data!H:H,0)","v":0},{"$error":"#N/A"},{"$error":"#N/A"},{"$error":"#N/A"},{"$error":"#N/A"},{"$error":"#N/A"},0,{"$error":"#N/A"},"","","",null,{"$error":"#N/A"}]
["23-3-2021","18:49:00","2021-03-23T18:49:00",null,{"$f":"_xlfn.XLOOKUP(C412,Data!C:C,Data!I:I)","v":{"$error":"#N/A"}},{"$error":"#N/A"},{"$f":"_xlfn.XLOOKUP(C412,Data!C:C,Data!G:G,0)","v":0},{"$f":"_xlfn.XLOOKUP(C412,Data!C:C,Data!F:F)","v":{"$error":"#N/A"}},{"$f":"_xlfn.XLOOKUP(C412,Data!C:C,Data!H:H,0)","v":0},{"$error":"#N/A"},{"$error":"#N/A"},{"$error":"#N/A"},{"$error":"#N/A"},{"$error":"#N/A"},0,{"$error":"#N/A"},"","","",null,{"$error":"#N/A"}]
["23-3-2021","18:50:00","2021-03-23T18:50:00",null,{"$f":"_xlfn.XLOOKUP(C413,Data!C:C,Data!I:I)","v":{"$error":"#N/A"}},{"$error":"#N/A"},{"$f":"_xlfn.XLOOKUP(C413,Data!C:C,Data!G:G,0)","v":0},{"$f":"_xlfn.XLOOKUP(C413,Data!C:C,Data!F:F)","v":{"$error":"#N/A"}},{"$f":"_xlfn.XLOOKUP(C413,Data!C:C,Data!H:H,0)","v":0},{"$error":"#N/A"},{"$error":"#N/A"},{"$error":"#N/A"},{"$error":"#N/A"},{"$error":"#N/A"},0,{"$error":"#N/A"},"","","",null,{"$error":"#N/A"}]
["23-3-2021","18:51:00","2021-03-23T18:51:00",null,{"$f":"_xlfn.XLOOKUP(C414,Data!C:C,Data!I:I)","v":{"$error":"#N/A"}},{"$error":"#N/A"},{"$f":"_xlfn.XLOOKUP(C414,Data!C:C,Data!G:G,0)","v":0},{"$f":"_xlfn.XLOOKUP(C414,Data!C:C,Data!F:F)","v":{"$error":"#N/A"}},{"$f":"_xlfn.XLOOKUP(C414,Data!C:C,Data!H:H,0)","v":0},{"$error":"#N/A"},{"$error":"#N/A"},{"$error":"#N/A"},{"$error":"#N/A"},{"$error":"#N/A"},0,{"$error":"#N/A"},"","","",null,{"$error":"#N/A"}]
["23-3-2021","18:52:00","2021-03-23T18:52:00",null,{"$f":"_xlfn.XLOOKUP(C415,Data!C:C,Data!I:I)","v":{"$error":"#N/A"}},{"$error":"#N/A"},{"$f":"_xlfn.XLOOKUP(C415,Data!C:C,Data!G:G,0)","v":0},{"$f":"_xlfn.XLOOKUP(C415,Data!C:C,Data!F:F)","v":{"$error":"#N/A"}},{"$f":"_xlfn.XLOOKUP(C415,Data!C:C,Data!H:H,0)","v":0},{"$error":"#N/A"},{"$error":"#N/A"},{"$error":"#N/A"},{"$error":"#N/A"},{"$error":"#N/A"},0,{"$error":"#N/A"},"","","",null,{"$error":"#N/A"}]
["23-3-2021","18:53:00","2021-03-23T18:53:00",null,{"$f":"_xlfn.XLOOKUP(C416,Data!C:C,Data!I:I)","v":{"$error":"#N/A"}},{"$error":"#N/A"},{"$f":"_xlfn.XLOOKUP(C416,Data!C:C,Data!G:G,0)","v":0},{"$f":"_xlfn.XLOOKUP(C416,Data!C:C,Data!F:F)","v":{"$error":"#N/A"}},{"$f":"_xlfn.XLOOKUP(C416,Data!C:C,Data!H:H,0)","v":0},{"$error":"#N/A"},{"$error":"#N/A"},{"$error":"#N/A"},{"$error":"#N/A"},{"$error":"#N/A"},0,{"$error":"#N/A"},"","","",null,{"$error":"#N/A"}]
["23-3-2021","18:54:00","2021-03-23T18:54:00",null,{"$f":"_xlfn.XLOOKUP(C417,Data!C:C,Data!I:I)","v":{"$error":"#N/A"}},{"$error":"#N/A"},{"$f":"_xlfn.XLOOKUP(C417,Data!C:C,Data!G:G,0)","v":0},{"$f":"_xlfn.XLOOKUP(C417,Data!C:C,Data!F:F)","v":{"$error":"#N/A"}},{"$f":"_xlfn.XLOOKUP(C417,Data!C:C,Data!H:H,0)","v":0},{"$error":"#N/A"},{"$error":"#N/A"},{"$error":"#N/A"},{"$error":"#N/A"},{"$error":"#N/A"},0,{"$error":"#N/A"},"","","",null,{"$error":"#N/A"}]
["23-3-2021","18:55:00","2021-03-23T18:55:00",null,{"$f":"_xlfn.XLOOKUP(C418,Data!C:C,Data!I:I)","v":{"$error":"#N/A"}},{"$error":"#N/A"},{"$f":"_xlfn.XLOOKUP(C418,Data!C:C,Data!G:G,0)","v":0},{"$f":"_xlfn.XLOOKUP(C418,Data!C:C,Data!F:F)","v":{"$error":"#N/A"}},{"$f":"_xlfn.XLOOKUP(C418,Data!C:C,Data!H:H,0)","v":0},{"$error":"#N/A"},{"$error":"#N/A"},{"$error":"#N/A"},{"$error":"#N/A"},{"$error":"#N/A"},0,{"$error":"#N/A"},"","","",null,{"$error":"#N/A"}]
["23-3-2021","18:56:00","2021-03-23T18:56:00",null,{"$f":"_xlfn.XLOOKUP(C419,Data!C:C,Data!I:I)","v":{"$error":"#N/A"}},{"$error":"#N/A"},{"$f":"_xlfn.XLOOKUP(C419,Data!C:C,Data!G:G,0)","v":0},{"$f":"_xlfn.XLOOKUP(C419,Data!C:C,Data!F:F)","v":{"$error":"#N/A"}},{"$f":"_xlfn.XLOOKUP(C419,Data!C:C,Data!H:H,0)","v":0},{"$error":"#N/A"},{"$error":"#N/A"},{"$error":"#N/A"},{"$error":"#N/A"},{"$error":"#N/A"},0,{"$error":"#N/A"},"","","",null,{"$error":"#N/A"}]
["23-3-2021","18:57:00","2021-03-23T18:57:00",null,{"$f":"_xlfn.XLOOKUP(C420,Data!C:C,Data!I:I)","v":{"$error":"#N/A"}},{"$error":"#N/A"},{"$f":"_xlfn.XLOOKUP(C420,Data!C:C,Data!G:G,0)","v":0},{"$f":"_xlfn.XLOOKUP(C420,Data!C:C,Data!F:F)","v":{"$error":"#N/A"}},{"$f":"_xlfn.XLOOKUP(C420,Data!C:C,Data!H:H,0)","v":0},{"$error":"#N/A"},{"$error":"#N/A"},{"$error":"#N/A"},{"$error":"#N/A"},{"$error":"#N/A"},0,{"$error":"#N/A"},"","","",null,{"$error":"#N/A"}]
["23-3-2021","18:58:00","2021-03-23T18:58:00",null,{"$f":"_xlfn.XLOOKUP(C421,Data!C:C,Data!I:I)","v":{"$error":"#N/A"}},{"$error":"#N/A"},{"$f":"_xlfn.XLOOKUP(C421,Data!C:C,Data!G:G,0)","v":0},{"$f":"_xlfn.XLOOKUP(C421,Data!C:C,Data!F:F)","v":{"$error":"#N/A"}},{"$f":"_xlfn.XLOOKUP(C421,Data!C:C,Data!H:H,0)","v":0},{"$error":"#N/A"},{"$error":"#N/A"},{"$error":"#N/A"},{"$error":"#N/A"},{"$error":"#N/A"},0,{"$error":"#N/A"},"","","",null,{"$error":"#N/A"}]
["23-3-2021","18:59:00","2021-03-23T18:59:00",null,{"$f":"_xlfn.XLOOKUP(C422,Data!C:C,Data!I:I)","v":{"$error":"#N/A"}},{"$error":"#N/A"},{"$f":"_xlfn.XLOOKUP(C422,Data!C:C,Data!G:G,0)","v":0},{"$f":"_xlfn.XLOOKUP(C422,Data!C:C,Data!F:F)","v":{"$error":"#N/A"}},{"$f":"_xlfn.XLOOKUP(C422,Data!C:C,Data!H:H,0)","v":0},{"$error":"#N/A"},{"$error":"#N/A"},{"$error":"#N/A"},{"$error":"#N/A"},{"$error":"#N/A"},0,{"$error":"#N/A"},"","","",null,{"$error":"#N/A"}]
["23-3-2021","19:00:00","2021-03-23T19:00:00",null,{"$f":"_xlfn.XLOOKUP(C423,Data!C:C,Data!I:I)","v":{"$error":"#N/A"}},{"$error":"#N/A"},{"$f":"_xlfn.XLOOKUP(C423,Data!C:C,Data!G:G,0)","v":0},{"$f":"_xlfn.XLOOKUP(C423,Data!C:C,Data!F:F)","v":{"$error":"#N/A"}},{"$f":"_xlfn.XLOOKUP(C423,Data!C:C,Data!H:H,0)","v":0},{"$error":"#N/A"},{"$error":"#N/A"},{"$error":"#N/A"},{"$error":"#N/A"},{"$error":"#N/A"},0,{"$error":"#N/A"},"","","",null,{"$error":"#N/A"}]
["23-3-2021","19:01:00","2021-03-23T19:01:00",null,{"$f":"_xlfn.XLOOKUP(C424,Data!C:C,Data!I:I)","v":{"$error":"#N/A"}},{"$error":"#N/A"},{"$f":"_xlfn.XLOOKUP(C424,Data!C:C,Data!G:G,0)","v":0},{"$f":"_xlfn.XLOOKUP(C424,Data!C:C,Data!F:F)","v":{"$error":"#N/A"}},{"$f":"_xlfn.XLOOKUP(C424,Data!C:C,Data!H:H,0)","v":0},{"$error":"#N/A"},{"$error":"#N/A"},{"$error":"#N/A"},{"$error":"#N/A"},{"$error":"#N/A"},0,{"$error":"#N/A"},"","","",null,{"$error":"#N/A"}]
["23-3-2021","19:02:00","2021-03-23T19:02:00",null,{"$f":"_xlfn.XLOOKUP(C425,Data!C:C,Data!I:I)","v":{"$error":"#N/A"}},{"$error":"#N/A"},{"$f":"_xlfn.XLOOKUP(C425,Data!C:C,Data!G:G,0)","v":0},{"$f":"_xlfn.XLOOKUP(C425,Data!C:C,Data!F:F)","v":{"$error":"#N/A"}},{"$f":"_xlfn.XLOOKUP(C425,Data!C:C,Data!H:H,0)","v":0},{"$error":"#N/A"},{"$error":"#N/A"},{"$error":"#N/A"},{"$error":"#N/A"},{"$error":"#N/A"},0,{"$error":"#N/A"},"","","",null,{"$error":"#N/A"}]
["23-3-2021","19:03:00","2021-03-23T19:03:00",null,{"$f":"_xlfn.XLOOKUP(C426,Data!C:C,Data!I:I)","v":{"$error":"#N/A"}},{"$error":"#N/A"},{"$f":"_xlfn.XLOOKUP(C426,Data!C:C,Data!G:G,0)","v":0},{"$f":"_xlfn.XLOOKUP(C426,Data!C:C,Data!F:F)","v":{"$error":"#N/A"}},{"$f":"_xlfn.XLOOKUP(C426,Data!C:C,Data!H:H,0)","v":0},{"$error":"#N/A"},{"$error":"#N/A"},{"$error":"#N/A"},{"$error":"#N/A"},{"$error":"#N/A"},0,{"$error":"#N/A"},"","","",null,{"$error":"#N/A"}]
["23-3-2021","19:04:00","2021-03-23T19:04:00",null,{"$f":"_xlfn.XLOOKUP(C427,Data!C:C,Data!I:I)","v":{"$error":"#N/A"}},{"$error":"#N/A"},{"$f":"_xlfn.XLOOKUP(C427,Data!C:C,Data!G:G,0)","v":0},{"$f":"_xlfn.XLOOKUP(C427,Data!C:C,Data!F:F)","v":{"$error":"#N/A"}},{"$f":"_xlfn.XLOOKUP(C427,Data!C:C,Data!H:H,0)","v":0},{"$error":"#N/A"},{"$error":"#N/A"},{"$error":"#N/A"},{"$error":"#N/A"},{"$error":"#N/A"},0,{"$error":"#N/A"},"","","",null,{"$error":"#N/A"}]
["23-3-2021","19:05:00","2021-03-23T19:05:00",null,{"$f":"_xlfn.XLOOKUP(C428,Data!C:C,Data!I:I)","v":{"$error":"#N/A"}},{"$error":"#N/A"},{"$f":"_xlfn.XLOOKUP(C428,Data!C:C,Data!G:G,0)","v":0},{"$f":"_xlfn.XLOOKUP(C428,Data!C:C,Data!F:F)","v":{"$error":"#N/A"}},{"$f":"_xlfn.XLOOKUP(C428,Data!C:C,Data!H:H,0)","v":0},{"$error":"#N/A"},{"$error":"#N/A"},{"$error":"#N/A"},{"$error":"#N/A"},{"$error":"#N/A"},0,{"$error":"#N/A"},"","","",null,{"$error":"#N/A"}]
["23-3-2021","19:06:00","2021-03-23T19:06:00",null,{"$f":"_xlfn.XLOOKUP(C429,Data!C:C,Data!I:I)","v":{"$error":"#N/A"}},{"$error":"#N/A"},{"$f":"_xlfn.XLOOKUP(C429,Data!C:C,Data!G:G,0)","v":0},{"$f":"_xlfn.XLOOKUP(C429,Data!C:C,Data!F:F)","v":{"$error":"#N/A"}},{"$f":"_xlfn.XLOOKUP(C429,Data!C:C,Data!H:H,0)","v":0},{"$error":"#N/A"},{"$error":"#N/A"},{"$error":"#N/A"},{"$error":"#N/A"},{"$error":"#N/A"},0,{"$error":"#N/A"},"","","",null,{"$error":"#N/A"}]
["23-3-2021","19:07:00","2021-03-23T19:07:00",null,{"$f":"_xlfn.XLOOKUP(C430,Data!C:C,Data!I:I)","v":{"$error":"#N/A"}},{"$error":"#N/A"},{"$f":"_xlfn.XLOOKUP(C430,Data!C:C,Data!G:G,0)","v":0},{"$f":"_xlfn.XLOOKUP(C430,Data!C:C,Data!F:F)","v":{"$error":"#N/A"}},{"$f":"_xlfn.XLOOKUP(C430,Data!C:C,Data!H:H,0)","v":0},{"$error":"#N/A"},{"$error":"#N/A"},{"$error":"#N/A"},{"$error":"#N/A"},{"$error":"#N/A"},0,{"$error":"#N/A"},"","","",null,{"$error":"#N/A"}]
["23-3-2021","19:08:00","2021-03-23T19:08:00",null,{"$f":"_xlfn.XLOOKUP(C431,Data!C:C,Data!I:I)","v":{"$error":"#N/A"}},{"$error":"#N/A"},{"$f":"_xlfn.XLOOKUP(C431,Data!C:C,Data!G:G,0)","v":0},{"$f":"_xlfn.XLOOKUP(C431,Data!C:C,Data!F:F)","v":{"$error":"#N/A"}},{"$f":"_xlfn.XLOOKUP(C431,Data!C:C,Data!H:H,0)","v":0},{"$error":"#N/A"},{"$error":"#N/A"},{"$error":"#N/A"},{"$error":"#N/A"},{"$error":"#N/A"},0,{"$error":"#N/A"},"","","",null,{"$error":"#N/A"}]
["23-3-2021","19:09:00","2021-03-23T19:09:00",null,{"$f":"_xlfn.XLOOKUP(C432,Data!C:C,Data!I:I)","v":{"$error":"#N/A"}},{"$error":"#N/A"},{"$f":"_xlfn.XLOOKUP(C432,Data!C:C,Data!G:G,0)","v":0},{"$f":"_xlfn.XLOOKUP(C432,Data!C:C,Data!F:F)","v":{"$error":"#N/A"}},{"$f":"_xlfn.XLOOKUP(C432,Data!C:C,Data!H:H,0)","v":0},{"$error":"#N/A"},{"$error":"#N/A"},{"$error":"#N/A"},{"$error":"#N/A"},{"$error":"#N/A"},0,{"$error":"#N/A"},"","","",null,{"$error":"#N/A"}]
["23-3-2021","19:10:00","2021-03-23T19:10:00",null,{"$f":"_xlfn.XLOOKUP(C433,Data!C:C,Data!I:I)","v":{"$error":"#N/A"}},{"$error":"#N/A"},{"$f":"_xlfn.XLOOKUP(C433,Data!C:C,Data!G:G,0)","v":0},{"$f":"_xlfn.XLOOKUP(C433,Data!C:C,Data!F:F)","v":{"$error":"#N/A"}},{"$f":"_xlfn.XLOOKUP(C433,Data!C:C,Data!H:H,0)","v":0},{"$error":"#N/A"},{"$error":"#N/A"},{"$error":"#N/A"},{"$error":"#N/A"},{"$error":"#N/A"},0,{"$error":"#N/A"},"","","",null,{"$error":"#N/A"}]
["23-3-2021","19:11:00","2021-03-23T19:11:00",null,{"$f":"_xlfn.XLOOKUP(C434,Data!C:C,Data!I:I)","v":{"$error":"#N/A"}},{"$error":"#N/A"},{"$f":"_xlfn.XLOOKUP(C434,Data!C:C,Data!G:G,0)","v":0},{"$f":"_xlfn.XLOOKUP(C434,Data!C:C,Data!F:F)","v":{"$error":"#N/A"}},{"$f":"_xlfn.XLOOKUP(C434,Data!C:C,Data!H:H,0)","v":0},{"$error":"#N/A"},{"$error":"#N/A"},{"$error":"#N/A"},{"$error":"#N/A"},{"$error":"#N/A"},0,{"$error":"#N/A"},"","","",null,{"$error":"#N/A"}]
["23-3-2021","19:12:00","2021-03-23T19:12:00",null,{"$f":"_xlfn.XLOOKUP(C435,Data!C:C,Data!I:I)","v":{"$error":"#N/A"}},{"$error":"#N/A"},{"$f":"_xlfn.XLOOKUP(C435,Data!C:C,Data!G:G,0)","v":0},{"$f":"_xlfn.XLOOKUP(C435,Data!C:C,Data!F:F)","v":{"$error":"#N/A"}},{"$f":"_xlfn.XLOOKUP(C435,Data!C:C,Data!H:H,0)","v":0},{"$error":"#N/A"},{"$error":"#N/A"},{"$error":"#N/A"},{"$error":"#N/A"},{"$error":"#N/A"},0,{"$error":"#N/A"},"","","",null,{"$error":"#N/A"}]
["23-3-2021","19:13:00","2021-03-23T19:13:00",null,{"$f":"_xlfn.XLOOKUP(C436,Data!C:C,Data!I:I)","v":{"$error":"#N/A"}},{"$error":"#N/A"},{"$f":"_xlfn.XLOOKUP(C436,Data!C:C,Data!G:G,0)","v":0},{"$f":"_xlfn.XLOOKUP(C436,Data!C:C,Data!F:F)","v":{"$error":"#N/A"}},{"$f":"_xlfn.XLOOKUP(C436,Data!C:C,Data!H:H,0)","v":0},{"$error":"#N/A"},{"$error":"#N/A"},{"$error":"#N/A"},{"$error":"#N/A"},{"$error":"#N/A"},0,{"$error":"#N/A"},"","","",null,{"$error":"#N/A"}]
["23-3-2021","19:14:00","2021-03-23T19:14:00",null,{"$f":"_xlfn.XLOOKUP(C437,Data!C:C,Data!I:I)","v":{"$error":"#N/A"}},{"$error":"#N/A"},{"$f":"_xlfn.XLOOKUP(C437,Data!C:C,Data!G:G,0)","v":0},{"$f":"_xlfn.XLOOKUP(C437,Data!C:C,Data!F:F)","v":{"$error":"#N/A"}},{"$f":"_xlfn.XLOOKUP(C437,Data!C:C,Data!H:H,0)","v":0},{"$error":"#N/A"},{"$error":"#N/A"},{"$error":"#N/A"},{"$error":"#N/A"},{"$error":"#N/A"},0,{"$error":"#N/A"},"","","",null,{"$error":"#N/A"}]
["23-3-2021","19:15:00","2021-03-23T19:15:00",null,{"$f":"_xlfn.XLOOKUP(C438,Data!C:C,Data!I:I)","v":{"$error":"#N/A"}},{"$error":"#N/A"},{"$f":"_xlfn.XLOOKUP(C438,Data!C:C,Data!G:G,0)","v":0},{"$f":"_xlfn.XLOOKUP(C438,Data!C:C,Data!F:F)","v":{"$error":"#N/A"}},{"$f":"_xlfn.XLOOKUP(C438,Data!C:C,Data!H:H,0)","v":0},{"$error":"#N/A"},{"$error":"#N/A"},{"$error":"#N/A"},{"$error":"#N/A"},{"$error":"#N/A"},0,{"$error":"#N/A"},"","","",null,{"$error":"#N/A"}]
["23-3-2021","19:16:00","2021-03-23T19:16:00",null,{"$f":"_xlfn.XLOOKUP(C439,Data!C:C,Data!I:I)","v":{"$error":"#N/A"}},{"$error":"#N/A"},{"$f":"_xlfn.XLOOKUP(C439,Data!C:C,Data!G:G,0)","v":0},{"$f":"_xlfn.XLOOKUP(C439,Data!C:C,Data!F:F)","v":{"$error":"#N/A"}},{"$f":"_xlfn.XLOOKUP(C439,Data!C:C,Data!H:H,0)","v":0},{"$error":"#N/A"},{"$error":"#N/A"},{"$error":"#N/A"},{"$error":"#N/A"},{"$error":"#N/A"},0,{"$error":"#N/A"},"","","",null,{"$error":"#N/A"}]
["23-3-2021","19:17:00","2021-03-23T19:17:00",null,{"$f":"_xlfn.XLOOKUP(C440,Data!C:C,Data!I:I)","v":{"$error":"#N/A"}},{"$error":"#N/A"},{"$f":"_xlfn.XLOOKUP(C440,Data!C:C,Data!G:G,0)","v":0},{"$f":"_xlfn.XLOOKUP(C440,Data!C:C,Data!F:F)","v":{"$error":"#N/A"}},{"$f":"_xlfn.XLOOKUP(C440,Data!C:C,Data!H:H,0)","v":0},{"$error":"#N/A"},{"$error":"#N/A"},{"$error":"#N/A"},{"$error":"#N/A"},{"$error":"#N/A"},0,{"$error":"#N/A"},"","","",null,{"$error":"#N/A"}]
["23-3-2021","19:18:00","2021-03-23T19:18:00",null,{"$f":"_xlfn.XLOOKUP(C441,Data!C:C,Data!I:I)","v":{"$error":"#N/A"}},{"$error":"#N/A"},{"$f":"_xlfn.XLOOKUP(C441,Data!C:C,Data!G:G,0)","v":0},{"$f":"_xlfn.XLOOKUP(C441,Data!C:C,Data!F:F)","v":{"$error":"#N/A"}},{"$f":"_xlfn.XLOOKUP(C441,Data!C:C,Data!H:H,0)","v":0},{"$error":"#N/A"},{"$error":"#N/A"},{"$error":"#N/A"},{"$error":"#N/A"},{"$error":"#N/A"},0,{"$error":"#N/A"},"","","",null,{"$error":"#N/A"}]
["23-3-2021","19:19:00","2021-03-23T19:19:00",null,{"$f":"_xlfn.XLOOKUP(C442,Data!C:C,Data!I:I)","v":{"$error":"#N/A"}},{"$error":"#N/A"},{"$f":"_xlfn.XLOOKUP(C442,Data!C:C,Data!G:G,0)","v":0},{"$f":"_xlfn.XLOOKUP(C442,Data!C:C,Data!F:F)","v":{"$error":"#N/A"}},{"$f":"_xlfn.XLOOKUP(C442,Data!C:C,Data!H:H,0)","v":0},{"$error":"#N/A"},{"$error":"#N/A"},{"$error":"#N/A"},{"$error":"#N/A"},{"$error":"#N/A"},0,{"$error":"#N/A"},"","","",null,{"$error":"#N/A"}]
["23-3-2021","19:20:00","2021-03-23T19:20:00",null,{"$f":"_xlfn.XLOOKUP(C443,Data!C:C,Data!I:I)","v":{"$error":"#N/A"}},{"$error":"#N/A"},{"$f":"_xlfn.XLOOKUP(C443,Data!C:C,Data!G:G,0)","v":0},{"$f":"_xlfn.XLOOKUP(C443,Data!C:C,Data!F:F)","v":{"$error":"#N/A"}},{"$f":"_xlfn.XLOOKUP(C443,Data!C:C,Data!H:H,0)","v":0},{"$error":"#N/A"},{"$error":"#N/A"},{"$error":"#N/A"},{"$error":"#N/A"},{"$error":"#N/A"},0,{"$error":"#N/A"},"","","",null,{"$error":"#N/A"}]
["23-3-2021","19:21:00","2021-03-23T19:21:00",null,{"$f":"_xlfn.XLOOKUP(C444,Data!C:C,Data!I:I)","v":{"$error":"#N/A"}},{"$error":"#N/A"},{"$f":"_xlfn.XLOOKUP(C444,Data!C:C,Data!G:G,0)","v":0},{"$f":"_xlfn.XLOOKUP(C444,Data!C:C,Data!F:F)","v":{"$error":"#N/A"}},{"$f":"_xlfn.XLOOKUP(C444,Data!C:C,Data!H:H,0)","v":0},{"$error":"#N/A"},{"$error":"#N/A"},{"$error":"#N/A"},{"$error":"#N/A"},{"$error":"#N/A"},0,{"$error":"#N/A"},"","","",null,{"$error":"#N/A"}]
["23-3-2021","19:22:00","2021-03-23T19:22:00",null,{"$f":"_xlfn.XLOOKUP(C445,Data!C:C,Data!I:I)","v":{"$error":"#N/A"}},{"$error":"#N/A"},{"$f":"_xlfn.XLOOKUP(C445,Data!C:C,Data!G:G,0)","v":0},{"$f":"_xlfn.XLOOKUP(C445,Data!C:C,Data!F:F)","v":{"$error":"#N/A"}},{"$f":"_xlfn.XLOOKUP(C445,Data!C:C,Data!H:H,0)","v":0},{"$error":"#N/A"},{"$error":"#N/A"},{"$error":"#N/A"},{"$error":"#N/A"},{"$error":"#N/A"},0,{"$error":"#N/A"},"","","",null,{"$error":"#N/A"}]
["23-3-2021","19:23:00","2021-03-23T19:23:00",null,{"$f":"_xlfn.XLOOKUP(C446,Data!C:C,Data!I:I)","v":{"$error":"#N/A"}},{"$error":"#N/A"},{"$f":"_xlfn.XLOOKUP(C446,Data!C:C,Data!G:G,0)","v":0},{"$f":"_xlfn.XLOOKUP(C446,Data!C:C,Data!F:F)","v":{"$error":"#N/A"}},{"$f":"_xlfn.XLOOKUP(C446,Data!C:C,Data!H:H,0)","v":0},{"$error":"#N/A"},{"$error":"#N/A"},{"$error":"#N/A"},{"$error":"#N/A"},{"$error":"#N/A"},0,{"$error":"#N/A"},"","","",null,{"$error":"#N/A"}]
["23-3-2021","19:24:00","2021-03-23T19:24:00",null,{"$f":"_xlfn.XLOOKUP(C447,Data!C:C,Data!I:I)","v":{"$error":"#N/A"}},{"$error":"#N/A"},{"$f":"_xlfn.XLOOKUP(C447,Data!C:C,Data!G:G,0)","v":0},{"$f":"_xlfn.XLOOKUP(C447,Data!C:C,Data!F:F)","v":{"$error":"#N/A"}},{"$f":"_xlfn.XLOOKUP(C447,Data!C:C,Data!H:H,0)","v":0},{"$error":"#N/A"},{"$error":"#N/A"},{"$error":"#N/A"},{"$error":"#N/A"},{"$error":"#N/A"},0,{"$error":"#N/A"},"","","",null,{"$error":"#N/A"}]
["23-3-2021","19:25:00","2021-03-23T19:25:00",null,{"$f":"_xlfn.XLOOKUP(C448,Data!C:C,Data!I:I)","v":{"$error":"#N/A"}},{"$error":"#N/A"},{"$f":"_xlfn.XLOOKUP(C448,Data!C:C,Data!G:G,0)","v":0},{"$f":"_xlfn.XLOOKUP(C448,Data!C:C,Data!F:F)","v":{"$error":"#N/A"}},{"$f":"_xlfn.XLOOKUP(C448,Data!C:C,Data!H:H,0)","v":0},{"$f":"IF(AND(MAX(E446:E447)=255,MAX(E448:E449)=255,  E447+E448+E449<3*255, OR(I448=123,I448=124,I448=106,I448=108)),   I448,   IF(AND(MAX(E446:E447)=255,MAX(E448:E449)=255,  E447+E448+E449<3*255, OR(I448>=80,I448<100)),106,108))","v":{"$error":"#N/A"}},{"$error":"#N/A"},{"$error":"#N/A"},{"$error":"#N/A"},{"$error":"#N/A"},0,{"$error":"#N/A"},"","","",null,{"$error":"#N/A"}]
["23-3-2021","19:26:00","2021-03-23T19:26:00",null,{"$f":"_xlfn.XLOOKUP(C449,Data!C:C,Data!I:I)","v":{"$error":"#N/A"}},{"$error":"#N/A"},{"$f":"_xlfn.XLOOKUP(C449,Data!C:C,Data!G:G,0)","v":0},{"$f":"_xlfn.XLOOKUP(C449,Data!C:C,Data!F:F)","v":{"$error":"#N/A"}},{"$f":"_xlfn.XLOOKUP(C449,Data!C:C,Data!H:H,0)","v":0},{"$error":"#N/A"},{"$error":"#N/A"},{"$error":"#N/A"},{"$error":"#N/A"},{"$error":"#N/A"},0,{"$error":"#N/A"},"","","",null,{"$error":"#N/A"}]
["23-3-2021","19:27:00","2021-03-23T19:27:00",null,{"$f":"_xlfn.XLOOKUP(C450,Data!C:C,Data!I:I)","v":{"$error":"#N/A"}},{"$error":"#N/A"},{"$f":"_xlfn.XLOOKUP(C450,Data!C:C,Data!G:G,0)","v":0},{"$f":"_xlfn.XLOOKUP(C450,Data!C:C,Data!F:F)","v":{"$error":"#N/A"}},{"$f":"_xlfn.XLOOKUP(C450,Data!C:C,Data!H:H,0)","v":0},{"$error":"#N/A"},{"$error":"#N/A"},{"$error":"#N/A"},{"$error":"#N/A"},{"$error":"#N/A"},0,{"$error":"#N/A"},"","","",null,{"$error":"#N/A"}]
["23-3-2021","19:28:00",{"$f":"A451+B451","v":"2021-03-23T19:28:00"},null,{"$f":"_xlfn.XLOOKUP(C451,Data!C:C,Data!I:I)","v":{"$error":"#N/A"}},{"$error":"#N/A"},{"$f":"_xlfn.XLOOKUP(C451,Data!C:C,Data!G:G,0)","v":0},{"$f":"_xlfn.XLOOKUP(C451,Data!C:C,Data!F:F)","v":{"$error":"#N/A"}},{"$f":"_xlfn.XLOOKUP(C451,Data!C:C,Data!H:H,0)","v":0},{"$error":"#N/A"},{"$f":"IF(AND(I451<100,  I451>=80,  OR(J451=105, J451=106,  J451=123)),  5,  0)","v":{"$error":"#N/A"}},{"$error":"#N/A"},{"$error":"#N/A"},{"$error":"#N/A"},{"$f":"IFERROR(F451,0)","v":0},{"$error":"#N/A"},"","","",null,{"$error":"#N/A"}]
[{"$f":"$A$3","v":"23-3-2021"},"19:29:00","2021-03-23T19:29:00",null,{"$f":"_xlfn.XLOOKUP(C452,Data!C:C,Data!I:I)","v":{"$error":"#N/A"}},{"$error":"#N/A"},{"$f":"_xlfn.XLOOKUP(C452,Data!C:C,Data!G:G,0)","v":0},{"$f":"_xlfn.XLOOKUP(C452,Data!C:C,Data!F:F)","v":{"$error":"#N/A"}},{"$f":"_xlfn.XLOOKUP(C452,Data!C:C,Data!H:H,0)","v":0},{"$error":"#N/A"},{"$error":"#N/A"},{"$f":"IF(AND(I452<130,  I452>104,  OR(J452=105, J452=106,  J452=123),  S452>$S$1450+$S$1443),  20,  0)","v":{"$error":"#N/A"}},{"$f":"IF(AND(I452<130,  I452>104,  OR(J452=105, J452=106,  J452=123),  R452>$Q$1449,  S452<=$S$1450+$S$1443),  20,  0)","v":{"$error":"#N/A"}},{"$f":"IF(AND(I452<130,  I452>104,  OR(J452=105, J452=106,  J452=123),  R452<=$Q$1449,  S452<=$S$1450+$S$1443),  20,  0)","v":{"$error":"#N/A"}},0,{"$f":"IF(Q452=\"\",F452,IF(Q452=0,P451,Q452))","v":{"$error":"#N/A"}},{"$f":"IF(I452>109,IF(O452*$Q$1451>(O451+O453)/2,MIN(O451:O453),O452),\"\")","v":""},"","",null,{"$error":"#N/A"}]
["23-3-2021","19:30:00","2021-03-23T19:30:00",null,{"$f":"_xlfn.XLOOKUP(C453,Data!C:C,Data!I:I)","v":{"$error":"#N/A"}},{"$f":"IF(E453=255,IF(MIN(E452:E454)=255,#N/A,MIN(E452:E454)),E453)","v":{"$error":"#N/A"}},{"$f":"_xlfn.XLOOKUP(C453,Data!C:C,Data!G:G,0)","v":0},{"$f":"_xlfn.XLOOKUP(C453,Data!C:C,Data!F:F)","v":{"$error":"#N/A"}},{"$f":"_xlfn.XLOOKUP(C453,Data!C:C,Data!H:H,0)","v":0},{"$error":"#N/A"},{"$error":"#N/A"},{"$error":"#N/A"},{"$error":"#N/A"},{"$error":"#N/A"},0,{"$error":"#N/A"},"","","",null,{"$error":"#N/A"}]
["23-3-2021","19:31:00","2021-03-23T19:31:00",null,{"$f":"_xlfn.XLOOKUP(C454,Data!C:C,Data!I:I)","v":{"$error":"#N/A"}},{"$error":"#N/A"},{"$f":"_xlfn.XLOOKUP(C454,Data!C:C,Data!G:G,0)","v":0},{"$f":"_xlfn.XLOOKUP(C454,Data!C:C,Data!F:F)","v":{"$error":"#N/A"}},{"$f":"_xlfn.XLOOKUP(C454,Data!C:C,Data!H:H,0)","v":0},{"$error":"#N/A"},{"$error":"#N/A"},{"$error":"#N/A"},{"$error":"#N/A"},{"$error":"#N/A"},0,{"$error":"#N/A"},"","","",null,{"$error":"#N/A"}]
["23-3-2021","19:32:00","2021-03-23T19:32:00",null,{"$f":"_xlfn.XLOOKUP(C455,Data!C:C,Data!I:I)","v":{"$error":"#N/A"}},{"$error":"#N/A"},{"$f":"_xlfn.XLOOKUP(C455,Data!C:C,Data!G:G,0)","v":0},{"$f":"_xlfn.XLOOKUP(C455,Data!C:C,Data!F:F)","v":{"$error":"#N/A"}},{"$f":"_xlfn.XLOOKUP(C455,Data!C:C,Data!H:H,0)","v":0},{"$error":"#N/A"},{"$error":"#N/A"},{"$error":"#N/A"},{"$error":"#N/A"},{"$error":"#N/A"},0,{"$error":"#N/A"},"","","",null,{"$f":"IF(F455=\"\",\"\",AVERAGE(F451:F459))","v":{"$error":"#N/A"}}]
["23-3-2021","19:33:00","2021-03-23T19:33:00",null,{"$f":"_xlfn.XLOOKUP(C456,Data!C:C,Data!I:I)","v":{"$error":"#N/A"}},{"$error":"#N/A"},{"$f":"_xlfn.XLOOKUP(C456,Data!C:C,Data!G:G,0)","v":0},{"$f":"_xlfn.XLOOKUP(C456,Data!C:C,Data!F:F)","v":{"$error":"#N/A"}},{"$f":"_xlfn.XLOOKUP(C456,Data!C:C,Data!H:H,0)","v":0},{"$error":"#N/A"},{"$error":"#N/A"},{"$error":"#N/A"},{"$error":"#N/A"},{"$error":"#N/A"},0,{"$error":"#N/A"},"",{"$f":"IF(Q456=\"\",\"\",AVERAGE(Q452:Q460))","v":""},{"$f":"IF(Q456=\"\",\"\",MAX(Q452:Q460)-MIN(Q452:Q460))","v":""},null,{"$error":"#N/A"}]
["23-3-2021","19:34:00","2021-03-23T19:34:00",null,{"$f":"_xlfn.XLOOKUP(C457,Data!C:C,Data!I:I)","v":{"$error":"#N/A"}},{"$error":"#N/A"},{"$f":"_xlfn.XLOOKUP(C457,Data!C:C,Data!G:G,0)","v":0},{"$f":"_xlfn.XLOOKUP(C457,Data!C:C,Data!F:F)","v":{"$error":"#N/A"}},{"$f":"_xlfn.XLOOKUP(C457,Data!C:C,Data!H:H,0)","v":0},{"$error":"#N/A"},{"$error":"#N/A"},{"$error":"#N/A"},{"$error":"#N/A"},{"$error":"#N/A"},0,{"$error":"#N/A"},"","","",null,{"$error":"#N/A"}]
["23-3-2021","19:35:00","2021-03-23T19:35:00",null,{"$f":"_xlfn.XLOOKUP(C458,Data!C:C,Data!I:I)","v":{"$error":"#N/A"}},{"$error":"#N/A"},{"$f":"_xlfn.XLOOKUP(C458,Data!C:C,Data!G:G,0)","v":0},{"$f":"_xlfn.XLOOKUP(C458,Data!C:C,Data!F:F)","v":{"$error":"#N/A"}},{"$f":"_xlfn.XLOOKUP(C458,Data!C:C,Data!H:H,0)","v":0},{"$error":"#N/A"},{"$error":"#N/A"},{"$error":"#N/A"},{"$error":"#N/A"},{"$error":"#N/A"},0,{"$error":"#N/A"},"","","",null,{"$error":"#N/A"}]
["23-3-2021","19:36:00","2021-03-23T19:36:00",null,{"$f":"_xlfn.XLOOKUP(C459,Data!C:C,Data!I:I)","v":{"$error":"#N/A"}},{"$error":"#N/A"},{"$f":"_xlfn.XLOOKUP(C459,Data!C:C,Data!G:G,0)","v":0},{"$f":"_xlfn.XLOOKUP(C459,Data!C:C,Data!F:F)","v":{"$error":"#N/A"}},{"$f":"_xlfn.XLOOKUP(C459,Data!C:C,Data!H:H,0)","v":0},{"$error":"#N/A"},{"$error":"#N/A"},{"$error":"#N/A"},{"$error":"#N/A"},{"$error":"#N/A"},0,{"$error":"#N/A"},"","","",null,{"$error":"#N/A"}]
["23-3-2021","19:37:00","2021-03-23T19:37:00",null,{"$f":"_xlfn.XLOOKUP(C460,Data!C:C,Data!I:I)","v":{"$error":"#N/A"}},{"$error":"#N/A"},{"$f":"_xlfn.XLOOKUP(C460,Data!C:C,Data!G:G,0)","v":0},{"$f":"_xlfn.XLOOKUP(C460,Data!C:C,Data!F:F)","v":{"$error":"#N/A"}},{"$f":"_xlfn.XLOOKUP(C460,Data!C:C,Data!H:H,0)","v":0},{"$error":"#N/A"},{"$error":"#N/A"},{"$error":"#N/A"},{"$error":"#N/A"},{"$error":"#N/A"},0,{"$error":"#N/A"},"","","",null,{"$error":"#N/A"}]
["23-3-2021","19:38:00","2021-03-23T19:38:00",null,{"$f":"_xlfn.XLOOKUP(C461,Data!C:C,Data!I:I)","v":{"$error":"#N/A"}},{"$error":"#N/A"},{"$f":"_xlfn.XLOOKUP(C461,Data!C:C,Data!G:G,0)","v":0},{"$f":"_xlfn.XLOOKUP(C461,Data!C:C,Data!F:F)","v":{"$error":"#N/A"}},{"$f":"_xlfn.XLOOKUP(C461,Data!C:C,Data!H:H,0)","v":0},{"$error":"#N/A"},{"$error":"#N/A"},{"$error":"#N/A"},{"$error":"#N/A"},{"$error":"#N/A"},0,{"$error":"#N/A"},"","","",null,{"$error":"#N/A"}]
["23-3-2021","19:39:00","2021-03-23T19:39:00",null,{"$f":"_xlfn.XLOOKUP(C462,Data!C:C,Data!I:I)","v":{"$error":"#N/A"}},{"$error":"#N/A"},{"$f":"_xlfn.XLOOKUP(C462,Data!C:C,Data!G:G,0)","v":0},{"$f":"_xlfn.XLOOKUP(C462,Data!C:C,Data!F:F)","v":{"$error":"#N/A"}},{"$f":"_xlfn.XLOOKUP(C462,Data!C:C,Data!H:H,0)","v":0},{"$error":"#N/A"},{"$error":"#N/A"},{"$error":"#N/A"},{"$error":"#N/A"},{"$error":"#N/A"},0,{"$error":"#N/A"},"","","",null,{"$error":"#N/A"}]
["23-3-2021","19:40:00","2021-03-23T19:40:00",null,{"$f":"_xlfn.XLOOKUP(C463,Data!C:C,Data!I:I)","v":{"$error":"#N/A"}},{"$error":"#N/A"},{"$f":"_xlfn.XLOOKUP(C463,Data!C:C,Data!G:G,0)","v":0},{"$f":"_xlfn.XLOOKUP(C463,Data!C:C,Data!F:F)","v":{"$error":"#N/A"}},{"$f":"_xlfn.XLOOKUP(C463,Data!C:C,Data!H:H,0)","v":0},{"$error":"#N/A"},{"$error":"#N/A"},{"$error":"#N/A"},{"$error":"#N/A"},{"$error":"#N/A"},0,{"$error":"#N/A"},"","","",null,{"$error":"#N/A"}]
["23-3-2021","19:41:00","2021-03-23T19:41:00",null,{"$f":"_xlfn.XLOOKUP(C464,Data!C:C,Data!I:I)","v":{"$error":"#N/A"}},{"$error":"#N/A"},{"$f":"_xlfn.XLOOKUP(C464,Data!C:C,Data!G:G,0)","v":0},{"$f":"_xlfn.XLOOKUP(C464,Data!C:C,Data!F:F)","v":{"$error":"#N/A"}},{"$f":"_xlfn.XLOOKUP(C464,Data!C:C,Data!H:H,0)","v":0},{"$error":"#N/A"},{"$error":"#N/A"},{"$error":"#N/A"},{"$error":"#N/A"},{"$error":"#N/A"},0,{"$error":"#N/A"},"","","",null,{"$error":"#N/A"}]
["23-3-2021","19:42:00","2021-03-23T19:42:00",null,{"$f":"_xlfn.XLOOKUP(C465,Data!C:C,Data!I:I)","v":{"$error":"#N/A"}},{"$error":"#N/A"},{"$f":"_xlfn.XLOOKUP(C465,Data!C:C,Data!G:G,0)","v":0},{"$f":"_xlfn.XLOOKUP(C465,Data!C:C,Data!F:F)","v":{"$error":"#N/A"}},{"$f":"_xlfn.XLOOKUP(C465,Data!C:C,Data!H:H,0)","v":0},{"$error":"#N/A"},{"$error":"#N/A"},{"$error":"#N/A"},{"$error":"#N/A"},{"$error":"#N/A"},0,{"$error":"#N/A"},"","","",null,{"$error":"#N/A"}]
["23-3-2021","19:43:00","2021-03-23T19:43:00",null,{"$f":"_xlfn.XLOOKUP(C466,Data!C:C,Data!I:I)","v":{"$error":"#N/A"}},{"$error":"#N/A"},{"$f":"_xlfn.XLOOKUP(C466,Data!C:C,Data!G:G,0)","v":0},{"$f":"_xlfn.XLOOKUP(C466,Data!C:C,Data!F:F)","v":{"$error":"#N/A"}},{"$f":"_xlfn.XLOOKUP(C466,Data!C:C,Data!H:H,0)","v":0},{"$error":"#N/A"},{"$error":"#N/A"},{"$error":"#N/A"},{"$error":"#N/A"},{"$error":"#N/A"},0,{"$error":"#N/A"},"","","",null,{"$error":"#N/A"}]
["23-3-2021","19:44:00","2021-03-23T19:44:00",null,{"$f":"_xlfn.XLOOKUP(C467,Data!C:C,Data!I:I)","v":{"$error":"#N/A"}},{"$error":"#N/A"},{"$f":"_xlfn.XLOOKUP(C467,Data!C:C,Data!G:G,0)","v":0},{"$f":"_xlfn.XLOOKUP(C467,Data!C:C,Data!F:F)","v":{"$error":"#N/A"}},{"$f":"_xlfn.XLOOKUP(C467,Data!C:C,Data!H:H,0)","v":0},{"$error":"#N/A"},{"$error":"#N/A"},{"$error":"#N/A"},{"$error":"#N/A"},{"$error":"#N/A"},0,{"$error":"#N/A"},"","","",null,{"$error":"#N/A"}]
["23-3-2021","19:45:00","2021-03-23T19:45:00",null,{"$f":"_xlfn.XLOOKUP(C468,Data!C:C,Data!I:I)","v":{"$error":"#N/A"}},{"$error":"#N/A"},{"$f":"_xlfn.XLOOKUP(C468,Data!C:C,Data!G:G,0)","v":0},{"$f":"_xlfn.XLOOKUP(C468,Data!C:C,Data!F:F)","v":{"$error":"#N/A"}},{"$f":"_xlfn.XLOOKUP(C468,Data!C:C,Data!H:H,0)","v":0},{"$error":"#N/A"},{"$error":"#N/A"},{"$error":"#N/A"},{"$error":"#N/A"},{"$error":"#N/A"},0,{"$error":"#N/A"},"","","",null,{"$error":"#N/A"}]
["23-3-2021","19:46:00","2021-03-23T19:46:00",null,{"$f":"_xlfn.XLOOKUP(C469,Data!C:C,Data!I:I)","v":{"$error":"#N/A"}},{"$error":"#N/A"},{"$f":"_xlfn.XLOOKUP(C469,Data!C:C,Data!G:G,0)","v":0},{"$f":"_xlfn.XLOOKUP(C469,Data!C:C,Data!F:F)","v":{"$error":"#N/A"}},{"$f":"_xlfn.XLOOKUP(C469,Data!C:C,Data!H:H,0)","v":0},{"$error":"#N/A"},{"$error":"#N/A"},{"$error":"#N/A"},{"$error":"#N/A"},{"$error":"#N/A"},0,{"$error":"#N/A"},"","","",null,{"$error":"#N/A"}]
["23-3-2021","19:47:00","2021-03-23T19:47:00",null,{"$f":"_xlfn.XLOOKUP(C470,Data!C:C,Data!I:I)","v":{"$error":"#N/A"}},{"$error":"#N/A"},{"$f":"_xlfn.XLOOKUP(C470,Data!C:C,Data!G:G,0)","v":0},{"$f":"_xlfn.XLOOKUP(C470,Data!C:C,Data!F:F)","v":{"$error":"#N/A"}},{"$f":"_xlfn.XLOOKUP(C470,Data!C:C,Data!H:H,0)","v":0},{"$error":"#N/A"},{"$error":"#N/A"},{"$error":"#N/A"},{"$error":"#N/A"},{"$error":"#N/A"},0,{"$error":"#N/A"},"","","",null,{"$error":"#N/A"}]
["23-3-2021","19:48:00","2021-03-23T19:48:00",null,{"$f":"_xlfn.XLOOKUP(C471,Data!C:C,Data!I:I)","v":{"$error":"#N/A"}},{"$error":"#N/A"},{"$f":"_xlfn.XLOOKUP(C471,Data!C:C,Data!G:G,0)","v":0},{"$f":"_xlfn.XLOOKUP(C471,Data!C:C,Data!F:F)","v":{"$error":"#N/A"}},{"$f":"_xlfn.XLOOKUP(C471,Data!C:C,Data!H:H,0)","v":0},{"$error":"#N/A"},{"$error":"#N/A"},{"$error":"#N/A"},{"$error":"#N/A"},{"$error":"#N/A"},0,{"$error":"#N/A"},"","","",null,{"$error":"#N/A"}]
["23-3-2021","19:49:00","2021-03-23T19:49:00",null,{"$f":"_xlfn.XLOOKUP(C472,Data!C:C,Data!I:I)","v":{"$error":"#N/A"}},{"$error":"#N/A"},{"$f":"_xlfn.XLOOKUP(C472,Data!C:C,Data!G:G,0)","v":0},{"$f":"_xlfn.XLOOKUP(C472,Data!C:C,Data!F:F)","v":{"$error":"#N/A"}},{"$f":"_xlfn.XLOOKUP(C472,Data!C:C,Data!H:H,0)","v":0},{"$error":"#N/A"},{"$error":"#N/A"},{"$error":"#N/A"},{"$error":"#N/A"},{"$error":"#N/A"},0,{"$error":"#N/A"},"","","",null,{"$error":"#N/A"}]
["23-3-2021","19:50:00","2021-03-23T19:50:00",null,{"$f":"_xlfn.XLOOKUP(C473,Data!C:C,Data!I:I)","v":{"$error":"#N/A"}},{"$error":"#N/A"},{"$f":"_xlfn.XLOOKUP(C473,Data!C:C,Data!G:G,0)","v":0},{"$f":"_xlfn.XLOOKUP(C473,Data!C:C,Data!F:F)","v":{"$error":"#N/A"}},{"$f":"_xlfn.XLOOKUP(C473,Data!C:C,Data!H:H,0)","v":0},{"$error":"#N/A"},{"$error":"#N/A"},{"$error":"#N/A"},{"$error":"#N/A"},{"$error":"#N/A"},0,{"$error":"#N/A"},"","","",null,{"$error":"#N/A"}]
["23-3-2021","19:51:00","2021-03-23T19:51:00",null,{"$f":"_xlfn.XLOOKUP(C474,Data!C:C,Data!I:I)","v":{"$error":"#N/A"}},{"$error":"#N/A"},{"$f":"_xlfn.XLOOKUP(C474,Data!C:C,Data!G:G,0)","v":0},{"$f":"_xlfn.XLOOKUP(C474,Data!C:C,Data!F:F)","v":{"$error":"#N/A"}},{"$f":"_xlfn.XLOOKUP(C474,Data!C:C,Data!H:H,0)","v":0},{"$error":"#N/A"},{"$error":"#N/A"},{"$error":"#N/A"},{"$error":"#N/A"},{"$error":"#N/A"},0,{"$error":"#N/A"},"","","",null,{"$error":"#N/A"}]
["23-3-2021","19:52:00","2021-03-23T19:52:00",null,{"$f":"_xlfn.XLOOKUP(C475,Data!C:C,Data!I:I)","v":{"$error":"#N/A"}},{"$error":"#N/A"},{"$f":"_xlfn.XLOOKUP(C475,Data!C:C,Data!G:G,0)","v":0},{"$f":"_xlfn.XLOOKUP(C475,Data!C:C,Data!F:F)","v":{"$error":"#N/A"}},{"$f":"_xlfn.XLOOKUP(C475,Data!C:C,Data!H:H,0)","v":0},{"$error":"#N/A"},{"$error":"#N/A"},{"$error":"#N/A"},{"$error":"#N/A"},{"$error":"#N/A"},0,{"$error":"#N/A"},"","","",null,{"$error":"#N/A"}]
["23-3-2021","19:53:00","2021-03-23T19:53:00",null,{"$f":"_xlfn.XLOOKUP(C476,Data!C:C,Data!I:I)","v":{"$error":"#N/A"}},{"$error":"#N/A"},{"$f":"_xlfn.XLOOKUP(C476,Data!C:C,Data!G:G,0)","v":0},{"$f":"_xlfn.XLOOKUP(C476,Data!C:C,Data!F:F)","v":{"$error":"#N/A"}},{"$f":"_xlfn.XLOOKUP(C476,Data!C:C,Data!H:H,0)","v":0},{"$error":"#N/A"},{"$error":"#N/A"},{"$error":"#N/A"},{"$error":"#N/A"},{"$error":"#N/A"},0,{"$error":"#N/A"},"","","",null,{"$error":"#N/A"}]
["23-3-2021","19:54:00","2021-03-23T19:54:00",null,{"$f":"_xlfn.XLOOKUP(C477,Data!C:C,Data!I:I)","v":{"$error":"#N/A"}},{"$error":"#N/A"},{"$f":"_xlfn.XLOOKUP(C477,Data!C:C,Data!G:G,0)","v":0},{"$f":"_xlfn.XLOOKUP(C477,Data!C:C,Data!F:F)","v":{"$error":"#N/A"}},{"$f":"_xlfn.XLOOKUP(C477,Data!C:C,Data!H:H,0)","v":0},{"$error":"#N/A"},{"$error":"#N/A"},{"$error":"#N/A"},{"$error":"#N/A"},{"$error":"#N/A"},0,{"$error":"#N/A"},"","","",null,{"$error":"#N/A"}]
["23-3-2021","19:55:00","2021-03-23T19:55:00",null,{"$f":"_xlfn.XLOOKUP(C478,Data!C:C,Data!I:I)","v":{"$error":"#N/A"}},{"$error":"#N/A"},{"$f":"_xlfn.XLOOKUP(C478,Data!C:C,Data!G:G,0)","v":0},{"$f":"_xlfn.XLOOKUP(C478,Data!C:C,Data!F:F)","v":{"$error":"#N/A"}},{"$f":"_xlfn.XLOOKUP(C478,Data!C:C,Data!H:H,0)","v":0},{"$error":"#N/A"},{"$error":"#N/A"},{"$error":"#N/A"},{"$error":"#N/A"},{"$error":"#N/A"},0,{"$error":"#N/A"},"","","",null,{"$error":"#N/A"}]
["23-3-2021","19:56:00","2021-03-23T19:56:00",null,{"$f":"_xlfn.XLOOKUP(C479,Data!C:C,Data!I:I)","v":{"$error":"#N/A"}},{"$error":"#N/A"},{"$f":"_xlfn.XLOOKUP(C479,Data!C:C,Data!G:G,0)","v":0},{"$f":"_xlfn.XLOOKUP(C479,Data!C:C,Data!F:F)","v":{"$error":"#N/A"}},{"$f":"_xlfn.XLOOKUP(C479,Data!C:C,Data!H:H,0)","v":0},{"$error":"#N/A"},{"$error":"#N/A"},{"$error":"#N/A"},{"$error":"#N/A"},{"$error":"#N/A"},0,{"$error":"#N/A"},"","","",null,{"$error":"#N/A"}]
["23-3-2021","19:57:00","2021-03-23T19:57:00",null,{"$f":"_xlfn.XLOOKUP(C480,Data!C:C,Data!I:I)","v":{"$error":"#N/A"}},{"$error":"#N/A"},{"$f":"_xlfn.XLOOKUP(C480,Data!C:C,Data!G:G,0)","v":0},{"$f":"_xlfn.XLOOKUP(C480,Data!C:C,Data!F:F)","v":{"$error":"#N/A"}},{"$f":"_xlfn.XLOOKUP(C480,Data!C:C,Data!H:H,0)","v":0},{"$error":"#N/A"},{"$error":"#N/A"},{"$error":"#N/A"},{"$error":"#N/A"},{"$error":"#N/A"},0,{"$error":"#N/A"},"","","",null,{"$error":"#N/A"}]
["23-3-2021","19:58:00","2021-03-23T19:58:00",null,{"$f":"_xlfn.XLOOKUP(C481,Data!C:C,Data!I:I)","v":{"$error":"#N/A"}},{"$error":"#N/A"},{"$f":"_xlfn.XLOOKUP(C481,Data!C:C,Data!G:G,0)","v":0},{"$f":"_xlfn.XLOOKUP(C481,Data!C:C,Data!F:F)","v":{"$error":"#N/A"}},{"$f":"_xlfn.XLOOKUP(C481,Data!C:C,Data!H:H,0)","v":0},{"$error":"#N/A"},{"$error":"#N/A"},{"$error":"#N/A"},{"$error":"#N/A"},{"$error":"#N/A"},0,{"$error":"#N/A"},"","","",null,{"$error":"#N/A"}]
["23-3-2021","19:59:00","2021-03-23T19:59:00",null,{"$f":"_xlfn.XLOOKUP(C482,Data!C:C,Data!I:I)","v":{"$error":"#N/A"}},{"$error":"#N/A"},{"$f":"_xlfn.XLOOKUP(C482,Data!C:C,Data!G:G,0)","v":0},{"$f":"_xlfn.XLOOKUP(C482,Data!C:C,Data!F:F)","v":{"$error":"#N/A"}},{"$f":"_xlfn.XLOOKUP(C482,Data!C:C,Data!H:H,0)","v":0},{"$error":"#N/A"},{"$error":"#N/A"},{"$error":"#N/A"},{"$error":"#N/A"},{"$error":"#N/A"},0,{"$error":"#N/A"},"","","",null,{"$error":"#N/A"}]
["23-3-2021","20:00:00","2021-03-23T20:00:00",null,{"$f":"_xlfn.XLOOKUP(C483,Data!C:C,Data!I:I)","v":{"$error":"#N/A"}},{"$error":"#N/A"},{"$f":"_xlfn.XLOOKUP(C483,Data!C:C,Data!G:G,0)","v":0},{"$f":"_xlfn.XLOOKUP(C483,Data!C:C,Data!F:F)","v":{"$error":"#N/A"}},{"$f":"_xlfn.XLOOKUP(C483,Data!C:C,Data!H:H,0)","v":0},{"$error":"#N/A"},{"$error":"#N/A"},{"$error":"#N/A"},{"$error":"#N/A"},{"$error":"#N/A"},0,{"$error":"#N/A"},"","","",null,{"$error":"#N/A"}]
["23-3-2021","20:01:00","2021-03-23T20:01:00",null,{"$f":"_xlfn.XLOOKUP(C484,Data!C:C,Data!I:I)","v":{"$error":"#N/A"}},{"$error":"#N/A"},{"$f":"_xlfn.XLOOKUP(C484,Data!C:C,Data!G:G,0)","v":0},{"$f":"_xlfn.XLOOKUP(C484,Data!C:C,Data!F:F)","v":{"$error":"#N/A"}},{"$f":"_xlfn.XLOOKUP(C484,Data!C:C,Data!H:H,0)","v":0},{"$error":"#N/A"},{"$error":"#N/A"},{"$error":"#N/A"},{"$error":"#N/A"},{"$error":"#N/A"},0,{"$error":"#N/A"},"","","",null,{"$error":"#N/A"}]
["23-3-2021","20:02:00","2021-03-23T20:02:00",null,{"$f":"_xlfn.XLOOKUP(C485,Data!C:C,Data!I:I)","v":{"$error":"#N/A"}},{"$error":"#N/A"},{"$f":"_xlfn.XLOOKUP(C485,Data!C:C,Data!G:G,0)","v":0},{"$f":"_xlfn.XLOOKUP(C485,Data!C:C,Data!F:F)","v":{"$error":"#N/A"}},{"$f":"_xlfn.XLOOKUP(C485,Data!C:C,Data!H:H,0)","v":0},{"$error":"#N/A"},{"$error":"#N/A"},{"$error":"#N/A"},{"$error":"#N/A"},{"$error":"#N/A"},0,{"$error":"#N/A"},"","","",null,{"$error":"#N/A"}]
["23-3-2021","20:03:00","2021-03-23T20:03:00",null,{"$f":"_xlfn.XLOOKUP(C486,Data!C:C,Data!I:I)","v":{"$error":"#N/A"}},{"$error":"#N/A"},{"$f":"_xlfn.XLOOKUP(C486,Data!C:C,Data!G:G,0)","v":0},{"$f":"_xlfn.XLOOKUP(C486,Data!C:C,Data!F:F)","v":{"$error":"#N/A"}},{"$f":"_xlfn.XLOOKUP(C486,Data!C:C,Data!H:H,0)","v":0},{"$error":"#N/A"},{"$error":"#N/A"},{"$error":"#N/A"},{"$error":"#N/A"},{"$error":"#N/A"},0,{"$error":"#N/A"},"","","",null,{"$error":"#N/A"}]
["23-3-2021","20:04:00","2021-03-23T20:04:00",null,{"$f":"_xlfn.XLOOKUP(C487,Data!C:C,Data!I:I)","v":{"$error":"#N/A"}},{"$error":"#N/A"},{"$f":"_xlfn.XLOOKUP(C487,Data!C:C,Data!G:G,0)","v":0},{"$f":"_xlfn.XLOOKUP(C487,Data!C:C,Data!F:F)","v":{"$error":"#N/A"}},{"$f":"_xlfn.XLOOKUP(C487,Data!C:C,Data!H:H,0)","v":0},{"$error":"#N/A"},{"$error":"#N/A"},{"$error":"#N/A"},{"$error":"#N/A"},{"$error":"#N/A"},0,{"$error":"#N/A"},"","","",null,{"$error":"#N/A"}]
["23-3-2021","20:05:00","2021-03-23T20:05:00",null,{"$f":"_xlfn.XLOOKUP(C488,Data!C:C,Data!I:I)","v":{"$error":"#N/A"}},{"$error":"#N/A"},{"$f":"_xlfn.XLOOKUP(C488,Data!C:C,Data!G:G,0)","v":0},{"$f":"_xlfn.XLOOKUP(C488,Data!C:C,Data!F:F)","v":{"$error":"#N/A"}},{"$f":"_xlfn.XLOOKUP(C488,Data!C:C,Data!H:H,0)","v":0},{"$error":"#N/A"},{"$error":"#N/A"},{"$error":"#N/A"},{"$error":"#N/A"},{"$error":"#N/A"},0,{"$error":"#N/A"},"","","",null,{"$error":"#N/A"}]
["23-3-2021","20:06:00","2021-03-23T20:06:00",null,{"$f":"_xlfn.XLOOKUP(C489,Data!C:C,Data!I:I)","v":{"$error":"#N/A"}},{"$error":"#N/A"},{"$f":"_xlfn.XLOOKUP(C489,Data!C:C,Data!G:G,0)","v":0},{"$f":"_xlfn.XLOOKUP(C489,Data!C:C,Data!F:F)","v":{"$error":"#N/A"}},{"$f":"_xlfn.XLOOKUP(C489,Data!C:C,Data!H:H,0)","v":0},{"$error":"#N/A"},{"$error":"#N/A"},{"$error":"#N/A"},{"$error":"#N/A"},{"$error":"#N/A"},0,{"$error":"#N/A"},"","","",null,{"$error":"#N/A"}]
["23-3-2021","20:07:00","2021-03-23T20:07:00",null,{"$f":"_xlfn.XLOOKUP(C490,Data!C:C,Data!I:I)","v":{"$error":"#N/A"}},{"$error":"#N/A"},{"$f":"_xlfn.XLOOKUP(C490,Data!C:C,Data!G:G,0)","v":0},{"$f":"_xlfn.XLOOKUP(C490,Data!C:C,Data!F:F)","v":{"$error":"#N/A"}},{"$f":"_xlfn.XLOOKUP(C490,Data!C:C,Data!H:H,0)","v":0},{"$error":"#N/A"},{"$error":"#N/A"},{"$error":"#N/A"},{"$error":"#N/A"},{"$error":"#N/A"},0,{"$error":"#N/A"},"","","",null,{"$error":"#N/A"}]
["23-3-2021","20:08:00","2021-03-23T20:08:00",null,{"$f":"_xlfn.XLOOKUP(C491,Data!C:C,Data!I:I)","v":{"$error":"#N/A"}},{"$error":"#N/A"},{"$f":"_xlfn.XLOOKUP(C491,Data!C:C,Data!G:G,0)","v":0},{"$f":"_xlfn.XLOOKUP(C491,Data!C:C,Data!F:F)","v":{"$error":"#N/A"}},{"$f":"_xlfn.XLOOKUP(C491,Data!C:C,Data!H:H,0)","v":0},{"$error":"#N/A"},{"$error":"#N/A"},{"$error":"#N/A"},{"$error":"#N/A"},{"$error":"#N/A"},0,{"$error":"#N/A"},"","","",null,{"$error":"#N/A"}]
["23-3-2021","20:09:00","2021-03-23T20:09:00",null,{"$f":"_xlfn.XLOOKUP(C492,Data!C:C,Data!I:I)","v":{"$error":"#N/A"}},{"$error":"#N/A"},{"$f":"_xlfn.XLOOKUP(C492,Data!C:C,Data!G:G,0)","v":0},{"$f":"_xlfn.XLOOKUP(C492,Data!C:C,Data!F:F)","v":{"$error":"#N/A"}},{"$f":"_xlfn.XLOOKUP(C492,Data!C:C,Data!H:H,0)","v":0},{"$error":"#N/A"},{"$error":"#N/A"},{"$error":"#N/A"},{"$error":"#N/A"},{"$error":"#N/A"},0,{"$error":"#N/A"},"","","",null,{"$error":"#N/A"}]
["23-3-2021","20:10:00","2021-03-23T20:10:00",null,{"$f":"_xlfn.XLOOKUP(C493,Data!C:C,Data!I:I)","v":{"$error":"#N/A"}},{"$error":"#N/A"},{"$f":"_xlfn.XLOOKUP(C493,Data!C:C,Data!G:G,0)","v":0},{"$f":"_xlfn.XLOOKUP(C493,Data!C:C,Data!F:F)","v":{"$error":"#N/A"}},{"$f":"_xlfn.XLOOKUP(C493,Data!C:C,Data!H:H,0)","v":0},{"$error":"#N/A"},{"$error":"#N/A"},{"$error":"#N/A"},{"$error":"#N/A"},{"$error":"#N/A"},0,{"$error":"#N/A"},"","","",null,{"$error":"#N/A"}]
["23-3-2021","20:11:00","2021-03-23T20:11:00",null,{"$f":"_xlfn.XLOOKUP(C494,Data!C:C,Data!I:I)","v":{"$error":"#N/A"}},{"$error":"#N/A"},{"$f":"_xlfn.XLOOKUP(C494,Data!C:C,Data!G:G,0)","v":0},{"$f":"_xlfn.XLOOKUP(C494,Data!C:C,Data!F:F)","v":{"$error":"#N/A"}},{"$f":"_xlfn.XLOOKUP(C494,Data!C:C,Data!H:H,0)","v":0},{"$error":"#N/A"},{"$error":"#N/A"},{"$error":"#N/A"},{"$error":"#N/A"},{"$error":"#N/A"},0,{"$error":"#N/A"},"","","",null,{"$error":"#N/A"}]
["23-3-2021","20:12:00","2021-03-23T20:12:00",null,{"$f":"_xlfn.XLOOKUP(C495,Data!C:C,Data!I:I)","v":{"$error":"#N/A"}},{"$error":"#N/A"},{"$f":"_xlfn.XLOOKUP(C495,Data!C:C,Data!G:G,0)","v":0},{"$f":"_xlfn.XLOOKUP(C495,Data!C:C,Data!F:F)","v":{"$error":"#N/A"}},{"$f":"_xlfn.XLOOKUP(C495,Data!C:C,Data!H:H,0)","v":0},{"$error":"#N/A"},{"$error":"#N/A"},{"$error":"#N/A"},{"$error":"#N/A"},{"$error":"#N/A"},0,{"$error":"#N/A"},"","","",null,{"$error":"#N/A"}]
["23-3-2021","20:13:00","2021-03-23T20:13:00",null,{"$f":"_xlfn.XLOOKUP(C496,Data!C:C,Data!I:I)","v":{"$error":"#N/A"}},{"$error":"#N/A"},{"$f":"_xlfn.XLOOKUP(C496,Data!C:C,Data!G:G,0)","v":0},{"$f":"_xlfn.XLOOKUP(C496,Data!C:C,Data!F:F)","v":{"$error":"#N/A"}},{"$f":"_xlfn.XLOOKUP(C496,Data!C:C,Data!H:H,0)","v":0},{"$error":"#N/A"},{"$error":"#N/A"},{"$error":"#N/A"},{"$error":"#N/A"},{"$error":"#N/A"},0,{"$error":"#N/A"},"","","",null,{"$error":"#N/A"}]
["23-3-2021","20:14:00","2021-03-23T20:14:00",null,{"$f":"_xlfn.XLOOKUP(C497,Data!C:C,Data!I:I)","v":{"$error":"#N/A"}},{"$error":"#N/A"},{"$f":"_xlfn.XLOOKUP(C497,Data!C:C,Data!G:G,0)","v":0},{"$f":"_xlfn.XLOOKUP(C497,Data!C:C,Data!F:F)","v":{"$error":"#N/A"}},{"$f":"_xlfn.XLOOKUP(C497,Data!C:C,Data!H:H,0)","v":0},{"$error":"#N/A"},{"$error":"#N/A"},{"$error":"#N/A"},{"$error":"#N/A"},{"$error":"#N/A"},0,{"$error":"#N/A"},"","","",null,{"$error":"#N/A"}]
["23-3-2021","20:15:00","2021-03-23T20:15:00",null,{"$f":"_xlfn.XLOOKUP(C498,Data!C:C,Data!I:I)","v":{"$error":"#N/A"}},{"$error":"#N/A"},{"$f":"_xlfn.XLOOKUP(C498,Data!C:C,Data!G:G,0)","v":0},{"$f":"_xlfn.XLOOKUP(C498,Data!C:C,Data!F:F)","v":{"$error":"#N/A"}},{"$f":"_xlfn.XLOOKUP(C498,Data!C:C,Data!H:H,0)","v":0},{"$error":"#N/A"},{"$error":"#N/A"},{"$error":"#N/A"},{"$error":"#N/A"},{"$error":"#N/A"},0,{"$error":"#N/A"},"","","",null,{"$error":"#N/A"}]
["23-3-2021","20:16:00","2021-03-23T20:16:00",null,{"$f":"_xlfn.XLOOKUP(C499,Data!C:C,Data!I:I)","v":{"$error":"#N/A"}},{"$error":"#N/A"},{"$f":"_xlfn.XLOOKUP(C499,Data!C:C,Data!G:G,0)","v":0},{"$f":"_xlfn.XLOOKUP(C499,Data!C:C,Data!F:F)","v":{"$error":"#N/A"}},{"$f":"_xlfn.XLOOKUP(C499,Data!C:C,Data!H:H,0)","v":0},{"$error":"#N/A"},{"$error":"#N/A"},{"$error":"#N/A"},{"$error":"#N/A"},{"$error":"#N/A"},0,{"$error":"#N/A"},"","","",null,{"$error":"#N/A"}]
["23-3-2021","20:17:00","2021-03-23T20:17:00",null,{"$f":"_xlfn.XLOOKUP(C500,Data!C:C,Data!I:I)","v":{"$error":"#N/A"}},{"$error":"#N/A"},{"$f":"_xlfn.XLOOKUP(C500,Data!C:C,Data!G:G,0)","v":0},{"$f":"_xlfn.XLOOKUP(C500,Data!C:C,Data!F:F)","v":{"$error":"#N/A"}},{"$f":"_xlfn.XLOOKUP(C500,Data!C:C,Data!H:H,0)","v":0},{"$error":"#N/A"},{"$error":"#N/A"},{"$error":"#N/A"},{"$error":"#N/A"},{"$error":"#N/A"},0,{"$error":"#N/A"},"","","",null,{"$error":"#N/A"}]
["23-3-2021","20:18:00","2021-03-23T20:18:00",null,{"$f":"_xlfn.XLOOKUP(C501,Data!C:C,Data!I:I)","v":{"$error":"#N/A"}},{"$error":"#N/A"},{"$f":"_xlfn.XLOOKUP(C501,Data!C:C,Data!G:G,0)","v":0},{"$f":"_xlfn.XLOOKUP(C501,Data!C:C,Data!F:F)","v":{"$error":"#N/A"}},{"$f":"_xlfn.XLOOKUP(C501,Data!C:C,Data!H:H,0)","v":0},{"$error":"#N/A"},{"$error":"#N/A"},{"$error":"#N/A"},{"$error":"#N/A"},{"$error":"#N/A"},0,{"$error":"#N/A"},"","","",null,{"$error":"#N/A"}]
["23-3-2021","20:19:00","2021-03-23T20:19:00",null,{"$f":"_xlfn.XLOOKUP(C502,Data!C:C,Data!I:I)","v":{"$error":"#N/A"}},{"$error":"#N/A"},{"$f":"_xlfn.XLOOKUP(C502,Data!C:C,Data!G:G,0)","v":0},{"$f":"_xlfn.XLOOKUP(C502,Data!C:C,Data!F:F)","v":{"$error":"#N/A"}},{"$f":"_xlfn.XLOOKUP(C502,Data!C:C,Data!H:H,0)","v":0},{"$error":"#N/A"},{"$error":"#N/A"},{"$error":"#N/A"},{"$error":"#N/A"},{"$error":"#N/A"},0,{"$error":"#N/A"},"","","",null,{"$error":"#N/A"}]
["23-3-2021","20:20:00","2021-03-23T20:20:00",null,{"$f":"_xlfn.XLOOKUP(C503,Data!C:C,Data!I:I)","v":{"$error":"#N/A"}},{"$error":"#N/A"},{"$f":"_xlfn.XLOOKUP(C503,Data!C:C,Data!G:G,0)","v":0},{"$f":"_xlfn.XLOOKUP(C503,Data!C:C,Data!F:F)","v":{"$error":"#N/A"}},{"$f":"_xlfn.XLOOKUP(C503,Data!C:C,Data!H:H,0)","v":0},{"$error":"#N/A"},{"$error":"#N/A"},{"$error":"#N/A"},{"$error":"#N/A"},{"$error":"#N/A"},0,{"$error":"#N/A"},"","","",null,{"$error":"#N/A"}]
["23-3-2021","20:21:00","2021-03-23T20:21:00",null,{"$f":"_xlfn.XLOOKUP(C504,Data!C:C,Data!I:I)","v":{"$error":"#N/A"}},{"$error":"#N/A"},{"$f":"_xlfn.XLOOKUP(C504,Data!C:C,Data!G:G,0)","v":0},{"$f":"_xlfn.XLOOKUP(C504,Data!C:C,Data!F:F)","v":{"$error":"#N/A"}},{"$f":"_xlfn.XLOOKUP(C504,Data!C:C,Data!H:H,0)","v":0},{"$error":"#N/A"},{"$error":"#N/A"},{"$error":"#N/A"},{"$error":"#N/A"},{"$error":"#N/A"},0,{"$error":"#N/A"},"","","",null,{"$error":"#N/A"}]
["23-3-2021","20:22:00","2021-03-23T20:22:00",null,{"$f":"_xlfn.XLOOKUP(C505,Data!C:C,Data!I:I)","v":{"$error":"#N/A"}},{"$error":"#N/A"},{"$f":"_xlfn.XLOOKUP(C505,Data!C:C,Data!G:G,0)","v":0},{"$f":"_xlfn.XLOOKUP(C505,Data!C:C,Data!F:F)","v":{"$error":"#N/A"}},{"$f":"_xlfn.XLOOKUP(C505,Data!C:C,Data!H:H,0)","v":0},{"$error":"#N/A"},{"$error":"#N/A"},{"$error":"#N/A"},{"$error":"#N/A"},{"$error":"#N/A"},0,{"$error":"#N/A"},"","","",null,{"$error":"#N/A"}]
["23-3-2021","20:23:00","2021-03-23T20:23:00",null,{"$f":"_xlfn.XLOOKUP(C506,Data!C:C,Data!I:I)","v":{"$error":"#N/A"}},{"$error":"#N/A"},{"$f":"_xlfn.XLOOKUP(C506,Data!C:C,Data!G:G,0)","v":0},{"$f":"_xlfn.XLOOKUP(C506,Data!C:C,Data!F:F)","v":{"$error":"#N/A"}},{"$f":"_xlfn.XLOOKUP(C506,Data!C:C,Data!H:H,0)","v":0},{"$error":"#N/A"},{"$error":"#N/A"},{"$error":"#N/A"},{"$error":"#N/A"},{"$error":"#N/A"},0,{"$error":"#N/A"},"","","",null,{"$error":"#N/A"}]
["23-3-2021","20:24:00","2021-03-23T20:24:00",null,{"$f":"_xlfn.XLOOKUP(C507,Data!C:C,Data!I:I)","v":{"$error":"#N/A"}},{"$error":"#N/A"},{"$f":"_xlfn.XLOOKUP(C507,Data!C:C,Data!G:G,0)","v":0},{"$f":"_xlfn.XLOOKUP(C507,Data!C:C,Data!F:F)","v":{"$error":"#N/A"}},{"$f":"_xlfn.XLOOKUP(C507,Data!C:C,Data!H:H,0)","v":0},{"$error":"#N/A"},{"$error":"#N/A"},{"$error":"#N/A"},{"$error":"#N/A"},{"$error":"#N/A"},0,{"$error":"#N/A"},"","","",null,{"$error":"#N/A"}]
["23-3-2021","20:25:00","2021-03-23T20:25:00",null,{"$f":"_xlfn.XLOOKUP(C508,Data!C:C,Data!I:I)","v":{"$error":"#N/A"}},{"$error":"#N/A"},{"$f":"_xlfn.XLOOKUP(C508,Data!C:C,Data!G:G,0)","v":0},{"$f":"_xlfn.XLOOKUP(C508,Data!C:C,Data!F:F)","v":{"$error":"#N/A"}},{"$f":"_xlfn.XLOOKUP(C508,Data!C:C,Data!H:H,0)","v":0},{"$error":"#N/A"},{"$error":"#N/A"},{"$error":"#N/A"},{"$error":"#N/A"},{"$error":"#N/A"},0,{"$error":"#N/A"},"","","",null,{"$error":"#N/A"}]
["23-3-2021","20:26:00","2021-03-23T20:26:00",null,{"$f":"_xlfn.XLOOKUP(C509,Data!C:C,Data!I:I)","v":{"$error":"#N/A"}},{"$error":"#N/A"},{"$f":"_xlfn.XLOOKUP(C509,Data!C:C,Data!G:G,0)","v":0},{"$f":"_xlfn.XLOOKUP(C509,Data!C:C,Data!F:F)","v":{"$error":"#N/A"}},{"$f":"_xlfn.XLOOKUP(C509,Data!C:C,Data!H:H,0)","v":0},{"$error":"#N/A"},{"$error":"#N/A"},{"$error":"#N/A"},{"$error":"#N/A"},{"$error":"#N/A"},0,{"$error":"#N/A"},"","","",null,{"$error":"#N/A"}]
["23-3-2021","20:27:00","2021-03-23T20:27:00",null,{"$f":"_xlfn.XLOOKUP(C510,Data!C:C,Data!I:I)","v":{"$error":"#N/A"}},{"$error":"#N/A"},{"$f":"_xlfn.XLOOKUP(C510,Data!C:C,Data!G:G,0)","v":0},{"$f":"_xlfn.XLOOKUP(C510,Data!C:C,Data!F:F)","v":{"$error":"#N/A"}},{"$f":"_xlfn.XLOOKUP(C510,Data!C:C,Data!H:H,0)","v":0},{"$error":"#N/A"},{"$error":"#N/A"},{"$error":"#N/A"},{"$error":"#N/A"},{"$error":"#N/A"},0,{"$error":"#N/A"},"","","",null,{"$error":"#N/A"}]
["23-3-2021","20:28:00","2021-03-23T20:28:00",null,{"$f":"_xlfn.XLOOKUP(C511,Data!C:C,Data!I:I)","v":{"$error":"#N/A"}},{"$error":"#N/A"},{"$f":"_xlfn.XLOOKUP(C511,Data!C:C,Data!G:G,0)","v":0},{"$f":"_xlfn.XLOOKUP(C511,Data!C:C,Data!F:F)","v":{"$error":"#N/A"}},{"$f":"_xlfn.XLOOKUP(C511,Data!C:C,Data!H:H,0)","v":0},{"$error":"#N/A"},{"$error":"#N/A"},{"$error":"#N/A"},{"$error":"#N/A"},{"$error":"#N/A"},0,{"$error":"#N/A"},"","","",null,{"$error":"#N/A"}]
["23-3-2021","20:29:00","2021-03-23T20:29:00",null,{"$f":"_xlfn.XLOOKUP(C512,Data!C:C,Data!I:I)","v":{"$error":"#N/A"}},{"$error":"#N/A"},{"$f":"_xlfn.XLOOKUP(C512,Data!C:C,Data!G:G,0)","v":0},{"$f":"_xlfn.XLOOKUP(C512,Data!C:C,Data!F:F)","v":{"$error":"#N/A"}},{"$f":"_xlfn.XLOOKUP(C512,Data!C:C,Data!H:H,0)","v":0},{"$f":"IF(AND(MAX(E510:E511)=255,MAX(E512:E513)=255,  E511+E512+E513<3*255, OR(I512=123,I512=124,I512=106,I512=108)),   I512,   IF(AND(MAX(E510:E511)=255,MAX(E512:E513)=255,  E511+E512+E513<3*255, OR(I512>=80,I512<100)),106,108))","v":{"$error":"#N/A"}},{"$error":"#N/A"},{"$error":"#N/A"},{"$error":"#N/A"},{"$error":"#N/A"},0,{"$error":"#N/A"},"","","",null,{"$error":"#N/A"}]
["23-3-2021","20:30:00","2021-03-23T20:30:00",null,{"$f":"_xlfn.XLOOKUP(C513,Data!C:C,Data!I:I)","v":{"$error":"#N/A"}},{"$error":"#N/A"},{"$f":"_xlfn.XLOOKUP(C513,Data!C:C,Data!G:G,0)","v":0},{"$f":"_xlfn.XLOOKUP(C513,Data!C:C,Data!F:F)","v":{"$error":"#N/A"}},{"$f":"_xlfn.XLOOKUP(C513,Data!C:C,Data!H:H,0)","v":0},{"$error":"#N/A"},{"$error":"#N/A"},{"$error":"#N/A"},{"$error":"#N/A"},{"$error":"#N/A"},0,{"$error":"#N/A"},"","","",null,{"$error":"#N/A"}]
["23-3-2021","20:31:00","2021-03-23T20:31:00",null,{"$f":"_xlfn.XLOOKUP(C514,Data!C:C,Data!I:I)","v":{"$error":"#N/A"}},{"$error":"#N/A"},{"$f":"_xlfn.XLOOKUP(C514,Data!C:C,Data!G:G,0)","v":0},{"$f":"_xlfn.XLOOKUP(C514,Data!C:C,Data!F:F)","v":{"$error":"#N/A"}},{"$f":"_xlfn.XLOOKUP(C514,Data!C:C,Data!H:H,0)","v":0},{"$error":"#N/A"},{"$error":"#N/A"},{"$error":"#N/A"},{"$error":"#N/A"},{"$error":"#N/A"},0,{"$error":"#N/A"},"","","",null,{"$error":"#N/A"}]
["23-3-2021","20:32:00",{"$f":"A515+B515","v":"2021-03-23T20:32:00"},null,{"$f":"_xlfn.XLOOKUP(C515,Data!C:C,Data!I:I)","v":{"$error":"#N/A"}},{"$error":"#N/A"},{"$f":"_xlfn.XLOOKUP(C515,Data!C:C,Data!G:G,0)","v":0},{"$f":"_xlfn.XLOOKUP(C515,Data!C:C,Data!F:F)","v":{"$error":"#N/A"}},{"$f":"_xlfn.XLOOKUP(C515,Data!C:C,Data!H:H,0)","v":0},{"$error":"#N/A"},{"$f":"IF(AND(I515<100,  I515>=80,  OR(J515=105, J515=106,  J515=123)),  5,  0)","v":{"$error":"#N/A"}},{"$error":"#N/A"},{"$error":"#N/A"},{"$error":"#N/A"},{"$f":"IFERROR(F515,0)","v":0},{"$error":"#N/A"},"","","",null,{"$error":"#N/A"}]
[{"$f":"$A$3","v":"23-3-2021"},"20:33:00","2021-03-23T20:33:00",null,{"$f":"_xlfn.XLOOKUP(C516,Data!C:C,Data!I:I)","v":{"$error":"#N/A"}},{"$error":"#N/A"},{"$f":"_xlfn.XLOOKUP(C516,Data!C:C,Data!G:G,0)","v":0},{"$f":"_xlfn.XLOOKUP(C516,Data!C:C,Data!F:F)","v":{"$error":"#N/A"}},{"$f":"_xlfn.XLOOKUP(C516,Data!C:C,Data!H:H,0)","v":0},{"$error":"#N/A"},{"$error":"#N/A"},{"$f":"IF(AND(I516<130,  I516>104,  OR(J516=105, J516=106,  J516=123),  S516>$S$1450+$S$1443),  20,  0)","v":{"$error":"#N/A"}},{"$f":"IF(AND(I516<130,  I516>104,  OR(J516=105, J516=106,  J516=123),  R516>$Q$1449,  S516<=$S$1450+$S$1443),  20,  0)","v":{"$error":"#N/A"}},{"$f":"IF(AND(I516<130,  I516>104,  OR(J516=105, J516=106,  J516=123),  R516<=$Q$1449,  S516<=$S$1450+$S$1443),  20,  0)","v":{"$error":"#N/A"}},0,{"$f":"IF(Q516=\"\",F516,IF(Q516=0,P515,Q516))","v":{"$error":"#N/A"}},{"$f":"IF(I516>109,IF(O516*$Q$1451>(O515+O517)/2,MIN(O515:O517),O516),\"\")","v":""},"","",null,{"$error":"#N/A"}]
["23-3-2021","20:34:00","2021-03-23T20:34:00",null,{"$f":"_xlfn.XLOOKUP(C517,Data!C:C,Data!I:I)","v":{"$error":"#N/A"}},{"$f":"IF(E517=255,IF(MIN(E516:E518)=255,#N/A,MIN(E516:E518)),E517)","v":{"$error":"#N/A"}},{"$f":"_xlfn.XLOOKUP(C517,Data!C:C,Data!G:G,0)","v":0},{"$f":"_xlfn.XLOOKUP(C517,Data!C:C,Data!F:F)","v":{"$error":"#N/A"}},{"$f":"_xlfn.XLOOKUP(C517,Data!C:C,Data!H:H,0)","v":0},{"$error":"#N/A"},{"$error":"#N/A"},{"$error":"#N/A"},{"$error":"#N/A"},{"$error":"#N/A"},0,{"$error":"#N/A"},"","","",null,{"$error":"#N/A"}]
["23-3-2021","20:35:00","2021-03-23T20:35:00",null,{"$f":"_xlfn.XLOOKUP(C518,Data!C:C,Data!I:I)","v":{"$error":"#N/A"}},{"$error":"#N/A"},{"$f":"_xlfn.XLOOKUP(C518,Data!C:C,Data!G:G,0)","v":0},{"$f":"_xlfn.XLOOKUP(C518,Data!C:C,Data!F:F)","v":{"$error":"#N/A"}},{"$f":"_xlfn.XLOOKUP(C518,Data!C:C,Data!H:H,0)","v":0},{"$error":"#N/A"},{"$error":"#N/A"},{"$error":"#N/A"},{"$error":"#N/A"},{"$error":"#N/A"},0,{"$error":"#N/A"},"","","",null,{"$error":"#N/A"}]
["23-3-2021","20:36:00","2021-03-23T20:36:00",null,{"$f":"_xlfn.XLOOKUP(C519,Data!C:C,Data!I:I)","v":{"$error":"#N/A"}},{"$error":"#N/A"},{"$f":"_xlfn.XLOOKUP(C519,Data!C:C,Data!G:G,0)","v":0},{"$f":"_xlfn.XLOOKUP(C519,Data!C:C,Data!F:F)","v":{"$error":"#N/A"}},{"$f":"_xlfn.XLOOKUP(C519,Data!C:C,Data!H:H,0)","v":0},{"$error":"#N/A"},{"$error":"#N/A"},{"$error":"#N/A"},{"$error":"#N/A"},{"$error":"#N/A"},0,{"$error":"#N/A"},"","","",null,{"$f":"IF(F519=\"\",\"\",AVERAGE(F515:F523))","v":{"$error":"#N/A"}}]
["23-3-2021","20:37:00","2021-03-23T20:37:00",null,{"$f":"_xlfn.XLOOKUP(C520,Data!C:C,Data!I:I)","v":{"$error":"#N/A"}},{"$error":"#N/A"},{"$f":"_xlfn.XLOOKUP(C520,Data!C:C,Data!G:G,0)","v":0},{"$f":"_xlfn.XLOOKUP(C520,Data!C:C,Data!F:F)","v":{"$error":"#N/A"}},{"$f":"_xlfn.XLOOKUP(C520,Data!C:C,Data!H:H,0)","v":0},{"$error":"#N/A"},{"$error":"#N/A"},{"$error":"#N/A"},{"$error":"#N/A"},{"$error":"#N/A"},0,{"$error":"#N/A"},"",{"$f":"IF(Q520=\"\",\"\",AVERAGE(Q516:Q524))","v":""},{"$f":"IF(Q520=\"\",\"\",MAX(Q516:Q524)-MIN(Q516:Q524))","v":""},null,{"$error":"#N/A"}]
["23-3-2021","20:38:00","2021-03-23T20:38:00",null,{"$f":"_xlfn.XLOOKUP(C521,Data!C:C,Data!I:I)","v":{"$error":"#N/A"}},{"$error":"#N/A"},{"$f":"_xlfn.XLOOKUP(C521,Data!C:C,Data!G:G,0)","v":0},{"$f":"_xlfn.XLOOKUP(C521,Data!C:C,Data!F:F)","v":{"$error":"#N/A"}},{"$f":"_xlfn.XLOOKUP(C521,Data!C:C,Data!H:H,0)","v":0},{"$error":"#N/A"},{"$error":"#N/A"},{"$error":"#N/A"},{"$error":"#N/A"},{"$error":"#N/A"},0,{"$error":"#N/A"},"","","",null,{"$error":"#N/A"}]
["23-3-2021","20:39:00","2021-03-23T20:39:00",null,{"$f":"_xlfn.XLOOKUP(C522,Data!C:C,Data!I:I)","v":{"$error":"#N/A"}},{"$error":"#N/A"},{"$f":"_xlfn.XLOOKUP(C522,Data!C:C,Data!G:G,0)","v":0},{"$f":"_xlfn.XLOOKUP(C522,Data!C:C,Data!F:F)","v":{"$error":"#N/A"}},{"$f":"_xlfn.XLOOKUP(C522,Data!C:C,Data!H:H,0)","v":0},{"$error":"#N/A"},{"$error":"#N/A"},{"$error":"#N/A"},{"$error":"#N/A"},{"$error":"#N/A"},0,{"$error":"#N/A"},"","","",null,{"$error":"#N/A"}]
["23-3-2021","20:40:00","2021-03-23T20:40:00",null,{"$f":"_xlfn.XLOOKUP(C523,Data!C:C,Data!I:I)","v":{"$error":"#N/A"}},{"$error":"#N/A"},{"$f":"_xlfn.XLOOKUP(C523,Data!C:C,Data!G:G,0)","v":0},{"$f":"_xlfn.XLOOKUP(C523,Data!C:C,Data!F:F)","v":{"$error":"#N/A"}},{"$f":"_xlfn.XLOOKUP(C523,Data!C:C,Data!H:H,0)","v":0},{"$error":"#N/A"},{"$error":"#N/A"},{"$error":"#N/A"},{"$error":"#N/A"},{"$error":"#N/A"},0,{"$error":"#N/A"},"","","",null,{"$error":"#N/A"}]
["23-3-2021","20:41:00","2021-03-23T20:41:00",null,{"$f":"_xlfn.XLOOKUP(C524,Data!C:C,Data!I:I)","v":{"$error":"#N/A"}},{"$error":"#N/A"},{"$f":"_xlfn.XLOOKUP(C524,Data!C:C,Data!G:G,0)","v":0},{"$f":"_xlfn.XLOOKUP(C524,Data!C:C,Data!F:F)","v":{"$error":"#N/A"}},{"$f":"_xlfn.XLOOKUP(C524,Data!C:C,Data!H:H,0)","v":0},{"$error":"#N/A"},{"$error":"#N/A"},{"$error":"#N/A"},{"$error":"#N/A"},{"$error":"#N/A"},0,{"$error":"#N/A"},"","","",null,{"$error":"#N/A"}]
["23-3-2021","20:42:00","2021-03-23T20:42:00",null,{"$f":"_xlfn.XLOOKUP(C525,Data!C:C,Data!I:I)","v":{"$error":"#N/A"}},{"$error":"#N/A"},{"$f":"_xlfn.XLOOKUP(C525,Data!C:C,Data!G:G,0)","v":0},{"$f":"_xlfn.XLOOKUP(C525,Data!C:C,Data!F:F)","v":{"$error":"#N/A"}},{"$f":"_xlfn.XLOOKUP(C525,Data!C:C,Data!H:H,0)","v":0},{"$error":"#N/A"},{"$error":"#N/A"},{"$error":"#N/A"},{"$error":"#N/A"},{"$error":"#N/A"},0,{"$error":"#N/A"},"","","",null,{"$error":"#N/A"}]
["23-3-2021","20:43:00","2021-03-23T20:43:00",null,{"$f":"_xlfn.XLOOKUP(C526,Data!C:C,Data!I:I)","v":{"$error":"#N/A"}},{"$error":"#N/A"},{"$f":"_xlfn.XLOOKUP(C526,Data!C:C,Data!G:G,0)","v":0},{"$f":"_xlfn.XLOOKUP(C526,Data!C:C,Data!F:F)","v":{"$error":"#N/A"}},{"$f":"_xlfn.XLOOKUP(C526,Data!C:C,Data!H:H,0)","v":0},{"$error":"#N/A"},{"$error":"#N/A"},{"$error":"#N/A"},{"$error":"#N/A"},{"$error":"#N/A"},0,{"$error":"#N/A"},"","","",null,{"$error":"#N/A"}]
["23-3-2021","20:44:00","2021-03-23T20:44:00",null,{"$f":"_xlfn.XLOOKUP(C527,Data!C:C,Data!I:I)","v":{"$error":"#N/A"}},{"$error":"#N/A"},{"$f":"_xlfn.XLOOKUP(C527,Data!C:C,Data!G:G,0)","v":0},{"$f":"_xlfn.XLOOKUP(C527,Data!C:C,Data!F:F)","v":{"$error":"#N/A"}},{"$f":"_xlfn.XLOOKUP(C527,Data!C:C,Data!H:H,0)","v":0},{"$error":"#N/A"},{"$error":"#N/A"},{"$error":"#N/A"},{"$error":"#N/A"},{"$error":"#N/A"},0,{"$error":"#N/A"},"","","",null,{"$error":"#N/A"}]
["23-3-2021","20:45:00","2021-03-23T20:45:00",null,{"$f":"_xlfn.XLOOKUP(C528,Data!C:C,Data!I:I)","v":{"$error":"#N/A"}},{"$error":"#N/A"},{"$f":"_xlfn.XLOOKUP(C528,Data!C:C,Data!G:G,0)","v":0},{"$f":"_xlfn.XLOOKUP(C528,Data!C:C,Data!F:F)","v":{"$error":"#N/A"}},{"$f":"_xlfn.XLOOKUP(C528,Data!C:C,Data!H:H,0)","v":0},{"$error":"#N/A"},{"$error":"#N/A"},{"$error":"#N/A"},{"$error":"#N/A"},{"$error":"#N/A"},0,{"$error":"#N/A"},"","","",null,{"$error":"#N/A"}]
["23-3-2021","20:46:00","2021-03-23T20:46:00",null,{"$f":"_xlfn.XLOOKUP(C529,Data!C:C,Data!I:I)","v":{"$error":"#N/A"}},{"$error":"#N/A"},{"$f":"_xlfn.XLOOKUP(C529,Data!C:C,Data!G:G,0)","v":0},{"$f":"_xlfn.XLOOKUP(C529,Data!C:C,Data!F:F)","v":{"$error":"#N/A"}},{"$f":"_xlfn.XLOOKUP(C529,Data!C:C,Data!H:H,0)","v":0},{"$error":"#N/A"},{"$error":"#N/A"},{"$error":"#N/A"},{"$error":"#N/A"},{"$error":"#N/A"},0,{"$error":"#N/A"},"","","",null,{"$error":"#N/A"}]
["23-3-2021","20:47:00","2021-03-23T20:47:00",null,{"$f":"_xlfn.XLOOKUP(C530,Data!C:C,Data!I:I)","v":{"$error":"#N/A"}},{"$error":"#N/A"},{"$f":"_xlfn.XLOOKUP(C530,Data!C:C,Data!G:G,0)","v":0},{"$f":"_xlfn.XLOOKUP(C530,Data!C:C,Data!F:F)","v":{"$error":"#N/A"}},{"$f":"_xlfn.XLOOKUP(C530,Data!C:C,Data!H:H,0)","v":0},{"$error":"#N/A"},{"$error":"#N/A"},{"$error":"#N/A"},{"$error":"#N/A"},{"$error":"#N/A"},0,{"$error":"#N/A"},"","","",null,{"$error":"#N/A"}]
["23-3-2021","20:48:00","2021-03-23T20:48:00",null,{"$f":"_xlfn.XLOOKUP(C531,Data!C:C,Data!I:I)","v":{"$error":"#N/A"}},{"$error":"#N/A"},{"$f":"_xlfn.XLOOKUP(C531,Data!C:C,Data!G:G,0)","v":0},{"$f":"_xlfn.XLOOKUP(C531,Data!C:C,Data!F:F)","v":{"$error":"#N/A"}},{"$f":"_xlfn.XLOOKUP(C531,Data!C:C,Data!H:H,0)","v":0},{"$error":"#N/A"},{"$error":"#N/A"},{"$error":"#N/A"},{"$error":"#N/A"},{"$error":"#N/A"},0,{"$error":"#N/A"},"","","",null,{"$error":"#N/A"}]
["23-3-2021","20:49:00","2021-03-23T20:49:00",null,{"$f":"_xlfn.XLOOKUP(C532,Data!C:C,Data!I:I)","v":{"$error":"#N/A"}},{"$error":"#N/A"},{"$f":"_xlfn.XLOOKUP(C532,Data!C:C,Data!G:G,0)","v":0},{"$f":"_xlfn.XLOOKUP(C532,Data!C:C,Data!F:F)","v":{"$error":"#N/A"}},{"$f":"_xlfn.XLOOKUP(C532,Data!C:C,Data!H:H,0)","v":0},{"$error":"#N/A"},{"$error":"#N/A"},{"$error":"#N/A"},{"$error":"#N/A"},{"$error":"#N/A"},0,{"$error":"#N/A"},"","","",null,{"$error":"#N/A"}]
["23-3-2021","20:50:00","2021-03-23T20:50:00",null,{"$f":"_xlfn.XLOOKUP(C533,Data!C:C,Data!I:I)","v":{"$error":"#N/A"}},{"$error":"#N/A"},{"$f":"_xlfn.XLOOKUP(C533,Data!C:C,Data!G:G,0)","v":0},{"$f":"_xlfn.XLOOKUP(C533,Data!C:C,Data!F:F)","v":{"$error":"#N/A"}},{"$f":"_xlfn.XLOOKUP(C533,Data!C:C,Data!H:H,0)","v":0},{"$error":"#N/A"},{"$error":"#N/A"},{"$error":"#N/A"},{"$error":"#N/A"},{"$error":"#N/A"},0,{"$error":"#N/A"},"","","",null,{"$error":"#N/A"}]
["23-3-2021","20:51:00","2021-03-23T20:51:00",null,{"$f":"_xlfn.XLOOKUP(C534,Data!C:C,Data!I:I)","v":{"$error":"#N/A"}},{"$error":"#N/A"},{"$f":"_xlfn.XLOOKUP(C534,Data!C:C,Data!G:G,0)","v":0},{"$f":"_xlfn.XLOOKUP(C534,Data!C:C,Data!F:F)","v":{"$error":"#N/A"}},{"$f":"_xlfn.XLOOKUP(C534,Data!C:C,Data!H:H,0)","v":0},{"$error":"#N/A"},{"$error":"#N/A"},{"$error":"#N/A"},{"$error":"#N/A"},{"$error":"#N/A"},0,{"$error":"#N/A"},"","","",null,{"$error":"#N/A"}]
["23-3-2021","20:52:00","2021-03-23T20:52:00",null,{"$f":"_xlfn.XLOOKUP(C535,Data!C:C,Data!I:I)","v":{"$error":"#N/A"}},{"$error":"#N/A"},{"$f":"_xlfn.XLOOKUP(C535,Data!C:C,Data!G:G,0)","v":0},{"$f":"_xlfn.XLOOKUP(C535,Data!C:C,Data!F:F)","v":{"$error":"#N/A"}},{"$f":"_xlfn.XLOOKUP(C535,Data!C:C,Data!H:H,0)","v":0},{"$error":"#N/A"},{"$error":"#N/A"},{"$error":"#N/A"},{"$error":"#N/A"},{"$error":"#N/A"},0,{"$error":"#N/A"},"","","",null,{"$error":"#N/A"}]
["23-3-2021","20:53:00","2021-03-23T20:53:00",null,{"$f":"_xlfn.XLOOKUP(C536,Data!C:C,Data!I:I)","v":{"$error":"#N/A"}},{"$error":"#N/A"},{"$f":"_xlfn.XLOOKUP(C536,Data!C:C,Data!G:G,0)","v":0},{"$f":"_xlfn.XLOOKUP(C536,Data!C:C,Data!F:F)","v":{"$error":"#N/A"}},{"$f":"_xlfn.XLOOKUP(C536,Data!C:C,Data!H:H,0)","v":0},{"$error":"#N/A"},{"$error":"#N/A"},{"$error":"#N/A"},{"$error":"#N/A"},{"$error":"#N/A"},0,{"$error":"#N/A"},"","","",null,{"$error":"#N/A"}]
["23-3-2021","20:54:00","2021-03-23T20:54:00",null,{"$f":"_xlfn.XLOOKUP(C537,Data!C:C,Data!I:I)","v":{"$error":"#N/A"}},{"$error":"#N/A"},{"$f":"_xlfn.XLOOKUP(C537,Data!C:C,Data!G:G,0)","v":0},{"$f":"_xlfn.XLOOKUP(C537,Data!C:C,Data!F:F)","v":{"$error":"#N/A"}},{"$f":"_xlfn.XLOOKUP(C537,Data!C:C,Data!H:H,0)","v":0},{"$error":"#N/A"},{"$error":"#N/A"},{"$error":"#N/A"},{"$error":"#N/A"},{"$error":"#N/A"},0,{"$error":"#N/A"},"","","",null,{"$error":"#N/A"}]
["23-3-2021","20:55:00","2021-03-23T20:55:00",null,{"$f":"_xlfn.XLOOKUP(C538,Data!C:C,Data!I:I)","v":{"$error":"#N/A"}},{"$error":"#N/A"},{"$f":"_xlfn.XLOOKUP(C538,Data!C:C,Data!G:G,0)","v":0},{"$f":"_xlfn.XLOOKUP(C538,Data!C:C,Data!F:F)","v":{"$error":"#N/A"}},{"$f":"_xlfn.XLOOKUP(C538,Data!C:C,Data!H:H,0)","v":0},{"$error":"#N/A"},{"$error":"#N/A"},{"$error":"#N/A"},{"$error":"#N/A"},{"$error":"#N/A"},0,{"$error":"#N/A"},"","","",null,{"$error":"#N/A"}]
["23-3-2021","20:56:00","2021-03-23T20:56:00",null,{"$f":"_xlfn.XLOOKUP(C539,Data!C:C,Data!I:I)","v":{"$error":"#N/A"}},{"$error":"#N/A"},{"$f":"_xlfn.XLOOKUP(C539,Data!C:C,Data!G:G,0)","v":0},{"$f":"_xlfn.XLOOKUP(C539,Data!C:C,Data!F:F)","v":{"$error":"#N/A"}},{"$f":"_xlfn.XLOOKUP(C539,Data!C:C,Data!H:H,0)","v":0},{"$error":"#N/A"},{"$error":"#N/A"},{"$error":"#N/A"},{"$error":"#N/A"},{"$error":"#N/A"},0,{"$error":"#N/A"},"","","",null,{"$error":"#N/A"}]
["23-3-2021","20:57:00","2021-03-23T20:57:00",null,{"$f":"_xlfn.XLOOKUP(C540,Data!C:C,Data!I:I)","v":{"$error":"#N/A"}},{"$error":"#N/A"},{"$f":"_xlfn.XLOOKUP(C540,Data!C:C,Data!G:G,0)","v":0},{"$f":"_xlfn.XLOOKUP(C540,Data!C:C,Data!F:F)","v":{"$error":"#N/A"}},{"$f":"_xlfn.XLOOKUP(C540,Data!C:C,Data!H:H,0)","v":0},{"$error":"#N/A"},{"$error":"#N/A"},{"$error":"#N/A"},{"$error":"#N/A"},{"$error":"#N/A"},0,{"$error":"#N/A"},"","","",null,{"$error":"#N/A"}]
["23-3-2021","20:58:00","2021-03-23T20:58:00",null,{"$f":"_xlfn.XLOOKUP(C541,Data!C:C,Data!I:I)","v":{"$error":"#N/A"}},{"$error":"#N/A"},{"$f":"_xlfn.XLOOKUP(C541,Data!C:C,Data!G:G,0)","v":0},{"$f":"_xlfn.XLOOKUP(C541,Data!C:C,Data!F:F)","v":{"$error":"#N/A"}},{"$f":"_xlfn.XLOOKUP(C541,Data!C:C,Data!H:H,0)","v":0},{"$error":"#N/A"},{"$error":"#N/A"},{"$error":"#N/A"},{"$error":"#N/A"},{"$error":"#N/A"},0,{"$error":"#N/A"},"","","",null,{"$error":"#N/A"}]
["23-3-2021","20:59:00","2021-03-23T20:59:00",null,{"$f":"_xlfn.XLOOKUP(C542,Data!C:C,Data!I:I)","v":{"$error":"#N/A"}},{"$error":"#N/A"},{"$f":"_xlfn.XLOOKUP(C542,Data!C:C,Data!G:G,0)","v":0},{"$f":"_xlfn.XLOOKUP(C542,Data!C:C,Data!F:F)","v":{"$error":"#N/A"}},{"$f":"_xlfn.XLOOKUP(C542,Data!C:C,Data!H:H,0)","v":0},{"$error":"#N/A"},{"$error":"#N/A"},{"$error":"#N/A"},{"$error":"#N/A"},{"$error":"#N/A"},0,{"$error":"#N/A"},"","","",null,{"$error":"#N/A"}]
["23-3-2021","21:00:00","2021-03-23T21:00:00",null,{"$f":"_xlfn.XLOOKUP(C543,Data!C:C,Data!I:I)","v":{"$error":"#N/A"}},{"$error":"#N/A"},{"$f":"_xlfn.XLOOKUP(C543,Data!C:C,Data!G:G,0)","v":0},{"$f":"_xlfn.XLOOKUP(C543,Data!C:C,Data!F:F)","v":{"$error":"#N/A"}},{"$f":"_xlfn.XLOOKUP(C543,Data!C:C,Data!H:H,0)","v":0},{"$error":"#N/A"},{"$error":"#N/A"},{"$error":"#N/A"},{"$error":"#N/A"},{"$error":"#N/A"},0,{"$error":"#N/A"},"","","",null,{"$error":"#N/A"}]
["23-3-2021","21:01:00","2021-03-23T21:01:00",null,{"$f":"_xlfn.XLOOKUP(C544,Data!C:C,Data!I:I)","v":{"$error":"#N/A"}},{"$error":"#N/A"},{"$f":"_xlfn.XLOOKUP(C544,Data!C:C,Data!G:G,0)","v":0},{"$f":"_xlfn.XLOOKUP(C544,Data!C:C,Data!F:F)","v":{"$error":"#N/A"}},{"$f":"_xlfn.XLOOKUP(C544,Data!C:C,Data!H:H,0)","v":0},{"$error":"#N/A"},{"$error":"#N/A"},{"$error":"#N/A"},{"$error":"#N/A"},{"$error":"#N/A"},0,{"$error":"#N/A"},"","","",null,{"$error":"#N/A"}]
["23-3-2021","21:02:00","2021-03-23T21:02:00",null,{"$f":"_xlfn.XLOOKUP(C545,Data!C:C,Data!I:I)","v":{"$error":"#N/A"}},{"$error":"#N/A"},{"$f":"_xlfn.XLOOKUP(C545,Data!C:C,Data!G:G,0)","v":0},{"$f":"_xlfn.XLOOKUP(C545,Data!C:C,Data!F:F)","v":{"$error":"#N/A"}},{"$f":"_xlfn.XLOOKUP(C545,Data!C:C,Data!H:H,0)","v":0},{"$error":"#N/A"},{"$error":"#N/A"},{"$error":"#N/A"},{"$error":"#N/A"},{"$error":"#N/A"},0,{"$error":"#N/A"},"","","",null,{"$error":"#N/A"}]
["23-3-2021","21:03:00","2021-03-23T21:03:00",null,{"$f":"_xlfn.XLOOKUP(C546,Data!C:C,Data!I:I)","v":{"$error":"#N/A"}},{"$error":"#N/A"},{"$f":"_xlfn.XLOOKUP(C546,Data!C:C,Data!G:G,0)","v":0},{"$f":"_xlfn.XLOOKUP(C546,Data!C:C,Data!F:F)","v":{"$error":"#N/A"}},{"$f":"_xlfn.XLOOKUP(C546,Data!C:C,Data!H:H,0)","v":0},{"$error":"#N/A"},{"$error":"#N/A"},{"$error":"#N/A"},{"$error":"#N/A"},{"$error":"#N/A"},0,{"$error":"#N/A"},"","","",null,{"$error":"#N/A"}]
["23-3-2021","21:04:00","2021-03-23T21:04:00",null,{"$f":"_xlfn.XLOOKUP(C547,Data!C:C,Data!I:I)","v":{"$error":"#N/A"}},{"$error":"#N/A"},{"$f":"_xlfn.XLOOKUP(C547,Data!C:C,Data!G:G,0)","v":0},{"$f":"_xlfn.XLOOKUP(C547,Data!C:C,Data!F:F)","v":{"$error":"#N/A"}},{"$f":"_xlfn.XLOOKUP(C547,Data!C:C,Data!H:H,0)","v":0},{"$error":"#N/A"},{"$error":"#N/A"},{"$error":"#N/A"},{"$error":"#N/A"},{"$error":"#N/A"},0,{"$error":"#N/A"},"","","",null,{"$error":"#N/A"}]
["23-3-2021","21:05:00","2021-03-23T21:05:00",null,{"$f":"_xlfn.XLOOKUP(C548,Data!C:C,Data!I:I)","v":{"$error":"#N/A"}},{"$error":"#N/A"},{"$f":"_xlfn.XLOOKUP(C548,Data!C:C,Data!G:G,0)","v":0},{"$f":"_xlfn.XLOOKUP(C548,Data!C:C,Data!F:F)","v":{"$error":"#N/A"}},{"$f":"_xlfn.XLOOKUP(C548,Data!C:C,Data!H:H,0)","v":0},{"$error":"#N/A"},{"$error":"#N/A"},{"$error":"#N/A"},{"$error":"#N/A"},{"$error":"#N/A"},0,{"$error":"#N/A"},"","","",null,{"$error":"#N/A"}]
["23-3-2021","21:06:00","2021-03-23T21:06:00",null,{"$f":"_xlfn.XLOOKUP(C549,Data!C:C,Data!I:I)","v":{"$error":"#N/A"}},{"$error":"#N/A"},{"$f":"_xlfn.XLOOKUP(C549,Data!C:C,Data!G:G,0)","v":0},{"$f":"_xlfn.XLOOKUP(C549,Data!C:C,Data!F:F)","v":{"$error":"#N/A"}},{"$f":"_xlfn.XLOOKUP(C549,Data!C:C,Data!H:H,0)","v":0},{"$error":"#N/A"},{"$error":"#N/A"},{"$error":"#N/A"},{"$error":"#N/A"},{"$error":"#N/A"},0,{"$error":"#N/A"},"","","",null,{"$error":"#N/A"}]
["23-3-2021","21:07:00","2021-03-23T21:07:00",null,{"$f":"_xlfn.XLOOKUP(C550,Data!C:C,Data!I:I)","v":{"$error":"#N/A"}},{"$error":"#N/A"},{"$f":"_xlfn.XLOOKUP(C550,Data!C:C,Data!G:G,0)","v":0},{"$f":"_xlfn.XLOOKUP(C550,Data!C:C,Data!F:F)","v":{"$error":"#N/A"}},{"$f":"_xlfn.XLOOKUP(C550,Data!C:C,Data!H:H,0)","v":0},{"$error":"#N/A"},{"$error":"#N/A"},{"$error":"#N/A"},{"$error":"#N/A"},{"$error":"#N/A"},0,{"$error":"#N/A"},"","","",null,{"$error":"#N/A"}]
["23-3-2021","21:08:00","2021-03-23T21:08:00",null,{"$f":"_xlfn.XLOOKUP(C551,Data!C:C,Data!I:I)","v":{"$error":"#N/A"}},{"$error":"#N/A"},{"$f":"_xlfn.XLOOKUP(C551,Data!C:C,Data!G:G,0)","v":0},{"$f":"_xlfn.XLOOKUP(C551,Data!C:C,Data!F:F)","v":{"$error":"#N/A"}},{"$f":"_xlfn.XLOOKUP(C551,Data!C:C,Data!H:H,0)","v":0},{"$error":"#N/A"},{"$error":"#N/A"},{"$error":"#N/A"},{"$error":"#N/A"},{"$error":"#N/A"},0,{"$error":"#N/A"},"","","",null,{"$error":"#N/A"}]
["23-3-2021","21:09:00","2021-03-23T21:09:00",null,{"$f":"_xlfn.XLOOKUP(C552,Data!C:C,Data!I:I)","v":{"$error":"#N/A"}},{"$error":"#N/A"},{"$f":"_xlfn.XLOOKUP(C552,Data!C:C,Data!G:G,0)","v":0},{"$f":"_xlfn.XLOOKUP(C552,Data!C:C,Data!F:F)","v":{"$error":"#N/A"}},{"$f":"_xlfn.XLOOKUP(C552,Data!C:C,Data!H:H,0)","v":0},{"$error":"#N/A"},{"$error":"#N/A"},{"$error":"#N/A"},{"$error":"#N/A"},{"$error":"#N/A"},0,{"$error":"#N/A"},"","","",null,{"$error":"#N/A"}]
["23-3-2021","21:10:00","2021-03-23T21:10:00",null,{"$f":"_xlfn.XLOOKUP(C553,Data!C:C,Data!I:I)","v":{"$error":"#N/A"}},{"$error":"#N/A"},{"$f":"_xlfn.XLOOKUP(C553,Data!C:C,Data!G:G,0)","v":0},{"$f":"_xlfn.XLOOKUP(C553,Data!C:C,Data!F:F)","v":{"$error":"#N/A"}},{"$f":"_xlfn.XLOOKUP(C553,Data!C:C,Data!H:H,0)","v":0},{"$error":"#N/A"},{"$error":"#N/A"},{"$error":"#N/A"},{"$error":"#N/A"},{"$error":"#N/A"},0,{"$error":"#N/A"},"","","",null,{"$error":"#N/A"}]
["23-3-2021","21:11:00","2021-03-23T21:11:00",null,{"$f":"_xlfn.XLOOKUP(C554,Data!C:C,Data!I:I)","v":{"$error":"#N/A"}},{"$error":"#N/A"},{"$f":"_xlfn.XLOOKUP(C554,Data!C:C,Data!G:G,0)","v":0},{"$f":"_xlfn.XLOOKUP(C554,Data!C:C,Data!F:F)","v":{"$error":"#N/A"}},{"$f":"_xlfn.XLOOKUP(C554,Data!C:C,Data!H:H,0)","v":0},{"$error":"#N/A"},{"$error":"#N/A"},{"$error":"#N/A"},{"$error":"#N/A"},{"$error":"#N/A"},0,{"$error":"#N/A"},"","","",null,{"$error":"#N/A"}]
["23-3-2021","21:12:00","2021-03-23T21:12:00",null,{"$f":"_xlfn.XLOOKUP(C555,Data!C:C,Data!I:I)","v":{"$error":"#N/A"}},{"$error":"#N/A"},{"$f":"_xlfn.XLOOKUP(C555,Data!C:C,Data!G:G,0)","v":0},{"$f":"_xlfn.XLOOKUP(C555,Data!C:C,Data!F:F)","v":{"$error":"#N/A"}},{"$f":"_xlfn.XLOOKUP(C555,Data!C:C,Data!H:H,0)","v":0},{"$error":"#N/A"},{"$error":"#N/A"},{"$error":"#N/A"},{"$error":"#N/A"},{"$error":"#N/A"},0,{"$error":"#N/A"},"","","",null,{"$error":"#N/A"}]
["23-3-2021","21:13:00","2021-03-23T21:13:00",null,{"$f":"_xlfn.XLOOKUP(C556,Data!C:C,Data!I:I)","v":{"$error":"#N/A"}},{"$error":"#N/A"},{"$f":"_xlfn.XLOOKUP(C556,Data!C:C,Data!G:G,0)","v":0},{"$f":"_xlfn.XLOOKUP(C556,Data!C:C,Data!F:F)","v":{"$error":"#N/A"}},{"$f":"_xlfn.XLOOKUP(C556,Data!C:C,Data!H:H,0)","v":0},{"$error":"#N/A"},{"$error":"#N/A"},{"$error":"#N/A"},{"$error":"#N/A"},{"$error":"#N/A"},0,{"$error":"#N/A"},"","","",null,{"$error":"#N/A"}]
["23-3-2021","21:14:00","2021-03-23T21:14:00",null,{"$f":"_xlfn.XLOOKUP(C557,Data!C:C,Data!I:I)","v":{"$error":"#N/A"}},{"$error":"#N/A"},{"$f":"_xlfn.XLOOKUP(C557,Data!C:C,Data!G:G,0)","v":0},{"$f":"_xlfn.XLOOKUP(C557,Data!C:C,Data!F:F)","v":{"$error":"#N/A"}},{"$f":"_xlfn.XLOOKUP(C557,Data!C:C,Data!H:H,0)","v":0},{"$error":"#N/A"},{"$error":"#N/A"},{"$error":"#N/A"},{"$error":"#N/A"},{"$error":"#N/A"},0,{"$error":"#N/A"},"","","",null,{"$error":"#N/A"}]
["23-3-2021","21:15:00","2021-03-23T21:15:00",null,{"$f":"_xlfn.XLOOKUP(C558,Data!C:C,Data!I:I)","v":{"$error":"#N/A"}},{"$error":"#N/A"},{"$f":"_xlfn.XLOOKUP(C558,Data!C:C,Data!G:G,0)","v":0},{"$f":"_xlfn.XLOOKUP(C558,Data!C:C,Data!F:F)","v":{"$error":"#N/A"}},{"$f":"_xlfn.XLOOKUP(C558,Data!C:C,Data!H:H,0)","v":0},{"$error":"#N/A"},{"$error":"#N/A"},{"$error":"#N/A"},{"$error":"#N/A"},{"$error":"#N/A"},0,{"$error":"#N/A"},"","","",null,{"$error":"#N/A"}]
["23-3-2021","21:16:00","2021-03-23T21:16:00",null,{"$f":"_xlfn.XLOOKUP(C559,Data!C:C,Data!I:I)","v":{"$error":"#N/A"}},{"$error":"#N/A"},{"$f":"_xlfn.XLOOKUP(C559,Data!C:C,Data!G:G,0)","v":0},{"$f":"_xlfn.XLOOKUP(C559,Data!C:C,Data!F:F)","v":{"$error":"#N/A"}},{"$f":"_xlfn.XLOOKUP(C559,Data!C:C,Data!H:H,0)","v":0},{"$error":"#N/A"},{"$error":"#N/A"},{"$error":"#N/A"},{"$error":"#N/A"},{"$error":"#N/A"},0,{"$error":"#N/A"},"","","",null,{"$error":"#N/A"}]
["23-3-2021","21:17:00","2021-03-23T21:17:00",null,{"$f":"_xlfn.XLOOKUP(C560,Data!C:C,Data!I:I)","v":{"$error":"#N/A"}},{"$error":"#N/A"},{"$f":"_xlfn.XLOOKUP(C560,Data!C:C,Data!G:G,0)","v":0},{"$f":"_xlfn.XLOOKUP(C560,Data!C:C,Data!F:F)","v":{"$error":"#N/A"}},{"$f":"_xlfn.XLOOKUP(C560,Data!C:C,Data!H:H,0)","v":0},{"$error":"#N/A"},{"$error":"#N/A"},{"$error":"#N/A"},{"$error":"#N/A"},{"$error":"#N/A"},0,{"$error":"#N/A"},"","","",null,{"$error":"#N/A"}]
["23-3-2021","21:18:00","2021-03-23T21:18:00",null,{"$f":"_xlfn.XLOOKUP(C561,Data!C:C,Data!I:I)","v":{"$error":"#N/A"}},{"$error":"#N/A"},{"$f":"_xlfn.XLOOKUP(C561,Data!C:C,Data!G:G,0)","v":0},{"$f":"_xlfn.XLOOKUP(C561,Data!C:C,Data!F:F)","v":{"$error":"#N/A"}},{"$f":"_xlfn.XLOOKUP(C561,Data!C:C,Data!H:H,0)","v":0},{"$error":"#N/A"},{"$error":"#N/A"},{"$error":"#N/A"},{"$error":"#N/A"},{"$error":"#N/A"},0,{"$error":"#N/A"},"","","",null,{"$error":"#N/A"}]
["23-3-2021","21:19:00","2021-03-23T21:19:00",null,{"$f":"_xlfn.XLOOKUP(C562,Data!C:C,Data!I:I)","v":{"$error":"#N/A"}},{"$error":"#N/A"},{"$f":"_xlfn.XLOOKUP(C562,Data!C:C,Data!G:G,0)","v":0},{"$f":"_xlfn.XLOOKUP(C562,Data!C:C,Data!F:F)","v":{"$error":"#N/A"}},{"$f":"_xlfn.XLOOKUP(C562,Data!C:C,Data!H:H,0)","v":0},{"$error":"#N/A"},{"$error":"#N/A"},{"$error":"#N/A"},{"$error":"#N/A"},{"$error":"#N/A"},0,{"$error":"#N/A"},"","","",null,{"$error":"#N/A"}]
["23-3-2021","21:20:00","2021-03-23T21:20:00",null,{"$f":"_xlfn.XLOOKUP(C563,Data!C:C,Data!I:I)","v":{"$error":"#N/A"}},{"$error":"#N/A"},{"$f":"_xlfn.XLOOKUP(C563,Data!C:C,Data!G:G,0)","v":0},{"$f":"_xlfn.XLOOKUP(C563,Data!C:C,Data!F:F)","v":{"$error":"#N/A"}},{"$f":"_xlfn.XLOOKUP(C563,Data!C:C,Data!H:H,0)","v":0},{"$error":"#N/A"},{"$error":"#N/A"},{"$error":"#N/A"},{"$error":"#N/A"},{"$error":"#N/A"},0,{"$error":"#N/A"},"","","",null,{"$error":"#N/A"}]
["23-3-2021","21:21:00","2021-03-23T21:21:00",null,{"$f":"_xlfn.XLOOKUP(C564,Data!C:C,Data!I:I)","v":{"$error":"#N/A"}},{"$error":"#N/A"},{"$f":"_xlfn.XLOOKUP(C564,Data!C:C,Data!G:G,0)","v":0},{"$f":"_xlfn.XLOOKUP(C564,Data!C:C,Data!F:F)","v":{"$error":"#N/A"}},{"$f":"_xlfn.XLOOKUP(C564,Data!C:C,Data!H:H,0)","v":0},{"$error":"#N/A"},{"$error":"#N/A"},{"$error":"#N/A"},{"$error":"#N/A"},{"$error":"#N/A"},0,{"$error":"#N/A"},"","","",null,{"$error":"#N/A"}]
["23-3-2021","21:22:00","2021-03-23T21:22:00",null,{"$f":"_xlfn.XLOOKUP(C565,Data!C:C,Data!I:I)","v":{"$error":"#N/A"}},{"$error":"#N/A"},{"$f":"_xlfn.XLOOKUP(C565,Data!C:C,Data!G:G,0)","v":0},{"$f":"_xlfn.XLOOKUP(C565,Data!C:C,Data!F:F)","v":{"$error":"#N/A"}},{"$f":"_xlfn.XLOOKUP(C565,Data!C:C,Data!H:H,0)","v":0},{"$error":"#N/A"},{"$error":"#N/A"},{"$error":"#N/A"},{"$error":"#N/A"},{"$error":"#N/A"},0,{"$error":"#N/A"},"","","",null,{"$error":"#N/A"}]
["23-3-2021","21:23:00","2021-03-23T21:23:00",null,{"$f":"_xlfn.XLOOKUP(C566,Data!C:C,Data!I:I)","v":{"$error":"#N/A"}},{"$error":"#N/A"},{"$f":"_xlfn.XLOOKUP(C566,Data!C:C,Data!G:G,0)","v":0},{"$f":"_xlfn.XLOOKUP(C566,Data!C:C,Data!F:F)","v":{"$error":"#N/A"}},{"$f":"_xlfn.XLOOKUP(C566,Data!C:C,Data!H:H,0)","v":0},{"$error":"#N/A"},{"$error":"#N/A"},{"$error":"#N/A"},{"$error":"#N/A"},{"$error":"#N/A"},0,{"$error":"#N/A"},"","","",null,{"$error":"#N/A"}]
["23-3-2021","21:24:00","2021-03-23T21:24:00",null,{"$f":"_xlfn.XLOOKUP(C567,Data!C:C,Data!I:I)","v":{"$error":"#N/A"}},{"$error":"#N/A"},{"$f":"_xlfn.XLOOKUP(C567,Data!C:C,Data!G:G,0)","v":0},{"$f":"_xlfn.XLOOKUP(C567,Data!C:C,Data!F:F)","v":{"$error":"#N/A"}},{"$f":"_xlfn.XLOOKUP(C567,Data!C:C,Data!H:H,0)","v":0},{"$error":"#N/A"},{"$error":"#N/A"},{"$error":"#N/A"},{"$error":"#N/A"},{"$error":"#N/A"},0,{"$error":"#N/A"},"","","",null,{"$error":"#N/A"}]
["23-3-2021","21:25:00","2021-03-23T21:25:00",null,{"$f":"_xlfn.XLOOKUP(C568,Data!C:C,Data!I:I)","v":{"$error":"#N/A"}},{"$error":"#N/A"},{"$f":"_xlfn.XLOOKUP(C568,Data!C:C,Data!G:G,0)","v":0},{"$f":"_xlfn.XLOOKUP(C568,Data!C:C,Data!F:F)","v":{"$error":"#N/A"}},{"$f":"_xlfn.XLOOKUP(C568,Data!C:C,Data!H:H,0)","v":0},{"$error":"#N/A"},{"$error":"#N/A"},{"$error":"#N/A"},{"$error":"#N/A"},{"$error":"#N/A"},0,{"$error":"#N/A"},"","","",null,{"$error":"#N/A"}]
["23-3-2021","21:26:00","2021-03-23T21:26:00",null,{"$f":"_xlfn.XLOOKUP(C569,Data!C:C,Data!I:I)","v":{"$error":"#N/A"}},{"$error":"#N/A"},{"$f":"_xlfn.XLOOKUP(C569,Data!C:C,Data!G:G,0)","v":0},{"$f":"_xlfn.XLOOKUP(C569,Data!C:C,Data!F:F)","v":{"$error":"#N/A"}},{"$f":"_xlfn.XLOOKUP(C569,Data!C:C,Data!H:H,0)","v":0},{"$error":"#N/A"},{"$error":"#N/A"},{"$error":"#N/A"},{"$error":"#N/A"},{"$error":"#N/A"},0,{"$error":"#N/A"},"","","",null,{"$error":"#N/A"}]
["23-3-2021","21:27:00","2021-03-23T21:27:00",null,{"$f":"_xlfn.XLOOKUP(C570,Data!C:C,Data!I:I)","v":{"$error":"#N/A"}},{"$error":"#N/A"},{"$f":"_xlfn.XLOOKUP(C570,Data!C:C,Data!G:G,0)","v":0},{"$f":"_xlfn.XLOOKUP(C570,Data!C:C,Data!F:F)","v":{"$error":"#N/A"}},{"$f":"_xlfn.XLOOKUP(C570,Data!C:C,Data!H:H,0)","v":0},{"$error":"#N/A"},{"$error":"#N/A"},{"$error":"#N/A"},{"$error":"#N/A"},{"$error":"#N/A"},0,{"$error":"#N/A"},"","","",null,{"$error":"#N/A"}]
["23-3-2021","21:28:00","2021-03-23T21:28:00",null,{"$f":"_xlfn.XLOOKUP(C571,Data!C:C,Data!I:I)","v":{"$error":"#N/A"}},{"$error":"#N/A"},{"$f":"_xlfn.XLOOKUP(C571,Data!C:C,Data!G:G,0)","v":0},{"$f":"_xlfn.XLOOKUP(C571,Data!C:C,Data!F:F)","v":{"$error":"#N/A"}},{"$f":"_xlfn.XLOOKUP(C571,Data!C:C,Data!H:H,0)","v":0},{"$error":"#N/A"},{"$error":"#N/A"},{"$error":"#N/A"},{"$error":"#N/A"},{"$error":"#N/A"},0,{"$error":"#N/A"},"","","",null,{"$error":"#N/A"}]
["23-3-2021","21:29:00","2021-03-23T21:29:00",null,{"$f":"_xlfn.XLOOKUP(C572,Data!C:C,Data!I:I)","v":{"$error":"#N/A"}},{"$error":"#N/A"},{"$f":"_xlfn.XLOOKUP(C572,Data!C:C,Data!G:G,0)","v":0},{"$f":"_xlfn.XLOOKUP(C572,Data!C:C,Data!F:F)","v":{"$error":"#N/A"}},{"$f":"_xlfn.XLOOKUP(C572,Data!C:C,Data!H:H,0)","v":0},{"$error":"#N/A"},{"$error":"#N/A"},{"$error":"#N/A"},{"$error":"#N/A"},{"$error":"#N/A"},0,{"$error":"#N/A"},"","","",null,{"$error":"#N/A"}]
["23-3-2021","21:30:00","2021-03-23T21:30:00",null,{"$f":"_xlfn.XLOOKUP(C573,Data!C:C,Data!I:I)","v":{"$error":"#N/A"}},{"$error":"#N/A"},{"$f":"_xlfn.XLOOKUP(C573,Data!C:C,Data!G:G,0)","v":0},{"$f":"_xlfn.XLOOKUP(C573,Data!C:C,Data!F:F)","v":{"$error":"#N/A"}},{"$f":"_xlfn.XLOOKUP(C573,Data!C:C,Data!H:H,0)","v":0},{"$error":"#N/A"},{"$error":"#N/A"},{"$error":"#N/A"},{"$error":"#N/A"},{"$error":"#N/A"},0,{"$error":"#N/A"},"","","",null,{"$error":"#N/A"}]
["23-3-2021","21:31:00","2021-03-23T21:31:00",null,{"$f":"_xlfn.XLOOKUP(C574,Data!C:C,Data!I:I)","v":{"$error":"#N/A"}},{"$error":"#N/A"},{"$f":"_xlfn.XLOOKUP(C574,Data!C:C,Data!G:G,0)","v":0},{"$f":"_xlfn.XLOOKUP(C574,Data!C:C,Data!F:F)","v":{"$error":"#N/A"}},{"$f":"_xlfn.XLOOKUP(C574,Data!C:C,Data!H:H,0)","v":0},{"$error":"#N/A"},{"$error":"#N/A"},{"$error":"#N/A"},{"$error":"#N/A"},{"$error":"#N/A"},0,{"$error":"#N/A"},"","","",null,{"$error":"#N/A"}]
["23-3-2021","21:32:00","2021-03-23T21:32:00",null,{"$f":"_xlfn.XLOOKUP(C575,Data!C:C,Data!I:I)","v":{"$error":"#N/A"}},{"$error":"#N/A"},{"$f":"_xlfn.XLOOKUP(C575,Data!C:C,Data!G:G,0)","v":0},{"$f":"_xlfn.XLOOKUP(C575,Data!C:C,Data!F:F)","v":{"$error":"#N/A"}},{"$f":"_xlfn.XLOOKUP(C575,Data!C:C,Data!H:H,0)","v":0},{"$error":"#N/A"},{"$error":"#N/A"},{"$error":"#N/A"},{"$error":"#N/A"},{"$error":"#N/A"},0,{"$error":"#N/A"},"","","",null,{"$error":"#N/A"}]
["23-3-2021","21:33:00","2021-03-23T21:33:00",null,{"$f":"_xlfn.XLOOKUP(C576,Data!C:C,Data!I:I)","v":{"$error":"#N/A"}},{"$error":"#N/A"},{"$f":"_xlfn.XLOOKUP(C576,Data!C:C,Data!G:G,0)","v":0},{"$f":"_xlfn.XLOOKUP(C576,Data!C:C,Data!F:F)","v":{"$error":"#N/A"}},{"$f":"_xlfn.XLOOKUP(C576,Data!C:C,Data!H:H,0)","v":0},{"$f":"IF(AND(MAX(E574:E575)=255,MAX(E576:E577)=255,  E575+E576+E577<3*255, OR(I576=123,I576=124,I576=106,I576=108)),   I576,   IF(AND(MAX(E574:E575)=255,MAX(E576:E577)=255,  E575+E576+E577<3*255, OR(I576>=80,I576<100)),106,108))","v":{"$error":"#N/A"}},{"$error":"#N/A"},{"$error":"#N/A"},{"$error":"#N/A"},{"$error":"#N/A"},0,{"$error":"#N/A"},"","","",null,{"$error":"#N/A"}]
["23-3-2021","21:34:00","2021-03-23T21:34:00",null,{"$f":"_xlfn.XLOOKUP(C577,Data!C:C,Data!I:I)","v":{"$error":"#N/A"}},{"$error":"#N/A"},{"$f":"_xlfn.XLOOKUP(C577,Data!C:C,Data!G:G,0)","v":0},{"$f":"_xlfn.XLOOKUP(C577,Data!C:C,Data!F:F)","v":{"$error":"#N/A"}},{"$f":"_xlfn.XLOOKUP(C577,Data!C:C,Data!H:H,0)","v":0},{"$error":"#N/A"},{"$error":"#N/A"},{"$error":"#N/A"},{"$error":"#N/A"},{"$error":"#N/A"},0,{"$error":"#N/A"},"","","",null,{"$error":"#N/A"}]
["23-3-2021","21:35:00","2021-03-23T21:35:00",null,{"$f":"_xlfn.XLOOKUP(C578,Data!C:C,Data!I:I)","v":{"$error":"#N/A"}},{"$error":"#N/A"},{"$f":"_xlfn.XLOOKUP(C578,Data!C:C,Data!G:G,0)","v":0},{"$f":"_xlfn.XLOOKUP(C578,Data!C:C,Data!F:F)","v":{"$error":"#N/A"}},{"$f":"_xlfn.XLOOKUP(C578,Data!C:C,Data!H:H,0)","v":0},{"$error":"#N/A"},{"$error":"#N/A"},{"$error":"#N/A"},{"$error":"#N/A"},{"$error":"#N/A"},0,{"$error":"#N/A"},"","","",null,{"$error":"#N/A"}]
["23-3-2021","21:36:00",{"$f":"A579+B579","v":"2021-03-23T21:36:00"},null,{"$f":"_xlfn.XLOOKUP(C579,Data!C:C,Data!I:I)","v":{"$error":"#N/A"}},{"$error":"#N/A"},{"$f":"_xlfn.XLOOKUP(C579,Data!C:C,Data!G:G,0)","v":0},{"$f":"_xlfn.XLOOKUP(C579,Data!C:C,Data!F:F)","v":{"$error":"#N/A"}},{"$f":"_xlfn.XLOOKUP(C579,Data!C:C,Data!H:H,0)","v":0},{"$error":"#N/A"},{"$f":"IF(AND(I579<100,  I579>=80,  OR(J579=105, J579=106,  J579=123)),  5,  0)","v":{"$error":"#N/A"}},{"$error":"#N/A"},{"$error":"#N/A"},{"$error":"#N/A"},{"$f":"IFERROR(F579,0)","v":0},{"$error":"#N/A"},"","","",null,{"$error":"#N/A"}]
[{"$f":"$A$3","v":"23-3-2021"},"21:37:00","2021-03-23T21:37:00",null,{"$f":"_xlfn.XLOOKUP(C580,Data!C:C,Data!I:I)","v":{"$error":"#N/A"}},{"$error":"#N/A"},{"$f":"_xlfn.XLOOKUP(C580,Data!C:C,Data!G:G,0)","v":0},{"$f":"_xlfn.XLOOKUP(C580,Data!C:C,Data!F:F)","v":{"$error":"#N/A"}},{"$f":"_xlfn.XLOOKUP(C580,Data!C:C,Data!H:H,0)","v":0},{"$error":"#N/A"},{"$error":"#N/A"},{"$f":"IF(AND(I580<130,  I580>104,  OR(J580=105, J580=106,  J580=123),  S580>$S$1450+$S$1443),  20,  0)","v":{"$error":"#N/A"}},{"$f":"IF(AND(I580<130,  I580>104,  OR(J580=105, J580=106,  J580=123),  R580>$Q$1449,  S580<=$S$1450+$S$1443),  20,  0)","v":{"$error":"#N/A"}},{"$f":"IF(AND(I580<130,  I580>104,  OR(J580=105, J580=106,  J580=123),  R580<=$Q$1449,  S580<=$S$1450+$S$1443),  20,  0)","v":{"$error":"#N/A"}},0,{"$f":"IF(Q580=\"\",F580,IF(Q580=0,P579,Q580))","v":{"$error":"#N/A"}},{"$f":"IF(I580>109,IF(O580*$Q$1451>(O579+O581)/2,MIN(O579:O581),O580),\"\")","v":""},"","",null,{"$error":"#N/A"}]
["23-3-2021","21:38:00","2021-03-23T21:38:00",null,{"$f":"_xlfn.XLOOKUP(C581,Data!C:C,Data!I:I)","v":{"$error":"#N/A"}},{"$f":"IF(E581=255,IF(MIN(E580:E582)=255,#N/A,MIN(E580:E582)),E581)","v":{"$error":"#N/A"}},{"$f":"_xlfn.XLOOKUP(C581,Data!C:C,Data!G:G,0)","v":0},{"$f":"_xlfn.XLOOKUP(C581,Data!C:C,Data!F:F)","v":{"$error":"#N/A"}},{"$f":"_xlfn.XLOOKUP(C581,Data!C:C,Data!H:H,0)","v":0},{"$error":"#N/A"},{"$error":"#N/A"},{"$error":"#N/A"},{"$error":"#N/A"},{"$error":"#N/A"},0,{"$error":"#N/A"},"","","",null,{"$error":"#N/A"}]
["23-3-2021","21:39:00","2021-03-23T21:39:00",null,{"$f":"_xlfn.XLOOKUP(C582,Data!C:C,Data!I:I)","v":{"$error":"#N/A"}},{"$error":"#N/A"},{"$f":"_xlfn.XLOOKUP(C582,Data!C:C,Data!G:G,0)","v":0},{"$f":"_xlfn.XLOOKUP(C582,Data!C:C,Data!F:F)","v":{"$error":"#N/A"}},{"$f":"_xlfn.XLOOKUP(C582,Data!C:C,Data!H:H,0)","v":0},{"$error":"#N/A"},{"$error":"#N/A"},{"$error":"#N/A"},{"$error":"#N/A"},{"$error":"#N/A"},0,{"$error":"#N/A"},"","","",null,{"$error":"#N/A"}]
["23-3-2021","21:40:00","2021-03-23T21:40:00",null,{"$f":"_xlfn.XLOOKUP(C583,Data!C:C,Data!I:I)","v":{"$error":"#N/A"}},{"$error":"#N/A"},{"$f":"_xlfn.XLOOKUP(C583,Data!C:C,Data!G:G,0)","v":0},{"$f":"_xlfn.XLOOKUP(C583,Data!C:C,Data!F:F)","v":{"$error":"#N/A"}},{"$f":"_xlfn.XLOOKUP(C583,Data!C:C,Data!H:H,0)","v":0},{"$error":"#N/A"},{"$error":"#N/A"},{"$error":"#N/A"},{"$error":"#N/A"},{"$error":"#N/A"},0,{"$error":"#N/A"},"","","",null,{"$f":"IF(F583=\"\",\"\",AVERAGE(F579:F587))","v":{"$error":"#N/A"}}]
["23-3-2021","21:41:00","2021-03-23T21:41:00",null,{"$f":"_xlfn.XLOOKUP(C584,Data!C:C,Data!I:I)","v":{"$error":"#N/A"}},{"$error":"#N/A"},{"$f":"_xlfn.XLOOKUP(C584,Data!C:C,Data!G:G,0)","v":0},{"$f":"_xlfn.XLOOKUP(C584,Data!C:C,Data!F:F)","v":{"$error":"#N/A"}},{"$f":"_xlfn.XLOOKUP(C584,Data!C:C,Data!H:H,0)","v":0},{"$error":"#N/A"},{"$error":"#N/A"},{"$error":"#N/A"},{"$error":"#N/A"},{"$error":"#N/A"},0,{"$error":"#N/A"},"",{"$f":"IF(Q584=\"\",\"\",AVERAGE(Q580:Q588))","v":""},{"$f":"IF(Q584=\"\",\"\",MAX(Q580:Q588)-MIN(Q580:Q588))","v":""},null,{"$error":"#N/A"}]
["23-3-2021","21:42:00","2021-03-23T21:42:00",null,{"$f":"_xlfn.XLOOKUP(C585,Data!C:C,Data!I:I)","v":{"$error":"#N/A"}},{"$error":"#N/A"},{"$f":"_xlfn.XLOOKUP(C585,Data!C:C,Data!G:G,0)","v":0},{"$f":"_xlfn.XLOOKUP(C585,Data!C:C,Data!F:F)","v":{"$error":"#N/A"}},{"$f":"_xlfn.XLOOKUP(C585,Data!C:C,Data!H:H,0)","v":0},{"$error":"#N/A"},{"$error":"#N/A"},{"$error":"#N/A"},{"$error":"#N/A"},{"$error":"#N/A"},0,{"$error":"#N/A"},"","","",null,{"$error":"#N/A"}]
["23-3-2021","21:43:00","2021-03-23T21:43:00",null,{"$f":"_xlfn.XLOOKUP(C586,Data!C:C,Data!I:I)","v":{"$error":"#N/A"}},{"$error":"#N/A"},{"$f":"_xlfn.XLOOKUP(C586,Data!C:C,Data!G:G,0)","v":0},{"$f":"_xlfn.XLOOKUP(C586,Data!C:C,Data!F:F)","v":{"$error":"#N/A"}},{"$f":"_xlfn.XLOOKUP(C586,Data!C:C,Data!H:H,0)","v":0},{"$error":"#N/A"},{"$error":"#N/A"},{"$error":"#N/A"},{"$error":"#N/A"},{"$error":"#N/A"},0,{"$error":"#N/A"},"","","",null,{"$error":"#N/A"}]
["23-3-2021","21:44:00","2021-03-23T21:44:00",null,{"$f":"_xlfn.XLOOKUP(C587,Data!C:C,Data!I:I)","v":{"$error":"#N/A"}},{"$error":"#N/A"},{"$f":"_xlfn.XLOOKUP(C587,Data!C:C,Data!G:G,0)","v":0},{"$f":"_xlfn.XLOOKUP(C587,Data!C:C,Data!F:F)","v":{"$error":"#N/A"}},{"$f":"_xlfn.XLOOKUP(C587,Data!C:C,Data!H:H,0)","v":0},{"$error":"#N/A"},{"$error":"#N/A"},{"$error":"#N/A"},{"$error":"#N/A"},{"$error":"#N/A"},0,{"$error":"#N/A"},"","","",null,{"$error":"#N/A"}]
["23-3-2021","21:45:00","2021-03-23T21:45:00",null,{"$f":"_xlfn.XLOOKUP(C588,Data!C:C,Data!I:I)","v":{"$error":"#N/A"}},{"$error":"#N/A"},{"$f":"_xlfn.XLOOKUP(C588,Data!C:C,Data!G:G,0)","v":0},{"$f":"_xlfn.XLOOKUP(C588,Data!C:C,Data!F:F)","v":{"$error":"#N/A"}},{"$f":"_xlfn.XLOOKUP(C588,Data!C:C,Data!H:H,0)","v":0},{"$error":"#N/A"},{"$error":"#N/A"},{"$error":"#N/A"},{"$error":"#N/A"},{"$error":"#N/A"},0,{"$error":"#N/A"},"","","",null,{"$error":"#N/A"}]
["23-3-2021","21:46:00","2021-03-23T21:46:00",null,{"$f":"_xlfn.XLOOKUP(C589,Data!C:C,Data!I:I)","v":{"$error":"#N/A"}},{"$error":"#N/A"},{"$f":"_xlfn.XLOOKUP(C589,Data!C:C,Data!G:G,0)","v":0},{"$f":"_xlfn.XLOOKUP(C589,Data!C:C,Data!F:F)","v":{"$error":"#N/A"}},{"$f":"_xlfn.XLOOKUP(C589,Data!C:C,Data!H:H,0)","v":0},{"$error":"#N/A"},{"$error":"#N/A"},{"$error":"#N/A"},{"$error":"#N/A"},{"$error":"#N/A"},0,{"$error":"#N/A"},"","","",null,{"$error":"#N/A"}]
["23-3-2021","21:47:00","2021-03-23T21:47:00",null,{"$f":"_xlfn.XLOOKUP(C590,Data!C:C,Data!I:I)","v":{"$error":"#N/A"}},{"$error":"#N/A"},{"$f":"_xlfn.XLOOKUP(C590,Data!C:C,Data!G:G,0)","v":0},{"$f":"_xlfn.XLOOKUP(C590,Data!C:C,Data!F:F)","v":{"$error":"#N/A"}},{"$f":"_xlfn.XLOOKUP(C590,Data!C:C,Data!H:H,0)","v":0},{"$error":"#N/A"},{"$error":"#N/A"},{"$error":"#N/A"},{"$error":"#N/A"},{"$error":"#N/A"},0,{"$error":"#N/A"},"","","",null,{"$error":"#N/A"}]
["23-3-2021","21:48:00","2021-03-23T21:48:00",null,{"$f":"_xlfn.XLOOKUP(C591,Data!C:C,Data!I:I)","v":{"$error":"#N/A"}},{"$error":"#N/A"},{"$f":"_xlfn.XLOOKUP(C591,Data!C:C,Data!G:G,0)","v":0},{"$f":"_xlfn.XLOOKUP(C591,Data!C:C,Data!F:F)","v":{"$error":"#N/A"}},{"$f":"_xlfn.XLOOKUP(C591,Data!C:C,Data!H:H,0)","v":0},{"$error":"#N/A"},{"$error":"#N/A"},{"$error":"#N/A"},{"$error":"#N/A"},{"$error":"#N/A"},0,{"$error":"#N/A"},"","","",null,{"$error":"#N/A"}]
["23-3-2021","21:49:00","2021-03-23T21:49:00",null,{"$f":"_xlfn.XLOOKUP(C592,Data!C:C,Data!I:I)","v":{"$error":"#N/A"}},{"$error":"#N/A"},{"$f":"_xlfn.XLOOKUP(C592,Data!C:C,Data!G:G,0)","v":0},{"$f":"_xlfn.XLOOKUP(C592,Data!C:C,Data!F:F)","v":{"$error":"#N/A"}},{"$f":"_xlfn.XLOOKUP(C592,Data!C:C,Data!H:H,0)","v":0},{"$error":"#N/A"},{"$error":"#N/A"},{"$error":"#N/A"},{"$error":"#N/A"},{"$error":"#N/A"},0,{"$error":"#N/A"},"","","",null,{"$error":"#N/A"}]
["23-3-2021","21:50:00","2021-03-23T21:50:00",null,{"$f":"_xlfn.XLOOKUP(C593,Data!C:C,Data!I:I)","v":{"$error":"#N/A"}},{"$error":"#N/A"},{"$f":"_xlfn.XLOOKUP(C593,Data!C:C,Data!G:G,0)","v":0},{"$f":"_xlfn.XLOOKUP(C593,Data!C:C,Data!F:F)","v":{"$error":"#N/A"}},{"$f":"_xlfn.XLOOKUP(C593,Data!C:C,Data!H:H,0)","v":0},{"$error":"#N/A"},{"$error":"#N/A"},{"$error":"#N/A"},{"$error":"#N/A"},{"$error":"#N/A"},0,{"$error":"#N/A"},"","","",null,{"$error":"#N/A"}]
["23-3-2021","21:51:00","2021-03-23T21:51:00",null,{"$f":"_xlfn.XLOOKUP(C594,Data!C:C,Data!I:I)","v":{"$error":"#N/A"}},{"$error":"#N/A"},{"$f":"_xlfn.XLOOKUP(C594,Data!C:C,Data!G:G,0)","v":0},{"$f":"_xlfn.XLOOKUP(C594,Data!C:C,Data!F:F)","v":{"$error":"#N/A"}},{"$f":"_xlfn.XLOOKUP(C594,Data!C:C,Data!H:H,0)","v":0},{"$error":"#N/A"},{"$error":"#N/A"},{"$error":"#N/A"},{"$error":"#N/A"},{"$error":"#N/A"},0,{"$error":"#N/A"},"","","",null,{"$error":"#N/A"}]
["23-3-2021","21:52:00","2021-03-23T21:52:00",null,{"$f":"_xlfn.XLOOKUP(C595,Data!C:C,Data!I:I)","v":{"$error":"#N/A"}},{"$error":"#N/A"},{"$f":"_xlfn.XLOOKUP(C595,Data!C:C,Data!G:G,0)","v":0},{"$f":"_xlfn.XLOOKUP(C595,Data!C:C,Data!F:F)","v":{"$error":"#N/A"}},{"$f":"_xlfn.XLOOKUP(C595,Data!C:C,Data!H:H,0)","v":0},{"$error":"#N/A"},{"$error":"#N/A"},{"$error":"#N/A"},{"$error":"#N/A"},{"$error":"#N/A"},0,{"$error":"#N/A"},"","","",null,{"$error":"#N/A"}]
["23-3-2021","21:53:00","2021-03-23T21:53:00",null,{"$f":"_xlfn.XLOOKUP(C596,Data!C:C,Data!I:I)","v":{"$error":"#N/A"}},{"$error":"#N/A"},{"$f":"_xlfn.XLOOKUP(C596,Data!C:C,Data!G:G,0)","v":0},{"$f":"_xlfn.XLOOKUP(C596,Data!C:C,Data!F:F)","v":{"$error":"#N/A"}},{"$f":"_xlfn.XLOOKUP(C596,Data!C:C,Data!H:H,0)","v":0},{"$error":"#N/A"},{"$error":"#N/A"},{"$error":"#N/A"},{"$error":"#N/A"},{"$error":"#N/A"},0,{"$error":"#N/A"},"","","",null,{"$error":"#N/A"}]
["23-3-2021","21:54:00","2021-03-23T21:54:00",null,{"$f":"_xlfn.XLOOKUP(C597,Data!C:C,Data!I:I)","v":{"$error":"#N/A"}},{"$error":"#N/A"},{"$f":"_xlfn.XLOOKUP(C597,Data!C:C,Data!G:G,0)","v":0},{"$f":"_xlfn.XLOOKUP(C597,Data!C:C,Data!F:F)","v":{"$error":"#N/A"}},{"$f":"_xlfn.XLOOKUP(C597,Data!C:C,Data!H:H,0)","v":0},{"$error":"#N/A"},{"$error":"#N/A"},{"$error":"#N/A"},{"$error":"#N/A"},{"$error":"#N/A"},0,{"$error":"#N/A"},"","","",null,{"$error":"#N/A"}]
["23-3-2021","21:55:00","2021-03-23T21:55:00",null,{"$f":"_xlfn.XLOOKUP(C598,Data!C:C,Data!I:I)","v":{"$error":"#N/A"}},{"$error":"#N/A"},{"$f":"_xlfn.XLOOKUP(C598,Data!C:C,Data!G:G,0)","v":0},{"$f":"_xlfn.XLOOKUP(C598,Data!C:C,Data!F:F)","v":{"$error":"#N/A"}},{"$f":"_xlfn.XLOOKUP(C598,Data!C:C,Data!H:H,0)","v":0},{"$error":"#N/A"},{"$error":"#N/A"},{"$error":"#N/A"},{"$error":"#N/A"},{"$error":"#N/A"},0,{"$error":"#N/A"},"","","",null,{"$error":"#N/A"}]
["23-3-2021","21:56:00","2021-03-23T21:56:00",null,{"$f":"_xlfn.XLOOKUP(C599,Data!C:C,Data!I:I)","v":{"$error":"#N/A"}},{"$error":"#N/A"},{"$f":"_xlfn.XLOOKUP(C599,Data!C:C,Data!G:G,0)","v":0},{"$f":"_xlfn.XLOOKUP(C599,Data!C:C,Data!F:F)","v":{"$error":"#N/A"}},{"$f":"_xlfn.XLOOKUP(C599,Data!C:C,Data!H:H,0)","v":0},{"$error":"#N/A"},{"$error":"#N/A"},{"$error":"#N/A"},{"$error":"#N/A"},{"$error":"#N/A"},0,{"$error":"#N/A"},"","","",null,{"$error":"#N/A"}]
["23-3-2021","21:57:00","2021-03-23T21:57:00",null,{"$f":"_xlfn.XLOOKUP(C600,Data!C:C,Data!I:I)","v":{"$error":"#N/A"}},{"$error":"#N/A"},{"$f":"_xlfn.XLOOKUP(C600,Data!C:C,Data!G:G,0)","v":0},{"$f":"_xlfn.XLOOKUP(C600,Data!C:C,Data!F:F)","v":{"$error":"#N/A"}},{"$f":"_xlfn.XLOOKUP(C600,Data!C:C,Data!H:H,0)","v":0},{"$error":"#N/A"},{"$error":"#N/A"},{"$error":"#N/A"},{"$error":"#N/A"},{"$error":"#N/A"},0,{"$error":"#N/A"},"","","",null,{"$error":"#N/A"}]
["23-3-2021","21:58:00","2021-03-23T21:58:00",null,{"$f":"_xlfn.XLOOKUP(C601,Data!C:C,Data!I:I)","v":{"$error":"#N/A"}},{"$error":"#N/A"},{"$f":"_xlfn.XLOOKUP(C601,Data!C:C,Data!G:G,0)","v":0},{"$f":"_xlfn.XLOOKUP(C601,Data!C:C,Data!F:F)","v":{"$error":"#N/A"}},{"$f":"_xlfn.XLOOKUP(C601,Data!C:C,Data!H:H,0)","v":0},{"$error":"#N/A"},{"$error":"#N/A"},{"$error":"#N/A"},{"$error":"#N/A"},{"$error":"#N/A"},0,{"$error":"#N/A"},"","","",null,{"$error":"#N/A"}]
["23-3-2021","21:59:00","2021-03-23T21:59:00",null,{"$f":"_xlfn.XLOOKUP(C602,Data!C:C,Data!I:I)","v":{"$error":"#N/A"}},{"$error":"#N/A"},{"$f":"_xlfn.XLOOKUP(C602,Data!C:C,Data!G:G,0)","v":0},{"$f":"_xlfn.XLOOKUP(C602,Data!C:C,Data!F:F)","v":{"$error":"#N/A"}},{"$f":"_xlfn.XLOOKUP(C602,Data!C:C,Data!H:H,0)","v":0},{"$error":"#N/A"},{"$error":"#N/A"},{"$error":"#N/A"},{"$error":"#N/A"},{"$error":"#N/A"},0,{"$error":"#N/A"},"","","",null,{"$error":"#N/A"}]
["23-3-2021","22:00:00","2021-03-23T22:00:00",null,{"$f":"_xlfn.XLOOKUP(C603,Data!C:C,Data!I:I)","v":{"$error":"#N/A"}},{"$error":"#N/A"},{"$f":"_xlfn.XLOOKUP(C603,Data!C:C,Data!G:G,0)","v":0},{"$f":"_xlfn.XLOOKUP(C603,Data!C:C,Data!F:F)","v":{"$error":"#N/A"}},{"$f":"_xlfn.XLOOKUP(C603,Data!C:C,Data!H:H,0)","v":0},{"$error":"#N/A"},{"$error":"#N/A"},{"$error":"#N/A"},{"$error":"#N/A"},{"$error":"#N/A"},0,{"$error":"#N/A"},"","","",null,{"$error":"#N/A"}]
["23-3-2021","22:01:00","2021-03-23T22:01:00",null,{"$f":"_xlfn.XLOOKUP(C604,Data!C:C,Data!I:I)","v":{"$error":"#N/A"}},{"$error":"#N/A"},{"$f":"_xlfn.XLOOKUP(C604,Data!C:C,Data!G:G,0)","v":0},{"$f":"_xlfn.XLOOKUP(C604,Data!C:C,Data!F:F)","v":{"$error":"#N/A"}},{"$f":"_xlfn.XLOOKUP(C604,Data!C:C,Data!H:H,0)","v":0},{"$error":"#N/A"},{"$error":"#N/A"},{"$error":"#N/A"},{"$error":"#N/A"},{"$error":"#N/A"},0,{"$error":"#N/A"},"","","",null,{"$error":"#N/A"}]
["23-3-2021","22:02:00","2021-03-23T22:02:00",null,{"$f":"_xlfn.XLOOKUP(C605,Data!C:C,Data!I:I)","v":{"$error":"#N/A"}},{"$error":"#N/A"},{"$f":"_xlfn.XLOOKUP(C605,Data!C:C,Data!G:G,0)","v":0},{"$f":"_xlfn.XLOOKUP(C605,Data!C:C,Data!F:F)","v":{"$error":"#N/A"}},{"$f":"_xlfn.XLOOKUP(C605,Data!C:C,Data!H:H,0)","v":0},{"$error":"#N/A"},{"$error":"#N/A"},{"$error":"#N/A"},{"$error":"#N/A"},{"$error":"#N/A"},0,{"$error":"#N/A"},"","","",null,{"$error":"#N/A"}]
["23-3-2021","22:03:00","2021-03-23T22:03:00",null,{"$f":"_xlfn.XLOOKUP(C606,Data!C:C,Data!I:I)","v":{"$error":"#N/A"}},{"$error":"#N/A"},{"$f":"_xlfn.XLOOKUP(C606,Data!C:C,Data!G:G,0)","v":0},{"$f":"_xlfn.XLOOKUP(C606,Data!C:C,Data!F:F)","v":{"$error":"#N/A"}},{"$f":"_xlfn.XLOOKUP(C606,Data!C:C,Data!H:H,0)","v":0},{"$error":"#N/A"},{"$error":"#N/A"},{"$error":"#N/A"},{"$error":"#N/A"},{"$error":"#N/A"},0,{"$error":"#N/A"},"","","",null,{"$error":"#N/A"}]
["23-3-2021","22:04:00","2021-03-23T22:04:00",null,{"$f":"_xlfn.XLOOKUP(C607,Data!C:C,Data!I:I)","v":{"$error":"#N/A"}},{"$error":"#N/A"},{"$f":"_xlfn.XLOOKUP(C607,Data!C:C,Data!G:G,0)","v":0},{"$f":"_xlfn.XLOOKUP(C607,Data!C:C,Data!F:F)","v":{"$error":"#N/A"}},{"$f":"_xlfn.XLOOKUP(C607,Data!C:C,Data!H:H,0)","v":0},{"$error":"#N/A"},{"$error":"#N/A"},{"$error":"#N/A"},{"$error":"#N/A"},{"$error":"#N/A"},0,{"$error":"#N/A"},"","","",null,{"$error":"#N/A"}]
["23-3-2021","22:05:00","2021-03-23T22:05:00",null,{"$f":"_xlfn.XLOOKUP(C608,Data!C:C,Data!I:I)","v":{"$error":"#N/A"}},{"$error":"#N/A"},{"$f":"_xlfn.XLOOKUP(C608,Data!C:C,Data!G:G,0)","v":0},{"$f":"_xlfn.XLOOKUP(C608,Data!C:C,Data!F:F)","v":{"$error":"#N/A"}},{"$f":"_xlfn.XLOOKUP(C608,Data!C:C,Data!H:H,0)","v":0},{"$error":"#N/A"},{"$error":"#N/A"},{"$error":"#N/A"},{"$error":"#N/A"},{"$error":"#N/A"},0,{"$error":"#N/A"},"","","",null,{"$error":"#N/A"}]
["23-3-2021","22:06:00","2021-03-23T22:06:00",null,{"$f":"_xlfn.XLOOKUP(C609,Data!C:C,Data!I:I)","v":{"$error":"#N/A"}},{"$error":"#N/A"},{"$f":"_xlfn.XLOOKUP(C609,Data!C:C,Data!G:G,0)","v":0},{"$f":"_xlfn.XLOOKUP(C609,Data!C:C,Data!F:F)","v":{"$error":"#N/A"}},{"$f":"_xlfn.XLOOKUP(C609,Data!C:C,Data!H:H,0)","v":0},{"$error":"#N/A"},{"$error":"#N/A"},{"$error":"#N/A"},{"$error":"#N/A"},{"$error":"#N/A"},0,{"$error":"#N/A"},"","","",null,{"$error":"#N/A"}]
["23-3-2021","22:07:00","2021-03-23T22:07:00",null,{"$f":"_xlfn.XLOOKUP(C610,Data!C:C,Data!I:I)","v":{"$error":"#N/A"}},{"$error":"#N/A"},{"$f":"_xlfn.XLOOKUP(C610,Data!C:C,Data!G:G,0)","v":0},{"$f":"_xlfn.XLOOKUP(C610,Data!C:C,Data!F:F)","v":{"$error":"#N/A"}},{"$f":"_xlfn.XLOOKUP(C610,Data!C:C,Data!H:H,0)","v":0},{"$error":"#N/A"},{"$error":"#N/A"},{"$error":"#N/A"},{"$error":"#N/A"},{"$error":"#N/A"},0,{"$error":"#N/A"},"","","",null,{"$error":"#N/A"}]
["23-3-2021","22:08:00","2021-03-23T22:08:00",null,{"$f":"_xlfn.XLOOKUP(C611,Data!C:C,Data!I:I)","v":{"$error":"#N/A"}},{"$error":"#N/A"},{"$f":"_xlfn.XLOOKUP(C611,Data!C:C,Data!G:G,0)","v":0},{"$f":"_xlfn.XLOOKUP(C611,Data!C:C,Data!F:F)","v":{"$error":"#N/A"}},{"$f":"_xlfn.XLOOKUP(C611,Data!C:C,Data!H:H,0)","v":0},{"$error":"#N/A"},{"$error":"#N/A"},{"$error":"#N/A"},{"$error":"#N/A"},{"$error":"#N/A"},0,{"$error":"#N/A"},"","","",null,{"$error":"#N/A"}]
["23-3-2021","22:09:00","2021-03-23T22:09:00",null,{"$f":"_xlfn.XLOOKUP(C612,Data!C:C,Data!I:I)","v":{"$error":"#N/A"}},{"$error":"#N/A"},{"$f":"_xlfn.XLOOKUP(C612,Data!C:C,Data!G:G,0)","v":0},{"$f":"_xlfn.XLOOKUP(C612,Data!C:C,Data!F:F)","v":{"$error":"#N/A"}},{"$f":"_xlfn.XLOOKUP(C612,Data!C:C,Data!H:H,0)","v":0},{"$error":"#N/A"},{"$error":"#N/A"},{"$error":"#N/A"},{"$error":"#N/A"},{"$error":"#N/A"},0,{"$error":"#N/A"},"","","",null,{"$error":"#N/A"}]
["23-3-2021","22:10:00","2021-03-23T22:10:00",null,{"$f":"_xlfn.XLOOKUP(C613,Data!C:C,Data!I:I)","v":{"$error":"#N/A"}},{"$error":"#N/A"},{"$f":"_xlfn.XLOOKUP(C613,Data!C:C,Data!G:G,0)","v":0},{"$f":"_xlfn.XLOOKUP(C613,Data!C:C,Data!F:F)","v":{"$error":"#N/A"}},{"$f":"_xlfn.XLOOKUP(C613,Data!C:C,Data!H:H,0)","v":0},{"$error":"#N/A"},{"$error":"#N/A"},{"$error":"#N/A"},{"$error":"#N/A"},{"$error":"#N/A"},0,{"$error":"#N/A"},"","","",null,{"$error":"#N/A"}]
["23-3-2021","22:11:00","2021-03-23T22:11:00",null,{"$f":"_xlfn.XLOOKUP(C614,Data!C:C,Data!I:I)","v":{"$error":"#N/A"}},{"$error":"#N/A"},{"$f":"_xlfn.XLOOKUP(C614,Data!C:C,Data!G:G,0)","v":0},{"$f":"_xlfn.XLOOKUP(C614,Data!C:C,Data!F:F)","v":{"$error":"#N/A"}},{"$f":"_xlfn.XLOOKUP(C614,Data!C:C,Data!H:H,0)","v":0},{"$error":"#N/A"},{"$error":"#N/A"},{"$error":"#N/A"},{"$error":"#N/A"},{"$error":"#N/A"},0,{"$error":"#N/A"},"","","",null,{"$error":"#N/A"}]
["23-3-2021","22:12:00","2021-03-23T22:12:00",null,{"$f":"_xlfn.XLOOKUP(C615,Data!C:C,Data!I:I)","v":{"$error":"#N/A"}},{"$error":"#N/A"},{"$f":"_xlfn.XLOOKUP(C615,Data!C:C,Data!G:G,0)","v":0},{"$f":"_xlfn.XLOOKUP(C615,Data!C:C,Data!F:F)","v":{"$error":"#N/A"}},{"$f":"_xlfn.XLOOKUP(C615,Data!C:C,Data!H:H,0)","v":0},{"$error":"#N/A"},{"$error":"#N/A"},{"$error":"#N/A"},{"$error":"#N/A"},{"$error":"#N/A"},0,{"$error":"#N/A"},"","","",null,{"$error":"#N/A"}]
["23-3-2021","22:13:00","2021-03-23T22:13:00",null,{"$f":"_xlfn.XLOOKUP(C616,Data!C:C,Data!I:I)","v":{"$error":"#N/A"}},{"$error":"#N/A"},{"$f":"_xlfn.XLOOKUP(C616,Data!C:C,Data!G:G,0)","v":0},{"$f":"_xlfn.XLOOKUP(C616,Data!C:C,Data!F:F)","v":{"$error":"#N/A"}},{"$f":"_xlfn.XLOOKUP(C616,Data!C:C,Data!H:H,0)","v":0},{"$error":"#N/A"},{"$error":"#N/A"},{"$error":"#N/A"},{"$error":"#N/A"},{"$error":"#N/A"},0,{"$error":"#N/A"},"","","",null,{"$error":"#N/A"}]
["23-3-2021","22:14:00","2021-03-23T22:14:00",null,{"$f":"_xlfn.XLOOKUP(C617,Data!C:C,Data!I:I)","v":{"$error":"#N/A"}},{"$error":"#N/A"},{"$f":"_xlfn.XLOOKUP(C617,Data!C:C,Data!G:G,0)","v":0},{"$f":"_xlfn.XLOOKUP(C617,Data!C:C,Data!F:F)","v":{"$error":"#N/A"}},{"$f":"_xlfn.XLOOKUP(C617,Data!C:C,Data!H:H,0)","v":0},{"$error":"#N/A"},{"$error":"#N/A"},{"$error":"#N/A"},{"$error":"#N/A"},{"$error":"#N/A"},0,{"$error":"#N/A"},"","","",null,{"$error":"#N/A"}]
["23-3-2021","22:15:00","2021-03-23T22:15:00",null,{"$f":"_xlfn.XLOOKUP(C618,Data!C:C,Data!I:I)","v":{"$error":"#N/A"}},{"$error":"#N/A"},{"$f":"_xlfn.XLOOKUP(C618,Data!C:C,Data!G:G,0)","v":0},{"$f":"_xlfn.XLOOKUP(C618,Data!C:C,Data!F:F)","v":{"$error":"#N/A"}},{"$f":"_xlfn.XLOOKUP(C618,Data!C:C,Data!H:H,0)","v":0},{"$error":"#N/A"},{"$error":"#N/A"},{"$error":"#N/A"},{"$error":"#N/A"},{"$error":"#N/A"},0,{"$error":"#N/A"},"","","",null,{"$error":"#N/A"}]
["23-3-2021","22:16:00","2021-03-23T22:16:00",null,{"$f":"_xlfn.XLOOKUP(C619,Data!C:C,Data!I:I)","v":{"$error":"#N/A"}},{"$error":"#N/A"},{"$f":"_xlfn.XLOOKUP(C619,Data!C:C,Data!G:G,0)","v":0},{"$f":"_xlfn.XLOOKUP(C619,Data!C:C,Data!F:F)","v":{"$error":"#N/A"}},{"$f":"_xlfn.XLOOKUP(C619,Data!C:C,Data!H:H,0)","v":0},{"$error":"#N/A"},{"$error":"#N/A"},{"$error":"#N/A"},{"$error":"#N/A"},{"$error":"#N/A"},0,{"$error":"#N/A"},"","","",null,{"$error":"#N/A"}]
["23-3-2021","22:17:00","2021-03-23T22:17:00",null,{"$f":"_xlfn.XLOOKUP(C620,Data!C:C,Data!I:I)","v":{"$error":"#N/A"}},{"$error":"#N/A"},{"$f":"_xlfn.XLOOKUP(C620,Data!C:C,Data!G:G,0)","v":0},{"$f":"_xlfn.XLOOKUP(C620,Data!C:C,Data!F:F)","v":{"$error":"#N/A"}},{"$f":"_xlfn.XLOOKUP(C620,Data!C:C,Data!H:H,0)","v":0},{"$error":"#N/A"},{"$error":"#N/A"},{"$error":"#N/A"},{"$error":"#N/A"},{"$error":"#N/A"},0,{"$error":"#N/A"},"","","",null,{"$error":"#N/A"}]
["23-3-2021","22:18:00","2021-03-23T22:18:00",null,{"$f":"_xlfn.XLOOKUP(C621,Data!C:C,Data!I:I)","v":{"$error":"#N/A"}},{"$error":"#N/A"},{"$f":"_xlfn.XLOOKUP(C621,Data!C:C,Data!G:G,0)","v":0},{"$f":"_xlfn.XLOOKUP(C621,Data!C:C,Data!F:F)","v":{"$error":"#N/A"}},{"$f":"_xlfn.XLOOKUP(C621,Data!C:C,Data!H:H,0)","v":0},{"$error":"#N/A"},{"$error":"#N/A"},{"$error":"#N/A"},{"$error":"#N/A"},{"$error":"#N/A"},0,{"$error":"#N/A"},"","","",null,{"$error":"#N/A"}]
["23-3-2021","22:19:00","2021-03-23T22:19:00",null,{"$f":"_xlfn.XLOOKUP(C622,Data!C:C,Data!I:I)","v":{"$error":"#N/A"}},{"$error":"#N/A"},{"$f":"_xlfn.XLOOKUP(C622,Data!C:C,Data!G:G,0)","v":0},{"$f":"_xlfn.XLOOKUP(C622,Data!C:C,Data!F:F)","v":{"$error":"#N/A"}},{"$f":"_xlfn.XLOOKUP(C622,Data!C:C,Data!H:H,0)","v":0},{"$error":"#N/A"},{"$error":"#N/A"},{"$error":"#N/A"},{"$error":"#N/A"},{"$error":"#N/A"},0,{"$error":"#N/A"},"","","",null,{"$error":"#N/A"}]
["23-3-2021","22:20:00","2021-03-23T22:20:00",null,{"$f":"_xlfn.XLOOKUP(C623,Data!C:C,Data!I:I)","v":{"$error":"#N/A"}},{"$error":"#N/A"},{"$f":"_xlfn.XLOOKUP(C623,Data!C:C,Data!G:G,0)","v":0},{"$f":"_xlfn.XLOOKUP(C623,Data!C:C,Data!F:F)","v":{"$error":"#N/A"}},{"$f":"_xlfn.XLOOKUP(C623,Data!C:C,Data!H:H,0)","v":0},{"$error":"#N/A"},{"$error":"#N/A"},{"$error":"#N/A"},{"$error":"#N/A"},{"$error":"#N/A"},0,{"$error":"#N/A"},"","","",null,{"$error":"#N/A"}]
["23-3-2021","22:21:00","2021-03-23T22:21:00",null,{"$f":"_xlfn.XLOOKUP(C624,Data!C:C,Data!I:I)","v":{"$error":"#N/A"}},{"$error":"#N/A"},{"$f":"_xlfn.XLOOKUP(C624,Data!C:C,Data!G:G,0)","v":0},{"$f":"_xlfn.XLOOKUP(C624,Data!C:C,Data!F:F)","v":{"$error":"#N/A"}},{"$f":"_xlfn.XLOOKUP(C624,Data!C:C,Data!H:H,0)","v":0},{"$error":"#N/A"},{"$error":"#N/A"},{"$error":"#N/A"},{"$error":"#N/A"},{"$error":"#N/A"},0,{"$error":"#N/A"},"","","",null,{"$error":"#N/A"}]
["23-3-2021","22:22:00","2021-03-23T22:22:00",null,{"$f":"_xlfn.XLOOKUP(C625,Data!C:C,Data!I:I)","v":{"$error":"#N/A"}},{"$error":"#N/A"},{"$f":"_xlfn.XLOOKUP(C625,Data!C:C,Data!G:G,0)","v":0},{"$f":"_xlfn.XLOOKUP(C625,Data!C:C,Data!F:F)","v":{"$error":"#N/A"}},{"$f":"_xlfn.XLOOKUP(C625,Data!C:C,Data!H:H,0)","v":0},{"$error":"#N/A"},{"$error":"#N/A"},{"$error":"#N/A"},{"$error":"#N/A"},{"$error":"#N/A"},0,{"$error":"#N/A"},"","","",null,{"$error":"#N/A"}]
["23-3-2021","22:23:00","2021-03-23T22:23:00",null,{"$f":"_xlfn.XLOOKUP(C626,Data!C:C,Data!I:I)","v":{"$error":"#N/A"}},{"$error":"#N/A"},{"$f":"_xlfn.XLOOKUP(C626,Data!C:C,Data!G:G,0)","v":0},{"$f":"_xlfn.XLOOKUP(C626,Data!C:C,Data!F:F)","v":{"$error":"#N/A"}},{"$f":"_xlfn.XLOOKUP(C626,Data!C:C,Data!H:H,0)","v":0},{"$error":"#N/A"},{"$error":"#N/A"},{"$error":"#N/A"},{"$error":"#N/A"},{"$error":"#N/A"},0,{"$error":"#N/A"},"","","",null,{"$error":"#N/A"}]
["23-3-2021","22:24:00","2021-03-23T22:24:00",null,{"$f":"_xlfn.XLOOKUP(C627,Data!C:C,Data!I:I)","v":{"$error":"#N/A"}},{"$error":"#N/A"},{"$f":"_xlfn.XLOOKUP(C627,Data!C:C,Data!G:G,0)","v":0},{"$f":"_xlfn.XLOOKUP(C627,Data!C:C,Data!F:F)","v":{"$error":"#N/A"}},{"$f":"_xlfn.XLOOKUP(C627,Data!C:C,Data!H:H,0)","v":0},{"$error":"#N/A"},{"$error":"#N/A"},{"$error":"#N/A"},{"$error":"#N/A"},{"$error":"#N/A"},0,{"$error":"#N/A"},"","","",null,{"$error":"#N/A"}]
["23-3-2021","22:25:00","2021-03-23T22:25:00",null,{"$f":"_xlfn.XLOOKUP(C628,Data!C:C,Data!I:I)","v":{"$error":"#N/A"}},{"$error":"#N/A"},{"$f":"_xlfn.XLOOKUP(C628,Data!C:C,Data!G:G,0)","v":0},{"$f":"_xlfn.XLOOKUP(C628,Data!C:C,Data!F:F)","v":{"$error":"#N/A"}},{"$f":"_xlfn.XLOOKUP(C628,Data!C:C,Data!H:H,0)","v":0},{"$error":"#N/A"},{"$error":"#N/A"},{"$error":"#N/A"},{"$error":"#N/A"},{"$error":"#N/A"},0,{"$error":"#N/A"},"","","",null,{"$error":"#N/A"}]
["23-3-2021","22:26:00","2021-03-23T22:26:00",null,{"$f":"_xlfn.XLOOKUP(C629,Data!C:C,Data!I:I)","v":{"$error":"#N/A"}},{"$error":"#N/A"},{"$f":"_xlfn.XLOOKUP(C629,Data!C:C,Data!G:G,0)","v":0},{"$f":"_xlfn.XLOOKUP(C629,Data!C:C,Data!F:F)","v":{"$error":"#N/A"}},{"$f":"_xlfn.XLOOKUP(C629,Data!C:C,Data!H:H,0)","v":0},{"$error":"#N/A"},{"$error":"#N/A"},{"$error":"#N/A"},{"$error":"#N/A"},{"$error":"#N/A"},0,{"$error":"#N/A"},"","","",null,{"$error":"#N/A"}]
["23-3-2021","22:27:00","2021-03-23T22:27:00",null,{"$f":"_xlfn.XLOOKUP(C630,Data!C:C,Data!I:I)","v":{"$error":"#N/A"}},{"$error":"#N/A"},{"$f":"_xlfn.XLOOKUP(C630,Data!C:C,Data!G:G,0)","v":0},{"$f":"_xlfn.XLOOKUP(C630,Data!C:C,Data!F:F)","v":{"$error":"#N/A"}},{"$f":"_xlfn.XLOOKUP(C630,Data!C:C,Data!H:H,0)","v":0},{"$error":"#N/A"},{"$error":"#N/A"},{"$error":"#N/A"},{"$error":"#N/A"},{"$error":"#N/A"},0,{"$error":"#N/A"},"","","",null,{"$error":"#N/A"}]
["23-3-2021","22:28:00","2021-03-23T22:28:00",null,{"$f":"_xlfn.XLOOKUP(C631,Data!C:C,Data!I:I)","v":{"$error":"#N/A"}},{"$error":"#N/A"},{"$f":"_xlfn.XLOOKUP(C631,Data!C:C,Data!G:G,0)","v":0},{"$f":"_xlfn.XLOOKUP(C631,Data!C:C,Data!F:F)","v":{"$error":"#N/A"}},{"$f":"_xlfn.XLOOKUP(C631,Data!C:C,Data!H:H,0)","v":0},{"$error":"#N/A"},{"$error":"#N/A"},{"$error":"#N/A"},{"$error":"#N/A"},{"$error":"#N/A"},0,{"$error":"#N/A"},"","","",null,{"$error":"#N/A"}]
["23-3-2021","22:29:00","2021-03-23T22:29:00",null,{"$f":"_xlfn.XLOOKUP(C632,Data!C:C,Data!I:I)","v":{"$error":"#N/A"}},{"$error":"#N/A"},{"$f":"_xlfn.XLOOKUP(C632,Data!C:C,Data!G:G,0)","v":0},{"$f":"_xlfn.XLOOKUP(C632,Data!C:C,Data!F:F)","v":{"$error":"#N/A"}},{"$f":"_xlfn.XLOOKUP(C632,Data!C:C,Data!H:H,0)","v":0},{"$error":"#N/A"},{"$error":"#N/A"},{"$error":"#N/A"},{"$error":"#N/A"},{"$error":"#N/A"},0,{"$error":"#N/A"},"","","",null,{"$error":"#N/A"}]
["23-3-2021","22:30:00","2021-03-23T22:30:00",null,{"$f":"_xlfn.XLOOKUP(C633,Data!C:C,Data!I:I)","v":{"$error":"#N/A"}},{"$error":"#N/A"},{"$f":"_xlfn.XLOOKUP(C633,Data!C:C,Data!G:G,0)","v":0},{"$f":"_xlfn.XLOOKUP(C633,Data!C:C,Data!F:F)","v":{"$error":"#N/A"}},{"$f":"_xlfn.XLOOKUP(C633,Data!C:C,Data!H:H,0)","v":0},{"$error":"#N/A"},{"$error":"#N/A"},{"$error":"#N/A"},{"$error":"#N/A"},{"$error":"#N/A"},0,{"$error":"#N/A"},"","","",null,{"$error":"#N/A"}]
["23-3-2021","22:31:00","2021-03-23T22:31:00",null,{"$f":"_xlfn.XLOOKUP(C634,Data!C:C,Data!I:I)","v":{"$error":"#N/A"}},{"$error":"#N/A"},{"$f":"_xlfn.XLOOKUP(C634,Data!C:C,Data!G:G,0)","v":0},{"$f":"_xlfn.XLOOKUP(C634,Data!C:C,Data!F:F)","v":{"$error":"#N/A"}},{"$f":"_xlfn.XLOOKUP(C634,Data!C:C,Data!H:H,0)","v":0},{"$error":"#N/A"},{"$error":"#N/A"},{"$error":"#N/A"},{"$error":"#N/A"},{"$error":"#N/A"},0,{"$error":"#N/A"},"","","",null,{"$error":"#N/A"}]
["23-3-2021","22:32:00","2021-03-23T22:32:00",null,{"$f":"_xlfn.XLOOKUP(C635,Data!C:C,Data!I:I)","v":{"$error":"#N/A"}},{"$error":"#N/A"},{"$f":"_xlfn.XLOOKUP(C635,Data!C:C,Data!G:G,0)","v":0},{"$f":"_xlfn.XLOOKUP(C635,Data!C:C,Data!F:F)","v":{"$error":"#N/A"}},{"$f":"_xlfn.XLOOKUP(C635,Data!C:C,Data!H:H,0)","v":0},{"$error":"#N/A"},{"$error":"#N/A"},{"$error":"#N/A"},{"$error":"#N/A"},{"$error":"#N/A"},0,{"$error":"#N/A"},"","","",null,{"$error":"#N/A"}]
["23-3-2021","22:33:00","2021-03-23T22:33:00",null,{"$f":"_xlfn.XLOOKUP(C636,Data!C:C,Data!I:I)","v":{"$error":"#N/A"}},{"$error":"#N/A"},{"$f":"_xlfn.XLOOKUP(C636,Data!C:C,Data!G:G,0)","v":0},{"$f":"_xlfn.XLOOKUP(C636,Data!C:C,Data!F:F)","v":{"$error":"#N/A"}},{"$f":"_xlfn.XLOOKUP(C636,Data!C:C,Data!H:H,0)","v":0},{"$error":"#N/A"},{"$error":"#N/A"},{"$error":"#N/A"},{"$error":"#N/A"},{"$error":"#N/A"},0,{"$error":"#N/A"},"","","",null,{"$error":"#N/A"}]
["23-3-2021","22:34:00","2021-03-23T22:34:00",null,{"$f":"_xlfn.XLOOKUP(C637,Data!C:C,Data!I:I)","v":{"$error":"#N/A"}},{"$error":"#N/A"},{"$f":"_xlfn.XLOOKUP(C637,Data!C:C,Data!G:G,0)","v":0},{"$f":"_xlfn.XLOOKUP(C637,Data!C:C,Data!F:F)","v":{"$error":"#N/A"}},{"$f":"_xlfn.XLOOKUP(C637,Data!C:C,Data!H:H,0)","v":0},{"$error":"#N/A"},{"$error":"#N/A"},{"$error":"#N/A"},{"$error":"#N/A"},{"$error":"#N/A"},0,{"$error":"#N/A"},"","","",null,{"$error":"#N/A"}]
["23-3-2021","22:35:00","2021-03-23T22:35:00",null,{"$f":"_xlfn.XLOOKUP(C638,Data!C:C,Data!I:I)","v":{"$error":"#N/A"}},{"$error":"#N/A"},{"$f":"_xlfn.XLOOKUP(C638,Data!C:C,Data!G:G,0)","v":0},{"$f":"_xlfn.XLOOKUP(C638,Data!C:C,Data!F:F)","v":{"$error":"#N/A"}},{"$f":"_xlfn.XLOOKUP(C638,Data!C:C,Data!H:H,0)","v":0},{"$error":"#N/A"},{"$error":"#N/A"},{"$error":"#N/A"},{"$error":"#N/A"},{"$error":"#N/A"},0,{"$error":"#N/A"},"","","",null,{"$error":"#N/A"}]
["23-3-2021","22:36:00","2021-03-23T22:36:00",null,{"$f":"_xlfn.XLOOKUP(C639,Data!C:C,Data!I:I)","v":{"$error":"#N/A"}},{"$error":"#N/A"},{"$f":"_xlfn.XLOOKUP(C639,Data!C:C,Data!G:G,0)","v":0},{"$f":"_xlfn.XLOOKUP(C639,Data!C:C,Data!F:F)","v":{"$error":"#N/A"}},{"$f":"_xlfn.XLOOKUP(C639,Data!C:C,Data!H:H,0)","v":0},{"$error":"#N/A"},{"$error":"#N/A"},{"$error":"#N/A"},{"$error":"#N/A"},{"$error":"#N/A"},0,{"$error":"#N/A"},"","","",null,{"$error":"#N/A"}]
["23-3-2021","22:37:00","2021-03-23T22:37:00",null,{"$f":"_xlfn.XLOOKUP(C640,Data!C:C,Data!I:I)","v":{"$error":"#N/A"}},{"$error":"#N/A"},{"$f":"_xlfn.XLOOKUP(C640,Data!C:C,Data!G:G,0)","v":0},{"$f":"_xlfn.XLOOKUP(C640,Data!C:C,Data!F:F)","v":{"$error":"#N/A"}},{"$f":"_xlfn.XLOOKUP(C640,Data!C:C,Data!H:H,0)","v":0},{"$f":"IF(AND(MAX(E638:E639)=255,MAX(E640:E641)=255,  E639+E640+E641<3*255, OR(I640=123,I640=124,I640=106,I640=108)),   I640,   IF(AND(MAX(E638:E639)=255,MAX(E640:E641)=255,  E639+E640+E641<3*255, OR(I640>=80,I640<100)),106,108))","v":{"$error":"#N/A"}},{"$error":"#N/A"},{"$error":"#N/A"},{"$error":"#N/A"},{"$error":"#N/A"},0,{"$error":"#N/A"},"","","",null,{"$error":"#N/A"}]
["23-3-2021","22:38:00","2021-03-23T22:38:00",null,{"$f":"_xlfn.XLOOKUP(C641,Data!C:C,Data!I:I)","v":{"$error":"#N/A"}},{"$error":"#N/A"},{"$f":"_xlfn.XLOOKUP(C641,Data!C:C,Data!G:G,0)","v":0},{"$f":"_xlfn.XLOOKUP(C641,Data!C:C,Data!F:F)","v":{"$error":"#N/A"}},{"$f":"_xlfn.XLOOKUP(C641,Data!C:C,Data!H:H,0)","v":0},{"$error":"#N/A"},{"$error":"#N/A"},{"$error":"#N/A"},{"$error":"#N/A"},{"$error":"#N/A"},0,{"$error":"#N/A"},"","","",null,{"$error":"#N/A"}]
["23-3-2021","22:39:00","2021-03-23T22:39:00",null,{"$f":"_xlfn.XLOOKUP(C642,Data!C:C,Data!I:I)","v":{"$error":"#N/A"}},{"$error":"#N/A"},{"$f":"_xlfn.XLOOKUP(C642,Data!C:C,Data!G:G,0)","v":0},{"$f":"_xlfn.XLOOKUP(C642,Data!C:C,Data!F:F)","v":{"$error":"#N/A"}},{"$f":"_xlfn.XLOOKUP(C642,Data!C:C,Data!H:H,0)","v":0},{"$error":"#N/A"},{"$error":"#N/A"},{"$error":"#N/A"},{"$error":"#N/A"},{"$error":"#N/A"},0,{"$error":"#N/A"},"","","",null,{"$error":"#N/A"}]
["23-3-2021","22:40:00",{"$f":"A643+B643","v":"2021-03-23T22:40:00"},null,{"$f":"_xlfn.XLOOKUP(C643,Data!C:C,Data!I:I)","v":{"$error":"#N/A"}},{"$error":"#N/A"},{"$f":"_xlfn.XLOOKUP(C643,Data!C:C,Data!G:G,0)","v":0},{"$f":"_xlfn.XLOOKUP(C643,Data!C:C,Data!F:F)","v":{"$error":"#N/A"}},{"$f":"_xlfn.XLOOKUP(C643,Data!C:C,Data!H:H,0)","v":0},{"$error":"#N/A"},{"$f":"IF(AND(I643<100,  I643>=80,  OR(J643=105, J643=106,  J643=123)),  5,  0)","v":{"$error":"#N/A"}},{"$error":"#N/A"},{"$error":"#N/A"},{"$error":"#N/A"},{"$f":"IFERROR(F643,0)","v":0},{"$error":"#N/A"},"","","",null,{"$error":"#N/A"}]
[{"$f":"$A$3","v":"23-3-2021"},"22:41:00","2021-03-23T22:41:00",null,{"$f":"_xlfn.XLOOKUP(C644,Data!C:C,Data!I:I)","v":{"$error":"#N/A"}},{"$error":"#N/A"},{"$f":"_xlfn.XLOOKUP(C644,Data!C:C,Data!G:G,0)","v":0},{"$f":"_xlfn.XLOOKUP(C644,Data!C:C,Data!F:F)","v":{"$error":"#N/A"}},{"$f":"_xlfn.XLOOKUP(C644,Data!C:C,Data!H:H,0)","v":0},{"$error":"#N/A"},{"$error":"#N/A"},{"$f":"IF(AND(I644<130,  I644>104,  OR(J644=105, J644=106,  J644=123),  S644>$S$1450+$S$1443),  20,  0)","v":{"$error":"#N/A"}},{"$f":"IF(AND(I644<130,  I644>104,  OR(J644=105, J644=106,  J644=123),  R644>$Q$1449,  S644<=$S$1450+$S$1443),  20,  0)","v":{"$error":"#N/A"}},{"$f":"IF(AND(I644<130,  I644>104,  OR(J644=105, J644=106,  J644=123),  R644<=$Q$1449,  S644<=$S$1450+$S$1443),  20,  0)","v":{"$error":"#N/A"}},0,{"$f":"IF(Q644=\"\",F644,IF(Q644=0,P643,Q644))","v":{"$error":"#N/A"}},{"$f":"IF(I644>109,IF(O644*$Q$1451>(O643+O645)/2,MIN(O643:O645),O644),\"\")","v":""},"","",null,{"$error":"#N/A"}]
["23-3-2021","22:42:00","2021-03-23T22:42:00",null,{"$f":"_xlfn.XLOOKUP(C645,Data!C:C,Data!I:I)","v":{"$error":"#N/A"}},{"$f":"IF(E645=255,IF(MIN(E644:E646)=255,#N/A,MIN(E644:E646)),E645)","v":{"$error":"#N/A"}},{"$f":"_xlfn.XLOOKUP(C645,Data!C:C,Data!G:G,0)","v":0},{"$f":"_xlfn.XLOOKUP(C645,Data!C:C,Data!F:F)","v":{"$error":"#N/A"}},{"$f":"_xlfn.XLOOKUP(C645,Data!C:C,Data!H:H,0)","v":0},{"$error":"#N/A"},{"$error":"#N/A"},{"$error":"#N/A"},{"$error":"#N/A"},{"$error":"#N/A"},0,{"$error":"#N/A"},"","","",null,{"$error":"#N/A"}]
["23-3-2021","22:43:00","2021-03-23T22:43:00",null,{"$f":"_xlfn.XLOOKUP(C646,Data!C:C,Data!I:I)","v":{"$error":"#N/A"}},{"$error":"#N/A"},{"$f":"_xlfn.XLOOKUP(C646,Data!C:C,Data!G:G,0)","v":0},{"$f":"_xlfn.XLOOKUP(C646,Data!C:C,Data!F:F)","v":{"$error":"#N/A"}},{"$f":"_xlfn.XLOOKUP(C646,Data!C:C,Data!H:H,0)","v":0},{"$error":"#N/A"},{"$error":"#N/A"},{"$error":"#N/A"},{"$error":"#N/A"},{"$error":"#N/A"},0,{"$error":"#N/A"},"","","",null,{"$error":"#N/A"}]
["23-3-2021","22:44:00","2021-03-23T22:44:00",null,{"$f":"_xlfn.XLOOKUP(C647,Data!C:C,Data!I:I)","v":{"$error":"#N/A"}},{"$error":"#N/A"},{"$f":"_xlfn.XLOOKUP(C647,Data!C:C,Data!G:G,0)","v":0},{"$f":"_xlfn.XLOOKUP(C647,Data!C:C,Data!F:F)","v":{"$error":"#N/A"}},{"$f":"_xlfn.XLOOKUP(C647,Data!C:C,Data!H:H,0)","v":0},{"$error":"#N/A"},{"$error":"#N/A"},{"$error":"#N/A"},{"$error":"#N/A"},{"$error":"#N/A"},0,{"$error":"#N/A"},"","","",null,{"$f":"IF(F647=\"\",\"\",AVERAGE(F643:F651))","v":{"$error":"#N/A"}}]
["23-3-2021","22:45:00","2021-03-23T22:45:00",null,{"$f":"_xlfn.XLOOKUP(C648,Data!C:C,Data!I:I)","v":{"$error":"#N/A"}},{"$error":"#N/A"},{"$f":"_xlfn.XLOOKUP(C648,Data!C:C,Data!G:G,0)","v":0},{"$f":"_xlfn.XLOOKUP(C648,Data!C:C,Data!F:F)","v":{"$error":"#N/A"}},{"$f":"_xlfn.XLOOKUP(C648,Data!C:C,Data!H:H,0)","v":0},{"$error":"#N/A"},{"$error":"#N/A"},{"$error":"#N/A"},{"$error":"#N/A"},{"$error":"#N/A"},0,{"$error":"#N/A"},"",{"$f":"IF(Q648=\"\",\"\",AVERAGE(Q644:Q652))","v":""},{"$f":"IF(Q648=\"\",\"\",MAX(Q644:Q652)-MIN(Q644:Q652))","v":""},null,{"$error":"#N/A"}]
["23-3-2021","22:46:00","2021-03-23T22:46:00",null,{"$f":"_xlfn.XLOOKUP(C649,Data!C:C,Data!I:I)","v":{"$error":"#N/A"}},{"$error":"#N/A"},{"$f":"_xlfn.XLOOKUP(C649,Data!C:C,Data!G:G,0)","v":0},{"$f":"_xlfn.XLOOKUP(C649,Data!C:C,Data!F:F)","v":{"$error":"#N/A"}},{"$f":"_xlfn.XLOOKUP(C649,Data!C:C,Data!H:H,0)","v":0},{"$error":"#N/A"},{"$error":"#N/A"},{"$error":"#N/A"},{"$error":"#N/A"},{"$error":"#N/A"},0,{"$error":"#N/A"},"","","",null,{"$error":"#N/A"}]
["23-3-2021","22:47:00","2021-03-23T22:47:00",null,{"$f":"_xlfn.XLOOKUP(C650,Data!C:C,Data!I:I)","v":{"$error":"#N/A"}},{"$error":"#N/A"},{"$f":"_xlfn.XLOOKUP(C650,Data!C:C,Data!G:G,0)","v":0},{"$f":"_xlfn.XLOOKUP(C650,Data!C:C,Data!F:F)","v":{"$error":"#N/A"}},{"$f":"_xlfn.XLOOKUP(C650,Data!C:C,Data!H:H,0)","v":0},{"$error":"#N/A"},{"$error":"#N/A"},{"$error":"#N/A"},{"$error":"#N/A"},{"$error":"#N/A"},0,{"$error":"#N/A"},"","","",null,{"$error":"#N/A"}]
["23-3-2021","22:48:00","2021-03-23T22:48:00",null,{"$f":"_xlfn.XLOOKUP(C651,Data!C:C,Data!I:I)","v":{"$error":"#N/A"}},{"$error":"#N/A"},{"$f":"_xlfn.XLOOKUP(C651,Data!C:C,Data!G:G,0)","v":0},{"$f":"_xlfn.XLOOKUP(C651,Data!C:C,Data!F:F)","v":{"$error":"#N/A"}},{"$f":"_xlfn.XLOOKUP(C651,Data!C:C,Data!H:H,0)","v":0},{"$error":"#N/A"},{"$error":"#N/A"},{"$error":"#N/A"},{"$error":"#N/A"},{"$error":"#N/A"},0,{"$error":"#N/A"},"","","",null,{"$error":"#N/A"}]
["23-3-2021","22:49:00","2021-03-23T22:49:00",null,{"$f":"_xlfn.XLOOKUP(C652,Data!C:C,Data!I:I)","v":{"$error":"#N/A"}},{"$error":"#N/A"},{"$f":"_xlfn.XLOOKUP(C652,Data!C:C,Data!G:G,0)","v":0},{"$f":"_xlfn.XLOOKUP(C652,Data!C:C,Data!F:F)","v":{"$error":"#N/A"}},{"$f":"_xlfn.XLOOKUP(C652,Data!C:C,Data!H:H,0)","v":0},{"$error":"#N/A"},{"$error":"#N/A"},{"$error":"#N/A"},{"$error":"#N/A"},{"$error":"#N/A"},0,{"$error":"#N/A"},"","","",null,{"$error":"#N/A"}]
["23-3-2021","22:50:00","2021-03-23T22:50:00",null,{"$f":"_xlfn.XLOOKUP(C653,Data!C:C,Data!I:I)","v":{"$error":"#N/A"}},{"$error":"#N/A"},{"$f":"_xlfn.XLOOKUP(C653,Data!C:C,Data!G:G,0)","v":0},{"$f":"_xlfn.XLOOKUP(C653,Data!C:C,Data!F:F)","v":{"$error":"#N/A"}},{"$f":"_xlfn.XLOOKUP(C653,Data!C:C,Data!H:H,0)","v":0},{"$error":"#N/A"},{"$error":"#N/A"},{"$error":"#N/A"},{"$error":"#N/A"},{"$error":"#N/A"},0,{"$error":"#N/A"},"","","",null,{"$error":"#N/A"}]
["23-3-2021","22:51:00","2021-03-23T22:51:00",null,{"$f":"_xlfn.XLOOKUP(C654,Data!C:C,Data!I:I)","v":{"$error":"#N/A"}},{"$error":"#N/A"},{"$f":"_xlfn.XLOOKUP(C654,Data!C:C,Data!G:G,0)","v":0},{"$f":"_xlfn.XLOOKUP(C654,Data!C:C,Data!F:F)","v":{"$error":"#N/A"}},{"$f":"_xlfn.XLOOKUP(C654,Data!C:C,Data!H:H,0)","v":0},{"$error":"#N/A"},{"$error":"#N/A"},{"$error":"#N/A"},{"$error":"#N/A"},{"$error":"#N/A"},0,{"$error":"#N/A"},"","","",null,{"$error":"#N/A"}]
["23-3-2021","22:52:00","2021-03-23T22:52:00",null,{"$f":"_xlfn.XLOOKUP(C655,Data!C:C,Data!I:I)","v":{"$error":"#N/A"}},{"$error":"#N/A"},{"$f":"_xlfn.XLOOKUP(C655,Data!C:C,Data!G:G,0)","v":0},{"$f":"_xlfn.XLOOKUP(C655,Data!C:C,Data!F:F)","v":{"$error":"#N/A"}},{"$f":"_xlfn.XLOOKUP(C655,Data!C:C,Data!H:H,0)","v":0},{"$error":"#N/A"},{"$error":"#N/A"},{"$error":"#N/A"},{"$error":"#N/A"},{"$error":"#N/A"},0,{"$error":"#N/A"},"","","",null,{"$error":"#N/A"}]
["23-3-2021","22:53:00","2021-03-23T22:53:00",null,{"$f":"_xlfn.XLOOKUP(C656,Data!C:C,Data!I:I)","v":{"$error":"#N/A"}},{"$error":"#N/A"},{"$f":"_xlfn.XLOOKUP(C656,Data!C:C,Data!G:G,0)","v":0},{"$f":"_xlfn.XLOOKUP(C656,Data!C:C,Data!F:F)","v":{"$error":"#N/A"}},{"$f":"_xlfn.XLOOKUP(C656,Data!C:C,Data!H:H,0)","v":0},{"$error":"#N/A"},{"$error":"#N/A"},{"$error":"#N/A"},{"$error":"#N/A"},{"$error":"#N/A"},0,{"$error":"#N/A"},"","","",null,{"$error":"#N/A"}]
["23-3-2021","22:54:00","2021-03-23T22:54:00",null,{"$f":"_xlfn.XLOOKUP(C657,Data!C:C,Data!I:I)","v":{"$error":"#N/A"}},{"$error":"#N/A"},{"$f":"_xlfn.XLOOKUP(C657,Data!C:C,Data!G:G,0)","v":0},{"$f":"_xlfn.XLOOKUP(C657,Data!C:C,Data!F:F)","v":{"$error":"#N/A"}},{"$f":"_xlfn.XLOOKUP(C657,Data!C:C,Data!H:H,0)","v":0},{"$error":"#N/A"},{"$error":"#N/A"},{"$error":"#N/A"},{"$error":"#N/A"},{"$error":"#N/A"},0,{"$error":"#N/A"},"","","",null,{"$error":"#N/A"}]
["23-3-2021","22:55:00","2021-03-23T22:55:00",null,{"$f":"_xlfn.XLOOKUP(C658,Data!C:C,Data!I:I)","v":{"$error":"#N/A"}},{"$error":"#N/A"},{"$f":"_xlfn.XLOOKUP(C658,Data!C:C,Data!G:G,0)","v":0},{"$f":"_xlfn.XLOOKUP(C658,Data!C:C,Data!F:F)","v":{"$error":"#N/A"}},{"$f":"_xlfn.XLOOKUP(C658,Data!C:C,Data!H:H,0)","v":0},{"$error":"#N/A"},{"$error":"#N/A"},{"$error":"#N/A"},{"$error":"#N/A"},{"$error":"#N/A"},0,{"$error":"#N/A"},"","","",null,{"$error":"#N/A"}]
["23-3-2021","22:56:00","2021-03-23T22:56:00",null,{"$f":"_xlfn.XLOOKUP(C659,Data!C:C,Data!I:I)","v":{"$error":"#N/A"}},{"$error":"#N/A"},{"$f":"_xlfn.XLOOKUP(C659,Data!C:C,Data!G:G,0)","v":0},{"$f":"_xlfn.XLOOKUP(C659,Data!C:C,Data!F:F)","v":{"$error":"#N/A"}},{"$f":"_xlfn.XLOOKUP(C659,Data!C:C,Data!H:H,0)","v":0},{"$error":"#N/A"},{"$error":"#N/A"},{"$error":"#N/A"},{"$error":"#N/A"},{"$error":"#N/A"},0,{"$error":"#N/A"},"","","",null,{"$error":"#N/A"}]
["23-3-2021","22:57:00","2021-03-23T22:57:00",null,{"$f":"_xlfn.XLOOKUP(C660,Data!C:C,Data!I:I)","v":{"$error":"#N/A"}},{"$error":"#N/A"},{"$f":"_xlfn.XLOOKUP(C660,Data!C:C,Data!G:G,0)","v":0},{"$f":"_xlfn.XLOOKUP(C660,Data!C:C,Data!F:F)","v":{"$error":"#N/A"}},{"$f":"_xlfn.XLOOKUP(C660,Data!C:C,Data!H:H,0)","v":0},{"$error":"#N/A"},{"$error":"#N/A"},{"$error":"#N/A"},{"$error":"#N/A"},{"$error":"#N/A"},0,{"$error":"#N/A"},"","","",null,{"$error":"#N/A"}]
["23-3-2021","22:58:00","2021-03-23T22:58:00",null,{"$f":"_xlfn.XLOOKUP(C661,Data!C:C,Data!I:I)","v":{"$error":"#N/A"}},{"$error":"#N/A"},{"$f":"_xlfn.XLOOKUP(C661,Data!C:C,Data!G:G,0)","v":0},{"$f":"_xlfn.XLOOKUP(C661,Data!C:C,Data!F:F)","v":{"$error":"#N/A"}},{"$f":"_xlfn.XLOOKUP(C661,Data!C:C,Data!H:H,0)","v":0},{"$error":"#N/A"},{"$error":"#N/A"},{"$error":"#N/A"},{"$error":"#N/A"},{"$error":"#N/A"},0,{"$error":"#N/A"},"","","",null,{"$error":"#N/A"}]
["23-3-2021","22:59:00","2021-03-23T22:59:00",null,{"$f":"_xlfn.XLOOKUP(C662,Data!C:C,Data!I:I)","v":{"$error":"#N/A"}},{"$error":"#N/A"},{"$f":"_xlfn.XLOOKUP(C662,Data!C:C,Data!G:G,0)","v":0},{"$f":"_xlfn.XLOOKUP(C662,Data!C:C,Data!F:F)","v":{"$error":"#N/A"}},{"$f":"_xlfn.XLOOKUP(C662,Data!C:C,Data!H:H,0)","v":0},{"$error":"#N/A"},{"$error":"#N/A"},{"$error":"#N/A"},{"$error":"#N/A"},{"$error":"#N/A"},0,{"$error":"#N/A"},"","","",null,{"$error":"#N/A"}]
["23-3-2021","23:00:00","2021-03-23T23:00:00",null,{"$f":"_xlfn.XLOOKUP(C663,Data!C:C,Data!I:I)","v":{"$error":"#N/A"}},{"$error":"#N/A"},{"$f":"_xlfn.XLOOKUP(C663,Data!C:C,Data!G:G,0)","v":0},{"$f":"_xlfn.XLOOKUP(C663,Data!C:C,Data!F:F)","v":{"$error":"#N/A"}},{"$f":"_xlfn.XLOOKUP(C663,Data!C:C,Data!H:H,0)","v":0},{"$error":"#N/A"},{"$error":"#N/A"},{"$error":"#N/A"},{"$error":"#N/A"},{"$error":"#N/A"},0,{"$error":"#N/A"},"","","",null,{"$error":"#N/A"}]
["23-3-2021","23:01:00","2021-03-23T23:01:00",null,{"$f":"_xlfn.XLOOKUP(C664,Data!C:C,Data!I:I)","v":{"$error":"#N/A"}},{"$error":"#N/A"},{"$f":"_xlfn.XLOOKUP(C664,Data!C:C,Data!G:G,0)","v":0},{"$f":"_xlfn.XLOOKUP(C664,Data!C:C,Data!F:F)","v":{"$error":"#N/A"}},{"$f":"_xlfn.XLOOKUP(C664,Data!C:C,Data!H:H,0)","v":0},{"$error":"#N/A"},{"$error":"#N/A"},{"$error":"#N/A"},{"$error":"#N/A"},{"$error":"#N/A"},0,{"$error":"#N/A"},"","","",null,{"$error":"#N/A"}]
["23-3-2021","23:02:00","2021-03-23T23:02:00",null,{"$f":"_xlfn.XLOOKUP(C665,Data!C:C,Data!I:I)","v":{"$error":"#N/A"}},{"$error":"#N/A"},{"$f":"_xlfn.XLOOKUP(C665,Data!C:C,Data!G:G,0)","v":0},{"$f":"_xlfn.XLOOKUP(C665,Data!C:C,Data!F:F)","v":{"$error":"#N/A"}},{"$f":"_xlfn.XLOOKUP(C665,Data!C:C,Data!H:H,0)","v":0},{"$error":"#N/A"},{"$error":"#N/A"},{"$error":"#N/A"},{"$error":"#N/A"},{"$error":"#N/A"},0,{"$error":"#N/A"},"","","",null,{"$error":"#N/A"}]
["23-3-2021","23:03:00","2021-03-23T23:03:00",null,{"$f":"_xlfn.XLOOKUP(C666,Data!C:C,Data!I:I)","v":{"$error":"#N/A"}},{"$error":"#N/A"},{"$f":"_xlfn.XLOOKUP(C666,Data!C:C,Data!G:G,0)","v":0},{"$f":"_xlfn.XLOOKUP(C666,Data!C:C,Data!F:F)","v":{"$error":"#N/A"}},{"$f":"_xlfn.XLOOKUP(C666,Data!C:C,Data!H:H,0)","v":0},{"$error":"#N/A"},{"$error":"#N/A"},{"$error":"#N/A"},{"$error":"#N/A"},{"$error":"#N/A"},0,{"$error":"#N/A"},"","","",null,{"$error":"#N/A"}]
["23-3-2021","23:04:00","2021-03-23T23:04:00",null,{"$f":"_xlfn.XLOOKUP(C667,Data!C:C,Data!I:I)","v":{"$error":"#N/A"}},{"$error":"#N/A"},{"$f":"_xlfn.XLOOKUP(C667,Data!C:C,Data!G:G,0)","v":0},{"$f":"_xlfn.XLOOKUP(C667,Data!C:C,Data!F:F)","v":{"$error":"#N/A"}},{"$f":"_xlfn.XLOOKUP(C667,Data!C:C,Data!H:H,0)","v":0},{"$error":"#N/A"},{"$error":"#N/A"},{"$error":"#N/A"},{"$error":"#N/A"},{"$error":"#N/A"},0,{"$error":"#N/A"},"","","",null,{"$error":"#N/A"}]
["23-3-2021","23:05:00","2021-03-23T23:05:00",null,{"$f":"_xlfn.XLOOKUP(C668,Data!C:C,Data!I:I)","v":{"$error":"#N/A"}},{"$error":"#N/A"},{"$f":"_xlfn.XLOOKUP(C668,Data!C:C,Data!G:G,0)","v":0},{"$f":"_xlfn.XLOOKUP(C668,Data!C:C,Data!F:F)","v":{"$error":"#N/A"}},{"$f":"_xlfn.XLOOKUP(C668,Data!C:C,Data!H:H,0)","v":0},{"$error":"#N/A"},{"$error":"#N/A"},{"$error":"#N/A"},{"$error":"#N/A"},{"$error":"#N/A"},0,{"$error":"#N/A"},"","","",null,{"$error":"#N/A"}]
["23-3-2021","23:06:00","2021-03-23T23:06:00",null,{"$f":"_xlfn.XLOOKUP(C669,Data!C:C,Data!I:I)","v":{"$error":"#N/A"}},{"$error":"#N/A"},{"$f":"_xlfn.XLOOKUP(C669,Data!C:C,Data!G:G,0)","v":0},{"$f":"_xlfn.XLOOKUP(C669,Data!C:C,Data!F:F)","v":{"$error":"#N/A"}},{"$f":"_xlfn.XLOOKUP(C669,Data!C:C,Data!H:H,0)","v":0},{"$error":"#N/A"},{"$error":"#N/A"},{"$error":"#N/A"},{"$error":"#N/A"},{"$error":"#N/A"},0,{"$error":"#N/A"},"","","",null,{"$error":"#N/A"}]
["23-3-2021","23:07:00","2021-03-23T23:07:00",null,{"$f":"_xlfn.XLOOKUP(C670,Data!C:C,Data!I:I)","v":{"$error":"#N/A"}},{"$error":"#N/A"},{"$f":"_xlfn.XLOOKUP(C670,Data!C:C,Data!G:G,0)","v":0},{"$f":"_xlfn.XLOOKUP(C670,Data!C:C,Data!F:F)","v":{"$error":"#N/A"}},{"$f":"_xlfn.XLOOKUP(C670,Data!C:C,Data!H:H,0)","v":0},{"$error":"#N/A"},{"$error":"#N/A"},{"$error":"#N/A"},{"$error":"#N/A"},{"$error":"#N/A"},0,{"$error":"#N/A"},"","","",null,{"$error":"#N/A"}]
["23-3-2021","23:08:00","2021-03-23T23:08:00",null,{"$f":"_xlfn.XLOOKUP(C671,Data!C:C,Data!I:I)","v":{"$error":"#N/A"}},{"$error":"#N/A"},{"$f":"_xlfn.XLOOKUP(C671,Data!C:C,Data!G:G,0)","v":0},{"$f":"_xlfn.XLOOKUP(C671,Data!C:C,Data!F:F)","v":{"$error":"#N/A"}},{"$f":"_xlfn.XLOOKUP(C671,Data!C:C,Data!H:H,0)","v":0},{"$error":"#N/A"},{"$error":"#N/A"},{"$error":"#N/A"},{"$error":"#N/A"},{"$error":"#N/A"},0,{"$error":"#N/A"},"","","",null,{"$error":"#N/A"}]
["23-3-2021","23:09:00","2021-03-23T23:09:00",null,{"$f":"_xlfn.XLOOKUP(C672,Data!C:C,Data!I:I)","v":{"$error":"#N/A"}},{"$error":"#N/A"},{"$f":"_xlfn.XLOOKUP(C672,Data!C:C,Data!G:G,0)","v":0},{"$f":"_xlfn.XLOOKUP(C672,Data!C:C,Data!F:F)","v":{"$error":"#N/A"}},{"$f":"_xlfn.XLOOKUP(C672,Data!C:C,Data!H:H,0)","v":0},{"$error":"#N/A"},{"$error":"#N/A"},{"$error":"#N/A"},{"$error":"#N/A"},{"$error":"#N/A"},0,{"$error":"#N/A"},"","","",null,{"$error":"#N/A"}]
["23-3-2021","23:10:00","2021-03-23T23:10:00",null,{"$f":"_xlfn.XLOOKUP(C673,Data!C:C,Data!I:I)","v":{"$error":"#N/A"}},{"$error":"#N/A"},{"$f":"_xlfn.XLOOKUP(C673,Data!C:C,Data!G:G,0)","v":0},{"$f":"_xlfn.XLOOKUP(C673,Data!C:C,Data!F:F)","v":{"$error":"#N/A"}},{"$f":"_xlfn.XLOOKUP(C673,Data!C:C,Data!H:H,0)","v":0},{"$error":"#N/A"},{"$error":"#N/A"},{"$error":"#N/A"},{"$error":"#N/A"},{"$error":"#N/A"},0,{"$error":"#N/A"},"","","",null,{"$error":"#N/A"}]
["23-3-2021","23:11:00","2021-03-23T23:11:00",null,{"$f":"_xlfn.XLOOKUP(C674,Data!C:C,Data!I:I)","v":{"$error":"#N/A"}},{"$error":"#N/A"},{"$f":"_xlfn.XLOOKUP(C674,Data!C:C,Data!G:G,0)","v":0},{"$f":"_xlfn.XLOOKUP(C674,Data!C:C,Data!F:F)","v":{"$error":"#N/A"}},{"$f":"_xlfn.XLOOKUP(C674,Data!C:C,Data!H:H,0)","v":0},{"$error":"#N/A"},{"$error":"#N/A"},{"$error":"#N/A"},{"$error":"#N/A"},{"$error":"#N/A"},0,{"$error":"#N/A"},"","","",null,{"$error":"#N/A"}]
["23-3-2021","23:12:00","2021-03-23T23:12:00",null,{"$f":"_xlfn.XLOOKUP(C675,Data!C:C,Data!I:I)","v":{"$error":"#N/A"}},{"$error":"#N/A"},{"$f":"_xlfn.XLOOKUP(C675,Data!C:C,Data!G:G,0)","v":0},{"$f":"_xlfn.XLOOKUP(C675,Data!C:C,Data!F:F)","v":{"$error":"#N/A"}},{"$f":"_xlfn.XLOOKUP(C675,Data!C:C,Data!H:H,0)","v":0},{"$error":"#N/A"},{"$error":"#N/A"},{"$error":"#N/A"},{"$error":"#N/A"},{"$error":"#N/A"},0,{"$error":"#N/A"},"","","",null,{"$error":"#N/A"}]
["23-3-2021","23:13:00","2021-03-23T23:13:00",null,{"$f":"_xlfn.XLOOKUP(C676,Data!C:C,Data!I:I)","v":{"$error":"#N/A"}},{"$error":"#N/A"},{"$f":"_xlfn.XLOOKUP(C676,Data!C:C,Data!G:G,0)","v":0},{"$f":"_xlfn.XLOOKUP(C676,Data!C:C,Data!F:F)","v":{"$error":"#N/A"}},{"$f":"_xlfn.XLOOKUP(C676,Data!C:C,Data!H:H,0)","v":0},{"$error":"#N/A"},{"$error":"#N/A"},{"$error":"#N/A"},{"$error":"#N/A"},{"$error":"#N/A"},0,{"$error":"#N/A"},"","","",null,{"$error":"#N/A"}]
["23-3-2021","23:14:00","2021-03-23T23:14:00",null,{"$f":"_xlfn.XLOOKUP(C677,Data!C:C,Data!I:I)","v":{"$error":"#N/A"}},{"$error":"#N/A"},{"$f":"_xlfn.XLOOKUP(C677,Data!C:C,Data!G:G,0)","v":0},{"$f":"_xlfn.XLOOKUP(C677,Data!C:C,Data!F:F)","v":{"$error":"#N/A"}},{"$f":"_xlfn.XLOOKUP(C677,Data!C:C,Data!H:H,0)","v":0},{"$error":"#N/A"},{"$error":"#N/A"},{"$error":"#N/A"},{"$error":"#N/A"},{"$error":"#N/A"},0,{"$error":"#N/A"},"","","",null,{"$error":"#N/A"}]
["23-3-2021","23:15:00","2021-03-23T23:15:00",null,{"$f":"_xlfn.XLOOKUP(C678,Data!C:C,Data!I:I)","v":{"$error":"#N/A"}},{"$error":"#N/A"},{"$f":"_xlfn.XLOOKUP(C678,Data!C:C,Data!G:G,0)","v":0},{"$f":"_xlfn.XLOOKUP(C678,Data!C:C,Data!F:F)","v":{"$error":"#N/A"}},{"$f":"_xlfn.XLOOKUP(C678,Data!C:C,Data!H:H,0)","v":0},{"$error":"#N/A"},{"$error":"#N/A"},{"$error":"#N/A"},{"$error":"#N/A"},{"$error":"#N/A"},0,{"$error":"#N/A"},"","","",null,{"$error":"#N/A"}]
["23-3-2021","23:16:00","2021-03-23T23:16:00",null,{"$f":"_xlfn.XLOOKUP(C679,Data!C:C,Data!I:I)","v":{"$error":"#N/A"}},{"$error":"#N/A"},{"$f":"_xlfn.XLOOKUP(C679,Data!C:C,Data!G:G,0)","v":0},{"$f":"_xlfn.XLOOKUP(C679,Data!C:C,Data!F:F)","v":{"$error":"#N/A"}},{"$f":"_xlfn.XLOOKUP(C679,Data!C:C,Data!H:H,0)","v":0},{"$error":"#N/A"},{"$error":"#N/A"},{"$error":"#N/A"},{"$error":"#N/A"},{"$error":"#N/A"},0,{"$error":"#N/A"},"","","",null,{"$error":"#N/A"}]
["23-3-2021","23:17:00","2021-03-23T23:17:00",null,{"$f":"_xlfn.XLOOKUP(C680,Data!C:C,Data!I:I)","v":{"$error":"#N/A"}},{"$error":"#N/A"},{"$f":"_xlfn.XLOOKUP(C680,Data!C:C,Data!G:G,0)","v":0},{"$f":"_xlfn.XLOOKUP(C680,Data!C:C,Data!F:F)","v":{"$error":"#N/A"}},{"$f":"_xlfn.XLOOKUP(C680,Data!C:C,Data!H:H,0)","v":0},{"$error":"#N/A"},{"$error":"#N/A"},{"$error":"#N/A"},{"$error":"#N/A"},{"$error":"#N/A"},0,{"$error":"#N/A"},"","","",null,{"$error":"#N/A"}]
["23-3-2021","23:18:00","2021-03-23T23:18:00",null,{"$f":"_xlfn.XLOOKUP(C681,Data!C:C,Data!I:I)","v":{"$error":"#N/A"}},{"$error":"#N/A"},{"$f":"_xlfn.XLOOKUP(C681,Data!C:C,Data!G:G,0)","v":0},{"$f":"_xlfn.XLOOKUP(C681,Data!C:C,Data!F:F)","v":{"$error":"#N/A"}},{"$f":"_xlfn.XLOOKUP(C681,Data!C:C,Data!H:H,0)","v":0},{"$error":"#N/A"},{"$error":"#N/A"},{"$error":"#N/A"},{"$error":"#N/A"},{"$error":"#N/A"},0,{"$error":"#N/A"},"","","",null,{"$error":"#N/A"}]
["23-3-2021","23:19:00","2021-03-23T23:19:00",null,{"$f":"_xlfn.XLOOKUP(C682,Data!C:C,Data!I:I)","v":{"$error":"#N/A"}},{"$error":"#N/A"},{"$f":"_xlfn.XLOOKUP(C682,Data!C:C,Data!G:G,0)","v":0},{"$f":"_xlfn.XLOOKUP(C682,Data!C:C,Data!F:F)","v":{"$error":"#N/A"}},{"$f":"_xlfn.XLOOKUP(C682,Data!C:C,Data!H:H,0)","v":0},{"$error":"#N/A"},{"$error":"#N/A"},{"$error":"#N/A"},{"$error":"#N/A"},{"$error":"#N/A"},0,{"$error":"#N/A"},"","","",null,{"$error":"#N/A"}]
["23-3-2021","23:20:00","2021-03-23T23:20:00",null,{"$f":"_xlfn.XLOOKUP(C683,Data!C:C,Data!I:I)","v":{"$error":"#N/A"}},{"$error":"#N/A"},{"$f":"_xlfn.XLOOKUP(C683,Data!C:C,Data!G:G,0)","v":0},{"$f":"_xlfn.XLOOKUP(C683,Data!C:C,Data!F:F)","v":{"$error":"#N/A"}},{"$f":"_xlfn.XLOOKUP(C683,Data!C:C,Data!H:H,0)","v":0},{"$error":"#N/A"},{"$error":"#N/A"},{"$error":"#N/A"},{"$error":"#N/A"},{"$error":"#N/A"},0,{"$error":"#N/A"},"","","",null,{"$error":"#N/A"}]
["23-3-2021","23:21:00","2021-03-23T23:21:00",null,{"$f":"_xlfn.XLOOKUP(C684,Data!C:C,Data!I:I)","v":{"$error":"#N/A"}},{"$error":"#N/A"},{"$f":"_xlfn.XLOOKUP(C684,Data!C:C,Data!G:G,0)","v":0},{"$f":"_xlfn.XLOOKUP(C684,Data!C:C,Data!F:F)","v":{"$error":"#N/A"}},{"$f":"_xlfn.XLOOKUP(C684,Data!C:C,Data!H:H,0)","v":0},{"$error":"#N/A"},{"$error":"#N/A"},{"$error":"#N/A"},{"$error":"#N/A"},{"$error":"#N/A"},0,{"$error":"#N/A"},"","","",null,{"$error":"#N/A"}]
["23-3-2021","23:22:00","2021-03-23T23:22:00",null,{"$f":"_xlfn.XLOOKUP(C685,Data!C:C,Data!I:I)","v":{"$error":"#N/A"}},{"$error":"#N/A"},{"$f":"_xlfn.XLOOKUP(C685,Data!C:C,Data!G:G,0)","v":0},{"$f":"_xlfn.XLOOKUP(C685,Data!C:C,Data!F:F)","v":{"$error":"#N/A"}},{"$f":"_xlfn.XLOOKUP(C685,Data!C:C,Data!H:H,0)","v":0},{"$error":"#N/A"},{"$error":"#N/A"},{"$error":"#N/A"},{"$error":"#N/A"},{"$error":"#N/A"},0,{"$error":"#N/A"},"","","",null,{"$error":"#N/A"}]
["23-3-2021","23:23:00","2021-03-23T23:23:00",null,{"$f":"_xlfn.XLOOKUP(C686,Data!C:C,Data!I:I)","v":{"$error":"#N/A"}},{"$error":"#N/A"},{"$f":"_xlfn.XLOOKUP(C686,Data!C:C,Data!G:G,0)","v":0},{"$f":"_xlfn.XLOOKUP(C686,Data!C:C,Data!F:F)","v":{"$error":"#N/A"}},{"$f":"_xlfn.XLOOKUP(C686,Data!C:C,Data!H:H,0)","v":0},{"$error":"#N/A"},{"$error":"#N/A"},{"$error":"#N/A"},{"$error":"#N/A"},{"$error":"#N/A"},0,{"$error":"#N/A"},"","","",null,{"$error":"#N/A"}]
["23-3-2021","23:24:00","2021-03-23T23:24:00",null,{"$f":"_xlfn.XLOOKUP(C687,Data!C:C,Data!I:I)","v":{"$error":"#N/A"}},{"$error":"#N/A"},{"$f":"_xlfn.XLOOKUP(C687,Data!C:C,Data!G:G,0)","v":0},{"$f":"_xlfn.XLOOKUP(C687,Data!C:C,Data!F:F)","v":{"$error":"#N/A"}},{"$f":"_xlfn.XLOOKUP(C687,Data!C:C,Data!H:H,0)","v":0},{"$error":"#N/A"},{"$error":"#N/A"},{"$error":"#N/A"},{"$error":"#N/A"},{"$error":"#N/A"},0,{"$error":"#N/A"},"","","",null,{"$error":"#N/A"}]
["23-3-2021","23:25:00","2021-03-23T23:25:00",null,{"$f":"_xlfn.XLOOKUP(C688,Data!C:C,Data!I:I)","v":{"$error":"#N/A"}},{"$error":"#N/A"},{"$f":"_xlfn.XLOOKUP(C688,Data!C:C,Data!G:G,0)","v":0},{"$f":"_xlfn.XLOOKUP(C688,Data!C:C,Data!F:F)","v":{"$error":"#N/A"}},{"$f":"_xlfn.XLOOKUP(C688,Data!C:C,Data!H:H,0)","v":0},{"$error":"#N/A"},{"$error":"#N/A"},{"$error":"#N/A"},{"$error":"#N/A"},{"$error":"#N/A"},0,{"$error":"#N/A"},"","","",null,{"$error":"#N/A"}]
["23-3-2021","23:26:00","2021-03-23T23:26:00",null,{"$f":"_xlfn.XLOOKUP(C689,Data!C:C,Data!I:I)","v":{"$error":"#N/A"}},{"$error":"#N/A"},{"$f":"_xlfn.XLOOKUP(C689,Data!C:C,Data!G:G,0)","v":0},{"$f":"_xlfn.XLOOKUP(C689,Data!C:C,Data!F:F)","v":{"$error":"#N/A"}},{"$f":"_xlfn.XLOOKUP(C689,Data!C:C,Data!H:H,0)","v":0},{"$error":"#N/A"},{"$error":"#N/A"},{"$error":"#N/A"},{"$error":"#N/A"},{"$error":"#N/A"},0,{"$error":"#N/A"},"","","",null,{"$error":"#N/A"}]
["23-3-2021","23:27:00","2021-03-23T23:27:00",null,{"$f":"_xlfn.XLOOKUP(C690,Data!C:C,Data!I:I)","v":{"$error":"#N/A"}},{"$error":"#N/A"},{"$f":"_xlfn.XLOOKUP(C690,Data!C:C,Data!G:G,0)","v":0},{"$f":"_xlfn.XLOOKUP(C690,Data!C:C,Data!F:F)","v":{"$error":"#N/A"}},{"$f":"_xlfn.XLOOKUP(C690,Data!C:C,Data!H:H,0)","v":0},{"$error":"#N/A"},{"$error":"#N/A"},{"$error":"#N/A"},{"$error":"#N/A"},{"$error":"#N/A"},0,{"$error":"#N/A"},"","","",null,{"$error":"#N/A"}]
["23-3-2021","23:28:00","2021-03-23T23:28:00",null,{"$f":"_xlfn.XLOOKUP(C691,Data!C:C,Data!I:I)","v":{"$error":"#N/A"}},{"$error":"#N/A"},{"$f":"_xlfn.XLOOKUP(C691,Data!C:C,Data!G:G,0)","v":0},{"$f":"_xlfn.XLOOKUP(C691,Data!C:C,Data!F:F)","v":{"$error":"#N/A"}},{"$f":"_xlfn.XLOOKUP(C691,Data!C:C,Data!H:H,0)","v":0},{"$error":"#N/A"},{"$error":"#N/A"},{"$error":"#N/A"},{"$error":"#N/A"},{"$error":"#N/A"},0,{"$error":"#N/A"},"","","",null,{"$error":"#N/A"}]
["23-3-2021","23:29:00","2021-03-23T23:29:00",null,{"$f":"_xlfn.XLOOKUP(C692,Data!C:C,Data!I:I)","v":{"$error":"#N/A"}},{"$error":"#N/A"},{"$f":"_xlfn.XLOOKUP(C692,Data!C:C,Data!G:G,0)","v":0},{"$f":"_xlfn.XLOOKUP(C692,Data!C:C,Data!F:F)","v":{"$error":"#N/A"}},{"$f":"_xlfn.XLOOKUP(C692,Data!C:C,Data!H:H,0)","v":0},{"$error":"#N/A"},{"$error":"#N/A"},{"$error":"#N/A"},{"$error":"#N/A"},{"$error":"#N/A"},0,{"$error":"#N/A"},"","","",null,{"$error":"#N/A"}]
["23-3-2021","23:30:00","2021-03-23T23:30:00",null,{"$f":"_xlfn.XLOOKUP(C693,Data!C:C,Data!I:I)","v":{"$error":"#N/A"}},{"$error":"#N/A"},{"$f":"_xlfn.XLOOKUP(C693,Data!C:C,Data!G:G,0)","v":0},{"$f":"_xlfn.XLOOKUP(C693,Data!C:C,Data!F:F)","v":{"$error":"#N/A"}},{"$f":"_xlfn.XLOOKUP(C693,Data!C:C,Data!H:H,0)","v":0},{"$error":"#N/A"},{"$error":"#N/A"},{"$error":"#N/A"},{"$error":"#N/A"},{"$error":"#N/A"},0,{"$error":"#N/A"},"","","",null,{"$error":"#N/A"}]
["23-3-2021","23:31:00","2021-03-23T23:31:00",null,{"$f":"_xlfn.XLOOKUP(C694,Data!C:C,Data!I:I)","v":{"$error":"#N/A"}},{"$error":"#N/A"},{"$f":"_xlfn.XLOOKUP(C694,Data!C:C,Data!G:G,0)","v":0},{"$f":"_xlfn.XLOOKUP(C694,Data!C:C,Data!F:F)","v":{"$error":"#N/A"}},{"$f":"_xlfn.XLOOKUP(C694,Data!C:C,Data!H:H,0)","v":0},{"$error":"#N/A"},{"$error":"#N/A"},{"$error":"#N/A"},{"$error":"#N/A"},{"$error":"#N/A"},0,{"$error":"#N/A"},"","","",null,{"$error":"#N/A"}]
["23-3-2021","23:32:00","2021-03-23T23:32:00",null,{"$f":"_xlfn.XLOOKUP(C695,Data!C:C,Data!I:I)","v":{"$error":"#N/A"}},{"$error":"#N/A"},{"$f":"_xlfn.XLOOKUP(C695,Data!C:C,Data!G:G,0)","v":0},{"$f":"_xlfn.XLOOKUP(C695,Data!C:C,Data!F:F)","v":{"$error":"#N/A"}},{"$f":"_xlfn.XLOOKUP(C695,Data!C:C,Data!H:H,0)","v":0},{"$error":"#N/A"},{"$error":"#N/A"},{"$error":"#N/A"},{"$error":"#N/A"},{"$error":"#N/A"},0,{"$error":"#N/A"},"","","",null,{"$error":"#N/A"}]
["23-3-2021","23:33:00","2021-03-23T23:33:00",null,{"$f":"_xlfn.XLOOKUP(C696,Data!C:C,Data!I:I)","v":{"$error":"#N/A"}},{"$error":"#N/A"},{"$f":"_xlfn.XLOOKUP(C696,Data!C:C,Data!G:G,0)","v":0},{"$f":"_xlfn.XLOOKUP(C696,Data!C:C,Data!F:F)","v":{"$error":"#N/A"}},{"$f":"_xlfn.XLOOKUP(C696,Data!C:C,Data!H:H,0)","v":0},{"$error":"#N/A"},{"$error":"#N/A"},{"$error":"#N/A"},{"$error":"#N/A"},{"$error":"#N/A"},0,{"$error":"#N/A"},"","","",null,{"$error":"#N/A"}]
["23-3-2021","23:34:00","2021-03-23T23:34:00",null,{"$f":"_xlfn.XLOOKUP(C697,Data!C:C,Data!I:I)","v":{"$error":"#N/A"}},{"$error":"#N/A"},{"$f":"_xlfn.XLOOKUP(C697,Data!C:C,Data!G:G,0)","v":0},{"$f":"_xlfn.XLOOKUP(C697,Data!C:C,Data!F:F)","v":{"$error":"#N/A"}},{"$f":"_xlfn.XLOOKUP(C697,Data!C:C,Data!H:H,0)","v":0},{"$error":"#N/A"},{"$error":"#N/A"},{"$error":"#N/A"},{"$error":"#N/A"},{"$error":"#N/A"},0,{"$error":"#N/A"},"","","",null,{"$error":"#N/A"}]
["23-3-2021","23:35:00","2021-03-23T23:35:00",null,{"$f":"_xlfn.XLOOKUP(C698,Data!C:C,Data!I:I)","v":{"$error":"#N/A"}},{"$error":"#N/A"},{"$f":"_xlfn.XLOOKUP(C698,Data!C:C,Data!G:G,0)","v":0},{"$f":"_xlfn.XLOOKUP(C698,Data!C:C,Data!F:F)","v":{"$error":"#N/A"}},{"$f":"_xlfn.XLOOKUP(C698,Data!C:C,Data!H:H,0)","v":0},{"$error":"#N/A"},{"$error":"#N/A"},{"$error":"#N/A"},{"$error":"#N/A"},{"$error":"#N/A"},0,{"$error":"#N/A"},"","","",null,{"$error":"#N/A"}]
["23-3-2021","23:36:00","2021-03-23T23:36:00",null,{"$f":"_xlfn.XLOOKUP(C699,Data!C:C,Data!I:I)","v":{"$error":"#N/A"}},{"$error":"#N/A"},{"$f":"_xlfn.XLOOKUP(C699,Data!C:C,Data!G:G,0)","v":0},{"$f":"_xlfn.XLOOKUP(C699,Data!C:C,Data!F:F)","v":{"$error":"#N/A"}},{"$f":"_xlfn.XLOOKUP(C699,Data!C:C,Data!H:H,0)","v":0},{"$error":"#N/A"},{"$error":"#N/A"},{"$error":"#N/A"},{"$error":"#N/A"},{"$error":"#N/A"},0,{"$error":"#N/A"},"","","",null,{"$error":"#N/A"}]
["23-3-2021","23:37:00","2021-03-23T23:37:00",null,{"$f":"_xlfn.XLOOKUP(C700,Data!C:C,Data!I:I)","v":{"$error":"#N/A"}},{"$error":"#N/A"},{"$f":"_xlfn.XLOOKUP(C700,Data!C:C,Data!G:G,0)","v":0},{"$f":"_xlfn.XLOOKUP(C700,Data!C:C,Data!F:F)","v":{"$error":"#N/A"}},{"$f":"_xlfn.XLOOKUP(C700,Data!C:C,Data!H:H,0)","v":0},{"$error":"#N/A"},{"$error":"#N/A"},{"$error":"#N/A"},{"$error":"#N/A"},{"$error":"#N/A"},0,{"$error":"#N/A"},"","","",null,{"$error":"#N/A"}]
["23-3-2021","23:38:00","2021-03-23T23:38:00",null,{"$f":"_xlfn.XLOOKUP(C701,Data!C:C,Data!I:I)","v":{"$error":"#N/A"}},{"$error":"#N/A"},{"$f":"_xlfn.XLOOKUP(C701,Data!C:C,Data!G:G,0)","v":0},{"$f":"_xlfn.XLOOKUP(C701,Data!C:C,Data!F:F)","v":{"$error":"#N/A"}},{"$f":"_xlfn.XLOOKUP(C701,Data!C:C,Data!H:H,0)","v":0},{"$error":"#N/A"},{"$error":"#N/A"},{"$error":"#N/A"},{"$error":"#N/A"},{"$error":"#N/A"},0,{"$error":"#N/A"},"","","",null,{"$error":"#N/A"}]
["23-3-2021","23:39:00","2021-03-23T23:39:00",null,{"$f":"_xlfn.XLOOKUP(C702,Data!C:C,Data!I:I)","v":{"$error":"#N/A"}},{"$error":"#N/A"},{"$f":"_xlfn.XLOOKUP(C702,Data!C:C,Data!G:G,0)","v":0},{"$f":"_xlfn.XLOOKUP(C702,Data!C:C,Data!F:F)","v":{"$error":"#N/A"}},{"$f":"_xlfn.XLOOKUP(C702,Data!C:C,Data!H:H,0)","v":0},{"$error":"#N/A"},{"$error":"#N/A"},{"$error":"#N/A"},{"$error":"#N/A"},{"$error":"#N/A"},0,{"$error":"#N/A"},"","","",null,{"$error":"#N/A"}]
["23-3-2021","23:40:00","2021-03-23T23:40:00",null,{"$f":"_xlfn.XLOOKUP(C703,Data!C:C,Data!I:I)","v":{"$error":"#N/A"}},{"$error":"#N/A"},{"$f":"_xlfn.XLOOKUP(C703,Data!C:C,Data!G:G,0)","v":0},{"$f":"_xlfn.XLOOKUP(C703,Data!C:C,Data!F:F)","v":{"$error":"#N/A"}},{"$f":"_xlfn.XLOOKUP(C703,Data!C:C,Data!H:H,0)","v":0},{"$error":"#N/A"},{"$error":"#N/A"},{"$error":"#N/A"},{"$error":"#N/A"},{"$error":"#N/A"},0,{"$error":"#N/A"},"","","",null,{"$error":"#N/A"}]
["23-3-2021","23:41:00","2021-03-23T23:41:00",null,{"$f":"_xlfn.XLOOKUP(C704,Data!C:C,Data!I:I)","v":{"$error":"#N/A"}},{"$error":"#N/A"},{"$f":"_xlfn.XLOOKUP(C704,Data!C:C,Data!G:G,0)","v":0},{"$f":"_xlfn.XLOOKUP(C704,Data!C:C,Data!F:F)","v":{"$error":"#N/A"}},{"$f":"_xlfn.XLOOKUP(C704,Data!C:C,Data!H:H,0)","v":0},{"$f":"IF(AND(MAX(E702:E703)=255,MAX(E704:E705)=255,  E703+E704+E705<3*255, OR(I704=123,I704=124,I704=106,I704=108)),   I704,   IF(AND(MAX(E702:E703)=255,MAX(E704:E705)=255,  E703+E704+E705<3*255, OR(I704>=80,I704<100)),106,108))","v":{"$error":"#N/A"}},{"$error":"#N/A"},{"$error":"#N/A"},{"$error":"#N/A"},{"$error":"#N/A"},0,{"$error":"#N/A"},"","","",null,{"$error":"#N/A"}]
["23-3-2021","23:42:00","2021-03-23T23:42:00",null,{"$f":"_xlfn.XLOOKUP(C705,Data!C:C,Data!I:I)","v":{"$error":"#N/A"}},{"$error":"#N/A"},{"$f":"_xlfn.XLOOKUP(C705,Data!C:C,Data!G:G,0)","v":0},{"$f":"_xlfn.XLOOKUP(C705,Data!C:C,Data!F:F)","v":{"$error":"#N/A"}},{"$f":"_xlfn.XLOOKUP(C705,Data!C:C,Data!H:H,0)","v":0},{"$error":"#N/A"},{"$error":"#N/A"},{"$error":"#N/A"},{"$error":"#N/A"},{"$error":"#N/A"},0,{"$error":"#N/A"},"","","",null,{"$error":"#N/A"}]
["23-3-2021","23:43:00","2021-03-23T23:43:00",null,{"$f":"_xlfn.XLOOKUP(C706,Data!C:C,Data!I:I)","v":{"$error":"#N/A"}},{"$error":"#N/A"},{"$f":"_xlfn.XLOOKUP(C706,Data!C:C,Data!G:G,0)","v":0},{"$f":"_xlfn.XLOOKUP(C706,Data!C:C,Data!F:F)","v":{"$error":"#N/A"}},{"$f":"_xlfn.XLOOKUP(C706,Data!C:C,Data!H:H,0)","v":0},{"$error":"#N/A"},{"$error":"#N/A"},{"$error":"#N/A"},{"$error":"#N/A"},{"$error":"#N/A"},0,{"$error":"#N/A"},"","","",null,{"$error":"#N/A"}]
["23-3-2021","23:44:00",{"$f":"A707+B707","v":"2021-03-23T23:44:00"},null,{"$f":"_xlfn.XLOOKUP(C707,Data!C:C,Data!I:I)","v":{"$error":"#N/A"}},{"$error":"#N/A"},{"$f":"_xlfn.XLOOKUP(C707,Data!C:C,Data!G:G,0)","v":0},{"$f":"_xlfn.XLOOKUP(C707,Data!C:C,Data!F:F)","v":{"$error":"#N/A"}},{"$f":"_xlfn.XLOOKUP(C707,Data!C:C,Data!H:H,0)","v":0},{"$error":"#N/A"},{"$f":"IF(AND(I707<100,  I707>=80,  OR(J707=105, J707=106,  J707=123)),  5,  0)","v":{"$error":"#N/A"}},{"$error":"#N/A"},{"$error":"#N/A"},{"$error":"#N/A"},{"$f":"IFERROR(F707,0)","v":0},{"$error":"#N/A"},"","","",null,{"$error":"#N/A"}]
[{"$f":"$A$3","v":"23-3-2021"},"23:45:00","2021-03-23T23:45:00",null,{"$f":"_xlfn.XLOOKUP(C708,Data!C:C,Data!I:I)","v":{"$error":"#N/A"}},{"$error":"#N/A"},{"$f":"_xlfn.XLOOKUP(C708,Data!C:C,Data!G:G,0)","v":0},{"$f":"_xlfn.XLOOKUP(C708,Data!C:C,Data!F:F)","v":{"$error":"#N/A"}},{"$f":"_xlfn.XLOOKUP(C708,Data!C:C,Data!H:H,0)","v":0},{"$error":"#N/A"},{"$error":"#N/A"},{"$f":"IF(AND(I708<130,  I708>104,  OR(J708=105, J708=106,  J708=123),  S708>$S$1450+$S$1443),  20,  0)","v":{"$error":"#N/A"}},{"$f":"IF(AND(I708<130,  I708>104,  OR(J708=105, J708=106,  J708=123),  R708>$Q$1449,  S708<=$S$1450+$S$1443),  20,  0)","v":{"$error":"#N/A"}},{"$f":"IF(AND(I708<130,  I708>104,  OR(J708=105, J708=106,  J708=123),  R708<=$Q$1449,  S708<=$S$1450+$S$1443),  20,  0)","v":{"$error":"#N/A"}},0,{"$f":"IF(Q708=\"\",F708,IF(Q708=0,P707,Q708))","v":{"$error":"#N/A"}},{"$f":"IF(I708>109,IF(O708*$Q$1451>(O707+O709)/2,MIN(O707:O709),O708),\"\")","v":""},"","",null,{"$error":"#N/A"}]
["23-3-2021","23:46:00","2021-03-23T23:46:00",null,{"$f":"_xlfn.XLOOKUP(C709,Data!C:C,Data!I:I)","v":{"$error":"#N/A"}},{"$f":"IF(E709=255,IF(MIN(E708:E710)=255,#N/A,MIN(E708:E710)),E709)","v":{"$error":"#N/A"}},{"$f":"_xlfn.XLOOKUP(C709,Data!C:C,Data!G:G,0)","v":0},{"$f":"_xlfn.XLOOKUP(C709,Data!C:C,Data!F:F)","v":{"$error":"#N/A"}},{"$f":"_xlfn.XLOOKUP(C709,Data!C:C,Data!H:H,0)","v":0},{"$error":"#N/A"},{"$error":"#N/A"},{"$error":"#N/A"},{"$error":"#N/A"},{"$error":"#N/A"},0,{"$error":"#N/A"},"","","",null,{"$error":"#N/A"}]
["23-3-2021","23:47:00","2021-03-23T23:47:00",null,{"$f":"_xlfn.XLOOKUP(C710,Data!C:C,Data!I:I)","v":{"$error":"#N/A"}},{"$error":"#N/A"},{"$f":"_xlfn.XLOOKUP(C710,Data!C:C,Data!G:G,0)","v":0},{"$f":"_xlfn.XLOOKUP(C710,Data!C:C,Data!F:F)","v":{"$error":"#N/A"}},{"$f":"_xlfn.XLOOKUP(C710,Data!C:C,Data!H:H,0)","v":0},{"$error":"#N/A"},{"$error":"#N/A"},{"$error":"#N/A"},{"$error":"#N/A"},{"$error":"#N/A"},0,{"$error":"#N/A"},"","","",null,{"$error":"#N/A"}]
["23-3-2021","23:48:00","2021-03-23T23:48:00",null,{"$f":"_xlfn.XLOOKUP(C711,Data!C:C,Data!I:I)","v":{"$error":"#N/A"}},{"$error":"#N/A"},{"$f":"_xlfn.XLOOKUP(C711,Data!C:C,Data!G:G,0)","v":0},{"$f":"_xlfn.XLOOKUP(C711,Data!C:C,Data!F:F)","v":{"$error":"#N/A"}},{"$f":"_xlfn.XLOOKUP(C711,Data!C:C,Data!H:H,0)","v":0},{"$error":"#N/A"},{"$error":"#N/A"},{"$error":"#N/A"},{"$error":"#N/A"},{"$error":"#N/A"},0,{"$error":"#N/A"},"","","",null,{"$f":"IF(F711=\"\",\"\",AVERAGE(F707:F715))","v":{"$error":"#N/A"}}]
["23-3-2021","23:49:00","2021-03-23T23:49:00",null,{"$f":"_xlfn.XLOOKUP(C712,Data!C:C,Data!I:I)","v":{"$error":"#N/A"}},{"$error":"#N/A"},{"$f":"_xlfn.XLOOKUP(C712,Data!C:C,Data!G:G,0)","v":0},{"$f":"_xlfn.XLOOKUP(C712,Data!C:C,Data!F:F)","v":{"$error":"#N/A"}},{"$f":"_xlfn.XLOOKUP(C712,Data!C:C,Data!H:H,0)","v":0},{"$error":"#N/A"},{"$error":"#N/A"},{"$error":"#N/A"},{"$error":"#N/A"},{"$error":"#N/A"},0,{"$error":"#N/A"},"",{"$f":"IF(Q712=\"\",\"\",AVERAGE(Q708:Q716))","v":""},{"$f":"IF(Q712=\"\",\"\",MAX(Q708:Q716)-MIN(Q708:Q716))","v":""},null,{"$error":"#N/A"}]
["23-3-2021","23:50:00","2021-03-23T23:50:00",null,{"$f":"_xlfn.XLOOKUP(C713,Data!C:C,Data!I:I)","v":{"$error":"#N/A"}},{"$error":"#N/A"},{"$f":"_xlfn.XLOOKUP(C713,Data!C:C,Data!G:G,0)","v":0},{"$f":"_xlfn.XLOOKUP(C713,Data!C:C,Data!F:F)","v":{"$error":"#N/A"}},{"$f":"_xlfn.XLOOKUP(C713,Data!C:C,Data!H:H,0)","v":0},{"$error":"#N/A"},{"$error":"#N/A"},{"$error":"#N/A"},{"$error":"#N/A"},{"$error":"#N/A"},0,{"$error":"#N/A"},"","","",null,{"$error":"#N/A"}]
["23-3-2021","23:51:00","2021-03-23T23:51:00",null,{"$f":"_xlfn.XLOOKUP(C714,Data!C:C,Data!I:I)","v":{"$error":"#N/A"}},{"$error":"#N/A"},{"$f":"_xlfn.XLOOKUP(C714,Data!C:C,Data!G:G,0)","v":0},{"$f":"_xlfn.XLOOKUP(C714,Data!C:C,Data!F:F)","v":{"$error":"#N/A"}},{"$f":"_xlfn.XLOOKUP(C714,Data!C:C,Data!H:H,0)","v":0},{"$error":"#N/A"},{"$error":"#N/A"},{"$error":"#N/A"},{"$error":"#N/A"},{"$error":"#N/A"},0,{"$error":"#N/A"},"","","",null,{"$error":"#N/A"}]
["23-3-2021","23:52:00","2021-03-23T23:52:00",null,{"$f":"_xlfn.XLOOKUP(C715,Data!C:C,Data!I:I)","v":{"$error":"#N/A"}},{"$error":"#N/A"},{"$f":"_xlfn.XLOOKUP(C715,Data!C:C,Data!G:G,0)","v":0},{"$f":"_xlfn.XLOOKUP(C715,Data!C:C,Data!F:F)","v":{"$error":"#N/A"}},{"$f":"_xlfn.XLOOKUP(C715,Data!C:C,Data!H:H,0)","v":0},{"$error":"#N/A"},{"$error":"#N/A"},{"$error":"#N/A"},{"$error":"#N/A"},{"$error":"#N/A"},0,{"$error":"#N/A"},"","","",null,{"$error":"#N/A"}]
["23-3-2021","23:53:00","2021-03-23T23:53:00",null,{"$f":"_xlfn.XLOOKUP(C716,Data!C:C,Data!I:I)","v":{"$error":"#N/A"}},{"$error":"#N/A"},{"$f":"_xlfn.XLOOKUP(C716,Data!C:C,Data!G:G,0)","v":0},{"$f":"_xlfn.XLOOKUP(C716,Data!C:C,Data!F:F)","v":{"$error":"#N/A"}},{"$f":"_xlfn.XLOOKUP(C716,Data!C:C,Data!H:H,0)","v":0},{"$error":"#N/A"},{"$error":"#N/A"},{"$error":"#N/A"},{"$error":"#N/A"},{"$error":"#N/A"},0,{"$error":"#N/A"},"","","",null,{"$error":"#N/A"}]
["23-3-2021","23:54:00","2021-03-23T23:54:00",null,{"$f":"_xlfn.XLOOKUP(C717,Data!C:C,Data!I:I)","v":{"$error":"#N/A"}},{"$error":"#N/A"},{"$f":"_xlfn.XLOOKUP(C717,Data!C:C,Data!G:G,0)","v":0},{"$f":"_xlfn.XLOOKUP(C717,Data!C:C,Data!F:F)","v":{"$error":"#N/A"}},{"$f":"_xlfn.XLOOKUP(C717,Data!C:C,Data!H:H,0)","v":0},{"$error":"#N/A"},{"$error":"#N/A"},{"$error":"#N/A"},{"$error":"#N/A"},{"$error":"#N/A"},0,{"$error":"#N/A"},"","","",null,{"$error":"#N/A"}]
["23-3-2021","23:55:00","2021-03-23T23:55:00",null,{"$f":"_xlfn.XLOOKUP(C718,Data!C:C,Data!I:I)","v":{"$error":"#N/A"}},{"$error":"#N/A"},{"$f":"_xlfn.XLOOKUP(C718,Data!C:C,Data!G:G,0)","v":0},{"$f":"_xlfn.XLOOKUP(C718,Data!C:C,Data!F:F)","v":{"$error":"#N/A"}},{"$f":"_xlfn.XLOOKUP(C718,Data!C:C,Data!H:H,0)","v":0},{"$error":"#N/A"},{"$error":"#N/A"},{"$error":"#N/A"},{"$error":"#N/A"},{"$error":"#N/A"},0,{"$error":"#N/A"},"","","",null,{"$error":"#N/A"}]
["23-3-2021","23:56:00","2021-03-23T23:56:00",null,{"$f":"_xlfn.XLOOKUP(C719,Data!C:C,Data!I:I)","v":{"$error":"#N/A"}},{"$error":"#N/A"},{"$f":"_xlfn.XLOOKUP(C719,Data!C:C,Data!G:G,0)","v":0},{"$f":"_xlfn.XLOOKUP(C719,Data!C:C,Data!F:F)","v":{"$error":"#N/A"}},{"$f":"_xlfn.XLOOKUP(C719,Data!C:C,Data!H:H,0)","v":0},{"$error":"#N/A"},{"$error":"#N/A"},{"$error":"#N/A"},{"$error":"#N/A"},{"$error":"#N/A"},0,{"$error":"#N/A"},"","","",null,{"$error":"#N/A"}]
["23-3-2021","23:57:00","2021-03-23T23:57:00",null,{"$f":"_xlfn.XLOOKUP(C720,Data!C:C,Data!I:I)","v":{"$error":"#N/A"}},{"$error":"#N/A"},{"$f":"_xlfn.XLOOKUP(C720,Data!C:C,Data!G:G,0)","v":0},{"$f":"_xlfn.XLOOKUP(C720,Data!C:C,Data!F:F)","v":{"$error":"#N/A"}},{"$f":"_xlfn.XLOOKUP(C720,Data!C:C,Data!H:H,0)","v":0},{"$error":"#N/A"},{"$error":"#N/A"},{"$error":"#N/A"},{"$error":"#N/A"},{"$error":"#N/A"},0,{"$error":"#N/A"},"","","",null,{"$error":"#N/A"}]
["23-3-2021","23:58:00","2021-03-23T23:58:00",null,{"$f":"_xlfn.XLOOKUP(C721,Data!C:C,Data!I:I)","v":{"$error":"#N/A"}},{"$error":"#N/A"},{"$f":"_xlfn.XLOOKUP(C721,Data!C:C,Data!G:G,0)","v":0},{"$f":"_xlfn.XLOOKUP(C721,Data!C:C,Data!F:F)","v":{"$error":"#N/A"}},{"$f":"_xlfn.XLOOKUP(C721,Data!C:C,Data!H:H,0)","v":0},{"$error":"#N/A"},{"$error":"#N/A"},{"$error":"#N/A"},{"$error":"#N/A"},{"$error":"#N/A"},0,{"$error":"#N/A"},"","","",null,{"$error":"#N/A"}]
["23-3-2021","23:59:00","2021-03-23T23:59:00",null,{"$f":"_xlfn.XLOOKUP(C722,Data!C:C,Data!I:I)","v":{"$error":"#N/A"}},{"$error":"#N/A"},{"$f":"_xlfn.XLOOKUP(C722,Data!C:C,Data!G:G,0)","v":0},{"$f":"_xlfn.XLOOKUP(C722,Data!C:C,Data!F:F)","v":{"$error":"#N/A"}},{"$f":"_xlfn.XLOOKUP(C722,Data!C:C,Data!H:H,0)","v":0},{"$error":"#N/A"},{"$error":"#N/A"},{"$error":"#N/A"},{"$error":"#N/A"},{"$error":"#N/A"},0,{"$error":"#N/A"},"","","",null,{"$error":"#N/A"}]
[{"$f":"A722+1","v":"2021-03-24"},"00:00:00","2021-03-24",null,{"$f":"_xlfn.XLOOKUP(C723,Data!C:C,Data!I:I)","v":{"$error":"#N/A"}},{"$error":"#N/A"},{"$f":"_xlfn.XLOOKUP(C723,Data!C:C,Data!G:G,0)","v":0},{"$f":"_xlfn.XLOOKUP(C723,Data!C:C,Data!F:F)","v":{"$error":"#N/A"}},{"$f":"_xlfn.XLOOKUP(C723,Data!C:C,Data!H:H,0)","v":0},{"$error":"#N/A"},{"$error":"#N/A"},{"$error":"#N/A"},{"$error":"#N/A"},{"$error":"#N/A"},0,{"$error":"#N/A"},"","","",null,{"$error":"#N/A"}]
[{"$f":"$A$723","v":"2021-03-24"},"00:01:00","2021-03-24T00:01:00",null,{"$f":"_xlfn.XLOOKUP(C724,Data!C:C,Data!I:I)","v":{"$error":"#N/A"}},{"$error":"#N/A"},{"$f":"_xlfn.XLOOKUP(C724,Data!C:C,Data!G:G,0)","v":0},{"$f":"_xlfn.XLOOKUP(C724,Data!C:C,Data!F:F)","v":{"$error":"#N/A"}},{"$f":"_xlfn.XLOOKUP(C724,Data!C:C,Data!H:H,0)","v":0},{"$error":"#N/A"},{"$error":"#N/A"},{"$error":"#N/A"},{"$error":"#N/A"},{"$error":"#N/A"},0,{"$error":"#N/A"},"","","",null,{"$error":"#N/A"}]
[{"$f":"$A$723","v":"2021-03-24"},"00:02:00","2021-03-24T00:02:00",null,{"$f":"_xlfn.XLOOKUP(C725,Data!C:C,Data!I:I)","v":{"$error":"#N/A"}},{"$error":"#N/A"},{"$f":"_xlfn.XLOOKUP(C725,Data!C:C,Data!G:G,0)","v":0},{"$f":"_xlfn.XLOOKUP(C725,Data!C:C,Data!F:F)","v":{"$error":"#N/A"}},{"$f":"_xlfn.XLOOKUP(C725,Data!C:C,Data!H:H,0)","v":0},{"$error":"#N/A"},{"$error":"#N/A"},{"$error":"#N/A"},{"$error":"#N/A"},{"$error":"#N/A"},0,{"$error":"#N/A"},"","","",null,{"$error":"#N/A"}]
["2021-03-24","00:03:00","2021-03-24T00:03:00",null,{"$f":"_xlfn.XLOOKUP(C726,Data!C:C,Data!I:I)","v":{"$error":"#N/A"}},{"$error":"#N/A"},{"$f":"_xlfn.XLOOKUP(C726,Data!C:C,Data!G:G,0)","v":0},{"$f":"_xlfn.XLOOKUP(C726,Data!C:C,Data!F:F)","v":{"$error":"#N/A"}},{"$f":"_xlfn.XLOOKUP(C726,Data!C:C,Data!H:H,0)","v":0},{"$error":"#N/A"},{"$error":"#N/A"},{"$error":"#N/A"},{"$error":"#N/A"},{"$error":"#N/A"},0,{"$error":"#N/A"},"","","",null,{"$error":"#N/A"}]
["2021-03-24","00:04:00","2021-03-24T00:04:00",null,{"$f":"_xlfn.XLOOKUP(C727,Data!C:C,Data!I:I)","v":{"$error":"#N/A"}},{"$error":"#N/A"},{"$f":"_xlfn.XLOOKUP(C727,Data!C:C,Data!G:G,0)","v":0},{"$f":"_xlfn.XLOOKUP(C727,Data!C:C,Data!F:F)","v":{"$error":"#N/A"}},{"$f":"_xlfn.XLOOKUP(C727,Data!C:C,Data!H:H,0)","v":0},{"$error":"#N/A"},{"$error":"#N/A"},{"$error":"#N/A"},{"$error":"#N/A"},{"$error":"#N/A"},0,{"$error":"#N/A"},"","","",null,{"$error":"#N/A"}]
["2021-03-24","00:05:00","2021-03-24T00:05:00",null,{"$f":"_xlfn.XLOOKUP(C728,Data!C:C,Data!I:I)","v":{"$error":"#N/A"}},{"$error":"#N/A"},{"$f":"_xlfn.XLOOKUP(C728,Data!C:C,Data!G:G,0)","v":0},{"$f":"_xlfn.XLOOKUP(C728,Data!C:C,Data!F:F)","v":{"$error":"#N/A"}},{"$f":"_xlfn.XLOOKUP(C728,Data!C:C,Data!H:H,0)","v":0},{"$error":"#N/A"},{"$error":"#N/A"},{"$error":"#N/A"},{"$error":"#N/A"},{"$error":"#N/A"},0,{"$error":"#N/A"},"","","",null,{"$error":"#N/A"}]
["2021-03-24","00:06:00","2021-03-24T00:06:00",null,{"$f":"_xlfn.XLOOKUP(C729,Data!C:C,Data!I:I)","v":{"$error":"#N/A"}},{"$error":"#N/A"},{"$f":"_xlfn.XLOOKUP(C729,Data!C:C,Data!G:G,0)","v":0},{"$f":"_xlfn.XLOOKUP(C729,Data!C:C,Data!F:F)","v":{"$error":"#N/A"}},{"$f":"_xlfn.XLOOKUP(C729,Data!C:C,Data!H:H,0)","v":0},{"$error":"#N/A"},{"$error":"#N/A"},{"$error":"#N/A"},{"$error":"#N/A"},{"$error":"#N/A"},0,{"$error":"#N/A"},"","","",null,{"$error":"#N/A"}]
["2021-03-24","00:07:00","2021-03-24T00:07:00",null,{"$f":"_xlfn.XLOOKUP(C730,Data!C:C,Data!I:I)","v":{"$error":"#N/A"}},{"$error":"#N/A"},{"$f":"_xlfn.XLOOKUP(C730,Data!C:C,Data!G:G,0)","v":0},{"$f":"_xlfn.XLOOKUP(C730,Data!C:C,Data!F:F)","v":{"$error":"#N/A"}},{"$f":"_xlfn.XLOOKUP(C730,Data!C:C,Data!H:H,0)","v":0},{"$error":"#N/A"},{"$error":"#N/A"},{"$error":"#N/A"},{"$error":"#N/A"},{"$error":"#N/A"},0,{"$error":"#N/A"},"","","",null,{"$error":"#N/A"}]
["2021-03-24","00:08:00","2021-03-24T00:08:00",null,{"$f":"_xlfn.XLOOKUP(C731,Data!C:C,Data!I:I)","v":{"$error":"#N/A"}},{"$error":"#N/A"},{"$f":"_xlfn.XLOOKUP(C731,Data!C:C,Data!G:G,0)","v":0},{"$f":"_xlfn.XLOOKUP(C731,Data!C:C,Data!F:F)","v":{"$error":"#N/A"}},{"$f":"_xlfn.XLOOKUP(C731,Data!C:C,Data!H:H,0)","v":0},{"$error":"#N/A"},{"$error":"#N/A"},{"$error":"#N/A"},{"$error":"#N/A"},{"$error":"#N/A"},0,{"$error":"#N/A"},"","","",null,{"$error":"#N/A"}]
["2021-03-24","00:09:00","2021-03-24T00:09:00",null,{"$f":"_xlfn.XLOOKUP(C732,Data!C:C,Data!I:I)","v":{"$error":"#N/A"}},{"$error":"#N/A"},{"$f":"_xlfn.XLOOKUP(C732,Data!C:C,Data!G:G,0)","v":0},{"$f":"_xlfn.XLOOKUP(C732,Data!C:C,Data!F:F)","v":{"$error":"#N/A"}},{"$f":"_xlfn.XLOOKUP(C732,Data!C:C,Data!H:H,0)","v":0},{"$error":"#N/A"},{"$error":"#N/A"},{"$error":"#N/A"},{"$error":"#N/A"},{"$error":"#N/A"},0,{"$error":"#N/A"},"","","",null,{"$error":"#N/A"}]
["2021-03-24","00:10:00","2021-03-24T00:10:00",null,{"$f":"_xlfn.XLOOKUP(C733,Data!C:C,Data!I:I)","v":{"$error":"#N/A"}},{"$error":"#N/A"},{"$f":"_xlfn.XLOOKUP(C733,Data!C:C,Data!G:G,0)","v":0},{"$f":"_xlfn.XLOOKUP(C733,Data!C:C,Data!F:F)","v":{"$error":"#N/A"}},{"$f":"_xlfn.XLOOKUP(C733,Data!C:C,Data!H:H,0)","v":0},{"$error":"#N/A"},{"$error":"#N/A"},{"$error":"#N/A"},{"$error":"#N/A"},{"$error":"#N/A"},0,{"$error":"#N/A"},"","","",null,{"$error":"#N/A"}]
["2021-03-24","00:11:00","2021-03-24T00:11:00",null,{"$f":"_xlfn.XLOOKUP(C734,Data!C:C,Data!I:I)","v":{"$error":"#N/A"}},{"$error":"#N/A"},{"$f":"_xlfn.XLOOKUP(C734,Data!C:C,Data!G:G,0)","v":0},{"$f":"_xlfn.XLOOKUP(C734,Data!C:C,Data!F:F)","v":{"$error":"#N/A"}},{"$f":"_xlfn.XLOOKUP(C734,Data!C:C,Data!H:H,0)","v":0},{"$error":"#N/A"},{"$error":"#N/A"},{"$error":"#N/A"},{"$error":"#N/A"},{"$error":"#N/A"},0,{"$error":"#N/A"},"","","",null,{"$error":"#N/A"}]
["2021-03-24","00:12:00","2021-03-24T00:12:00",null,{"$f":"_xlfn.XLOOKUP(C735,Data!C:C,Data!I:I)","v":{"$error":"#N/A"}},{"$error":"#N/A"},{"$f":"_xlfn.XLOOKUP(C735,Data!C:C,Data!G:G,0)","v":0},{"$f":"_xlfn.XLOOKUP(C735,Data!C:C,Data!F:F)","v":{"$error":"#N/A"}},{"$f":"_xlfn.XLOOKUP(C735,Data!C:C,Data!H:H,0)","v":0},{"$error":"#N/A"},{"$error":"#N/A"},{"$error":"#N/A"},{"$error":"#N/A"},{"$error":"#N/A"},0,{"$error":"#N/A"},"","","",null,{"$error":"#N/A"}]
["2021-03-24","00:13:00","2021-03-24T00:13:00",null,{"$f":"_xlfn.XLOOKUP(C736,Data!C:C,Data!I:I)","v":{"$error":"#N/A"}},{"$error":"#N/A"},{"$f":"_xlfn.XLOOKUP(C736,Data!C:C,Data!G:G,0)","v":0},{"$f":"_xlfn.XLOOKUP(C736,Data!C:C,Data!F:F)","v":{"$error":"#N/A"}},{"$f":"_xlfn.XLOOKUP(C736,Data!C:C,Data!H:H,0)","v":0},{"$error":"#N/A"},{"$error":"#N/A"},{"$error":"#N/A"},{"$error":"#N/A"},{"$error":"#N/A"},0,{"$error":"#N/A"},"","","",null,{"$error":"#N/A"}]
["2021-03-24","00:14:00","2021-03-24T00:14:00",null,{"$f":"_xlfn.XLOOKUP(C737,Data!C:C,Data!I:I)","v":{"$error":"#N/A"}},{"$error":"#N/A"},{"$f":"_xlfn.XLOOKUP(C737,Data!C:C,Data!G:G,0)","v":0},{"$f":"_xlfn.XLOOKUP(C737,Data!C:C,Data!F:F)","v":{"$error":"#N/A"}},{"$f":"_xlfn.XLOOKUP(C737,Data!C:C,Data!H:H,0)","v":0},{"$error":"#N/A"},{"$error":"#N/A"},{"$error":"#N/A"},{"$error":"#N/A"},{"$error":"#N/A"},0,{"$error":"#N/A"},"","","",null,{"$error":"#N/A"}]
["2021-03-24","00:15:00","2021-03-24T00:15:00",null,{"$f":"_xlfn.XLOOKUP(C738,Data!C:C,Data!I:I)","v":{"$error":"#N/A"}},{"$error":"#N/A"},{"$f":"_xlfn.XLOOKUP(C738,Data!C:C,Data!G:G,0)","v":0},{"$f":"_xlfn.XLOOKUP(C738,Data!C:C,Data!F:F)","v":{"$error":"#N/A"}},{"$f":"_xlfn.XLOOKUP(C738,Data!C:C,Data!H:H,0)","v":0},{"$error":"#N/A"},{"$error":"#N/A"},{"$error":"#N/A"},{"$error":"#N/A"},{"$error":"#N/A"},0,{"$error":"#N/A"},"","","",null,{"$error":"#N/A"}]
["2021-03-24","00:16:00","2021-03-24T00:16:00",null,{"$f":"_xlfn.XLOOKUP(C739,Data!C:C,Data!I:I)","v":{"$error":"#N/A"}},{"$error":"#N/A"},{"$f":"_xlfn.XLOOKUP(C739,Data!C:C,Data!G:G,0)","v":0},{"$f":"_xlfn.XLOOKUP(C739,Data!C:C,Data!F:F)","v":{"$error":"#N/A"}},{"$f":"_xlfn.XLOOKUP(C739,Data!C:C,Data!H:H,0)","v":0},{"$error":"#N/A"},{"$error":"#N/A"},{"$error":"#N/A"},{"$error":"#N/A"},{"$error":"#N/A"},0,{"$error":"#N/A"},"","","",null,{"$error":"#N/A"}]
["2021-03-24","00:17:00","2021-03-24T00:17:00",null,{"$f":"_xlfn.XLOOKUP(C740,Data!C:C,Data!I:I)","v":{"$error":"#N/A"}},{"$error":"#N/A"},{"$f":"_xlfn.XLOOKUP(C740,Data!C:C,Data!G:G,0)","v":0},{"$f":"_xlfn.XLOOKUP(C740,Data!C:C,Data!F:F)","v":{"$error":"#N/A"}},{"$f":"_xlfn.XLOOKUP(C740,Data!C:C,Data!H:H,0)","v":0},{"$error":"#N/A"},{"$error":"#N/A"},{"$error":"#N/A"},{"$error":"#N/A"},{"$error":"#N/A"},0,{"$error":"#N/A"},"","","",null,{"$error":"#N/A"}]
["2021-03-24","00:18:00","2021-03-24T00:18:00",null,{"$f":"_xlfn.XLOOKUP(C741,Data!C:C,Data!I:I)","v":{"$error":"#N/A"}},{"$error":"#N/A"},{"$f":"_xlfn.XLOOKUP(C741,Data!C:C,Data!G:G,0)","v":0},{"$f":"_xlfn.XLOOKUP(C741,Data!C:C,Data!F:F)","v":{"$error":"#N/A"}},{"$f":"_xlfn.XLOOKUP(C741,Data!C:C,Data!H:H,0)","v":0},{"$error":"#N/A"},{"$error":"#N/A"},{"$error":"#N/A"},{"$error":"#N/A"},{"$error":"#N/A"},0,{"$error":"#N/A"},"","","",null,{"$error":"#N/A"}]
["2021-03-24","00:19:00","2021-03-24T00:19:00",null,{"$f":"_xlfn.XLOOKUP(C742,Data!C:C,Data!I:I)","v":{"$error":"#N/A"}},{"$error":"#N/A"},{"$f":"_xlfn.XLOOKUP(C742,Data!C:C,Data!G:G,0)","v":0},{"$f":"_xlfn.XLOOKUP(C742,Data!C:C,Data!F:F)","v":{"$error":"#N/A"}},{"$f":"_xlfn.XLOOKUP(C742,Data!C:C,Data!H:H,0)","v":0},{"$error":"#N/A"},{"$error":"#N/A"},{"$error":"#N/A"},{"$error":"#N/A"},{"$error":"#N/A"},0,{"$error":"#N/A"},"","","",null,{"$error":"#N/A"}]
["2021-03-24","00:20:00","2021-03-24T00:20:00",null,{"$f":"_xlfn.XLOOKUP(C743,Data!C:C,Data!I:I)","v":{"$error":"#N/A"}},{"$error":"#N/A"},{"$f":"_xlfn.XLOOKUP(C743,Data!C:C,Data!G:G,0)","v":0},{"$f":"_xlfn.XLOOKUP(C743,Data!C:C,Data!F:F)","v":{"$error":"#N/A"}},{"$f":"_xlfn.XLOOKUP(C743,Data!C:C,Data!H:H,0)","v":0},{"$error":"#N/A"},{"$error":"#N/A"},{"$error":"#N/A"},{"$error":"#N/A"},{"$error":"#N/A"},0,{"$error":"#N/A"},"","","",null,{"$error":"#N/A"}]
["2021-03-24","00:21:00","2021-03-24T00:21:00",null,{"$f":"_xlfn.XLOOKUP(C744,Data!C:C,Data!I:I)","v":{"$error":"#N/A"}},{"$error":"#N/A"},{"$f":"_xlfn.XLOOKUP(C744,Data!C:C,Data!G:G,0)","v":0},{"$f":"_xlfn.XLOOKUP(C744,Data!C:C,Data!F:F)","v":{"$error":"#N/A"}},{"$f":"_xlfn.XLOOKUP(C744,Data!C:C,Data!H:H,0)","v":0},{"$error":"#N/A"},{"$error":"#N/A"},{"$error":"#N/A"},{"$error":"#N/A"},{"$error":"#N/A"},0,{"$error":"#N/A"},"","","",null,{"$error":"#N/A"}]
["2021-03-24","00:22:00","2021-03-24T00:22:00",null,{"$f":"_xlfn.XLOOKUP(C745,Data!C:C,Data!I:I)","v":{"$error":"#N/A"}},{"$error":"#N/A"},{"$f":"_xlfn.XLOOKUP(C745,Data!C:C,Data!G:G,0)","v":0},{"$f":"_xlfn.XLOOKUP(C745,Data!C:C,Data!F:F)","v":{"$error":"#N/A"}},{"$f":"_xlfn.XLOOKUP(C745,Data!C:C,Data!H:H,0)","v":0},{"$error":"#N/A"},{"$error":"#N/A"},{"$error":"#N/A"},{"$error":"#N/A"},{"$error":"#N/A"},0,{"$error":"#N/A"},"","","",null,{"$error":"#N/A"}]
["2021-03-24","00:23:00","2021-03-24T00:23:00",null,{"$f":"_xlfn.XLOOKUP(C746,Data!C:C,Data!I:I)","v":{"$error":"#N/A"}},{"$error":"#N/A"},{"$f":"_xlfn.XLOOKUP(C746,Data!C:C,Data!G:G,0)","v":0},{"$f":"_xlfn.XLOOKUP(C746,Data!C:C,Data!F:F)","v":{"$error":"#N/A"}},{"$f":"_xlfn.XLOOKUP(C746,Data!C:C,Data!H:H,0)","v":0},{"$error":"#N/A"},{"$error":"#N/A"},{"$error":"#N/A"},{"$error":"#N/A"},{"$error":"#N/A"},0,{"$error":"#N/A"},"","","",null,{"$error":"#N/A"}]
["2021-03-24","00:24:00","2021-03-24T00:24:00",null,{"$f":"_xlfn.XLOOKUP(C747,Data!C:C,Data!I:I)","v":{"$error":"#N/A"}},{"$error":"#N/A"},{"$f":"_xlfn.XLOOKUP(C747,Data!C:C,Data!G:G,0)","v":0},{"$f":"_xlfn.XLOOKUP(C747,Data!C:C,Data!F:F)","v":{"$error":"#N/A"}},{"$f":"_xlfn.XLOOKUP(C747,Data!C:C,Data!H:H,0)","v":0},{"$error":"#N/A"},{"$error":"#N/A"},{"$error":"#N/A"},{"$error":"#N/A"},{"$error":"#N/A"},0,{"$error":"#N/A"},"","","",null,{"$error":"#N/A"}]
["2021-03-24","00:25:00","2021-03-24T00:25:00",null,{"$f":"_xlfn.XLOOKUP(C748,Data!C:C,Data!I:I)","v":{"$error":"#N/A"}},{"$error":"#N/A"},{"$f":"_xlfn.XLOOKUP(C748,Data!C:C,Data!G:G,0)","v":0},{"$f":"_xlfn.XLOOKUP(C748,Data!C:C,Data!F:F)","v":{"$error":"#N/A"}},{"$f":"_xlfn.XLOOKUP(C748,Data!C:C,Data!H:H,0)","v":0},{"$error":"#N/A"},{"$error":"#N/A"},{"$error":"#N/A"},{"$error":"#N/A"},{"$error":"#N/A"},0,{"$error":"#N/A"},"","","",null,{"$error":"#N/A"}]
["2021-03-24","00:26:00","2021-03-24T00:26:00",null,{"$f":"_xlfn.XLOOKUP(C749,Data!C:C,Data!I:I)","v":{"$error":"#N/A"}},{"$error":"#N/A"},{"$f":"_xlfn.XLOOKUP(C749,Data!C:C,Data!G:G,0)","v":0},{"$f":"_xlfn.XLOOKUP(C749,Data!C:C,Data!F:F)","v":{"$error":"#N/A"}},{"$f":"_xlfn.XLOOKUP(C749,Data!C:C,Data!H:H,0)","v":0},{"$error":"#N/A"},{"$error":"#N/A"},{"$error":"#N/A"},{"$error":"#N/A"},{"$error":"#N/A"},0,{"$error":"#N/A"},"","","",null,{"$error":"#N/A"}]
["2021-03-24","00:27:00","2021-03-24T00:27:00",null,{"$f":"_xlfn.XLOOKUP(C750,Data!C:C,Data!I:I)","v":{"$error":"#N/A"}},{"$error":"#N/A"},{"$f":"_xlfn.XLOOKUP(C750,Data!C:C,Data!G:G,0)","v":0},{"$f":"_xlfn.XLOOKUP(C750,Data!C:C,Data!F:F)","v":{"$error":"#N/A"}},{"$f":"_xlfn.XLOOKUP(C750,Data!C:C,Data!H:H,0)","v":0},{"$error":"#N/A"},{"$error":"#N/A"},{"$error":"#N/A"},{"$error":"#N/A"},{"$error":"#N/A"},0,{"$error":"#N/A"},"","","",null,{"$error":"#N/A"}]
["2021-03-24","00:28:00","2021-03-24T00:28:00",null,{"$f":"_xlfn.XLOOKUP(C751,Data!C:C,Data!I:I)","v":{"$error":"#N/A"}},{"$error":"#N/A"},{"$f":"_xlfn.XLOOKUP(C751,Data!C:C,Data!G:G,0)","v":0},{"$f":"_xlfn.XLOOKUP(C751,Data!C:C,Data!F:F)","v":{"$error":"#N/A"}},{"$f":"_xlfn.XLOOKUP(C751,Data!C:C,Data!H:H,0)","v":0},{"$error":"#N/A"},{"$error":"#N/A"},{"$error":"#N/A"},{"$error":"#N/A"},{"$error":"#N/A"},0,{"$error":"#N/A"},"","","",null,{"$error":"#N/A"}]
["2021-03-24","00:29:00","2021-03-24T00:29:00",null,{"$f":"_xlfn.XLOOKUP(C752,Data!C:C,Data!I:I)","v":{"$error":"#N/A"}},{"$error":"#N/A"},{"$f":"_xlfn.XLOOKUP(C752,Data!C:C,Data!G:G,0)","v":0},{"$f":"_xlfn.XLOOKUP(C752,Data!C:C,Data!F:F)","v":{"$error":"#N/A"}},{"$f":"_xlfn.XLOOKUP(C752,Data!C:C,Data!H:H,0)","v":0},{"$error":"#N/A"},{"$error":"#N/A"},{"$error":"#N/A"},{"$error":"#N/A"},{"$error":"#N/A"},0,{"$error":"#N/A"},"","","",null,{"$error":"#N/A"}]
["2021-03-24","00:30:00","2021-03-24T00:30:00",null,{"$f":"_xlfn.XLOOKUP(C753,Data!C:C,Data!I:I)","v":{"$error":"#N/A"}},{"$error":"#N/A"},{"$f":"_xlfn.XLOOKUP(C753,Data!C:C,Data!G:G,0)","v":0},{"$f":"_xlfn.XLOOKUP(C753,Data!C:C,Data!F:F)","v":{"$error":"#N/A"}},{"$f":"_xlfn.XLOOKUP(C753,Data!C:C,Data!H:H,0)","v":0},{"$error":"#N/A"},{"$error":"#N/A"},{"$error":"#N/A"},{"$error":"#N/A"},{"$error":"#N/A"},0,{"$error":"#N/A"},"","","",null,{"$error":"#N/A"}]
["2021-03-24","00:31:00","2021-03-24T00:31:00",null,{"$f":"_xlfn.XLOOKUP(C754,Data!C:C,Data!I:I)","v":{"$error":"#N/A"}},{"$error":"#N/A"},{"$f":"_xlfn.XLOOKUP(C754,Data!C:C,Data!G:G,0)","v":0},{"$f":"_xlfn.XLOOKUP(C754,Data!C:C,Data!F:F)","v":{"$error":"#N/A"}},{"$f":"_xlfn.XLOOKUP(C754,Data!C:C,Data!H:H,0)","v":0},{"$error":"#N/A"},{"$error":"#N/A"},{"$error":"#N/A"},{"$error":"#N/A"},{"$error":"#N/A"},0,{"$error":"#N/A"},"","","",null,{"$error":"#N/A"}]
["2021-03-24","00:32:00","2021-03-24T00:32:00",null,{"$f":"_xlfn.XLOOKUP(C755,Data!C:C,Data!I:I)","v":{"$error":"#N/A"}},{"$error":"#N/A"},{"$f":"_xlfn.XLOOKUP(C755,Data!C:C,Data!G:G,0)","v":0},{"$f":"_xlfn.XLOOKUP(C755,Data!C:C,Data!F:F)","v":{"$error":"#N/A"}},{"$f":"_xlfn.XLOOKUP(C755,Data!C:C,Data!H:H,0)","v":0},{"$error":"#N/A"},{"$error":"#N/A"},{"$error":"#N/A"},{"$error":"#N/A"},{"$error":"#N/A"},0,{"$error":"#N/A"},"","","",null,{"$error":"#N/A"}]
["2021-03-24","00:33:00","2021-03-24T00:33:00",null,{"$f":"_xlfn.XLOOKUP(C756,Data!C:C,Data!I:I)","v":{"$error":"#N/A"}},{"$error":"#N/A"},{"$f":"_xlfn.XLOOKUP(C756,Data!C:C,Data!G:G,0)","v":0},{"$f":"_xlfn.XLOOKUP(C756,Data!C:C,Data!F:F)","v":{"$error":"#N/A"}},{"$f":"_xlfn.XLOOKUP(C756,Data!C:C,Data!H:H,0)","v":0},{"$error":"#N/A"},{"$error":"#N/A"},{"$error":"#N/A"},{"$error":"#N/A"},{"$error":"#N/A"},0,{"$error":"#N/A"},"","","",null,{"$error":"#N/A"}]
["2021-03-24","00:34:00","2021-03-24T00:34:00",null,{"$f":"_xlfn.XLOOKUP(C757,Data!C:C,Data!I:I)","v":{"$error":"#N/A"}},{"$error":"#N/A"},{"$f":"_xlfn.XLOOKUP(C757,Data!C:C,Data!G:G,0)","v":0},{"$f":"_xlfn.XLOOKUP(C757,Data!C:C,Data!F:F)","v":{"$error":"#N/A"}},{"$f":"_xlfn.XLOOKUP(C757,Data!C:C,Data!H:H,0)","v":0},{"$error":"#N/A"},{"$error":"#N/A"},{"$error":"#N/A"},{"$error":"#N/A"},{"$error":"#N/A"},0,{"$error":"#N/A"},"","","",null,{"$error":"#N/A"}]
["2021-03-24","00:35:00","2021-03-24T00:35:00",null,{"$f":"_xlfn.XLOOKUP(C758,Data!C:C,Data!I:I)","v":{"$error":"#N/A"}},{"$error":"#N/A"},{"$f":"_xlfn.XLOOKUP(C758,Data!C:C,Data!G:G,0)","v":0},{"$f":"_xlfn.XLOOKUP(C758,Data!C:C,Data!F:F)","v":{"$error":"#N/A"}},{"$f":"_xlfn.XLOOKUP(C758,Data!C:C,Data!H:H,0)","v":0},{"$error":"#N/A"},{"$error":"#N/A"},{"$error":"#N/A"},{"$error":"#N/A"},{"$error":"#N/A"},0,{"$error":"#N/A"},"","","",null,{"$error":"#N/A"}]
["2021-03-24","00:36:00","2021-03-24T00:36:00",null,{"$f":"_xlfn.XLOOKUP(C759,Data!C:C,Data!I:I)","v":{"$error":"#N/A"}},{"$error":"#N/A"},{"$f":"_xlfn.XLOOKUP(C759,Data!C:C,Data!G:G,0)","v":0},{"$f":"_xlfn.XLOOKUP(C759,Data!C:C,Data!F:F)","v":{"$error":"#N/A"}},{"$f":"_xlfn.XLOOKUP(C759,Data!C:C,Data!H:H,0)","v":0},{"$error":"#N/A"},{"$error":"#N/A"},{"$error":"#N/A"},{"$error":"#N/A"},{"$error":"#N/A"},0,{"$error":"#N/A"},"","","",null,{"$error":"#N/A"}]
["2021-03-24","00:37:00","2021-03-24T00:37:00",null,{"$f":"_xlfn.XLOOKUP(C760,Data!C:C,Data!I:I)","v":{"$error":"#N/A"}},{"$error":"#N/A"},{"$f":"_xlfn.XLOOKUP(C760,Data!C:C,Data!G:G,0)","v":0},{"$f":"_xlfn.XLOOKUP(C760,Data!C:C,Data!F:F)","v":{"$error":"#N/A"}},{"$f":"_xlfn.XLOOKUP(C760,Data!C:C,Data!H:H,0)","v":0},{"$error":"#N/A"},{"$error":"#N/A"},{"$error":"#N/A"},{"$error":"#N/A"},{"$error":"#N/A"},0,{"$error":"#N/A"},"","","",null,{"$error":"#N/A"}]
["2021-03-24","00:38:00","2021-03-24T00:38:00",null,{"$f":"_xlfn.XLOOKUP(C761,Data!C:C,Data!I:I)","v":{"$error":"#N/A"}},{"$error":"#N/A"},{"$f":"_xlfn.XLOOKUP(C761,Data!C:C,Data!G:G,0)","v":0},{"$f":"_xlfn.XLOOKUP(C761,Data!C:C,Data!F:F)","v":{"$error":"#N/A"}},{"$f":"_xlfn.XLOOKUP(C761,Data!C:C,Data!H:H,0)","v":0},{"$error":"#N/A"},{"$error":"#N/A"},{"$error":"#N/A"},{"$error":"#N/A"},{"$error":"#N/A"},0,{"$error":"#N/A"},"","","",null,{"$error":"#N/A"}]
["2021-03-24","00:39:00","2021-03-24T00:39:00",null,{"$f":"_xlfn.XLOOKUP(C762,Data!C:C,Data!I:I)","v":{"$error":"#N/A"}},{"$error":"#N/A"},{"$f":"_xlfn.XLOOKUP(C762,Data!C:C,Data!G:G,0)","v":0},{"$f":"_xlfn.XLOOKUP(C762,Data!C:C,Data!F:F)","v":{"$error":"#N/A"}},{"$f":"_xlfn.XLOOKUP(C762,Data!C:C,Data!H:H,0)","v":0},{"$error":"#N/A"},{"$error":"#N/A"},{"$error":"#N/A"},{"$error":"#N/A"},{"$error":"#N/A"},0,{"$error":"#N/A"},"","","",null,{"$error":"#N/A"}]
["2021-03-24","00:40:00","2021-03-24T00:40:00",null,{"$f":"_xlfn.XLOOKUP(C763,Data!C:C,Data!I:I)","v":{"$error":"#N/A"}},{"$error":"#N/A"},{"$f":"_xlfn.XLOOKUP(C763,Data!C:C,Data!G:G,0)","v":0},{"$f":"_xlfn.XLOOKUP(C763,Data!C:C,Data!F:F)","v":{"$error":"#N/A"}},{"$f":"_xlfn.XLOOKUP(C763,Data!C:C,Data!H:H,0)","v":0},{"$error":"#N/A"},{"$error":"#N/A"},{"$error":"#N/A"},{"$error":"#N/A"},{"$error":"#N/A"},0,{"$error":"#N/A"},"","","",null,{"$error":"#N/A"}]
["2021-03-24","00:41:00","2021-03-24T00:41:00",null,{"$f":"_xlfn.XLOOKUP(C764,Data!C:C,Data!I:I)","v":{"$error":"#N/A"}},{"$error":"#N/A"},{"$f":"_xlfn.XLOOKUP(C764,Data!C:C,Data!G:G,0)","v":0},{"$f":"_xlfn.XLOOKUP(C764,Data!C:C,Data!F:F)","v":{"$error":"#N/A"}},{"$f":"_xlfn.XLOOKUP(C764,Data!C:C,Data!H:H,0)","v":0},{"$error":"#N/A"},{"$error":"#N/A"},{"$error":"#N/A"},{"$error":"#N/A"},{"$error":"#N/A"},0,{"$error":"#N/A"},"","","",null,{"$error":"#N/A"}]
["2021-03-24","00:42:00","2021-03-24T00:42:00",null,{"$f":"_xlfn.XLOOKUP(C765,Data!C:C,Data!I:I)","v":{"$error":"#N/A"}},{"$error":"#N/A"},{"$f":"_xlfn.XLOOKUP(C765,Data!C:C,Data!G:G,0)","v":0},{"$f":"_xlfn.XLOOKUP(C765,Data!C:C,Data!F:F)","v":{"$error":"#N/A"}},{"$f":"_xlfn.XLOOKUP(C765,Data!C:C,Data!H:H,0)","v":0},{"$error":"#N/A"},{"$error":"#N/A"},{"$error":"#N/A"},{"$error":"#N/A"},{"$error":"#N/A"},0,{"$error":"#N/A"},"","","",null,{"$error":"#N/A"}]
["2021-03-24","00:43:00","2021-03-24T00:43:00",null,{"$f":"_xlfn.XLOOKUP(C766,Data!C:C,Data!I:I)","v":{"$error":"#N/A"}},{"$error":"#N/A"},{"$f":"_xlfn.XLOOKUP(C766,Data!C:C,Data!G:G,0)","v":0},{"$f":"_xlfn.XLOOKUP(C766,Data!C:C,Data!F:F)","v":{"$error":"#N/A"}},{"$f":"_xlfn.XLOOKUP(C766,Data!C:C,Data!H:H,0)","v":0},{"$error":"#N/A"},{"$error":"#N/A"},{"$error":"#N/A"},{"$error":"#N/A"},{"$error":"#N/A"},0,{"$error":"#N/A"},"","","",null,{"$error":"#N/A"}]
["2021-03-24","00:44:00","2021-03-24T00:44:00",null,{"$f":"_xlfn.XLOOKUP(C767,Data!C:C,Data!I:I)","v":{"$error":"#N/A"}},{"$error":"#N/A"},{"$f":"_xlfn.XLOOKUP(C767,Data!C:C,Data!G:G,0)","v":0},{"$f":"_xlfn.XLOOKUP(C767,Data!C:C,Data!F:F)","v":{"$error":"#N/A"}},{"$f":"_xlfn.XLOOKUP(C767,Data!C:C,Data!H:H,0)","v":0},{"$error":"#N/A"},{"$error":"#N/A"},{"$error":"#N/A"},{"$error":"#N/A"},{"$error":"#N/A"},0,{"$error":"#N/A"},"","","",null,{"$error":"#N/A"}]
["2021-03-24","00:45:00","2021-03-24T00:45:00",null,{"$f":"_xlfn.XLOOKUP(C768,Data!C:C,Data!I:I)","v":{"$error":"#N/A"}},{"$error":"#N/A"},{"$f":"_xlfn.XLOOKUP(C768,Data!C:C,Data!G:G,0)","v":0},{"$f":"_xlfn.XLOOKUP(C768,Data!C:C,Data!F:F)","v":{"$error":"#N/A"}},{"$f":"_xlfn.XLOOKUP(C768,Data!C:C,Data!H:H,0)","v":0},{"$f":"IF(AND(MAX(E766:E767)=255,MAX(E768:E769)=255,  E767+E768+E769<3*255, OR(I768=123,I768=124,I768=106,I768=108)),   I768,   IF(AND(MAX(E766:E767)=255,MAX(E768:E769)=255,  E767+E768+E769<3*255, OR(I768>=80,I768<100)),106,108))","v":{"$error":"#N/A"}},{"$error":"#N/A"},{"$error":"#N/A"},{"$error":"#N/A"},{"$error":"#N/A"},0,{"$error":"#N/A"},"","","",null,{"$error":"#N/A"}]
["2021-03-24","00:46:00","2021-03-24T00:46:00",null,{"$f":"_xlfn.XLOOKUP(C769,Data!C:C,Data!I:I)","v":{"$error":"#N/A"}},{"$error":"#N/A"},{"$f":"_xlfn.XLOOKUP(C769,Data!C:C,Data!G:G,0)","v":0},{"$f":"_xlfn.XLOOKUP(C769,Data!C:C,Data!F:F)","v":{"$error":"#N/A"}},{"$f":"_xlfn.XLOOKUP(C769,Data!C:C,Data!H:H,0)","v":0},{"$error":"#N/A"},{"$error":"#N/A"},{"$error":"#N/A"},{"$error":"#N/A"},{"$error":"#N/A"},0,{"$error":"#N/A"},"","","",null,{"$error":"#N/A"}]
["2021-03-24","00:47:00","2021-03-24T00:47:00",null,{"$f":"_xlfn.XLOOKUP(C770,Data!C:C,Data!I:I)","v":{"$error":"#N/A"}},{"$error":"#N/A"},{"$f":"_xlfn.XLOOKUP(C770,Data!C:C,Data!G:G,0)","v":0},{"$f":"_xlfn.XLOOKUP(C770,Data!C:C,Data!F:F)","v":{"$error":"#N/A"}},{"$f":"_xlfn.XLOOKUP(C770,Data!C:C,Data!H:H,0)","v":0},{"$error":"#N/A"},{"$error":"#N/A"},{"$error":"#N/A"},{"$error":"#N/A"},{"$error":"#N/A"},0,{"$error":"#N/A"},"","","",null,{"$error":"#N/A"}]
["2021-03-24","00:48:00",{"$f":"A771+B771","v":"2021-03-24T00:48:00"},null,{"$f":"_xlfn.XLOOKUP(C771,Data!C:C,Data!I:I)","v":{"$error":"#N/A"}},{"$error":"#N/A"},{"$f":"_xlfn.XLOOKUP(C771,Data!C:C,Data!G:G,0)","v":0},{"$f":"_xlfn.XLOOKUP(C771,Data!C:C,Data!F:F)","v":{"$error":"#N/A"}},{"$f":"_xlfn.XLOOKUP(C771,Data!C:C,Data!H:H,0)","v":0},{"$error":"#N/A"},{"$f":"IF(AND(I771<100,  I771>=80,  OR(J771=105, J771=106,  J771=123)),  5,  0)","v":{"$error":"#N/A"}},{"$error":"#N/A"},{"$error":"#N/A"},{"$error":"#N/A"},{"$f":"IFERROR(F771,0)","v":0},{"$error":"#N/A"},"","","",null,{"$error":"#N/A"}]
["2021-03-24","00:49:00","2021-03-24T00:49:00",null,{"$f":"_xlfn.XLOOKUP(C772,Data!C:C,Data!I:I)","v":{"$error":"#N/A"}},{"$error":"#N/A"},{"$f":"_xlfn.XLOOKUP(C772,Data!C:C,Data!G:G,0)","v":0},{"$f":"_xlfn.XLOOKUP(C772,Data!C:C,Data!F:F)","v":{"$error":"#N/A"}},{"$f":"_xlfn.XLOOKUP(C772,Data!C:C,Data!H:H,0)","v":0},{"$error":"#N/A"},{"$error":"#N/A"},{"$f":"IF(AND(I772<130,  I772>104,  OR(J772=105, J772=106,  J772=123),  S772>$S$1450+$S$1443),  20,  0)","v":{"$error":"#N/A"}},{"$f":"IF(AND(I772<130,  I772>104,  OR(J772=105, J772=106,  J772=123),  R772>$Q$1449,  S772<=$S$1450+$S$1443),  20,  0)","v":{"$error":"#N/A"}},{"$f":"IF(AND(I772<130,  I772>104,  OR(J772=105, J772=106,  J772=123),  R772<=$Q$1449,  S772<=$S$1450+$S$1443),  20,  0)","v":{"$error":"#N/A"}},0,{"$f":"IF(Q772=\"\",F772,IF(Q772=0,P771,Q772))","v":{"$error":"#N/A"}},{"$f":"IF(I772>109,IF(O772*$Q$1451>(O771+O773)/2,MIN(O771:O773),O772),\"\")","v":""},"","",null,{"$error":"#N/A"}]
["2021-03-24","00:50:00","2021-03-24T00:50:00",null,{"$f":"_xlfn.XLOOKUP(C773,Data!C:C,Data!I:I)","v":{"$error":"#N/A"}},{"$f":"IF(E773=255,IF(MIN(E772:E774)=255,#N/A,MIN(E772:E774)),E773)","v":{"$error":"#N/A"}},{"$f":"_xlfn.XLOOKUP(C773,Data!C:C,Data!G:G,0)","v":0},{"$f":"_xlfn.XLOOKUP(C773,Data!C:C,Data!F:F)","v":{"$error":"#N/A"}},{"$f":"_xlfn.XLOOKUP(C773,Data!C:C,Data!H:H,0)","v":0},{"$error":"#N/A"},{"$error":"#N/A"},{"$error":"#N/A"},{"$error":"#N/A"},{"$error":"#N/A"},0,{"$error":"#N/A"},"","","",null,{"$error":"#N/A"}]
["2021-03-24","00:51:00","2021-03-24T00:51:00",null,{"$f":"_xlfn.XLOOKUP(C774,Data!C:C,Data!I:I)","v":{"$error":"#N/A"}},{"$error":"#N/A"},{"$f":"_xlfn.XLOOKUP(C774,Data!C:C,Data!G:G,0)","v":0},{"$f":"_xlfn.XLOOKUP(C774,Data!C:C,Data!F:F)","v":{"$error":"#N/A"}},{"$f":"_xlfn.XLOOKUP(C774,Data!C:C,Data!H:H,0)","v":0},{"$error":"#N/A"},{"$error":"#N/A"},{"$error":"#N/A"},{"$error":"#N/A"},{"$error":"#N/A"},0,{"$error":"#N/A"},"","","",null,{"$error":"#N/A"}]
["2021-03-24","00:52:00","2021-03-24T00:52:00",null,{"$f":"_xlfn.XLOOKUP(C775,Data!C:C,Data!I:I)","v":{"$error":"#N/A"}},{"$error":"#N/A"},{"$f":"_xlfn.XLOOKUP(C775,Data!C:C,Data!G:G,0)","v":0},{"$f":"_xlfn.XLOOKUP(C775,Data!C:C,Data!F:F)","v":{"$error":"#N/A"}},{"$f":"_xlfn.XLOOKUP(C775,Data!C:C,Data!H:H,0)","v":0},{"$error":"#N/A"},{"$error":"#N/A"},{"$error":"#N/A"},{"$error":"#N/A"},{"$error":"#N/A"},0,{"$error":"#N/A"},"","","",null,{"$f":"IF(F775=\"\",\"\",AVERAGE(F771:F779))","v":{"$error":"#N/A"}}]
["2021-03-24","00:53:00","2021-03-24T00:53:00",null,{"$f":"_xlfn.XLOOKUP(C776,Data!C:C,Data!I:I)","v":{"$error":"#N/A"}},{"$error":"#N/A"},{"$f":"_xlfn.XLOOKUP(C776,Data!C:C,Data!G:G,0)","v":0},{"$f":"_xlfn.XLOOKUP(C776,Data!C:C,Data!F:F)","v":{"$error":"#N/A"}},{"$f":"_xlfn.XLOOKUP(C776,Data!C:C,Data!H:H,0)","v":0},{"$error":"#N/A"},{"$error":"#N/A"},{"$error":"#N/A"},{"$error":"#N/A"},{"$error":"#N/A"},0,{"$error":"#N/A"},"",{"$f":"IF(Q776=\"\",\"\",AVERAGE(Q772:Q780))","v":""},{"$f":"IF(Q776=\"\",\"\",MAX(Q772:Q780)-MIN(Q772:Q780))","v":""},null,{"$error":"#N/A"}]
["2021-03-24","00:54:00","2021-03-24T00:54:00",null,{"$f":"_xlfn.XLOOKUP(C777,Data!C:C,Data!I:I)","v":{"$error":"#N/A"}},{"$error":"#N/A"},{"$f":"_xlfn.XLOOKUP(C777,Data!C:C,Data!G:G,0)","v":0},{"$f":"_xlfn.XLOOKUP(C777,Data!C:C,Data!F:F)","v":{"$error":"#N/A"}},{"$f":"_xlfn.XLOOKUP(C777,Data!C:C,Data!H:H,0)","v":0},{"$error":"#N/A"},{"$error":"#N/A"},{"$error":"#N/A"},{"$error":"#N/A"},{"$error":"#N/A"},0,{"$error":"#N/A"},"","","",null,{"$error":"#N/A"}]
["2021-03-24","00:55:00","2021-03-24T00:55:00",null,{"$f":"_xlfn.XLOOKUP(C778,Data!C:C,Data!I:I)","v":{"$error":"#N/A"}},{"$error":"#N/A"},{"$f":"_xlfn.XLOOKUP(C778,Data!C:C,Data!G:G,0)","v":0},{"$f":"_xlfn.XLOOKUP(C778,Data!C:C,Data!F:F)","v":{"$error":"#N/A"}},{"$f":"_xlfn.XLOOKUP(C778,Data!C:C,Data!H:H,0)","v":0},{"$error":"#N/A"},{"$error":"#N/A"},{"$error":"#N/A"},{"$error":"#N/A"},{"$error":"#N/A"},0,{"$error":"#N/A"},"","","",null,{"$error":"#N/A"}]
["2021-03-24","00:56:00","2021-03-24T00:56:00",null,{"$f":"_xlfn.XLOOKUP(C779,Data!C:C,Data!I:I)","v":{"$error":"#N/A"}},{"$error":"#N/A"},{"$f":"_xlfn.XLOOKUP(C779,Data!C:C,Data!G:G,0)","v":0},{"$f":"_xlfn.XLOOKUP(C779,Data!C:C,Data!F:F)","v":{"$error":"#N/A"}},{"$f":"_xlfn.XLOOKUP(C779,Data!C:C,Data!H:H,0)","v":0},{"$error":"#N/A"},{"$error":"#N/A"},{"$error":"#N/A"},{"$error":"#N/A"},{"$error":"#N/A"},0,{"$error":"#N/A"},"","","",null,{"$error":"#N/A"}]
["2021-03-24","00:57:00","2021-03-24T00:57:00",null,{"$f":"_xlfn.XLOOKUP(C780,Data!C:C,Data!I:I)","v":{"$error":"#N/A"}},{"$error":"#N/A"},{"$f":"_xlfn.XLOOKUP(C780,Data!C:C,Data!G:G,0)","v":0},{"$f":"_xlfn.XLOOKUP(C780,Data!C:C,Data!F:F)","v":{"$error":"#N/A"}},{"$f":"_xlfn.XLOOKUP(C780,Data!C:C,Data!H:H,0)","v":0},{"$error":"#N/A"},{"$error":"#N/A"},{"$error":"#N/A"},{"$error":"#N/A"},{"$error":"#N/A"},0,{"$error":"#N/A"},"","","",null,{"$error":"#N/A"}]
["2021-03-24","00:58:00","2021-03-24T00:58:00",null,{"$f":"_xlfn.XLOOKUP(C781,Data!C:C,Data!I:I)","v":{"$error":"#N/A"}},{"$error":"#N/A"},{"$f":"_xlfn.XLOOKUP(C781,Data!C:C,Data!G:G,0)","v":0},{"$f":"_xlfn.XLOOKUP(C781,Data!C:C,Data!F:F)","v":{"$error":"#N/A"}},{"$f":"_xlfn.XLOOKUP(C781,Data!C:C,Data!H:H,0)","v":0},{"$error":"#N/A"},{"$error":"#N/A"},{"$error":"#N/A"},{"$error":"#N/A"},{"$error":"#N/A"},0,{"$error":"#N/A"},"","","",null,{"$error":"#N/A"}]
["2021-03-24","00:59:00","2021-03-24T00:59:00",null,{"$f":"_xlfn.XLOOKUP(C782,Data!C:C,Data!I:I)","v":{"$error":"#N/A"}},{"$error":"#N/A"},{"$f":"_xlfn.XLOOKUP(C782,Data!C:C,Data!G:G,0)","v":0},{"$f":"_xlfn.XLOOKUP(C782,Data!C:C,Data!F:F)","v":{"$error":"#N/A"}},{"$f":"_xlfn.XLOOKUP(C782,Data!C:C,Data!H:H,0)","v":0},{"$error":"#N/A"},{"$error":"#N/A"},{"$error":"#N/A"},{"$error":"#N/A"},{"$error":"#N/A"},0,{"$error":"#N/A"},"","","",null,{"$error":"#N/A"}]
["2021-03-24","01:00:00","2021-03-24T01:00:00",null,{"$f":"_xlfn.XLOOKUP(C783,Data!C:C,Data!I:I)","v":{"$error":"#N/A"}},{"$error":"#N/A"},{"$f":"_xlfn.XLOOKUP(C783,Data!C:C,Data!G:G,0)","v":0},{"$f":"_xlfn.XLOOKUP(C783,Data!C:C,Data!F:F)","v":{"$error":"#N/A"}},{"$f":"_xlfn.XLOOKUP(C783,Data!C:C,Data!H:H,0)","v":0},{"$error":"#N/A"},{"$error":"#N/A"},{"$error":"#N/A"},{"$error":"#N/A"},{"$error":"#N/A"},0,{"$error":"#N/A"},"","","",null,{"$error":"#N/A"}]
["2021-03-24","01:01:00","2021-03-24T01:01:00",null,{"$f":"_xlfn.XLOOKUP(C784,Data!C:C,Data!I:I)","v":{"$error":"#N/A"}},{"$error":"#N/A"},{"$f":"_xlfn.XLOOKUP(C784,Data!C:C,Data!G:G,0)","v":0},{"$f":"_xlfn.XLOOKUP(C784,Data!C:C,Data!F:F)","v":{"$error":"#N/A"}},{"$f":"_xlfn.XLOOKUP(C784,Data!C:C,Data!H:H,0)","v":0},{"$error":"#N/A"},{"$error":"#N/A"},{"$error":"#N/A"},{"$error":"#N/A"},{"$error":"#N/A"},0,{"$error":"#N/A"},"","","",null,{"$error":"#N/A"}]
["2021-03-24","01:02:00","2021-03-24T01:02:00",null,{"$f":"_xlfn.XLOOKUP(C785,Data!C:C,Data!I:I)","v":{"$error":"#N/A"}},{"$error":"#N/A"},{"$f":"_xlfn.XLOOKUP(C785,Data!C:C,Data!G:G,0)","v":0},{"$f":"_xlfn.XLOOKUP(C785,Data!C:C,Data!F:F)","v":{"$error":"#N/A"}},{"$f":"_xlfn.XLOOKUP(C785,Data!C:C,Data!H:H,0)","v":0},{"$error":"#N/A"},{"$error":"#N/A"},{"$error":"#N/A"},{"$error":"#N/A"},{"$error":"#N/A"},0,{"$error":"#N/A"},"","","",null,{"$error":"#N/A"}]
["2021-03-24","01:03:00","2021-03-24T01:03:00",null,{"$f":"_xlfn.XLOOKUP(C786,Data!C:C,Data!I:I)","v":{"$error":"#N/A"}},{"$error":"#N/A"},{"$f":"_xlfn.XLOOKUP(C786,Data!C:C,Data!G:G,0)","v":0},{"$f":"_xlfn.XLOOKUP(C786,Data!C:C,Data!F:F)","v":{"$error":"#N/A"}},{"$f":"_xlfn.XLOOKUP(C786,Data!C:C,Data!H:H,0)","v":0},{"$error":"#N/A"},{"$error":"#N/A"},{"$error":"#N/A"},{"$error":"#N/A"},{"$error":"#N/A"},0,{"$error":"#N/A"},"","","",null,{"$error":"#N/A"}]
["2021-03-24","01:04:00","2021-03-24T01:04:00",null,{"$f":"_xlfn.XLOOKUP(C787,Data!C:C,Data!I:I)","v":{"$error":"#N/A"}},{"$error":"#N/A"},{"$f":"_xlfn.XLOOKUP(C787,Data!C:C,Data!G:G,0)","v":0},{"$f":"_xlfn.XLOOKUP(C787,Data!C:C,Data!F:F)","v":{"$error":"#N/A"}},{"$f":"_xlfn.XLOOKUP(C787,Data!C:C,Data!H:H,0)","v":0},{"$error":"#N/A"},{"$error":"#N/A"},{"$error":"#N/A"},{"$error":"#N/A"},{"$error":"#N/A"},0,{"$error":"#N/A"},"","","",null,{"$error":"#N/A"}]
["2021-03-24","01:05:00","2021-03-24T01:05:00",null,{"$f":"_xlfn.XLOOKUP(C788,Data!C:C,Data!I:I)","v":{"$error":"#N/A"}},{"$error":"#N/A"},{"$f":"_xlfn.XLOOKUP(C788,Data!C:C,Data!G:G,0)","v":0},{"$f":"_xlfn.XLOOKUP(C788,Data!C:C,Data!F:F)","v":{"$error":"#N/A"}},{"$f":"_xlfn.XLOOKUP(C788,Data!C:C,Data!H:H,0)","v":0},{"$error":"#N/A"},{"$error":"#N/A"},{"$error":"#N/A"},{"$error":"#N/A"},{"$error":"#N/A"},0,{"$error":"#N/A"},"","","",null,{"$error":"#N/A"}]
[{"$f":"$A$723","v":"2021-03-24"},"01:06:00","2021-03-24T01:06:00",null,{"$f":"_xlfn.XLOOKUP(C789,Data!C:C,Data!I:I)","v":{"$error":"#N/A"}},{"$error":"#N/A"},{"$f":"_xlfn.XLOOKUP(C789,Data!C:C,Data!G:G,0)","v":0},{"$f":"_xlfn.XLOOKUP(C789,Data!C:C,Data!F:F)","v":{"$error":"#N/A"}},{"$f":"_xlfn.XLOOKUP(C789,Data!C:C,Data!H:H,0)","v":0},{"$error":"#N/A"},{"$error":"#N/A"},{"$error":"#N/A"},{"$error":"#N/A"},{"$error":"#N/A"},0,{"$error":"#N/A"},"","","",null,{"$error":"#N/A"}]
["2021-03-24","01:07:00","2021-03-24T01:07:00",null,{"$f":"_xlfn.XLOOKUP(C790,Data!C:C,Data!I:I)","v":{"$error":"#N/A"}},{"$error":"#N/A"},{"$f":"_xlfn.XLOOKUP(C790,Data!C:C,Data!G:G,0)","v":0},{"$f":"_xlfn.XLOOKUP(C790,Data!C:C,Data!F:F)","v":{"$error":"#N/A"}},{"$f":"_xlfn.XLOOKUP(C790,Data!C:C,Data!H:H,0)","v":0},{"$error":"#N/A"},{"$error":"#N/A"},{"$error":"#N/A"},{"$error":"#N/A"},{"$error":"#N/A"},0,{"$error":"#N/A"},"","","",null,{"$error":"#N/A"}]
["2021-03-24","01:08:00","2021-03-24T01:08:00",null,{"$f":"_xlfn.XLOOKUP(C791,Data!C:C,Data!I:I)","v":{"$error":"#N/A"}},{"$error":"#N/A"},{"$f":"_xlfn.XLOOKUP(C791,Data!C:C,Data!G:G,0)","v":0},{"$f":"_xlfn.XLOOKUP(C791,Data!C:C,Data!F:F)","v":{"$error":"#N/A"}},{"$f":"_xlfn.XLOOKUP(C791,Data!C:C,Data!H:H,0)","v":0},{"$error":"#N/A"},{"$error":"#N/A"},{"$error":"#N/A"},{"$error":"#N/A"},{"$error":"#N/A"},0,{"$error":"#N/A"},"","","",null,{"$error":"#N/A"}]
["2021-03-24","01:09:00","2021-03-24T01:09:00",null,{"$f":"_xlfn.XLOOKUP(C792,Data!C:C,Data!I:I)","v":{"$error":"#N/A"}},{"$error":"#N/A"},{"$f":"_xlfn.XLOOKUP(C792,Data!C:C,Data!G:G,0)","v":0},{"$f":"_xlfn.XLOOKUP(C792,Data!C:C,Data!F:F)","v":{"$error":"#N/A"}},{"$f":"_xlfn.XLOOKUP(C792,Data!C:C,Data!H:H,0)","v":0},{"$error":"#N/A"},{"$error":"#N/A"},{"$error":"#N/A"},{"$error":"#N/A"},{"$error":"#N/A"},0,{"$error":"#N/A"},"","","",null,{"$error":"#N/A"}]
["2021-03-24","01:10:00","2021-03-24T01:10:00",null,{"$f":"_xlfn.XLOOKUP(C793,Data!C:C,Data!I:I)","v":{"$error":"#N/A"}},{"$error":"#N/A"},{"$f":"_xlfn.XLOOKUP(C793,Data!C:C,Data!G:G,0)","v":0},{"$f":"_xlfn.XLOOKUP(C793,Data!C:C,Data!F:F)","v":{"$error":"#N/A"}},{"$f":"_xlfn.XLOOKUP(C793,Data!C:C,Data!H:H,0)","v":0},{"$error":"#N/A"},{"$error":"#N/A"},{"$error":"#N/A"},{"$error":"#N/A"},{"$error":"#N/A"},0,{"$error":"#N/A"},"","","",null,{"$error":"#N/A"}]
["2021-03-24","01:11:00","2021-03-24T01:11:00",null,{"$f":"_xlfn.XLOOKUP(C794,Data!C:C,Data!I:I)","v":{"$error":"#N/A"}},{"$error":"#N/A"},{"$f":"_xlfn.XLOOKUP(C794,Data!C:C,Data!G:G,0)","v":0},{"$f":"_xlfn.XLOOKUP(C794,Data!C:C,Data!F:F)","v":{"$error":"#N/A"}},{"$f":"_xlfn.XLOOKUP(C794,Data!C:C,Data!H:H,0)","v":0},{"$error":"#N/A"},{"$error":"#N/A"},{"$error":"#N/A"},{"$error":"#N/A"},{"$error":"#N/A"},0,{"$error":"#N/A"},"","","",null,{"$error":"#N/A"}]
["2021-03-24","01:12:00","2021-03-24T01:12:00",null,{"$f":"_xlfn.XLOOKUP(C795,Data!C:C,Data!I:I)","v":{"$error":"#N/A"}},{"$error":"#N/A"},{"$f":"_xlfn.XLOOKUP(C795,Data!C:C,Data!G:G,0)","v":0},{"$f":"_xlfn.XLOOKUP(C795,Data!C:C,Data!F:F)","v":{"$error":"#N/A"}},{"$f":"_xlfn.XLOOKUP(C795,Data!C:C,Data!H:H,0)","v":0},{"$error":"#N/A"},{"$error":"#N/A"},{"$error":"#N/A"},{"$error":"#N/A"},{"$error":"#N/A"},0,{"$error":"#N/A"},"","","",null,{"$error":"#N/A"}]
["2021-03-24","01:13:00","2021-03-24T01:13:00",null,{"$f":"_xlfn.XLOOKUP(C796,Data!C:C,Data!I:I)","v":{"$error":"#N/A"}},{"$error":"#N/A"},{"$f":"_xlfn.XLOOKUP(C796,Data!C:C,Data!G:G,0)","v":0},{"$f":"_xlfn.XLOOKUP(C796,Data!C:C,Data!F:F)","v":{"$error":"#N/A"}},{"$f":"_xlfn.XLOOKUP(C796,Data!C:C,Data!H:H,0)","v":0},{"$error":"#N/A"},{"$error":"#N/A"},{"$error":"#N/A"},{"$error":"#N/A"},{"$error":"#N/A"},0,{"$error":"#N/A"},"","","",null,{"$error":"#N/A"}]
["2021-03-24","01:14:00","2021-03-24T01:14:00",null,{"$f":"_xlfn.XLOOKUP(C797,Data!C:C,Data!I:I)","v":{"$error":"#N/A"}},{"$error":"#N/A"},{"$f":"_xlfn.XLOOKUP(C797,Data!C:C,Data!G:G,0)","v":0},{"$f":"_xlfn.XLOOKUP(C797,Data!C:C,Data!F:F)","v":{"$error":"#N/A"}},{"$f":"_xlfn.XLOOKUP(C797,Data!C:C,Data!H:H,0)","v":0},{"$error":"#N/A"},{"$error":"#N/A"},{"$error":"#N/A"},{"$error":"#N/A"},{"$error":"#N/A"},0,{"$error":"#N/A"},"","","",null,{"$error":"#N/A"}]
["2021-03-24","01:15:00","2021-03-24T01:15:00",null,{"$f":"_xlfn.XLOOKUP(C798,Data!C:C,Data!I:I)","v":{"$error":"#N/A"}},{"$error":"#N/A"},{"$f":"_xlfn.XLOOKUP(C798,Data!C:C,Data!G:G,0)","v":0},{"$f":"_xlfn.XLOOKUP(C798,Data!C:C,Data!F:F)","v":{"$error":"#N/A"}},{"$f":"_xlfn.XLOOKUP(C798,Data!C:C,Data!H:H,0)","v":0},{"$error":"#N/A"},{"$error":"#N/A"},{"$error":"#N/A"},{"$error":"#N/A"},{"$error":"#N/A"},0,{"$error":"#N/A"},"","","",null,{"$error":"#N/A"}]
["2021-03-24","01:16:00","2021-03-24T01:16:00",null,{"$f":"_xlfn.XLOOKUP(C799,Data!C:C,Data!I:I)","v":{"$error":"#N/A"}},{"$error":"#N/A"},{"$f":"_xlfn.XLOOKUP(C799,Data!C:C,Data!G:G,0)","v":0},{"$f":"_xlfn.XLOOKUP(C799,Data!C:C,Data!F:F)","v":{"$error":"#N/A"}},{"$f":"_xlfn.XLOOKUP(C799,Data!C:C,Data!H:H,0)","v":0},{"$error":"#N/A"},{"$error":"#N/A"},{"$error":"#N/A"},{"$error":"#N/A"},{"$error":"#N/A"},0,{"$error":"#N/A"},"","","",null,{"$error":"#N/A"}]
["2021-03-24","01:17:00","2021-03-24T01:17:00",null,{"$f":"_xlfn.XLOOKUP(C800,Data!C:C,Data!I:I)","v":{"$error":"#N/A"}},{"$error":"#N/A"},{"$f":"_xlfn.XLOOKUP(C800,Data!C:C,Data!G:G,0)","v":0},{"$f":"_xlfn.XLOOKUP(C800,Data!C:C,Data!F:F)","v":{"$error":"#N/A"}},{"$f":"_xlfn.XLOOKUP(C800,Data!C:C,Data!H:H,0)","v":0},{"$error":"#N/A"},{"$error":"#N/A"},{"$error":"#N/A"},{"$error":"#N/A"},{"$error":"#N/A"},0,{"$error":"#N/A"},"","","",null,{"$error":"#N/A"}]
["2021-03-24","01:18:00","2021-03-24T01:18:00",null,{"$f":"_xlfn.XLOOKUP(C801,Data!C:C,Data!I:I)","v":{"$error":"#N/A"}},{"$error":"#N/A"},{"$f":"_xlfn.XLOOKUP(C801,Data!C:C,Data!G:G,0)","v":0},{"$f":"_xlfn.XLOOKUP(C801,Data!C:C,Data!F:F)","v":{"$error":"#N/A"}},{"$f":"_xlfn.XLOOKUP(C801,Data!C:C,Data!H:H,0)","v":0},{"$error":"#N/A"},{"$error":"#N/A"},{"$error":"#N/A"},{"$error":"#N/A"},{"$error":"#N/A"},0,{"$error":"#N/A"},"","","",null,{"$error":"#N/A"}]
["2021-03-24","01:19:00","2021-03-24T01:19:00",null,{"$f":"_xlfn.XLOOKUP(C802,Data!C:C,Data!I:I)","v":{"$error":"#N/A"}},{"$error":"#N/A"},{"$f":"_xlfn.XLOOKUP(C802,Data!C:C,Data!G:G,0)","v":0},{"$f":"_xlfn.XLOOKUP(C802,Data!C:C,Data!F:F)","v":{"$error":"#N/A"}},{"$f":"_xlfn.XLOOKUP(C802,Data!C:C,Data!H:H,0)","v":0},{"$error":"#N/A"},{"$error":"#N/A"},{"$error":"#N/A"},{"$error":"#N/A"},{"$error":"#N/A"},0,{"$error":"#N/A"},"","","",null,{"$error":"#N/A"}]
["2021-03-24","01:20:00","2021-03-24T01:20:00",null,{"$f":"_xlfn.XLOOKUP(C803,Data!C:C,Data!I:I)","v":{"$error":"#N/A"}},{"$error":"#N/A"},{"$f":"_xlfn.XLOOKUP(C803,Data!C:C,Data!G:G,0)","v":0},{"$f":"_xlfn.XLOOKUP(C803,Data!C:C,Data!F:F)","v":{"$error":"#N/A"}},{"$f":"_xlfn.XLOOKUP(C803,Data!C:C,Data!H:H,0)","v":0},{"$error":"#N/A"},{"$error":"#N/A"},{"$error":"#N/A"},{"$error":"#N/A"},{"$error":"#N/A"},0,{"$error":"#N/A"},"","","",null,{"$error":"#N/A"}]
["2021-03-24","01:21:00","2021-03-24T01:21:00",null,{"$f":"_xlfn.XLOOKUP(C804,Data!C:C,Data!I:I)","v":{"$error":"#N/A"}},{"$error":"#N/A"},{"$f":"_xlfn.XLOOKUP(C804,Data!C:C,Data!G:G,0)","v":0},{"$f":"_xlfn.XLOOKUP(C804,Data!C:C,Data!F:F)","v":{"$error":"#N/A"}},{"$f":"_xlfn.XLOOKUP(C804,Data!C:C,Data!H:H,0)","v":0},{"$error":"#N/A"},{"$error":"#N/A"},{"$error":"#N/A"},{"$error":"#N/A"},{"$error":"#N/A"},0,{"$error":"#N/A"},"","","",null,{"$error":"#N/A"}]
["2021-03-24","01:22:00","2021-03-24T01:22:00",null,{"$f":"_xlfn.XLOOKUP(C805,Data!C:C,Data!I:I)","v":{"$error":"#N/A"}},{"$error":"#N/A"},{"$f":"_xlfn.XLOOKUP(C805,Data!C:C,Data!G:G,0)","v":0},{"$f":"_xlfn.XLOOKUP(C805,Data!C:C,Data!F:F)","v":{"$error":"#N/A"}},{"$f":"_xlfn.XLOOKUP(C805,Data!C:C,Data!H:H,0)","v":0},{"$error":"#N/A"},{"$error":"#N/A"},{"$error":"#N/A"},{"$error":"#N/A"},{"$error":"#N/A"},0,{"$error":"#N/A"},"","","",null,{"$error":"#N/A"}]
["2021-03-24","01:23:00","2021-03-24T01:23:00",null,{"$f":"_xlfn.XLOOKUP(C806,Data!C:C,Data!I:I)","v":{"$error":"#N/A"}},{"$error":"#N/A"},{"$f":"_xlfn.XLOOKUP(C806,Data!C:C,Data!G:G,0)","v":0},{"$f":"_xlfn.XLOOKUP(C806,Data!C:C,Data!F:F)","v":{"$error":"#N/A"}},{"$f":"_xlfn.XLOOKUP(C806,Data!C:C,Data!H:H,0)","v":0},{"$error":"#N/A"},{"$error":"#N/A"},{"$error":"#N/A"},{"$error":"#N/A"},{"$error":"#N/A"},0,{"$error":"#N/A"},"","","",null,{"$error":"#N/A"}]
["2021-03-24","01:24:00","2021-03-24T01:24:00",null,{"$f":"_xlfn.XLOOKUP(C807,Data!C:C,Data!I:I)","v":{"$error":"#N/A"}},{"$error":"#N/A"},{"$f":"_xlfn.XLOOKUP(C807,Data!C:C,Data!G:G,0)","v":0},{"$f":"_xlfn.XLOOKUP(C807,Data!C:C,Data!F:F)","v":{"$error":"#N/A"}},{"$f":"_xlfn.XLOOKUP(C807,Data!C:C,Data!H:H,0)","v":0},{"$error":"#N/A"},{"$error":"#N/A"},{"$error":"#N/A"},{"$error":"#N/A"},{"$error":"#N/A"},0,{"$error":"#N/A"},"","","",null,{"$error":"#N/A"}]
["2021-03-24","01:25:00","2021-03-24T01:25:00",null,{"$f":"_xlfn.XLOOKUP(C808,Data!C:C,Data!I:I)","v":{"$error":"#N/A"}},{"$error":"#N/A"},{"$f":"_xlfn.XLOOKUP(C808,Data!C:C,Data!G:G,0)","v":0},{"$f":"_xlfn.XLOOKUP(C808,Data!C:C,Data!F:F)","v":{"$error":"#N/A"}},{"$f":"_xlfn.XLOOKUP(C808,Data!C:C,Data!H:H,0)","v":0},{"$error":"#N/A"},{"$error":"#N/A"},{"$error":"#N/A"},{"$error":"#N/A"},{"$error":"#N/A"},0,{"$error":"#N/A"},"","","",null,{"$error":"#N/A"}]
["2021-03-24","01:26:00","2021-03-24T01:26:00",null,{"$f":"_xlfn.XLOOKUP(C809,Data!C:C,Data!I:I)","v":{"$error":"#N/A"}},{"$error":"#N/A"},{"$f":"_xlfn.XLOOKUP(C809,Data!C:C,Data!G:G,0)","v":0},{"$f":"_xlfn.XLOOKUP(C809,Data!C:C,Data!F:F)","v":{"$error":"#N/A"}},{"$f":"_xlfn.XLOOKUP(C809,Data!C:C,Data!H:H,0)","v":0},{"$error":"#N/A"},{"$error":"#N/A"},{"$error":"#N/A"},{"$error":"#N/A"},{"$error":"#N/A"},0,{"$error":"#N/A"},"","","",null,{"$error":"#N/A"}]
["2021-03-24","01:27:00","2021-03-24T01:27:00",null,{"$f":"_xlfn.XLOOKUP(C810,Data!C:C,Data!I:I)","v":{"$error":"#N/A"}},{"$error":"#N/A"},{"$f":"_xlfn.XLOOKUP(C810,Data!C:C,Data!G:G,0)","v":0},{"$f":"_xlfn.XLOOKUP(C810,Data!C:C,Data!F:F)","v":{"$error":"#N/A"}},{"$f":"_xlfn.XLOOKUP(C810,Data!C:C,Data!H:H,0)","v":0},{"$error":"#N/A"},{"$error":"#N/A"},{"$error":"#N/A"},{"$error":"#N/A"},{"$error":"#N/A"},0,{"$error":"#N/A"},"","","",null,{"$error":"#N/A"}]
["2021-03-24","01:28:00","2021-03-24T01:28:00",null,{"$f":"_xlfn.XLOOKUP(C811,Data!C:C,Data!I:I)","v":{"$error":"#N/A"}},{"$error":"#N/A"},{"$f":"_xlfn.XLOOKUP(C811,Data!C:C,Data!G:G,0)","v":0},{"$f":"_xlfn.XLOOKUP(C811,Data!C:C,Data!F:F)","v":{"$error":"#N/A"}},{"$f":"_xlfn.XLOOKUP(C811,Data!C:C,Data!H:H,0)","v":0},{"$error":"#N/A"},{"$error":"#N/A"},{"$error":"#N/A"},{"$error":"#N/A"},{"$error":"#N/A"},0,{"$error":"#N/A"},"","","",null,{"$error":"#N/A"}]
["2021-03-24","01:29:00","2021-03-24T01:29:00",null,{"$f":"_xlfn.XLOOKUP(C812,Data!C:C,Data!I:I)","v":{"$error":"#N/A"}},{"$error":"#N/A"},{"$f":"_xlfn.XLOOKUP(C812,Data!C:C,Data!G:G,0)","v":0},{"$f":"_xlfn.XLOOKUP(C812,Data!C:C,Data!F:F)","v":{"$error":"#N/A"}},{"$f":"_xlfn.XLOOKUP(C812,Data!C:C,Data!H:H,0)","v":0},{"$error":"#N/A"},{"$error":"#N/A"},{"$error":"#N/A"},{"$error":"#N/A"},{"$error":"#N/A"},0,{"$error":"#N/A"},"","","",null,{"$error":"#N/A"}]
["2021-03-24","01:30:00","2021-03-24T01:30:00",null,{"$f":"_xlfn.XLOOKUP(C813,Data!C:C,Data!I:I)","v":{"$error":"#N/A"}},{"$error":"#N/A"},{"$f":"_xlfn.XLOOKUP(C813,Data!C:C,Data!G:G,0)","v":0},{"$f":"_xlfn.XLOOKUP(C813,Data!C:C,Data!F:F)","v":{"$error":"#N/A"}},{"$f":"_xlfn.XLOOKUP(C813,Data!C:C,Data!H:H,0)","v":0},{"$error":"#N/A"},{"$error":"#N/A"},{"$error":"#N/A"},{"$error":"#N/A"},{"$error":"#N/A"},0,{"$error":"#N/A"},"","","",null,{"$error":"#N/A"}]
["2021-03-24","01:31:00","2021-03-24T01:31:00",null,{"$f":"_xlfn.XLOOKUP(C814,Data!C:C,Data!I:I)","v":{"$error":"#N/A"}},{"$error":"#N/A"},{"$f":"_xlfn.XLOOKUP(C814,Data!C:C,Data!G:G,0)","v":0},{"$f":"_xlfn.XLOOKUP(C814,Data!C:C,Data!F:F)","v":{"$error":"#N/A"}},{"$f":"_xlfn.XLOOKUP(C814,Data!C:C,Data!H:H,0)","v":0},{"$error":"#N/A"},{"$error":"#N/A"},{"$error":"#N/A"},{"$error":"#N/A"},{"$error":"#N/A"},0,{"$error":"#N/A"},"","","",null,{"$error":"#N/A"}]
["2021-03-24","01:32:00","2021-03-24T01:32:00",null,{"$f":"_xlfn.XLOOKUP(C815,Data!C:C,Data!I:I)","v":{"$error":"#N/A"}},{"$error":"#N/A"},{"$f":"_xlfn.XLOOKUP(C815,Data!C:C,Data!G:G,0)","v":0},{"$f":"_xlfn.XLOOKUP(C815,Data!C:C,Data!F:F)","v":{"$error":"#N/A"}},{"$f":"_xlfn.XLOOKUP(C815,Data!C:C,Data!H:H,0)","v":0},{"$error":"#N/A"},{"$error":"#N/A"},{"$error":"#N/A"},{"$error":"#N/A"},{"$error":"#N/A"},0,{"$error":"#N/A"},"","","",null,{"$error":"#N/A"}]
["2021-03-24","01:33:00","2021-03-24T01:33:00",null,{"$f":"_xlfn.XLOOKUP(C816,Data!C:C,Data!I:I)","v":{"$error":"#N/A"}},{"$error":"#N/A"},{"$f":"_xlfn.XLOOKUP(C816,Data!C:C,Data!G:G,0)","v":0},{"$f":"_xlfn.XLOOKUP(C816,Data!C:C,Data!F:F)","v":{"$error":"#N/A"}},{"$f":"_xlfn.XLOOKUP(C816,Data!C:C,Data!H:H,0)","v":0},{"$error":"#N/A"},{"$error":"#N/A"},{"$error":"#N/A"},{"$error":"#N/A"},{"$error":"#N/A"},0,{"$error":"#N/A"},"","","",null,{"$error":"#N/A"}]
["2021-03-24","01:34:00","2021-03-24T01:34:00",null,{"$f":"_xlfn.XLOOKUP(C817,Data!C:C,Data!I:I)","v":{"$error":"#N/A"}},{"$error":"#N/A"},{"$f":"_xlfn.XLOOKUP(C817,Data!C:C,Data!G:G,0)","v":0},{"$f":"_xlfn.XLOOKUP(C817,Data!C:C,Data!F:F)","v":{"$error":"#N/A"}},{"$f":"_xlfn.XLOOKUP(C817,Data!C:C,Data!H:H,0)","v":0},{"$error":"#N/A"},{"$error":"#N/A"},{"$error":"#N/A"},{"$error":"#N/A"},{"$error":"#N/A"},0,{"$error":"#N/A"},"","","",null,{"$error":"#N/A"}]
["2021-03-24","01:35:00","2021-03-24T01:35:00",null,{"$f":"_xlfn.XLOOKUP(C818,Data!C:C,Data!I:I)","v":{"$error":"#N/A"}},{"$error":"#N/A"},{"$f":"_xlfn.XLOOKUP(C818,Data!C:C,Data!G:G,0)","v":0},{"$f":"_xlfn.XLOOKUP(C818,Data!C:C,Data!F:F)","v":{"$error":"#N/A"}},{"$f":"_xlfn.XLOOKUP(C818,Data!C:C,Data!H:H,0)","v":0},{"$error":"#N/A"},{"$error":"#N/A"},{"$error":"#N/A"},{"$error":"#N/A"},{"$error":"#N/A"},0,{"$error":"#N/A"},"","","",null,{"$error":"#N/A"}]
["2021-03-24","01:36:00","2021-03-24T01:36:00",null,{"$f":"_xlfn.XLOOKUP(C819,Data!C:C,Data!I:I)","v":{"$error":"#N/A"}},{"$error":"#N/A"},{"$f":"_xlfn.XLOOKUP(C819,Data!C:C,Data!G:G,0)","v":0},{"$f":"_xlfn.XLOOKUP(C819,Data!C:C,Data!F:F)","v":{"$error":"#N/A"}},{"$f":"_xlfn.XLOOKUP(C819,Data!C:C,Data!H:H,0)","v":0},{"$error":"#N/A"},{"$error":"#N/A"},{"$error":"#N/A"},{"$error":"#N/A"},{"$error":"#N/A"},0,{"$error":"#N/A"},"","","",null,{"$error":"#N/A"}]
["2021-03-24","01:37:00","2021-03-24T01:37:00",null,{"$f":"_xlfn.XLOOKUP(C820,Data!C:C,Data!I:I)","v":{"$error":"#N/A"}},{"$error":"#N/A"},{"$f":"_xlfn.XLOOKUP(C820,Data!C:C,Data!G:G,0)","v":0},{"$f":"_xlfn.XLOOKUP(C820,Data!C:C,Data!F:F)","v":{"$error":"#N/A"}},{"$f":"_xlfn.XLOOKUP(C820,Data!C:C,Data!H:H,0)","v":0},{"$error":"#N/A"},{"$error":"#N/A"},{"$error":"#N/A"},{"$error":"#N/A"},{"$error":"#N/A"},0,{"$error":"#N/A"},"","","",null,{"$error":"#N/A"}]
["2021-03-24","01:38:00","2021-03-24T01:38:00",null,{"$f":"_xlfn.XLOOKUP(C821,Data!C:C,Data!I:I)","v":{"$error":"#N/A"}},{"$error":"#N/A"},{"$f":"_xlfn.XLOOKUP(C821,Data!C:C,Data!G:G,0)","v":0},{"$f":"_xlfn.XLOOKUP(C821,Data!C:C,Data!F:F)","v":{"$error":"#N/A"}},{"$f":"_xlfn.XLOOKUP(C821,Data!C:C,Data!H:H,0)","v":0},{"$error":"#N/A"},{"$error":"#N/A"},{"$error":"#N/A"},{"$error":"#N/A"},{"$error":"#N/A"},0,{"$error":"#N/A"},"","","",null,{"$error":"#N/A"}]
["2021-03-24","01:39:00","2021-03-24T01:39:00",null,{"$f":"_xlfn.XLOOKUP(C822,Data!C:C,Data!I:I)","v":{"$error":"#N/A"}},{"$error":"#N/A"},{"$f":"_xlfn.XLOOKUP(C822,Data!C:C,Data!G:G,0)","v":0},{"$f":"_xlfn.XLOOKUP(C822,Data!C:C,Data!F:F)","v":{"$error":"#N/A"}},{"$f":"_xlfn.XLOOKUP(C822,Data!C:C,Data!H:H,0)","v":0},{"$error":"#N/A"},{"$error":"#N/A"},{"$error":"#N/A"},{"$error":"#N/A"},{"$error":"#N/A"},0,{"$error":"#N/A"},"","","",null,{"$error":"#N/A"}]
["2021-03-24","01:40:00","2021-03-24T01:40:00",null,{"$f":"_xlfn.XLOOKUP(C823,Data!C:C,Data!I:I)","v":{"$error":"#N/A"}},{"$error":"#N/A"},{"$f":"_xlfn.XLOOKUP(C823,Data!C:C,Data!G:G,0)","v":0},{"$f":"_xlfn.XLOOKUP(C823,Data!C:C,Data!F:F)","v":{"$error":"#N/A"}},{"$f":"_xlfn.XLOOKUP(C823,Data!C:C,Data!H:H,0)","v":0},{"$error":"#N/A"},{"$error":"#N/A"},{"$error":"#N/A"},{"$error":"#N/A"},{"$error":"#N/A"},0,{"$error":"#N/A"},"","","",null,{"$error":"#N/A"}]
["2021-03-24","01:41:00","2021-03-24T01:41:00",null,{"$f":"_xlfn.XLOOKUP(C824,Data!C:C,Data!I:I)","v":{"$error":"#N/A"}},{"$error":"#N/A"},{"$f":"_xlfn.XLOOKUP(C824,Data!C:C,Data!G:G,0)","v":0},{"$f":"_xlfn.XLOOKUP(C824,Data!C:C,Data!F:F)","v":{"$error":"#N/A"}},{"$f":"_xlfn.XLOOKUP(C824,Data!C:C,Data!H:H,0)","v":0},{"$error":"#N/A"},{"$error":"#N/A"},{"$error":"#N/A"},{"$error":"#N/A"},{"$error":"#N/A"},0,{"$error":"#N/A"},"","","",null,{"$error":"#N/A"}]
["2021-03-24","01:42:00","2021-03-24T01:42:00",null,{"$f":"_xlfn.XLOOKUP(C825,Data!C:C,Data!I:I)","v":{"$error":"#N/A"}},{"$error":"#N/A"},{"$f":"_xlfn.XLOOKUP(C825,Data!C:C,Data!G:G,0)","v":0},{"$f":"_xlfn.XLOOKUP(C825,Data!C:C,Data!F:F)","v":{"$error":"#N/A"}},{"$f":"_xlfn.XLOOKUP(C825,Data!C:C,Data!H:H,0)","v":0},{"$error":"#N/A"},{"$error":"#N/A"},{"$error":"#N/A"},{"$error":"#N/A"},{"$error":"#N/A"},0,{"$error":"#N/A"},"","","",null,{"$error":"#N/A"}]
["2021-03-24","01:43:00","2021-03-24T01:43:00",null,{"$f":"_xlfn.XLOOKUP(C826,Data!C:C,Data!I:I)","v":{"$error":"#N/A"}},{"$error":"#N/A"},{"$f":"_xlfn.XLOOKUP(C826,Data!C:C,Data!G:G,0)","v":0},{"$f":"_xlfn.XLOOKUP(C826,Data!C:C,Data!F:F)","v":{"$error":"#N/A"}},{"$f":"_xlfn.XLOOKUP(C826,Data!C:C,Data!H:H,0)","v":0},{"$error":"#N/A"},{"$error":"#N/A"},{"$error":"#N/A"},{"$error":"#N/A"},{"$error":"#N/A"},0,{"$error":"#N/A"},"","","",null,{"$error":"#N/A"}]
["2021-03-24","01:44:00","2021-03-24T01:44:00",null,{"$f":"_xlfn.XLOOKUP(C827,Data!C:C,Data!I:I)","v":{"$error":"#N/A"}},{"$error":"#N/A"},{"$f":"_xlfn.XLOOKUP(C827,Data!C:C,Data!G:G,0)","v":0},{"$f":"_xlfn.XLOOKUP(C827,Data!C:C,Data!F:F)","v":{"$error":"#N/A"}},{"$f":"_xlfn.XLOOKUP(C827,Data!C:C,Data!H:H,0)","v":0},{"$error":"#N/A"},{"$error":"#N/A"},{"$error":"#N/A"},{"$error":"#N/A"},{"$error":"#N/A"},0,{"$error":"#N/A"},"","","",null,{"$error":"#N/A"}]
["2021-03-24","01:45:00","2021-03-24T01:45:00",null,{"$f":"_xlfn.XLOOKUP(C828,Data!C:C,Data!I:I)","v":{"$error":"#N/A"}},{"$error":"#N/A"},{"$f":"_xlfn.XLOOKUP(C828,Data!C:C,Data!G:G,0)","v":0},{"$f":"_xlfn.XLOOKUP(C828,Data!C:C,Data!F:F)","v":{"$error":"#N/A"}},{"$f":"_xlfn.XLOOKUP(C828,Data!C:C,Data!H:H,0)","v":0},{"$error":"#N/A"},{"$error":"#N/A"},{"$error":"#N/A"},{"$error":"#N/A"},{"$error":"#N/A"},0,{"$error":"#N/A"},"","","",null,{"$error":"#N/A"}]
["2021-03-24","01:46:00","2021-03-24T01:46:00",null,{"$f":"_xlfn.XLOOKUP(C829,Data!C:C,Data!I:I)","v":{"$error":"#N/A"}},{"$error":"#N/A"},{"$f":"_xlfn.XLOOKUP(C829,Data!C:C,Data!G:G,0)","v":0},{"$f":"_xlfn.XLOOKUP(C829,Data!C:C,Data!F:F)","v":{"$error":"#N/A"}},{"$f":"_xlfn.XLOOKUP(C829,Data!C:C,Data!H:H,0)","v":0},{"$error":"#N/A"},{"$error":"#N/A"},{"$error":"#N/A"},{"$error":"#N/A"},{"$error":"#N/A"},0,{"$error":"#N/A"},"","","",null,{"$error":"#N/A"}]
["2021-03-24","01:47:00","2021-03-24T01:47:00",null,{"$f":"_xlfn.XLOOKUP(C830,Data!C:C,Data!I:I)","v":{"$error":"#N/A"}},{"$error":"#N/A"},{"$f":"_xlfn.XLOOKUP(C830,Data!C:C,Data!G:G,0)","v":0},{"$f":"_xlfn.XLOOKUP(C830,Data!C:C,Data!F:F)","v":{"$error":"#N/A"}},{"$f":"_xlfn.XLOOKUP(C830,Data!C:C,Data!H:H,0)","v":0},{"$error":"#N/A"},{"$error":"#N/A"},{"$error":"#N/A"},{"$error":"#N/A"},{"$error":"#N/A"},0,{"$error":"#N/A"},"","","",null,{"$error":"#N/A"}]
["2021-03-24","01:48:00","2021-03-24T01:48:00",null,{"$f":"_xlfn.XLOOKUP(C831,Data!C:C,Data!I:I)","v":{"$error":"#N/A"}},{"$error":"#N/A"},{"$f":"_xlfn.XLOOKUP(C831,Data!C:C,Data!G:G,0)","v":0},{"$f":"_xlfn.XLOOKUP(C831,Data!C:C,Data!F:F)","v":{"$error":"#N/A"}},{"$f":"_xlfn.XLOOKUP(C831,Data!C:C,Data!H:H,0)","v":0},{"$error":"#N/A"},{"$error":"#N/A"},{"$error":"#N/A"},{"$error":"#N/A"},{"$error":"#N/A"},0,{"$error":"#N/A"},"","","",null,{"$error":"#N/A"}]
["2021-03-24","01:49:00","2021-03-24T01:49:00",null,{"$f":"_xlfn.XLOOKUP(C832,Data!C:C,Data!I:I)","v":{"$error":"#N/A"}},{"$error":"#N/A"},{"$f":"_xlfn.XLOOKUP(C832,Data!C:C,Data!G:G,0)","v":0},{"$f":"_xlfn.XLOOKUP(C832,Data!C:C,Data!F:F)","v":{"$error":"#N/A"}},{"$f":"_xlfn.XLOOKUP(C832,Data!C:C,Data!H:H,0)","v":0},{"$f":"IF(AND(MAX(E830:E831)=255,MAX(E832:E833)=255,  E831+E832+E833<3*255, OR(I832=123,I832=124,I832=106,I832=108)),   I832,   IF(AND(MAX(E830:E831)=255,MAX(E832:E833)=255,  E831+E832+E833<3*255, OR(I832>=80,I832<100)),106,108))","v":{"$error":"#N/A"}},{"$error":"#N/A"},{"$error":"#N/A"},{"$error":"#N/A"},{"$error":"#N/A"},0,{"$error":"#N/A"},"","","",null,{"$error":"#N/A"}]
["2021-03-24","01:50:00","2021-03-24T01:50:00",null,{"$f":"_xlfn.XLOOKUP(C833,Data!C:C,Data!I:I)","v":{"$error":"#N/A"}},{"$error":"#N/A"},{"$f":"_xlfn.XLOOKUP(C833,Data!C:C,Data!G:G,0)","v":0},{"$f":"_xlfn.XLOOKUP(C833,Data!C:C,Data!F:F)","v":{"$error":"#N/A"}},{"$f":"_xlfn.XLOOKUP(C833,Data!C:C,Data!H:H,0)","v":0},{"$error":"#N/A"},{"$error":"#N/A"},{"$error":"#N/A"},{"$error":"#N/A"},{"$error":"#N/A"},0,{"$error":"#N/A"},"","","",null,{"$error":"#N/A"}]
["2021-03-24","01:51:00","2021-03-24T01:51:00",null,{"$f":"_xlfn.XLOOKUP(C834,Data!C:C,Data!I:I)","v":{"$error":"#N/A"}},{"$error":"#N/A"},{"$f":"_xlfn.XLOOKUP(C834,Data!C:C,Data!G:G,0)","v":0},{"$f":"_xlfn.XLOOKUP(C834,Data!C:C,Data!F:F)","v":{"$error":"#N/A"}},{"$f":"_xlfn.XLOOKUP(C834,Data!C:C,Data!H:H,0)","v":0},{"$error":"#N/A"},{"$error":"#N/A"},{"$error":"#N/A"},{"$error":"#N/A"},{"$error":"#N/A"},0,{"$error":"#N/A"},"","","",null,{"$error":"#N/A"}]
["2021-03-24","01:52:00",{"$f":"A835+B835","v":"2021-03-24T01:52:00"},null,{"$f":"_xlfn.XLOOKUP(C835,Data!C:C,Data!I:I)","v":{"$error":"#N/A"}},{"$error":"#N/A"},{"$f":"_xlfn.XLOOKUP(C835,Data!C:C,Data!G:G,0)","v":0},{"$f":"_xlfn.XLOOKUP(C835,Data!C:C,Data!F:F)","v":{"$error":"#N/A"}},{"$f":"_xlfn.XLOOKUP(C835,Data!C:C,Data!H:H,0)","v":0},{"$error":"#N/A"},{"$f":"IF(AND(I835<100,  I835>=80,  OR(J835=105, J835=106,  J835=123)),  5,  0)","v":{"$error":"#N/A"}},{"$error":"#N/A"},{"$error":"#N/A"},{"$error":"#N/A"},{"$f":"IFERROR(F835,0)","v":0},{"$error":"#N/A"},"","","",null,{"$error":"#N/A"}]
["2021-03-24","01:53:00","2021-03-24T01:53:00",null,{"$f":"_xlfn.XLOOKUP(C836,Data!C:C,Data!I:I)","v":{"$error":"#N/A"}},{"$error":"#N/A"},{"$f":"_xlfn.XLOOKUP(C836,Data!C:C,Data!G:G,0)","v":0},{"$f":"_xlfn.XLOOKUP(C836,Data!C:C,Data!F:F)","v":{"$error":"#N/A"}},{"$f":"_xlfn.XLOOKUP(C836,Data!C:C,Data!H:H,0)","v":0},{"$error":"#N/A"},{"$error":"#N/A"},{"$f":"IF(AND(I836<130,  I836>104,  OR(J836=105, J836=106,  J836=123),  S836>$S$1450+$S$1443),  20,  0)","v":{"$error":"#N/A"}},{"$f":"IF(AND(I836<130,  I836>104,  OR(J836=105, J836=106,  J836=123),  R836>$Q$1449,  S836<=$S$1450+$S$1443),  20,  0)","v":{"$error":"#N/A"}},{"$f":"IF(AND(I836<130,  I836>104,  OR(J836=105, J836=106,  J836=123),  R836<=$Q$1449,  S836<=$S$1450+$S$1443),  20,  0)","v":{"$error":"#N/A"}},0,{"$f":"IF(Q836=\"\",F836,IF(Q836=0,P835,Q836))","v":{"$error":"#N/A"}},{"$f":"IF(I836>109,IF(O836*$Q$1451>(O835+O837)/2,MIN(O835:O837),O836),\"\")","v":""},"","",null,{"$error":"#N/A"}]
["2021-03-24","01:54:00","2021-03-24T01:54:00",null,{"$f":"_xlfn.XLOOKUP(C837,Data!C:C,Data!I:I)","v":{"$error":"#N/A"}},{"$f":"IF(E837=255,IF(MIN(E836:E838)=255,#N/A,MIN(E836:E838)),E837)","v":{"$error":"#N/A"}},{"$f":"_xlfn.XLOOKUP(C837,Data!C:C,Data!G:G,0)","v":0},{"$f":"_xlfn.XLOOKUP(C837,Data!C:C,Data!F:F)","v":{"$error":"#N/A"}},{"$f":"_xlfn.XLOOKUP(C837,Data!C:C,Data!H:H,0)","v":0},{"$error":"#N/A"},{"$error":"#N/A"},{"$error":"#N/A"},{"$error":"#N/A"},{"$error":"#N/A"},0,{"$error":"#N/A"},"","","",null,{"$error":"#N/A"}]
["2021-03-24","01:55:00","2021-03-24T01:55:00",null,{"$f":"_xlfn.XLOOKUP(C838,Data!C:C,Data!I:I)","v":{"$error":"#N/A"}},{"$error":"#N/A"},{"$f":"_xlfn.XLOOKUP(C838,Data!C:C,Data!G:G,0)","v":0},{"$f":"_xlfn.XLOOKUP(C838,Data!C:C,Data!F:F)","v":{"$error":"#N/A"}},{"$f":"_xlfn.XLOOKUP(C838,Data!C:C,Data!H:H,0)","v":0},{"$error":"#N/A"},{"$error":"#N/A"},{"$error":"#N/A"},{"$error":"#N/A"},{"$error":"#N/A"},0,{"$error":"#N/A"},"","","",null,{"$error":"#N/A"}]
["2021-03-24","01:56:00","2021-03-24T01:56:00",null,{"$f":"_xlfn.XLOOKUP(C839,Data!C:C,Data!I:I)","v":{"$error":"#N/A"}},{"$error":"#N/A"},{"$f":"_xlfn.XLOOKUP(C839,Data!C:C,Data!G:G,0)","v":0},{"$f":"_xlfn.XLOOKUP(C839,Data!C:C,Data!F:F)","v":{"$error":"#N/A"}},{"$f":"_xlfn.XLOOKUP(C839,Data!C:C,Data!H:H,0)","v":0},{"$error":"#N/A"},{"$error":"#N/A"},{"$error":"#N/A"},{"$error":"#N/A"},{"$error":"#N/A"},0,{"$error":"#N/A"},"","","",null,{"$f":"IF(F839=\"\",\"\",AVERAGE(F835:F843))","v":{"$error":"#N/A"}}]
["2021-03-24","01:57:00","2021-03-24T01:57:00",null,{"$f":"_xlfn.XLOOKUP(C840,Data!C:C,Data!I:I)","v":{"$error":"#N/A"}},{"$error":"#N/A"},{"$f":"_xlfn.XLOOKUP(C840,Data!C:C,Data!G:G,0)","v":0},{"$f":"_xlfn.XLOOKUP(C840,Data!C:C,Data!F:F)","v":{"$error":"#N/A"}},{"$f":"_xlfn.XLOOKUP(C840,Data!C:C,Data!H:H,0)","v":0},{"$error":"#N/A"},{"$error":"#N/A"},{"$error":"#N/A"},{"$error":"#N/A"},{"$error":"#N/A"},0,{"$error":"#N/A"},"",{"$f":"IF(Q840=\"\",\"\",AVERAGE(Q836:Q844))","v":""},{"$f":"IF(Q840=\"\",\"\",MAX(Q836:Q844)-MIN(Q836:Q844))","v":""},null,{"$error":"#N/A"}]
["2021-03-24","01:58:00","2021-03-24T01:58:00",null,{"$f":"_xlfn.XLOOKUP(C841,Data!C:C,Data!I:I)","v":{"$error":"#N/A"}},{"$error":"#N/A"},{"$f":"_xlfn.XLOOKUP(C841,Data!C:C,Data!G:G,0)","v":0},{"$f":"_xlfn.XLOOKUP(C841,Data!C:C,Data!F:F)","v":{"$error":"#N/A"}},{"$f":"_xlfn.XLOOKUP(C841,Data!C:C,Data!H:H,0)","v":0},{"$error":"#N/A"},{"$error":"#N/A"},{"$error":"#N/A"},{"$error":"#N/A"},{"$error":"#N/A"},0,{"$error":"#N/A"},"","","",null,{"$error":"#N/A"}]
["2021-03-24","01:59:00","2021-03-24T01:59:00",null,{"$f":"_xlfn.XLOOKUP(C842,Data!C:C,Data!I:I)","v":{"$error":"#N/A"}},{"$error":"#N/A"},{"$f":"_xlfn.XLOOKUP(C842,Data!C:C,Data!G:G,0)","v":0},{"$f":"_xlfn.XLOOKUP(C842,Data!C:C,Data!F:F)","v":{"$error":"#N/A"}},{"$f":"_xlfn.XLOOKUP(C842,Data!C:C,Data!H:H,0)","v":0},{"$error":"#N/A"},{"$error":"#N/A"},{"$error":"#N/A"},{"$error":"#N/A"},{"$error":"#N/A"},0,{"$error":"#N/A"},"","","",null,{"$error":"#N/A"}]
["2021-03-24","02:00:00","2021-03-24T02:00:00",null,{"$f":"_xlfn.XLOOKUP(C843,Data!C:C,Data!I:I)","v":{"$error":"#N/A"}},{"$error":"#N/A"},{"$f":"_xlfn.XLOOKUP(C843,Data!C:C,Data!G:G,0)","v":0},{"$f":"_xlfn.XLOOKUP(C843,Data!C:C,Data!F:F)","v":{"$error":"#N/A"}},{"$f":"_xlfn.XLOOKUP(C843,Data!C:C,Data!H:H,0)","v":0},{"$error":"#N/A"},{"$error":"#N/A"},{"$error":"#N/A"},{"$error":"#N/A"},{"$error":"#N/A"},0,{"$error":"#N/A"},"","","",null,{"$error":"#N/A"}]
["2021-03-24","02:01:00","2021-03-24T02:01:00",null,{"$f":"_xlfn.XLOOKUP(C844,Data!C:C,Data!I:I)","v":{"$error":"#N/A"}},{"$error":"#N/A"},{"$f":"_xlfn.XLOOKUP(C844,Data!C:C,Data!G:G,0)","v":0},{"$f":"_xlfn.XLOOKUP(C844,Data!C:C,Data!F:F)","v":{"$error":"#N/A"}},{"$f":"_xlfn.XLOOKUP(C844,Data!C:C,Data!H:H,0)","v":0},{"$error":"#N/A"},{"$error":"#N/A"},{"$error":"#N/A"},{"$error":"#N/A"},{"$error":"#N/A"},0,{"$error":"#N/A"},"","","",null,{"$error":"#N/A"}]
["2021-03-24","02:02:00","2021-03-24T02:02:00",null,{"$f":"_xlfn.XLOOKUP(C845,Data!C:C,Data!I:I)","v":{"$error":"#N/A"}},{"$error":"#N/A"},{"$f":"_xlfn.XLOOKUP(C845,Data!C:C,Data!G:G,0)","v":0},{"$f":"_xlfn.XLOOKUP(C845,Data!C:C,Data!F:F)","v":{"$error":"#N/A"}},{"$f":"_xlfn.XLOOKUP(C845,Data!C:C,Data!H:H,0)","v":0},{"$error":"#N/A"},{"$error":"#N/A"},{"$error":"#N/A"},{"$error":"#N/A"},{"$error":"#N/A"},0,{"$error":"#N/A"},"","","",null,{"$error":"#N/A"}]
["2021-03-24","02:03:00","2021-03-24T02:03:00",null,{"$f":"_xlfn.XLOOKUP(C846,Data!C:C,Data!I:I)","v":{"$error":"#N/A"}},{"$error":"#N/A"},{"$f":"_xlfn.XLOOKUP(C846,Data!C:C,Data!G:G,0)","v":0},{"$f":"_xlfn.XLOOKUP(C846,Data!C:C,Data!F:F)","v":{"$error":"#N/A"}},{"$f":"_xlfn.XLOOKUP(C846,Data!C:C,Data!H:H,0)","v":0},{"$error":"#N/A"},{"$error":"#N/A"},{"$error":"#N/A"},{"$error":"#N/A"},{"$error":"#N/A"},0,{"$error":"#N/A"},"","","",null,{"$error":"#N/A"}]
["2021-03-24","02:04:00","2021-03-24T02:04:00",null,{"$f":"_xlfn.XLOOKUP(C847,Data!C:C,Data!I:I)","v":{"$error":"#N/A"}},{"$error":"#N/A"},{"$f":"_xlfn.XLOOKUP(C847,Data!C:C,Data!G:G,0)","v":0},{"$f":"_xlfn.XLOOKUP(C847,Data!C:C,Data!F:F)","v":{"$error":"#N/A"}},{"$f":"_xlfn.XLOOKUP(C847,Data!C:C,Data!H:H,0)","v":0},{"$error":"#N/A"},{"$error":"#N/A"},{"$error":"#N/A"},{"$error":"#N/A"},{"$error":"#N/A"},0,{"$error":"#N/A"},"","","",null,{"$error":"#N/A"}]
["2021-03-24","02:05:00","2021-03-24T02:05:00",null,{"$f":"_xlfn.XLOOKUP(C848,Data!C:C,Data!I:I)","v":{"$error":"#N/A"}},{"$error":"#N/A"},{"$f":"_xlfn.XLOOKUP(C848,Data!C:C,Data!G:G,0)","v":0},{"$f":"_xlfn.XLOOKUP(C848,Data!C:C,Data!F:F)","v":{"$error":"#N/A"}},{"$f":"_xlfn.XLOOKUP(C848,Data!C:C,Data!H:H,0)","v":0},{"$error":"#N/A"},{"$error":"#N/A"},{"$error":"#N/A"},{"$error":"#N/A"},{"$error":"#N/A"},0,{"$error":"#N/A"},"","","",null,{"$error":"#N/A"}]
["2021-03-24","02:06:00","2021-03-24T02:06:00",null,{"$f":"_xlfn.XLOOKUP(C849,Data!C:C,Data!I:I)","v":{"$error":"#N/A"}},{"$error":"#N/A"},{"$f":"_xlfn.XLOOKUP(C849,Data!C:C,Data!G:G,0)","v":0},{"$f":"_xlfn.XLOOKUP(C849,Data!C:C,Data!F:F)","v":{"$error":"#N/A"}},{"$f":"_xlfn.XLOOKUP(C849,Data!C:C,Data!H:H,0)","v":0},{"$error":"#N/A"},{"$error":"#N/A"},{"$error":"#N/A"},{"$error":"#N/A"},{"$error":"#N/A"},0,{"$error":"#N/A"},"","","",null,{"$error":"#N/A"}]
["2021-03-24","02:07:00","2021-03-24T02:07:00",null,{"$f":"_xlfn.XLOOKUP(C850,Data!C:C,Data!I:I)","v":{"$error":"#N/A"}},{"$error":"#N/A"},{"$f":"_xlfn.XLOOKUP(C850,Data!C:C,Data!G:G,0)","v":0},{"$f":"_xlfn.XLOOKUP(C850,Data!C:C,Data!F:F)","v":{"$error":"#N/A"}},{"$f":"_xlfn.XLOOKUP(C850,Data!C:C,Data!H:H,0)","v":0},{"$error":"#N/A"},{"$error":"#N/A"},{"$error":"#N/A"},{"$error":"#N/A"},{"$error":"#N/A"},0,{"$error":"#N/A"},"","","",null,{"$error":"#N/A"}]
["2021-03-24","02:08:00","2021-03-24T02:08:00",null,{"$f":"_xlfn.XLOOKUP(C851,Data!C:C,Data!I:I)","v":{"$error":"#N/A"}},{"$error":"#N/A"},{"$f":"_xlfn.XLOOKUP(C851,Data!C:C,Data!G:G,0)","v":0},{"$f":"_xlfn.XLOOKUP(C851,Data!C:C,Data!F:F)","v":{"$error":"#N/A"}},{"$f":"_xlfn.XLOOKUP(C851,Data!C:C,Data!H:H,0)","v":0},{"$error":"#N/A"},{"$error":"#N/A"},{"$error":"#N/A"},{"$error":"#N/A"},{"$error":"#N/A"},0,{"$error":"#N/A"},"","","",null,{"$error":"#N/A"}]
["2021-03-24","02:09:00","2021-03-24T02:09:00",null,{"$f":"_xlfn.XLOOKUP(C852,Data!C:C,Data!I:I)","v":{"$error":"#N/A"}},{"$error":"#N/A"},{"$f":"_xlfn.XLOOKUP(C852,Data!C:C,Data!G:G,0)","v":0},{"$f":"_xlfn.XLOOKUP(C852,Data!C:C,Data!F:F)","v":{"$error":"#N/A"}},{"$f":"_xlfn.XLOOKUP(C852,Data!C:C,Data!H:H,0)","v":0},{"$error":"#N/A"},{"$error":"#N/A"},{"$error":"#N/A"},{"$error":"#N/A"},{"$error":"#N/A"},0,{"$error":"#N/A"},"","","",null,{"$error":"#N/A"}]
[{"$f":"$A$723","v":"2021-03-24"},"02:10:00","2021-03-24T02:10:00",null,{"$f":"_xlfn.XLOOKUP(C853,Data!C:C,Data!I:I)","v":{"$error":"#N/A"}},{"$error":"#N/A"},{"$f":"_xlfn.XLOOKUP(C853,Data!C:C,Data!G:G,0)","v":0},{"$f":"_xlfn.XLOOKUP(C853,Data!C:C,Data!F:F)","v":{"$error":"#N/A"}},{"$f":"_xlfn.XLOOKUP(C853,Data!C:C,Data!H:H,0)","v":0},{"$error":"#N/A"},{"$error":"#N/A"},{"$error":"#N/A"},{"$error":"#N/A"},{"$error":"#N/A"},0,{"$error":"#N/A"},"","","",null,{"$error":"#N/A"}]
["2021-03-24","02:11:00","2021-03-24T02:11:00",null,{"$f":"_xlfn.XLOOKUP(C854,Data!C:C,Data!I:I)","v":{"$error":"#N/A"}},{"$error":"#N/A"},{"$f":"_xlfn.XLOOKUP(C854,Data!C:C,Data!G:G,0)","v":0},{"$f":"_xlfn.XLOOKUP(C854,Data!C:C,Data!F:F)","v":{"$error":"#N/A"}},{"$f":"_xlfn.XLOOKUP(C854,Data!C:C,Data!H:H,0)","v":0},{"$error":"#N/A"},{"$error":"#N/A"},{"$error":"#N/A"},{"$error":"#N/A"},{"$error":"#N/A"},0,{"$error":"#N/A"},"","","",null,{"$error":"#N/A"}]
["2021-03-24","02:12:00","2021-03-24T02:12:00",null,{"$f":"_xlfn.XLOOKUP(C855,Data!C:C,Data!I:I)","v":{"$error":"#N/A"}},{"$error":"#N/A"},{"$f":"_xlfn.XLOOKUP(C855,Data!C:C,Data!G:G,0)","v":0},{"$f":"_xlfn.XLOOKUP(C855,Data!C:C,Data!F:F)","v":{"$error":"#N/A"}},{"$f":"_xlfn.XLOOKUP(C855,Data!C:C,Data!H:H,0)","v":0},{"$error":"#N/A"},{"$error":"#N/A"},{"$error":"#N/A"},{"$error":"#N/A"},{"$error":"#N/A"},0,{"$error":"#N/A"},"","","",null,{"$error":"#N/A"}]
["2021-03-24","02:13:00","2021-03-24T02:13:00",null,{"$f":"_xlfn.XLOOKUP(C856,Data!C:C,Data!I:I)","v":{"$error":"#N/A"}},{"$error":"#N/A"},{"$f":"_xlfn.XLOOKUP(C856,Data!C:C,Data!G:G,0)","v":0},{"$f":"_xlfn.XLOOKUP(C856,Data!C:C,Data!F:F)","v":{"$error":"#N/A"}},{"$f":"_xlfn.XLOOKUP(C856,Data!C:C,Data!H:H,0)","v":0},{"$error":"#N/A"},{"$error":"#N/A"},{"$error":"#N/A"},{"$error":"#N/A"},{"$error":"#N/A"},0,{"$error":"#N/A"},"","","",null,{"$error":"#N/A"}]
["2021-03-24","02:14:00","2021-03-24T02:14:00",null,{"$f":"_xlfn.XLOOKUP(C857,Data!C:C,Data!I:I)","v":{"$error":"#N/A"}},{"$error":"#N/A"},{"$f":"_xlfn.XLOOKUP(C857,Data!C:C,Data!G:G,0)","v":0},{"$f":"_xlfn.XLOOKUP(C857,Data!C:C,Data!F:F)","v":{"$error":"#N/A"}},{"$f":"_xlfn.XLOOKUP(C857,Data!C:C,Data!H:H,0)","v":0},{"$error":"#N/A"},{"$error":"#N/A"},{"$error":"#N/A"},{"$error":"#N/A"},{"$error":"#N/A"},0,{"$error":"#N/A"},"","","",null,{"$error":"#N/A"}]
["2021-03-24","02:15:00","2021-03-24T02:15:00",null,{"$f":"_xlfn.XLOOKUP(C858,Data!C:C,Data!I:I)","v":{"$error":"#N/A"}},{"$error":"#N/A"},{"$f":"_xlfn.XLOOKUP(C858,Data!C:C,Data!G:G,0)","v":0},{"$f":"_xlfn.XLOOKUP(C858,Data!C:C,Data!F:F)","v":{"$error":"#N/A"}},{"$f":"_xlfn.XLOOKUP(C858,Data!C:C,Data!H:H,0)","v":0},{"$error":"#N/A"},{"$error":"#N/A"},{"$error":"#N/A"},{"$error":"#N/A"},{"$error":"#N/A"},0,{"$error":"#N/A"},"","","",null,{"$error":"#N/A"}]
["2021-03-24","02:16:00","2021-03-24T02:16:00",null,{"$f":"_xlfn.XLOOKUP(C859,Data!C:C,Data!I:I)","v":{"$error":"#N/A"}},{"$error":"#N/A"},{"$f":"_xlfn.XLOOKUP(C859,Data!C:C,Data!G:G,0)","v":0},{"$f":"_xlfn.XLOOKUP(C859,Data!C:C,Data!F:F)","v":{"$error":"#N/A"}},{"$f":"_xlfn.XLOOKUP(C859,Data!C:C,Data!H:H,0)","v":0},{"$error":"#N/A"},{"$error":"#N/A"},{"$error":"#N/A"},{"$error":"#N/A"},{"$error":"#N/A"},0,{"$error":"#N/A"},"","","",null,{"$error":"#N/A"}]
["2021-03-24","02:17:00","2021-03-24T02:17:00",null,{"$f":"_xlfn.XLOOKUP(C860,Data!C:C,Data!I:I)","v":{"$error":"#N/A"}},{"$error":"#N/A"},{"$f":"_xlfn.XLOOKUP(C860,Data!C:C,Data!G:G,0)","v":0},{"$f":"_xlfn.XLOOKUP(C860,Data!C:C,Data!F:F)","v":{"$error":"#N/A"}},{"$f":"_xlfn.XLOOKUP(C860,Data!C:C,Data!H:H,0)","v":0},{"$error":"#N/A"},{"$error":"#N/A"},{"$error":"#N/A"},{"$error":"#N/A"},{"$error":"#N/A"},0,{"$error":"#N/A"},"","","",null,{"$error":"#N/A"}]
["2021-03-24","02:18:00","2021-03-24T02:18:00",null,{"$f":"_xlfn.XLOOKUP(C861,Data!C:C,Data!I:I)","v":{"$error":"#N/A"}},{"$error":"#N/A"},{"$f":"_xlfn.XLOOKUP(C861,Data!C:C,Data!G:G,0)","v":0},{"$f":"_xlfn.XLOOKUP(C861,Data!C:C,Data!F:F)","v":{"$error":"#N/A"}},{"$f":"_xlfn.XLOOKUP(C861,Data!C:C,Data!H:H,0)","v":0},{"$error":"#N/A"},{"$error":"#N/A"},{"$error":"#N/A"},{"$error":"#N/A"},{"$error":"#N/A"},0,{"$error":"#N/A"},"","","",null,{"$error":"#N/A"}]
["2021-03-24","02:19:00","2021-03-24T02:19:00",null,{"$f":"_xlfn.XLOOKUP(C862,Data!C:C,Data!I:I)","v":{"$error":"#N/A"}},{"$error":"#N/A"},{"$f":"_xlfn.XLOOKUP(C862,Data!C:C,Data!G:G,0)","v":0},{"$f":"_xlfn.XLOOKUP(C862,Data!C:C,Data!F:F)","v":{"$error":"#N/A"}},{"$f":"_xlfn.XLOOKUP(C862,Data!C:C,Data!H:H,0)","v":0},{"$error":"#N/A"},{"$error":"#N/A"},{"$error":"#N/A"},{"$error":"#N/A"},{"$error":"#N/A"},0,{"$error":"#N/A"},"","","",null,{"$error":"#N/A"}]
["2021-03-24","02:20:00","2021-03-24T02:20:00",null,{"$f":"_xlfn.XLOOKUP(C863,Data!C:C,Data!I:I)","v":{"$error":"#N/A"}},{"$error":"#N/A"},{"$f":"_xlfn.XLOOKUP(C863,Data!C:C,Data!G:G,0)","v":0},{"$f":"_xlfn.XLOOKUP(C863,Data!C:C,Data!F:F)","v":{"$error":"#N/A"}},{"$f":"_xlfn.XLOOKUP(C863,Data!C:C,Data!H:H,0)","v":0},{"$error":"#N/A"},{"$error":"#N/A"},{"$error":"#N/A"},{"$error":"#N/A"},{"$error":"#N/A"},0,{"$error":"#N/A"},"","","",null,{"$error":"#N/A"}]
["2021-03-24","02:21:00","2021-03-24T02:21:00",null,{"$f":"_xlfn.XLOOKUP(C864,Data!C:C,Data!I:I)","v":{"$error":"#N/A"}},{"$error":"#N/A"},{"$f":"_xlfn.XLOOKUP(C864,Data!C:C,Data!G:G,0)","v":0},{"$f":"_xlfn.XLOOKUP(C864,Data!C:C,Data!F:F)","v":{"$error":"#N/A"}},{"$f":"_xlfn.XLOOKUP(C864,Data!C:C,Data!H:H,0)","v":0},{"$error":"#N/A"},{"$error":"#N/A"},{"$error":"#N/A"},{"$error":"#N/A"},{"$error":"#N/A"},0,{"$error":"#N/A"},"","","",null,{"$error":"#N/A"}]
["2021-03-24","02:22:00","2021-03-24T02:22:00",null,{"$f":"_xlfn.XLOOKUP(C865,Data!C:C,Data!I:I)","v":{"$error":"#N/A"}},{"$error":"#N/A"},{"$f":"_xlfn.XLOOKUP(C865,Data!C:C,Data!G:G,0)","v":0},{"$f":"_xlfn.XLOOKUP(C865,Data!C:C,Data!F:F)","v":{"$error":"#N/A"}},{"$f":"_xlfn.XLOOKUP(C865,Data!C:C,Data!H:H,0)","v":0},{"$error":"#N/A"},{"$error":"#N/A"},{"$error":"#N/A"},{"$error":"#N/A"},{"$error":"#N/A"},0,{"$error":"#N/A"},"","","",null,{"$error":"#N/A"}]
["2021-03-24","02:23:00","2021-03-24T02:23:00",null,{"$f":"_xlfn.XLOOKUP(C866,Data!C:C,Data!I:I)","v":{"$error":"#N/A"}},{"$error":"#N/A"},{"$f":"_xlfn.XLOOKUP(C866,Data!C:C,Data!G:G,0)","v":0},{"$f":"_xlfn.XLOOKUP(C866,Data!C:C,Data!F:F)","v":{"$error":"#N/A"}},{"$f":"_xlfn.XLOOKUP(C866,Data!C:C,Data!H:H,0)","v":0},{"$error":"#N/A"},{"$error":"#N/A"},{"$error":"#N/A"},{"$error":"#N/A"},{"$error":"#N/A"},0,{"$error":"#N/A"},"","","",null,{"$error":"#N/A"}]
["2021-03-24","02:24:00","2021-03-24T02:24:00",null,{"$f":"_xlfn.XLOOKUP(C867,Data!C:C,Data!I:I)","v":{"$error":"#N/A"}},{"$error":"#N/A"},{"$f":"_xlfn.XLOOKUP(C867,Data!C:C,Data!G:G,0)","v":0},{"$f":"_xlfn.XLOOKUP(C867,Data!C:C,Data!F:F)","v":{"$error":"#N/A"}},{"$f":"_xlfn.XLOOKUP(C867,Data!C:C,Data!H:H,0)","v":0},{"$error":"#N/A"},{"$error":"#N/A"},{"$error":"#N/A"},{"$error":"#N/A"},{"$error":"#N/A"},0,{"$error":"#N/A"},"","","",null,{"$error":"#N/A"}]
["2021-03-24","02:25:00","2021-03-24T02:25:00",null,{"$f":"_xlfn.XLOOKUP(C868,Data!C:C,Data!I:I)","v":{"$error":"#N/A"}},{"$error":"#N/A"},{"$f":"_xlfn.XLOOKUP(C868,Data!C:C,Data!G:G,0)","v":0},{"$f":"_xlfn.XLOOKUP(C868,Data!C:C,Data!F:F)","v":{"$error":"#N/A"}},{"$f":"_xlfn.XLOOKUP(C868,Data!C:C,Data!H:H,0)","v":0},{"$error":"#N/A"},{"$error":"#N/A"},{"$error":"#N/A"},{"$error":"#N/A"},{"$error":"#N/A"},0,{"$error":"#N/A"},"","","",null,{"$error":"#N/A"}]
["2021-03-24","02:26:00","2021-03-24T02:26:00",null,{"$f":"_xlfn.XLOOKUP(C869,Data!C:C,Data!I:I)","v":{"$error":"#N/A"}},{"$error":"#N/A"},{"$f":"_xlfn.XLOOKUP(C869,Data!C:C,Data!G:G,0)","v":0},{"$f":"_xlfn.XLOOKUP(C869,Data!C:C,Data!F:F)","v":{"$error":"#N/A"}},{"$f":"_xlfn.XLOOKUP(C869,Data!C:C,Data!H:H,0)","v":0},{"$error":"#N/A"},{"$error":"#N/A"},{"$error":"#N/A"},{"$error":"#N/A"},{"$error":"#N/A"},0,{"$error":"#N/A"},"","","",null,{"$error":"#N/A"}]
["2021-03-24","02:27:00","2021-03-24T02:27:00",null,{"$f":"_xlfn.XLOOKUP(C870,Data!C:C,Data!I:I)","v":{"$error":"#N/A"}},{"$error":"#N/A"},{"$f":"_xlfn.XLOOKUP(C870,Data!C:C,Data!G:G,0)","v":0},{"$f":"_xlfn.XLOOKUP(C870,Data!C:C,Data!F:F)","v":{"$error":"#N/A"}},{"$f":"_xlfn.XLOOKUP(C870,Data!C:C,Data!H:H,0)","v":0},{"$error":"#N/A"},{"$error":"#N/A"},{"$error":"#N/A"},{"$error":"#N/A"},{"$error":"#N/A"},0,{"$error":"#N/A"},"","","",null,{"$error":"#N/A"}]
["2021-03-24","02:28:00","2021-03-24T02:28:00",null,{"$f":"_xlfn.XLOOKUP(C871,Data!C:C,Data!I:I)","v":{"$error":"#N/A"}},{"$error":"#N/A"},{"$f":"_xlfn.XLOOKUP(C871,Data!C:C,Data!G:G,0)","v":0},{"$f":"_xlfn.XLOOKUP(C871,Data!C:C,Data!F:F)","v":{"$error":"#N/A"}},{"$f":"_xlfn.XLOOKUP(C871,Data!C:C,Data!H:H,0)","v":0},{"$error":"#N/A"},{"$error":"#N/A"},{"$error":"#N/A"},{"$error":"#N/A"},{"$error":"#N/A"},0,{"$error":"#N/A"},"","","",null,{"$error":"#N/A"}]
["2021-03-24","02:29:00","2021-03-24T02:29:00",null,{"$f":"_xlfn.XLOOKUP(C872,Data!C:C,Data!I:I)","v":{"$error":"#N/A"}},{"$error":"#N/A"},{"$f":"_xlfn.XLOOKUP(C872,Data!C:C,Data!G:G,0)","v":0},{"$f":"_xlfn.XLOOKUP(C872,Data!C:C,Data!F:F)","v":{"$error":"#N/A"}},{"$f":"_xlfn.XLOOKUP(C872,Data!C:C,Data!H:H,0)","v":0},{"$error":"#N/A"},{"$error":"#N/A"},{"$error":"#N/A"},{"$error":"#N/A"},{"$error":"#N/A"},0,{"$error":"#N/A"},"","","",null,{"$error":"#N/A"}]
["2021-03-24","02:30:00","2021-03-24T02:30:00",null,{"$f":"_xlfn.XLOOKUP(C873,Data!C:C,Data!I:I)","v":{"$error":"#N/A"}},{"$error":"#N/A"},{"$f":"_xlfn.XLOOKUP(C873,Data!C:C,Data!G:G,0)","v":0},{"$f":"_xlfn.XLOOKUP(C873,Data!C:C,Data!F:F)","v":{"$error":"#N/A"}},{"$f":"_xlfn.XLOOKUP(C873,Data!C:C,Data!H:H,0)","v":0},{"$error":"#N/A"},{"$error":"#N/A"},{"$error":"#N/A"},{"$error":"#N/A"},{"$error":"#N/A"},0,{"$error":"#N/A"},"","","",null,{"$error":"#N/A"}]
["2021-03-24","02:31:00","2021-03-24T02:31:00",null,{"$f":"_xlfn.XLOOKUP(C874,Data!C:C,Data!I:I)","v":{"$error":"#N/A"}},{"$error":"#N/A"},{"$f":"_xlfn.XLOOKUP(C874,Data!C:C,Data!G:G,0)","v":0},{"$f":"_xlfn.XLOOKUP(C874,Data!C:C,Data!F:F)","v":{"$error":"#N/A"}},{"$f":"_xlfn.XLOOKUP(C874,Data!C:C,Data!H:H,0)","v":0},{"$error":"#N/A"},{"$error":"#N/A"},{"$error":"#N/A"},{"$error":"#N/A"},{"$error":"#N/A"},0,{"$error":"#N/A"},"","","",null,{"$error":"#N/A"}]
["2021-03-24","02:32:00","2021-03-24T02:32:00",null,{"$f":"_xlfn.XLOOKUP(C875,Data!C:C,Data!I:I)","v":{"$error":"#N/A"}},{"$error":"#N/A"},{"$f":"_xlfn.XLOOKUP(C875,Data!C:C,Data!G:G,0)","v":0},{"$f":"_xlfn.XLOOKUP(C875,Data!C:C,Data!F:F)","v":{"$error":"#N/A"}},{"$f":"_xlfn.XLOOKUP(C875,Data!C:C,Data!H:H,0)","v":0},{"$error":"#N/A"},{"$error":"#N/A"},{"$error":"#N/A"},{"$error":"#N/A"},{"$error":"#N/A"},0,{"$error":"#N/A"},"","","",null,{"$error":"#N/A"}]
["2021-03-24","02:33:00","2021-03-24T02:33:00",null,{"$f":"_xlfn.XLOOKUP(C876,Data!C:C,Data!I:I)","v":{"$error":"#N/A"}},{"$error":"#N/A"},{"$f":"_xlfn.XLOOKUP(C876,Data!C:C,Data!G:G,0)","v":0},{"$f":"_xlfn.XLOOKUP(C876,Data!C:C,Data!F:F)","v":{"$error":"#N/A"}},{"$f":"_xlfn.XLOOKUP(C876,Data!C:C,Data!H:H,0)","v":0},{"$error":"#N/A"},{"$error":"#N/A"},{"$error":"#N/A"},{"$error":"#N/A"},{"$error":"#N/A"},0,{"$error":"#N/A"},"","","",null,{"$error":"#N/A"}]
["2021-03-24","02:34:00","2021-03-24T02:34:00",null,{"$f":"_xlfn.XLOOKUP(C877,Data!C:C,Data!I:I)","v":{"$error":"#N/A"}},{"$error":"#N/A"},{"$f":"_xlfn.XLOOKUP(C877,Data!C:C,Data!G:G,0)","v":0},{"$f":"_xlfn.XLOOKUP(C877,Data!C:C,Data!F:F)","v":{"$error":"#N/A"}},{"$f":"_xlfn.XLOOKUP(C877,Data!C:C,Data!H:H,0)","v":0},{"$error":"#N/A"},{"$error":"#N/A"},{"$error":"#N/A"},{"$error":"#N/A"},{"$error":"#N/A"},0,{"$error":"#N/A"},"","","",null,{"$error":"#N/A"}]
["2021-03-24","02:35:00","2021-03-24T02:35:00",null,{"$f":"_xlfn.XLOOKUP(C878,Data!C:C,Data!I:I)","v":{"$error":"#N/A"}},{"$error":"#N/A"},{"$f":"_xlfn.XLOOKUP(C878,Data!C:C,Data!G:G,0)","v":0},{"$f":"_xlfn.XLOOKUP(C878,Data!C:C,Data!F:F)","v":{"$error":"#N/A"}},{"$f":"_xlfn.XLOOKUP(C878,Data!C:C,Data!H:H,0)","v":0},{"$error":"#N/A"},{"$error":"#N/A"},{"$error":"#N/A"},{"$error":"#N/A"},{"$error":"#N/A"},0,{"$error":"#N/A"},"","","",null,{"$error":"#N/A"}]
["2021-03-24","02:36:00","2021-03-24T02:36:00",null,{"$f":"_xlfn.XLOOKUP(C879,Data!C:C,Data!I:I)","v":{"$error":"#N/A"}},{"$error":"#N/A"},{"$f":"_xlfn.XLOOKUP(C879,Data!C:C,Data!G:G,0)","v":0},{"$f":"_xlfn.XLOOKUP(C879,Data!C:C,Data!F:F)","v":{"$error":"#N/A"}},{"$f":"_xlfn.XLOOKUP(C879,Data!C:C,Data!H:H,0)","v":0},{"$error":"#N/A"},{"$error":"#N/A"},{"$error":"#N/A"},{"$error":"#N/A"},{"$error":"#N/A"},0,{"$error":"#N/A"},"","","",null,{"$error":"#N/A"}]
["2021-03-24","02:37:00","2021-03-24T02:37:00",null,{"$f":"_xlfn.XLOOKUP(C880,Data!C:C,Data!I:I)","v":{"$error":"#N/A"}},{"$error":"#N/A"},{"$f":"_xlfn.XLOOKUP(C880,Data!C:C,Data!G:G,0)","v":0},{"$f":"_xlfn.XLOOKUP(C880,Data!C:C,Data!F:F)","v":{"$error":"#N/A"}},{"$f":"_xlfn.XLOOKUP(C880,Data!C:C,Data!H:H,0)","v":0},{"$error":"#N/A"},{"$error":"#N/A"},{"$error":"#N/A"},{"$error":"#N/A"},{"$error":"#N/A"},0,{"$error":"#N/A"},"","","",null,{"$error":"#N/A"}]
["2021-03-24","02:38:00","2021-03-24T02:38:00",null,{"$f":"_xlfn.XLOOKUP(C881,Data!C:C,Data!I:I)","v":{"$error":"#N/A"}},{"$error":"#N/A"},{"$f":"_xlfn.XLOOKUP(C881,Data!C:C,Data!G:G,0)","v":0},{"$f":"_xlfn.XLOOKUP(C881,Data!C:C,Data!F:F)","v":{"$error":"#N/A"}},{"$f":"_xlfn.XLOOKUP(C881,Data!C:C,Data!H:H,0)","v":0},{"$error":"#N/A"},{"$error":"#N/A"},{"$error":"#N/A"},{"$error":"#N/A"},{"$error":"#N/A"},0,{"$error":"#N/A"},"","","",null,{"$error":"#N/A"}]
["2021-03-24","02:39:00","2021-03-24T02:39:00",null,{"$f":"_xlfn.XLOOKUP(C882,Data!C:C,Data!I:I)","v":{"$error":"#N/A"}},{"$error":"#N/A"},{"$f":"_xlfn.XLOOKUP(C882,Data!C:C,Data!G:G,0)","v":0},{"$f":"_xlfn.XLOOKUP(C882,Data!C:C,Data!F:F)","v":{"$error":"#N/A"}},{"$f":"_xlfn.XLOOKUP(C882,Data!C:C,Data!H:H,0)","v":0},{"$error":"#N/A"},{"$error":"#N/A"},{"$error":"#N/A"},{"$error":"#N/A"},{"$error":"#N/A"},0,{"$error":"#N/A"},"","","",null,{"$error":"#N/A"}]
["2021-03-24","02:40:00","2021-03-24T02:40:00",null,{"$f":"_xlfn.XLOOKUP(C883,Data!C:C,Data!I:I)","v":{"$error":"#N/A"}},{"$error":"#N/A"},{"$f":"_xlfn.XLOOKUP(C883,Data!C:C,Data!G:G,0)","v":0},{"$f":"_xlfn.XLOOKUP(C883,Data!C:C,Data!F:F)","v":{"$error":"#N/A"}},{"$f":"_xlfn.XLOOKUP(C883,Data!C:C,Data!H:H,0)","v":0},{"$error":"#N/A"},{"$error":"#N/A"},{"$error":"#N/A"},{"$error":"#N/A"},{"$error":"#N/A"},0,{"$error":"#N/A"},"","","",null,{"$error":"#N/A"}]
["2021-03-24","02:41:00","2021-03-24T02:41:00",null,{"$f":"_xlfn.XLOOKUP(C884,Data!C:C,Data!I:I)","v":{"$error":"#N/A"}},{"$error":"#N/A"},{"$f":"_xlfn.XLOOKUP(C884,Data!C:C,Data!G:G,0)","v":0},{"$f":"_xlfn.XLOOKUP(C884,Data!C:C,Data!F:F)","v":{"$error":"#N/A"}},{"$f":"_xlfn.XLOOKUP(C884,Data!C:C,Data!H:H,0)","v":0},{"$error":"#N/A"},{"$error":"#N/A"},{"$error":"#N/A"},{"$error":"#N/A"},{"$error":"#N/A"},0,{"$error":"#N/A"},"","","",null,{"$error":"#N/A"}]
["2021-03-24","02:42:00","2021-03-24T02:42:00",null,{"$f":"_xlfn.XLOOKUP(C885,Data!C:C,Data!I:I)","v":{"$error":"#N/A"}},{"$error":"#N/A"},{"$f":"_xlfn.XLOOKUP(C885,Data!C:C,Data!G:G,0)","v":0},{"$f":"_xlfn.XLOOKUP(C885,Data!C:C,Data!F:F)","v":{"$error":"#N/A"}},{"$f":"_xlfn.XLOOKUP(C885,Data!C:C,Data!H:H,0)","v":0},{"$error":"#N/A"},{"$error":"#N/A"},{"$error":"#N/A"},{"$error":"#N/A"},{"$error":"#N/A"},0,{"$error":"#N/A"},"","","",null,{"$error":"#N/A"}]
["2021-03-24","02:43:00","2021-03-24T02:43:00",null,{"$f":"_xlfn.XLOOKUP(C886,Data!C:C,Data!I:I)","v":{"$error":"#N/A"}},{"$error":"#N/A"},{"$f":"_xlfn.XLOOKUP(C886,Data!C:C,Data!G:G,0)","v":0},{"$f":"_xlfn.XLOOKUP(C886,Data!C:C,Data!F:F)","v":{"$error":"#N/A"}},{"$f":"_xlfn.XLOOKUP(C886,Data!C:C,Data!H:H,0)","v":0},{"$error":"#N/A"},{"$error":"#N/A"},{"$error":"#N/A"},{"$error":"#N/A"},{"$error":"#N/A"},0,{"$error":"#N/A"},"","","",null,{"$error":"#N/A"}]
["2021-03-24","02:44:00","2021-03-24T02:44:00",null,{"$f":"_xlfn.XLOOKUP(C887,Data!C:C,Data!I:I)","v":{"$error":"#N/A"}},{"$error":"#N/A"},{"$f":"_xlfn.XLOOKUP(C887,Data!C:C,Data!G:G,0)","v":0},{"$f":"_xlfn.XLOOKUP(C887,Data!C:C,Data!F:F)","v":{"$error":"#N/A"}},{"$f":"_xlfn.XLOOKUP(C887,Data!C:C,Data!H:H,0)","v":0},{"$error":"#N/A"},{"$error":"#N/A"},{"$error":"#N/A"},{"$error":"#N/A"},{"$error":"#N/A"},0,{"$error":"#N/A"},"","","",null,{"$error":"#N/A"}]
["2021-03-24","02:45:00","2021-03-24T02:45:00",null,{"$f":"_xlfn.XLOOKUP(C888,Data!C:C,Data!I:I)","v":{"$error":"#N/A"}},{"$error":"#N/A"},{"$f":"_xlfn.XLOOKUP(C888,Data!C:C,Data!G:G,0)","v":0},{"$f":"_xlfn.XLOOKUP(C888,Data!C:C,Data!F:F)","v":{"$error":"#N/A"}},{"$f":"_xlfn.XLOOKUP(C888,Data!C:C,Data!H:H,0)","v":0},{"$error":"#N/A"},{"$error":"#N/A"},{"$error":"#N/A"},{"$error":"#N/A"},{"$error":"#N/A"},0,{"$error":"#N/A"},"","","",null,{"$error":"#N/A"}]
["2021-03-24","02:46:00","2021-03-24T02:46:00",null,{"$f":"_xlfn.XLOOKUP(C889,Data!C:C,Data!I:I)","v":{"$error":"#N/A"}},{"$error":"#N/A"},{"$f":"_xlfn.XLOOKUP(C889,Data!C:C,Data!G:G,0)","v":0},{"$f":"_xlfn.XLOOKUP(C889,Data!C:C,Data!F:F)","v":{"$error":"#N/A"}},{"$f":"_xlfn.XLOOKUP(C889,Data!C:C,Data!H:H,0)","v":0},{"$error":"#N/A"},{"$error":"#N/A"},{"$error":"#N/A"},{"$error":"#N/A"},{"$error":"#N/A"},0,{"$error":"#N/A"},"","","",null,{"$error":"#N/A"}]
["2021-03-24","02:47:00","2021-03-24T02:47:00",null,{"$f":"_xlfn.XLOOKUP(C890,Data!C:C,Data!I:I)","v":{"$error":"#N/A"}},{"$error":"#N/A"},{"$f":"_xlfn.XLOOKUP(C890,Data!C:C,Data!G:G,0)","v":0},{"$f":"_xlfn.XLOOKUP(C890,Data!C:C,Data!F:F)","v":{"$error":"#N/A"}},{"$f":"_xlfn.XLOOKUP(C890,Data!C:C,Data!H:H,0)","v":0},{"$error":"#N/A"},{"$error":"#N/A"},{"$error":"#N/A"},{"$error":"#N/A"},{"$error":"#N/A"},0,{"$error":"#N/A"},"","","",null,{"$error":"#N/A"}]
["2021-03-24","02:48:00","2021-03-24T02:48:00",null,{"$f":"_xlfn.XLOOKUP(C891,Data!C:C,Data!I:I)","v":{"$error":"#N/A"}},{"$error":"#N/A"},{"$f":"_xlfn.XLOOKUP(C891,Data!C:C,Data!G:G,0)","v":0},{"$f":"_xlfn.XLOOKUP(C891,Data!C:C,Data!F:F)","v":{"$error":"#N/A"}},{"$f":"_xlfn.XLOOKUP(C891,Data!C:C,Data!H:H,0)","v":0},{"$error":"#N/A"},{"$error":"#N/A"},{"$error":"#N/A"},{"$error":"#N/A"},{"$error":"#N/A"},0,{"$error":"#N/A"},"","","",null,{"$error":"#N/A"}]
["2021-03-24","02:49:00","2021-03-24T02:49:00",null,{"$f":"_xlfn.XLOOKUP(C892,Data!C:C,Data!I:I)","v":{"$error":"#N/A"}},{"$error":"#N/A"},{"$f":"_xlfn.XLOOKUP(C892,Data!C:C,Data!G:G,0)","v":0},{"$f":"_xlfn.XLOOKUP(C892,Data!C:C,Data!F:F)","v":{"$error":"#N/A"}},{"$f":"_xlfn.XLOOKUP(C892,Data!C:C,Data!H:H,0)","v":0},{"$error":"#N/A"},{"$error":"#N/A"},{"$error":"#N/A"},{"$error":"#N/A"},{"$error":"#N/A"},0,{"$error":"#N/A"},"","","",null,{"$error":"#N/A"}]
["2021-03-24","02:50:00","2021-03-24T02:50:00",null,{"$f":"_xlfn.XLOOKUP(C893,Data!C:C,Data!I:I)","v":{"$error":"#N/A"}},{"$error":"#N/A"},{"$f":"_xlfn.XLOOKUP(C893,Data!C:C,Data!G:G,0)","v":0},{"$f":"_xlfn.XLOOKUP(C893,Data!C:C,Data!F:F)","v":{"$error":"#N/A"}},{"$f":"_xlfn.XLOOKUP(C893,Data!C:C,Data!H:H,0)","v":0},{"$error":"#N/A"},{"$error":"#N/A"},{"$error":"#N/A"},{"$error":"#N/A"},{"$error":"#N/A"},0,{"$error":"#N/A"},"","","",null,{"$error":"#N/A"}]
["2021-03-24","02:51:00","2021-03-24T02:51:00",null,{"$f":"_xlfn.XLOOKUP(C894,Data!C:C,Data!I:I)","v":{"$error":"#N/A"}},{"$error":"#N/A"},{"$f":"_xlfn.XLOOKUP(C894,Data!C:C,Data!G:G,0)","v":0},{"$f":"_xlfn.XLOOKUP(C894,Data!C:C,Data!F:F)","v":{"$error":"#N/A"}},{"$f":"_xlfn.XLOOKUP(C894,Data!C:C,Data!H:H,0)","v":0},{"$error":"#N/A"},{"$error":"#N/A"},{"$error":"#N/A"},{"$error":"#N/A"},{"$error":"#N/A"},0,{"$error":"#N/A"},"","","",null,{"$error":"#N/A"}]
["2021-03-24","02:52:00","2021-03-24T02:52:00",null,{"$f":"_xlfn.XLOOKUP(C895,Data!C:C,Data!I:I)","v":{"$error":"#N/A"}},{"$error":"#N/A"},{"$f":"_xlfn.XLOOKUP(C895,Data!C:C,Data!G:G,0)","v":0},{"$f":"_xlfn.XLOOKUP(C895,Data!C:C,Data!F:F)","v":{"$error":"#N/A"}},{"$f":"_xlfn.XLOOKUP(C895,Data!C:C,Data!H:H,0)","v":0},{"$error":"#N/A"},{"$error":"#N/A"},{"$error":"#N/A"},{"$error":"#N/A"},{"$error":"#N/A"},0,{"$error":"#N/A"},"","","",null,{"$error":"#N/A"}]
["2021-03-24","02:53:00","2021-03-24T02:53:00",null,{"$f":"_xlfn.XLOOKUP(C896,Data!C:C,Data!I:I)","v":{"$error":"#N/A"}},{"$error":"#N/A"},{"$f":"_xlfn.XLOOKUP(C896,Data!C:C,Data!G:G,0)","v":0},{"$f":"_xlfn.XLOOKUP(C896,Data!C:C,Data!F:F)","v":{"$error":"#N/A"}},{"$f":"_xlfn.XLOOKUP(C896,Data!C:C,Data!H:H,0)","v":0},{"$f":"IF(AND(MAX(E894:E895)=255,MAX(E896:E897)=255,  E895+E896+E897<3*255, OR(I896=123,I896=124,I896=106,I896=108)),   I896,   IF(AND(MAX(E894:E895)=255,MAX(E896:E897)=255,  E895+E896+E897<3*255, OR(I896>=80,I896<100)),106,108))","v":{"$error":"#N/A"}},{"$error":"#N/A"},{"$error":"#N/A"},{"$error":"#N/A"},{"$error":"#N/A"},0,{"$error":"#N/A"},"","","",null,{"$error":"#N/A"}]
["2021-03-24","02:54:00","2021-03-24T02:54:00",null,{"$f":"_xlfn.XLOOKUP(C897,Data!C:C,Data!I:I)","v":{"$error":"#N/A"}},{"$error":"#N/A"},{"$f":"_xlfn.XLOOKUP(C897,Data!C:C,Data!G:G,0)","v":0},{"$f":"_xlfn.XLOOKUP(C897,Data!C:C,Data!F:F)","v":{"$error":"#N/A"}},{"$f":"_xlfn.XLOOKUP(C897,Data!C:C,Data!H:H,0)","v":0},{"$error":"#N/A"},{"$error":"#N/A"},{"$error":"#N/A"},{"$error":"#N/A"},{"$error":"#N/A"},0,{"$error":"#N/A"},"","","",null,{"$error":"#N/A"}]
["2021-03-24","02:55:00","2021-03-24T02:55:00",null,{"$f":"_xlfn.XLOOKUP(C898,Data!C:C,Data!I:I)","v":{"$error":"#N/A"}},{"$error":"#N/A"},{"$f":"_xlfn.XLOOKUP(C898,Data!C:C,Data!G:G,0)","v":0},{"$f":"_xlfn.XLOOKUP(C898,Data!C:C,Data!F:F)","v":{"$error":"#N/A"}},{"$f":"_xlfn.XLOOKUP(C898,Data!C:C,Data!H:H,0)","v":0},{"$error":"#N/A"},{"$error":"#N/A"},{"$error":"#N/A"},{"$error":"#N/A"},{"$error":"#N/A"},0,{"$error":"#N/A"},"","","",null,{"$error":"#N/A"}]
["2021-03-24","02:56:00",{"$f":"A899+B899","v":"2021-03-24T02:56:00"},null,{"$f":"_xlfn.XLOOKUP(C899,Data!C:C,Data!I:I)","v":{"$error":"#N/A"}},{"$error":"#N/A"},{"$f":"_xlfn.XLOOKUP(C899,Data!C:C,Data!G:G,0)","v":0},{"$f":"_xlfn.XLOOKUP(C899,Data!C:C,Data!F:F)","v":{"$error":"#N/A"}},{"$f":"_xlfn.XLOOKUP(C899,Data!C:C,Data!H:H,0)","v":0},{"$error":"#N/A"},{"$f":"IF(AND(I899<100,  I899>=80,  OR(J899=105, J899=106,  J899=123)),  5,  0)","v":{"$error":"#N/A"}},{"$error":"#N/A"},{"$error":"#N/A"},{"$error":"#N/A"},{"$f":"IFERROR(F899,0)","v":0},{"$error":"#N/A"},"","","",null,{"$error":"#N/A"}]
["2021-03-24","02:57:00","2021-03-24T02:57:00",null,{"$f":"_xlfn.XLOOKUP(C900,Data!C:C,Data!I:I)","v":{"$error":"#N/A"}},{"$error":"#N/A"},{"$f":"_xlfn.XLOOKUP(C900,Data!C:C,Data!G:G,0)","v":0},{"$f":"_xlfn.XLOOKUP(C900,Data!C:C,Data!F:F)","v":{"$error":"#N/A"}},{"$f":"_xlfn.XLOOKUP(C900,Data!C:C,Data!H:H,0)","v":0},{"$error":"#N/A"},{"$error":"#N/A"},{"$f":"IF(AND(I900<130,  I900>104,  OR(J900=105, J900=106,  J900=123),  S900>$S$1450+$S$1443),  20,  0)","v":{"$error":"#N/A"}},{"$f":"IF(AND(I900<130,  I900>104,  OR(J900=105, J900=106,  J900=123),  R900>$Q$1449,  S900<=$S$1450+$S$1443),  20,  0)","v":{"$error":"#N/A"}},{"$f":"IF(AND(I900<130,  I900>104,  OR(J900=105, J900=106,  J900=123),  R900<=$Q$1449,  S900<=$S$1450+$S$1443),  20,  0)","v":{"$error":"#N/A"}},0,{"$f":"IF(Q900=\"\",F900,IF(Q900=0,P899,Q900))","v":{"$error":"#N/A"}},{"$f":"IF(I900>109,IF(O900*$Q$1451>(O899+O901)/2,MIN(O899:O901),O900),\"\")","v":""},"","",null,{"$error":"#N/A"}]
["2021-03-24","02:58:00","2021-03-24T02:58:00",null,{"$f":"_xlfn.XLOOKUP(C901,Data!C:C,Data!I:I)","v":{"$error":"#N/A"}},{"$f":"IF(E901=255,IF(MIN(E900:E902)=255,#N/A,MIN(E900:E902)),E901)","v":{"$error":"#N/A"}},{"$f":"_xlfn.XLOOKUP(C901,Data!C:C,Data!G:G,0)","v":0},{"$f":"_xlfn.XLOOKUP(C901,Data!C:C,Data!F:F)","v":{"$error":"#N/A"}},{"$f":"_xlfn.XLOOKUP(C901,Data!C:C,Data!H:H,0)","v":0},{"$error":"#N/A"},{"$error":"#N/A"},{"$error":"#N/A"},{"$error":"#N/A"},{"$error":"#N/A"},0,{"$error":"#N/A"},"","","",null,{"$error":"#N/A"}]
["2021-03-24","02:59:00","2021-03-24T02:59:00",null,{"$f":"_xlfn.XLOOKUP(C902,Data!C:C,Data!I:I)","v":{"$error":"#N/A"}},{"$error":"#N/A"},{"$f":"_xlfn.XLOOKUP(C902,Data!C:C,Data!G:G,0)","v":0},{"$f":"_xlfn.XLOOKUP(C902,Data!C:C,Data!F:F)","v":{"$error":"#N/A"}},{"$f":"_xlfn.XLOOKUP(C902,Data!C:C,Data!H:H,0)","v":0},{"$error":"#N/A"},{"$error":"#N/A"},{"$error":"#N/A"},{"$error":"#N/A"},{"$error":"#N/A"},0,{"$error":"#N/A"},"","","",null,{"$error":"#N/A"}]
["2021-03-24","03:00:00","2021-03-24T03:00:00",null,{"$f":"_xlfn.XLOOKUP(C903,Data!C:C,Data!I:I)","v":{"$error":"#N/A"}},{"$error":"#N/A"},{"$f":"_xlfn.XLOOKUP(C903,Data!C:C,Data!G:G,0)","v":0},{"$f":"_xlfn.XLOOKUP(C903,Data!C:C,Data!F:F)","v":{"$error":"#N/A"}},{"$f":"_xlfn.XLOOKUP(C903,Data!C:C,Data!H:H,0)","v":0},{"$error":"#N/A"},{"$error":"#N/A"},{"$error":"#N/A"},{"$error":"#N/A"},{"$error":"#N/A"},0,{"$error":"#N/A"},"","","",null,{"$f":"IF(F903=\"\",\"\",AVERAGE(F899:F907))","v":{"$error":"#N/A"}}]
["2021-03-24","03:01:00","2021-03-24T03:01:00",null,{"$f":"_xlfn.XLOOKUP(C904,Data!C:C,Data!I:I)","v":{"$error":"#N/A"}},{"$error":"#N/A"},{"$f":"_xlfn.XLOOKUP(C904,Data!C:C,Data!G:G,0)","v":0},{"$f":"_xlfn.XLOOKUP(C904,Data!C:C,Data!F:F)","v":{"$error":"#N/A"}},{"$f":"_xlfn.XLOOKUP(C904,Data!C:C,Data!H:H,0)","v":0},{"$error":"#N/A"},{"$error":"#N/A"},{"$error":"#N/A"},{"$error":"#N/A"},{"$error":"#N/A"},0,{"$error":"#N/A"},"",{"$f":"IF(Q904=\"\",\"\",AVERAGE(Q900:Q908))","v":""},{"$f":"IF(Q904=\"\",\"\",MAX(Q900:Q908)-MIN(Q900:Q908))","v":""},null,{"$error":"#N/A"}]
["2021-03-24","03:02:00","2021-03-24T03:02:00",null,{"$f":"_xlfn.XLOOKUP(C905,Data!C:C,Data!I:I)","v":{"$error":"#N/A"}},{"$error":"#N/A"},{"$f":"_xlfn.XLOOKUP(C905,Data!C:C,Data!G:G,0)","v":0},{"$f":"_xlfn.XLOOKUP(C905,Data!C:C,Data!F:F)","v":{"$error":"#N/A"}},{"$f":"_xlfn.XLOOKUP(C905,Data!C:C,Data!H:H,0)","v":0},{"$error":"#N/A"},{"$error":"#N/A"},{"$error":"#N/A"},{"$error":"#N/A"},{"$error":"#N/A"},0,{"$error":"#N/A"},"","","",null,{"$error":"#N/A"}]
["2021-03-24","03:03:00","2021-03-24T03:03:00",null,{"$f":"_xlfn.XLOOKUP(C906,Data!C:C,Data!I:I)","v":{"$error":"#N/A"}},{"$error":"#N/A"},{"$f":"_xlfn.XLOOKUP(C906,Data!C:C,Data!G:G,0)","v":0},{"$f":"_xlfn.XLOOKUP(C906,Data!C:C,Data!F:F)","v":{"$error":"#N/A"}},{"$f":"_xlfn.XLOOKUP(C906,Data!C:C,Data!H:H,0)","v":0},{"$error":"#N/A"},{"$error":"#N/A"},{"$error":"#N/A"},{"$error":"#N/A"},{"$error":"#N/A"},0,{"$error":"#N/A"},"","","",null,{"$error":"#N/A"}]
["2021-03-24","03:04:00","2021-03-24T03:04:00",null,{"$f":"_xlfn.XLOOKUP(C907,Data!C:C,Data!I:I)","v":{"$error":"#N/A"}},{"$error":"#N/A"},{"$f":"_xlfn.XLOOKUP(C907,Data!C:C,Data!G:G,0)","v":0},{"$f":"_xlfn.XLOOKUP(C907,Data!C:C,Data!F:F)","v":{"$error":"#N/A"}},{"$f":"_xlfn.XLOOKUP(C907,Data!C:C,Data!H:H,0)","v":0},{"$error":"#N/A"},{"$error":"#N/A"},{"$error":"#N/A"},{"$error":"#N/A"},{"$error":"#N/A"},0,{"$error":"#N/A"},"","","",null,{"$error":"#N/A"}]
["2021-03-24","03:05:00","2021-03-24T03:05:00",null,{"$f":"_xlfn.XLOOKUP(C908,Data!C:C,Data!I:I)","v":{"$error":"#N/A"}},{"$error":"#N/A"},{"$f":"_xlfn.XLOOKUP(C908,Data!C:C,Data!G:G,0)","v":0},{"$f":"_xlfn.XLOOKUP(C908,Data!C:C,Data!F:F)","v":{"$error":"#N/A"}},{"$f":"_xlfn.XLOOKUP(C908,Data!C:C,Data!H:H,0)","v":0},{"$error":"#N/A"},{"$error":"#N/A"},{"$error":"#N/A"},{"$error":"#N/A"},{"$error":"#N/A"},0,{"$error":"#N/A"},"","","",null,{"$error":"#N/A"}]
["2021-03-24","03:06:00","2021-03-24T03:06:00",null,{"$f":"_xlfn.XLOOKUP(C909,Data!C:C,Data!I:I)","v":{"$error":"#N/A"}},{"$error":"#N/A"},{"$f":"_xlfn.XLOOKUP(C909,Data!C:C,Data!G:G,0)","v":0},{"$f":"_xlfn.XLOOKUP(C909,Data!C:C,Data!F:F)","v":{"$error":"#N/A"}},{"$f":"_xlfn.XLOOKUP(C909,Data!C:C,Data!H:H,0)","v":0},{"$error":"#N/A"},{"$error":"#N/A"},{"$error":"#N/A"},{"$error":"#N/A"},{"$error":"#N/A"},0,{"$error":"#N/A"},"","","",null,{"$error":"#N/A"}]
["2021-03-24","03:07:00","2021-03-24T03:07:00",null,{"$f":"_xlfn.XLOOKUP(C910,Data!C:C,Data!I:I)","v":{"$error":"#N/A"}},{"$error":"#N/A"},{"$f":"_xlfn.XLOOKUP(C910,Data!C:C,Data!G:G,0)","v":0},{"$f":"_xlfn.XLOOKUP(C910,Data!C:C,Data!F:F)","v":{"$error":"#N/A"}},{"$f":"_xlfn.XLOOKUP(C910,Data!C:C,Data!H:H,0)","v":0},{"$error":"#N/A"},{"$error":"#N/A"},{"$error":"#N/A"},{"$error":"#N/A"},{"$error":"#N/A"},0,{"$error":"#N/A"},"","","",null,{"$error":"#N/A"}]
["2021-03-24","03:08:00","2021-03-24T03:08:00",null,{"$f":"_xlfn.XLOOKUP(C911,Data!C:C,Data!I:I)","v":{"$error":"#N/A"}},{"$error":"#N/A"},{"$f":"_xlfn.XLOOKUP(C911,Data!C:C,Data!G:G,0)","v":0},{"$f":"_xlfn.XLOOKUP(C911,Data!C:C,Data!F:F)","v":{"$error":"#N/A"}},{"$f":"_xlfn.XLOOKUP(C911,Data!C:C,Data!H:H,0)","v":0},{"$error":"#N/A"},{"$error":"#N/A"},{"$error":"#N/A"},{"$error":"#N/A"},{"$error":"#N/A"},0,{"$error":"#N/A"},"","","",null,{"$error":"#N/A"}]
["2021-03-24","03:09:00","2021-03-24T03:09:00",null,{"$f":"_xlfn.XLOOKUP(C912,Data!C:C,Data!I:I)","v":{"$error":"#N/A"}},{"$error":"#N/A"},{"$f":"_xlfn.XLOOKUP(C912,Data!C:C,Data!G:G,0)","v":0},{"$f":"_xlfn.XLOOKUP(C912,Data!C:C,Data!F:F)","v":{"$error":"#N/A"}},{"$f":"_xlfn.XLOOKUP(C912,Data!C:C,Data!H:H,0)","v":0},{"$error":"#N/A"},{"$error":"#N/A"},{"$error":"#N/A"},{"$error":"#N/A"},{"$error":"#N/A"},0,{"$error":"#N/A"},"","","",null,{"$error":"#N/A"}]
["2021-03-24","03:10:00","2021-03-24T03:10:00",null,{"$f":"_xlfn.XLOOKUP(C913,Data!C:C,Data!I:I)","v":{"$error":"#N/A"}},{"$error":"#N/A"},{"$f":"_xlfn.XLOOKUP(C913,Data!C:C,Data!G:G,0)","v":0},{"$f":"_xlfn.XLOOKUP(C913,Data!C:C,Data!F:F)","v":{"$error":"#N/A"}},{"$f":"_xlfn.XLOOKUP(C913,Data!C:C,Data!H:H,0)","v":0},{"$error":"#N/A"},{"$error":"#N/A"},{"$error":"#N/A"},{"$error":"#N/A"},{"$error":"#N/A"},0,{"$error":"#N/A"},"","","",null,{"$error":"#N/A"}]
["2021-03-24","03:11:00","2021-03-24T03:11:00",null,{"$f":"_xlfn.XLOOKUP(C914,Data!C:C,Data!I:I)","v":{"$error":"#N/A"}},{"$error":"#N/A"},{"$f":"_xlfn.XLOOKUP(C914,Data!C:C,Data!G:G,0)","v":0},{"$f":"_xlfn.XLOOKUP(C914,Data!C:C,Data!F:F)","v":{"$error":"#N/A"}},{"$f":"_xlfn.XLOOKUP(C914,Data!C:C,Data!H:H,0)","v":0},{"$error":"#N/A"},{"$error":"#N/A"},{"$error":"#N/A"},{"$error":"#N/A"},{"$error":"#N/A"},0,{"$error":"#N/A"},"","","",null,{"$error":"#N/A"}]
["2021-03-24","03:12:00","2021-03-24T03:12:00",null,{"$f":"_xlfn.XLOOKUP(C915,Data!C:C,Data!I:I)","v":{"$error":"#N/A"}},{"$error":"#N/A"},{"$f":"_xlfn.XLOOKUP(C915,Data!C:C,Data!G:G,0)","v":0},{"$f":"_xlfn.XLOOKUP(C915,Data!C:C,Data!F:F)","v":{"$error":"#N/A"}},{"$f":"_xlfn.XLOOKUP(C915,Data!C:C,Data!H:H,0)","v":0},{"$error":"#N/A"},{"$error":"#N/A"},{"$error":"#N/A"},{"$error":"#N/A"},{"$error":"#N/A"},0,{"$error":"#N/A"},"","","",null,{"$error":"#N/A"}]
["2021-03-24","03:13:00","2021-03-24T03:13:00",null,{"$f":"_xlfn.XLOOKUP(C916,Data!C:C,Data!I:I)","v":{"$error":"#N/A"}},{"$error":"#N/A"},{"$f":"_xlfn.XLOOKUP(C916,Data!C:C,Data!G:G,0)","v":0},{"$f":"_xlfn.XLOOKUP(C916,Data!C:C,Data!F:F)","v":{"$error":"#N/A"}},{"$f":"_xlfn.XLOOKUP(C916,Data!C:C,Data!H:H,0)","v":0},{"$error":"#N/A"},{"$error":"#N/A"},{"$error":"#N/A"},{"$error":"#N/A"},{"$error":"#N/A"},0,{"$error":"#N/A"},"","","",null,{"$error":"#N/A"}]
[{"$f":"$A$723","v":"2021-03-24"},"03:14:00","2021-03-24T03:14:00",null,{"$f":"_xlfn.XLOOKUP(C917,Data!C:C,Data!I:I)","v":{"$error":"#N/A"}},{"$error":"#N/A"},{"$f":"_xlfn.XLOOKUP(C917,Data!C:C,Data!G:G,0)","v":0},{"$f":"_xlfn.XLOOKUP(C917,Data!C:C,Data!F:F)","v":{"$error":"#N/A"}},{"$f":"_xlfn.XLOOKUP(C917,Data!C:C,Data!H:H,0)","v":0},{"$error":"#N/A"},{"$error":"#N/A"},{"$error":"#N/A"},{"$error":"#N/A"},{"$error":"#N/A"},0,{"$error":"#N/A"},"","","",null,{"$error":"#N/A"}]
["2021-03-24","03:15:00","2021-03-24T03:15:00",null,{"$f":"_xlfn.XLOOKUP(C918,Data!C:C,Data!I:I)","v":{"$error":"#N/A"}},{"$error":"#N/A"},{"$f":"_xlfn.XLOOKUP(C918,Data!C:C,Data!G:G,0)","v":0},{"$f":"_xlfn.XLOOKUP(C918,Data!C:C,Data!F:F)","v":{"$error":"#N/A"}},{"$f":"_xlfn.XLOOKUP(C918,Data!C:C,Data!H:H,0)","v":0},{"$error":"#N/A"},{"$error":"#N/A"},{"$error":"#N/A"},{"$error":"#N/A"},{"$error":"#N/A"},0,{"$error":"#N/A"},"","","",null,{"$error":"#N/A"}]
["2021-03-24","03:16:00","2021-03-24T03:16:00",null,{"$f":"_xlfn.XLOOKUP(C919,Data!C:C,Data!I:I)","v":{"$error":"#N/A"}},{"$error":"#N/A"},{"$f":"_xlfn.XLOOKUP(C919,Data!C:C,Data!G:G,0)","v":0},{"$f":"_xlfn.XLOOKUP(C919,Data!C:C,Data!F:F)","v":{"$error":"#N/A"}},{"$f":"_xlfn.XLOOKUP(C919,Data!C:C,Data!H:H,0)","v":0},{"$error":"#N/A"},{"$error":"#N/A"},{"$error":"#N/A"},{"$error":"#N/A"},{"$error":"#N/A"},0,{"$error":"#N/A"},"","","",null,{"$error":"#N/A"}]
["2021-03-24","03:17:00","2021-03-24T03:17:00",null,{"$f":"_xlfn.XLOOKUP(C920,Data!C:C,Data!I:I)","v":{"$error":"#N/A"}},{"$error":"#N/A"},{"$f":"_xlfn.XLOOKUP(C920,Data!C:C,Data!G:G,0)","v":0},{"$f":"_xlfn.XLOOKUP(C920,Data!C:C,Data!F:F)","v":{"$error":"#N/A"}},{"$f":"_xlfn.XLOOKUP(C920,Data!C:C,Data!H:H,0)","v":0},{"$error":"#N/A"},{"$error":"#N/A"},{"$error":"#N/A"},{"$error":"#N/A"},{"$error":"#N/A"},0,{"$error":"#N/A"},"","","",null,{"$error":"#N/A"}]
["2021-03-24","03:18:00","2021-03-24T03:18:00",null,{"$f":"_xlfn.XLOOKUP(C921,Data!C:C,Data!I:I)","v":{"$error":"#N/A"}},{"$error":"#N/A"},{"$f":"_xlfn.XLOOKUP(C921,Data!C:C,Data!G:G,0)","v":0},{"$f":"_xlfn.XLOOKUP(C921,Data!C:C,Data!F:F)","v":{"$error":"#N/A"}},{"$f":"_xlfn.XLOOKUP(C921,Data!C:C,Data!H:H,0)","v":0},{"$error":"#N/A"},{"$error":"#N/A"},{"$error":"#N/A"},{"$error":"#N/A"},{"$error":"#N/A"},0,{"$error":"#N/A"},"","","",null,{"$error":"#N/A"}]
["2021-03-24","03:19:00","2021-03-24T03:19:00",null,{"$f":"_xlfn.XLOOKUP(C922,Data!C:C,Data!I:I)","v":{"$error":"#N/A"}},{"$error":"#N/A"},{"$f":"_xlfn.XLOOKUP(C922,Data!C:C,Data!G:G,0)","v":0},{"$f":"_xlfn.XLOOKUP(C922,Data!C:C,Data!F:F)","v":{"$error":"#N/A"}},{"$f":"_xlfn.XLOOKUP(C922,Data!C:C,Data!H:H,0)","v":0},{"$error":"#N/A"},{"$error":"#N/A"},{"$error":"#N/A"},{"$error":"#N/A"},{"$error":"#N/A"},0,{"$error":"#N/A"},"","","",null,{"$error":"#N/A"}]
["2021-03-24","03:20:00","2021-03-24T03:20:00",null,{"$f":"_xlfn.XLOOKUP(C923,Data!C:C,Data!I:I)","v":{"$error":"#N/A"}},{"$error":"#N/A"},{"$f":"_xlfn.XLOOKUP(C923,Data!C:C,Data!G:G,0)","v":0},{"$f":"_xlfn.XLOOKUP(C923,Data!C:C,Data!F:F)","v":{"$error":"#N/A"}},{"$f":"_xlfn.XLOOKUP(C923,Data!C:C,Data!H:H,0)","v":0},{"$error":"#N/A"},{"$error":"#N/A"},{"$error":"#N/A"},{"$error":"#N/A"},{"$error":"#N/A"},0,{"$error":"#N/A"},"","","",null,{"$error":"#N/A"}]
["2021-03-24","03:21:00","2021-03-24T03:21:00",null,{"$f":"_xlfn.XLOOKUP(C924,Data!C:C,Data!I:I)","v":{"$error":"#N/A"}},{"$error":"#N/A"},{"$f":"_xlfn.XLOOKUP(C924,Data!C:C,Data!G:G,0)","v":0},{"$f":"_xlfn.XLOOKUP(C924,Data!C:C,Data!F:F)","v":{"$error":"#N/A"}},{"$f":"_xlfn.XLOOKUP(C924,Data!C:C,Data!H:H,0)","v":0},{"$error":"#N/A"},{"$error":"#N/A"},{"$error":"#N/A"},{"$error":"#N/A"},{"$error":"#N/A"},0,{"$error":"#N/A"},"","","",null,{"$error":"#N/A"}]
["2021-03-24","03:22:00","2021-03-24T03:22:00",null,{"$f":"_xlfn.XLOOKUP(C925,Data!C:C,Data!I:I)","v":{"$error":"#N/A"}},{"$error":"#N/A"},{"$f":"_xlfn.XLOOKUP(C925,Data!C:C,Data!G:G,0)","v":0},{"$f":"_xlfn.XLOOKUP(C925,Data!C:C,Data!F:F)","v":{"$error":"#N/A"}},{"$f":"_xlfn.XLOOKUP(C925,Data!C:C,Data!H:H,0)","v":0},{"$error":"#N/A"},{"$error":"#N/A"},{"$error":"#N/A"},{"$error":"#N/A"},{"$error":"#N/A"},0,{"$error":"#N/A"},"","","",null,{"$error":"#N/A"}]
["2021-03-24","03:23:00","2021-03-24T03:23:00",null,{"$f":"_xlfn.XLOOKUP(C926,Data!C:C,Data!I:I)","v":{"$error":"#N/A"}},{"$error":"#N/A"},{"$f":"_xlfn.XLOOKUP(C926,Data!C:C,Data!G:G,0)","v":0},{"$f":"_xlfn.XLOOKUP(C926,Data!C:C,Data!F:F)","v":{"$error":"#N/A"}},{"$f":"_xlfn.XLOOKUP(C926,Data!C:C,Data!H:H,0)","v":0},{"$error":"#N/A"},{"$error":"#N/A"},{"$error":"#N/A"},{"$error":"#N/A"},{"$error":"#N/A"},0,{"$error":"#N/A"},"","","",null,{"$error":"#N/A"}]
["2021-03-24","03:24:00","2021-03-24T03:24:00",null,{"$f":"_xlfn.XLOOKUP(C927,Data!C:C,Data!I:I)","v":{"$error":"#N/A"}},{"$error":"#N/A"},{"$f":"_xlfn.XLOOKUP(C927,Data!C:C,Data!G:G,0)","v":0},{"$f":"_xlfn.XLOOKUP(C927,Data!C:C,Data!F:F)","v":{"$error":"#N/A"}},{"$f":"_xlfn.XLOOKUP(C927,Data!C:C,Data!H:H,0)","v":0},{"$error":"#N/A"},{"$error":"#N/A"},{"$error":"#N/A"},{"$error":"#N/A"},{"$error":"#N/A"},0,{"$error":"#N/A"},"","","",null,{"$error":"#N/A"}]
["2021-03-24","03:25:00","2021-03-24T03:25:00",null,{"$f":"_xlfn.XLOOKUP(C928,Data!C:C,Data!I:I)","v":{"$error":"#N/A"}},{"$error":"#N/A"},{"$f":"_xlfn.XLOOKUP(C928,Data!C:C,Data!G:G,0)","v":0},{"$f":"_xlfn.XLOOKUP(C928,Data!C:C,Data!F:F)","v":{"$error":"#N/A"}},{"$f":"_xlfn.XLOOKUP(C928,Data!C:C,Data!H:H,0)","v":0},{"$error":"#N/A"},{"$error":"#N/A"},{"$error":"#N/A"},{"$error":"#N/A"},{"$error":"#N/A"},0,{"$error":"#N/A"},"","","",null,{"$error":"#N/A"}]
["2021-03-24","03:26:00","2021-03-24T03:26:00",null,{"$f":"_xlfn.XLOOKUP(C929,Data!C:C,Data!I:I)","v":{"$error":"#N/A"}},{"$error":"#N/A"},{"$f":"_xlfn.XLOOKUP(C929,Data!C:C,Data!G:G,0)","v":0},{"$f":"_xlfn.XLOOKUP(C929,Data!C:C,Data!F:F)","v":{"$error":"#N/A"}},{"$f":"_xlfn.XLOOKUP(C929,Data!C:C,Data!H:H,0)","v":0},{"$error":"#N/A"},{"$error":"#N/A"},{"$error":"#N/A"},{"$error":"#N/A"},{"$error":"#N/A"},0,{"$error":"#N/A"},"","","",null,{"$error":"#N/A"}]
["2021-03-24","03:27:00","2021-03-24T03:27:00",null,{"$f":"_xlfn.XLOOKUP(C930,Data!C:C,Data!I:I)","v":{"$error":"#N/A"}},{"$error":"#N/A"},{"$f":"_xlfn.XLOOKUP(C930,Data!C:C,Data!G:G,0)","v":0},{"$f":"_xlfn.XLOOKUP(C930,Data!C:C,Data!F:F)","v":{"$error":"#N/A"}},{"$f":"_xlfn.XLOOKUP(C930,Data!C:C,Data!H:H,0)","v":0},{"$error":"#N/A"},{"$error":"#N/A"},{"$error":"#N/A"},{"$error":"#N/A"},{"$error":"#N/A"},0,{"$error":"#N/A"},"","","",null,{"$error":"#N/A"}]
["2021-03-24","03:28:00","2021-03-24T03:28:00",null,{"$f":"_xlfn.XLOOKUP(C931,Data!C:C,Data!I:I)","v":{"$error":"#N/A"}},{"$error":"#N/A"},{"$f":"_xlfn.XLOOKUP(C931,Data!C:C,Data!G:G,0)","v":0},{"$f":"_xlfn.XLOOKUP(C931,Data!C:C,Data!F:F)","v":{"$error":"#N/A"}},{"$f":"_xlfn.XLOOKUP(C931,Data!C:C,Data!H:H,0)","v":0},{"$error":"#N/A"},{"$error":"#N/A"},{"$error":"#N/A"},{"$error":"#N/A"},{"$error":"#N/A"},0,{"$error":"#N/A"},"","","",null,{"$error":"#N/A"}]
["2021-03-24","03:29:00","2021-03-24T03:29:00",null,{"$f":"_xlfn.XLOOKUP(C932,Data!C:C,Data!I:I)","v":{"$error":"#N/A"}},{"$error":"#N/A"},{"$f":"_xlfn.XLOOKUP(C932,Data!C:C,Data!G:G,0)","v":0},{"$f":"_xlfn.XLOOKUP(C932,Data!C:C,Data!F:F)","v":{"$error":"#N/A"}},{"$f":"_xlfn.XLOOKUP(C932,Data!C:C,Data!H:H,0)","v":0},{"$error":"#N/A"},{"$error":"#N/A"},{"$error":"#N/A"},{"$error":"#N/A"},{"$error":"#N/A"},0,{"$error":"#N/A"},"","","",null,{"$error":"#N/A"}]
["2021-03-24","03:30:00","2021-03-24T03:30:00",null,{"$f":"_xlfn.XLOOKUP(C933,Data!C:C,Data!I:I)","v":{"$error":"#N/A"}},{"$error":"#N/A"},{"$f":"_xlfn.XLOOKUP(C933,Data!C:C,Data!G:G,0)","v":0},{"$f":"_xlfn.XLOOKUP(C933,Data!C:C,Data!F:F)","v":{"$error":"#N/A"}},{"$f":"_xlfn.XLOOKUP(C933,Data!C:C,Data!H:H,0)","v":0},{"$error":"#N/A"},{"$error":"#N/A"},{"$error":"#N/A"},{"$error":"#N/A"},{"$error":"#N/A"},0,{"$error":"#N/A"},"","","",null,{"$error":"#N/A"}]
["2021-03-24","03:31:00","2021-03-24T03:31:00",null,{"$f":"_xlfn.XLOOKUP(C934,Data!C:C,Data!I:I)","v":{"$error":"#N/A"}},{"$error":"#N/A"},{"$f":"_xlfn.XLOOKUP(C934,Data!C:C,Data!G:G,0)","v":0},{"$f":"_xlfn.XLOOKUP(C934,Data!C:C,Data!F:F)","v":{"$error":"#N/A"}},{"$f":"_xlfn.XLOOKUP(C934,Data!C:C,Data!H:H,0)","v":0},{"$error":"#N/A"},{"$error":"#N/A"},{"$error":"#N/A"},{"$error":"#N/A"},{"$error":"#N/A"},0,{"$error":"#N/A"},"","","",null,{"$error":"#N/A"}]
["2021-03-24","03:32:00","2021-03-24T03:32:00",null,{"$f":"_xlfn.XLOOKUP(C935,Data!C:C,Data!I:I)","v":{"$error":"#N/A"}},{"$error":"#N/A"},{"$f":"_xlfn.XLOOKUP(C935,Data!C:C,Data!G:G,0)","v":0},{"$f":"_xlfn.XLOOKUP(C935,Data!C:C,Data!F:F)","v":{"$error":"#N/A"}},{"$f":"_xlfn.XLOOKUP(C935,Data!C:C,Data!H:H,0)","v":0},{"$error":"#N/A"},{"$error":"#N/A"},{"$error":"#N/A"},{"$error":"#N/A"},{"$error":"#N/A"},0,{"$error":"#N/A"},"","","",null,{"$error":"#N/A"}]
["2021-03-24","03:33:00","2021-03-24T03:33:00",null,{"$f":"_xlfn.XLOOKUP(C936,Data!C:C,Data!I:I)","v":{"$error":"#N/A"}},{"$error":"#N/A"},{"$f":"_xlfn.XLOOKUP(C936,Data!C:C,Data!G:G,0)","v":0},{"$f":"_xlfn.XLOOKUP(C936,Data!C:C,Data!F:F)","v":{"$error":"#N/A"}},{"$f":"_xlfn.XLOOKUP(C936,Data!C:C,Data!H:H,0)","v":0},{"$error":"#N/A"},{"$error":"#N/A"},{"$error":"#N/A"},{"$error":"#N/A"},{"$error":"#N/A"},0,{"$error":"#N/A"},"","","",null,{"$error":"#N/A"}]
["2021-03-24","03:34:00","2021-03-24T03:34:00",null,{"$f":"_xlfn.XLOOKUP(C937,Data!C:C,Data!I:I)","v":{"$error":"#N/A"}},{"$error":"#N/A"},{"$f":"_xlfn.XLOOKUP(C937,Data!C:C,Data!G:G,0)","v":0},{"$f":"_xlfn.XLOOKUP(C937,Data!C:C,Data!F:F)","v":{"$error":"#N/A"}},{"$f":"_xlfn.XLOOKUP(C937,Data!C:C,Data!H:H,0)","v":0},{"$error":"#N/A"},{"$error":"#N/A"},{"$error":"#N/A"},{"$error":"#N/A"},{"$error":"#N/A"},0,{"$error":"#N/A"},"","","",null,{"$error":"#N/A"}]
["2021-03-24","03:35:00","2021-03-24T03:35:00",null,{"$f":"_xlfn.XLOOKUP(C938,Data!C:C,Data!I:I)","v":{"$error":"#N/A"}},{"$error":"#N/A"},{"$f":"_xlfn.XLOOKUP(C938,Data!C:C,Data!G:G,0)","v":0},{"$f":"_xlfn.XLOOKUP(C938,Data!C:C,Data!F:F)","v":{"$error":"#N/A"}},{"$f":"_xlfn.XLOOKUP(C938,Data!C:C,Data!H:H,0)","v":0},{"$error":"#N/A"},{"$error":"#N/A"},{"$error":"#N/A"},{"$error":"#N/A"},{"$error":"#N/A"},0,{"$error":"#N/A"},"","","",null,{"$error":"#N/A"}]
["2021-03-24","03:36:00","2021-03-24T03:36:00",null,{"$f":"_xlfn.XLOOKUP(C939,Data!C:C,Data!I:I)","v":{"$error":"#N/A"}},{"$error":"#N/A"},{"$f":"_xlfn.XLOOKUP(C939,Data!C:C,Data!G:G,0)","v":0},{"$f":"_xlfn.XLOOKUP(C939,Data!C:C,Data!F:F)","v":{"$error":"#N/A"}},{"$f":"_xlfn.XLOOKUP(C939,Data!C:C,Data!H:H,0)","v":0},{"$error":"#N/A"},{"$error":"#N/A"},{"$error":"#N/A"},{"$error":"#N/A"},{"$error":"#N/A"},0,{"$error":"#N/A"},"","","",null,{"$error":"#N/A"}]
["2021-03-24","03:37:00","2021-03-24T03:37:00",null,{"$f":"_xlfn.XLOOKUP(C940,Data!C:C,Data!I:I)","v":{"$error":"#N/A"}},{"$error":"#N/A"},{"$f":"_xlfn.XLOOKUP(C940,Data!C:C,Data!G:G,0)","v":0},{"$f":"_xlfn.XLOOKUP(C940,Data!C:C,Data!F:F)","v":{"$error":"#N/A"}},{"$f":"_xlfn.XLOOKUP(C940,Data!C:C,Data!H:H,0)","v":0},{"$error":"#N/A"},{"$error":"#N/A"},{"$error":"#N/A"},{"$error":"#N/A"},{"$error":"#N/A"},0,{"$error":"#N/A"},"","","",null,{"$error":"#N/A"}]
["2021-03-24","03:38:00","2021-03-24T03:38:00",null,{"$f":"_xlfn.XLOOKUP(C941,Data!C:C,Data!I:I)","v":{"$error":"#N/A"}},{"$error":"#N/A"},{"$f":"_xlfn.XLOOKUP(C941,Data!C:C,Data!G:G,0)","v":0},{"$f":"_xlfn.XLOOKUP(C941,Data!C:C,Data!F:F)","v":{"$error":"#N/A"}},{"$f":"_xlfn.XLOOKUP(C941,Data!C:C,Data!H:H,0)","v":0},{"$error":"#N/A"},{"$error":"#N/A"},{"$error":"#N/A"},{"$error":"#N/A"},{"$error":"#N/A"},0,{"$error":"#N/A"},"","","",null,{"$error":"#N/A"}]
["2021-03-24","03:39:00","2021-03-24T03:39:00",null,{"$f":"_xlfn.XLOOKUP(C942,Data!C:C,Data!I:I)","v":{"$error":"#N/A"}},{"$error":"#N/A"},{"$f":"_xlfn.XLOOKUP(C942,Data!C:C,Data!G:G,0)","v":0},{"$f":"_xlfn.XLOOKUP(C942,Data!C:C,Data!F:F)","v":{"$error":"#N/A"}},{"$f":"_xlfn.XLOOKUP(C942,Data!C:C,Data!H:H,0)","v":0},{"$error":"#N/A"},{"$error":"#N/A"},{"$error":"#N/A"},{"$error":"#N/A"},{"$error":"#N/A"},0,{"$error":"#N/A"},"","","",null,{"$error":"#N/A"}]
["2021-03-24","03:40:00","2021-03-24T03:40:00",null,{"$f":"_xlfn.XLOOKUP(C943,Data!C:C,Data!I:I)","v":{"$error":"#N/A"}},{"$error":"#N/A"},{"$f":"_xlfn.XLOOKUP(C943,Data!C:C,Data!G:G,0)","v":0},{"$f":"_xlfn.XLOOKUP(C943,Data!C:C,Data!F:F)","v":{"$error":"#N/A"}},{"$f":"_xlfn.XLOOKUP(C943,Data!C:C,Data!H:H,0)","v":0},{"$error":"#N/A"},{"$error":"#N/A"},{"$error":"#N/A"},{"$error":"#N/A"},{"$error":"#N/A"},0,{"$error":"#N/A"},"","","",null,{"$error":"#N/A"}]
["2021-03-24","03:41:00","2021-03-24T03:41:00",null,{"$f":"_xlfn.XLOOKUP(C944,Data!C:C,Data!I:I)","v":{"$error":"#N/A"}},{"$error":"#N/A"},{"$f":"_xlfn.XLOOKUP(C944,Data!C:C,Data!G:G,0)","v":0},{"$f":"_xlfn.XLOOKUP(C944,Data!C:C,Data!F:F)","v":{"$error":"#N/A"}},{"$f":"_xlfn.XLOOKUP(C944,Data!C:C,Data!H:H,0)","v":0},{"$error":"#N/A"},{"$error":"#N/A"},{"$error":"#N/A"},{"$error":"#N/A"},{"$error":"#N/A"},0,{"$error":"#N/A"},"","","",null,{"$error":"#N/A"}]
["2021-03-24","03:42:00","2021-03-24T03:42:00",null,{"$f":"_xlfn.XLOOKUP(C945,Data!C:C,Data!I:I)","v":{"$error":"#N/A"}},{"$error":"#N/A"},{"$f":"_xlfn.XLOOKUP(C945,Data!C:C,Data!G:G,0)","v":0},{"$f":"_xlfn.XLOOKUP(C945,Data!C:C,Data!F:F)","v":{"$error":"#N/A"}},{"$f":"_xlfn.XLOOKUP(C945,Data!C:C,Data!H:H,0)","v":0},{"$error":"#N/A"},{"$error":"#N/A"},{"$error":"#N/A"},{"$error":"#N/A"},{"$error":"#N/A"},0,{"$error":"#N/A"},"","","",null,{"$error":"#N/A"}]
["2021-03-24","03:43:00","2021-03-24T03:43:00",null,{"$f":"_xlfn.XLOOKUP(C946,Data!C:C,Data!I:I)","v":{"$error":"#N/A"}},{"$error":"#N/A"},{"$f":"_xlfn.XLOOKUP(C946,Data!C:C,Data!G:G,0)","v":0},{"$f":"_xlfn.XLOOKUP(C946,Data!C:C,Data!F:F)","v":{"$error":"#N/A"}},{"$f":"_xlfn.XLOOKUP(C946,Data!C:C,Data!H:H,0)","v":0},{"$error":"#N/A"},{"$error":"#N/A"},{"$error":"#N/A"},{"$error":"#N/A"},{"$error":"#N/A"},0,{"$error":"#N/A"},"","","",null,{"$error":"#N/A"}]
["2021-03-24","03:44:00","2021-03-24T03:44:00",null,{"$f":"_xlfn.XLOOKUP(C947,Data!C:C,Data!I:I)","v":{"$error":"#N/A"}},{"$error":"#N/A"},{"$f":"_xlfn.XLOOKUP(C947,Data!C:C,Data!G:G,0)","v":0},{"$f":"_xlfn.XLOOKUP(C947,Data!C:C,Data!F:F)","v":{"$error":"#N/A"}},{"$f":"_xlfn.XLOOKUP(C947,Data!C:C,Data!H:H,0)","v":0},{"$error":"#N/A"},{"$error":"#N/A"},{"$error":"#N/A"},{"$error":"#N/A"},{"$error":"#N/A"},0,{"$error":"#N/A"},"","","",null,{"$error":"#N/A"}]
["2021-03-24","03:45:00","2021-03-24T03:45:00",null,{"$f":"_xlfn.XLOOKUP(C948,Data!C:C,Data!I:I)","v":{"$error":"#N/A"}},{"$error":"#N/A"},{"$f":"_xlfn.XLOOKUP(C948,Data!C:C,Data!G:G,0)","v":0},{"$f":"_xlfn.XLOOKUP(C948,Data!C:C,Data!F:F)","v":{"$error":"#N/A"}},{"$f":"_xlfn.XLOOKUP(C948,Data!C:C,Data!H:H,0)","v":0},{"$error":"#N/A"},{"$error":"#N/A"},{"$error":"#N/A"},{"$error":"#N/A"},{"$error":"#N/A"},0,{"$error":"#N/A"},"","","",null,{"$error":"#N/A"}]
["2021-03-24","03:46:00","2021-03-24T03:46:00",null,{"$f":"_xlfn.XLOOKUP(C949,Data!C:C,Data!I:I)","v":{"$error":"#N/A"}},{"$error":"#N/A"},{"$f":"_xlfn.XLOOKUP(C949,Data!C:C,Data!G:G,0)","v":0},{"$f":"_xlfn.XLOOKUP(C949,Data!C:C,Data!F:F)","v":{"$error":"#N/A"}},{"$f":"_xlfn.XLOOKUP(C949,Data!C:C,Data!H:H,0)","v":0},{"$error":"#N/A"},{"$error":"#N/A"},{"$error":"#N/A"},{"$error":"#N/A"},{"$error":"#N/A"},0,{"$error":"#N/A"},"","","",null,{"$error":"#N/A"}]
["2021-03-24","03:47:00","2021-03-24T03:47:00",null,{"$f":"_xlfn.XLOOKUP(C950,Data!C:C,Data!I:I)","v":{"$error":"#N/A"}},{"$error":"#N/A"},{"$f":"_xlfn.XLOOKUP(C950,Data!C:C,Data!G:G,0)","v":0},{"$f":"_xlfn.XLOOKUP(C950,Data!C:C,Data!F:F)","v":{"$error":"#N/A"}},{"$f":"_xlfn.XLOOKUP(C950,Data!C:C,Data!H:H,0)","v":0},{"$error":"#N/A"},{"$error":"#N/A"},{"$error":"#N/A"},{"$error":"#N/A"},{"$error":"#N/A"},0,{"$error":"#N/A"},"","","",null,{"$error":"#N/A"}]
["2021-03-24","03:48:00","2021-03-24T03:48:00",null,{"$f":"_xlfn.XLOOKUP(C951,Data!C:C,Data!I:I)","v":{"$error":"#N/A"}},{"$error":"#N/A"},{"$f":"_xlfn.XLOOKUP(C951,Data!C:C,Data!G:G,0)","v":0},{"$f":"_xlfn.XLOOKUP(C951,Data!C:C,Data!F:F)","v":{"$error":"#N/A"}},{"$f":"_xlfn.XLOOKUP(C951,Data!C:C,Data!H:H,0)","v":0},{"$error":"#N/A"},{"$error":"#N/A"},{"$error":"#N/A"},{"$error":"#N/A"},{"$error":"#N/A"},0,{"$error":"#N/A"},"","","",null,{"$error":"#N/A"}]
["2021-03-24","03:49:00","2021-03-24T03:49:00",null,{"$f":"_xlfn.XLOOKUP(C952,Data!C:C,Data!I:I)","v":{"$error":"#N/A"}},{"$error":"#N/A"},{"$f":"_xlfn.XLOOKUP(C952,Data!C:C,Data!G:G,0)","v":0},{"$f":"_xlfn.XLOOKUP(C952,Data!C:C,Data!F:F)","v":{"$error":"#N/A"}},{"$f":"_xlfn.XLOOKUP(C952,Data!C:C,Data!H:H,0)","v":0},{"$error":"#N/A"},{"$error":"#N/A"},{"$error":"#N/A"},{"$error":"#N/A"},{"$error":"#N/A"},0,{"$error":"#N/A"},"","","",null,{"$error":"#N/A"}]
["2021-03-24","03:50:00","2021-03-24T03:50:00",null,{"$f":"_xlfn.XLOOKUP(C953,Data!C:C,Data!I:I)","v":{"$error":"#N/A"}},{"$error":"#N/A"},{"$f":"_xlfn.XLOOKUP(C953,Data!C:C,Data!G:G,0)","v":0},{"$f":"_xlfn.XLOOKUP(C953,Data!C:C,Data!F:F)","v":{"$error":"#N/A"}},{"$f":"_xlfn.XLOOKUP(C953,Data!C:C,Data!H:H,0)","v":0},{"$error":"#N/A"},{"$error":"#N/A"},{"$error":"#N/A"},{"$error":"#N/A"},{"$error":"#N/A"},0,{"$error":"#N/A"},"","","",null,{"$error":"#N/A"}]
["2021-03-24","03:51:00","2021-03-24T03:51:00",null,{"$f":"_xlfn.XLOOKUP(C954,Data!C:C,Data!I:I)","v":{"$error":"#N/A"}},{"$error":"#N/A"},{"$f":"_xlfn.XLOOKUP(C954,Data!C:C,Data!G:G,0)","v":0},{"$f":"_xlfn.XLOOKUP(C954,Data!C:C,Data!F:F)","v":{"$error":"#N/A"}},{"$f":"_xlfn.XLOOKUP(C954,Data!C:C,Data!H:H,0)","v":0},{"$error":"#N/A"},{"$error":"#N/A"},{"$error":"#N/A"},{"$error":"#N/A"},{"$error":"#N/A"},0,{"$error":"#N/A"},"","","",null,{"$error":"#N/A"}]
["2021-03-24","03:52:00","2021-03-24T03:52:00",null,{"$f":"_xlfn.XLOOKUP(C955,Data!C:C,Data!I:I)","v":{"$error":"#N/A"}},{"$error":"#N/A"},{"$f":"_xlfn.XLOOKUP(C955,Data!C:C,Data!G:G,0)","v":0},{"$f":"_xlfn.XLOOKUP(C955,Data!C:C,Data!F:F)","v":{"$error":"#N/A"}},{"$f":"_xlfn.XLOOKUP(C955,Data!C:C,Data!H:H,0)","v":0},{"$error":"#N/A"},{"$error":"#N/A"},{"$error":"#N/A"},{"$error":"#N/A"},{"$error":"#N/A"},0,{"$error":"#N/A"},"","","",null,{"$error":"#N/A"}]
["2021-03-24","03:53:00","2021-03-24T03:53:00",null,{"$f":"_xlfn.XLOOKUP(C956,Data!C:C,Data!I:I)","v":{"$error":"#N/A"}},{"$error":"#N/A"},{"$f":"_xlfn.XLOOKUP(C956,Data!C:C,Data!G:G,0)","v":0},{"$f":"_xlfn.XLOOKUP(C956,Data!C:C,Data!F:F)","v":{"$error":"#N/A"}},{"$f":"_xlfn.XLOOKUP(C956,Data!C:C,Data!H:H,0)","v":0},{"$error":"#N/A"},{"$error":"#N/A"},{"$error":"#N/A"},{"$error":"#N/A"},{"$error":"#N/A"},0,{"$error":"#N/A"},"","","",null,{"$error":"#N/A"}]
["2021-03-24","03:54:00","2021-03-24T03:54:00",null,{"$f":"_xlfn.XLOOKUP(C957,Data!C:C,Data!I:I)","v":{"$error":"#N/A"}},{"$error":"#N/A"},{"$f":"_xlfn.XLOOKUP(C957,Data!C:C,Data!G:G,0)","v":0},{"$f":"_xlfn.XLOOKUP(C957,Data!C:C,Data!F:F)","v":{"$error":"#N/A"}},{"$f":"_xlfn.XLOOKUP(C957,Data!C:C,Data!H:H,0)","v":0},{"$error":"#N/A"},{"$error":"#N/A"},{"$error":"#N/A"},{"$error":"#N/A"},{"$error":"#N/A"},0,{"$error":"#N/A"},"","","",null,{"$error":"#N/A"}]
["2021-03-24","03:55:00","2021-03-24T03:55:00",null,{"$f":"_xlfn.XLOOKUP(C958,Data!C:C,Data!I:I)","v":{"$error":"#N/A"}},{"$error":"#N/A"},{"$f":"_xlfn.XLOOKUP(C958,Data!C:C,Data!G:G,0)","v":0},{"$f":"_xlfn.XLOOKUP(C958,Data!C:C,Data!F:F)","v":{"$error":"#N/A"}},{"$f":"_xlfn.XLOOKUP(C958,Data!C:C,Data!H:H,0)","v":0},{"$error":"#N/A"},{"$error":"#N/A"},{"$error":"#N/A"},{"$error":"#N/A"},{"$error":"#N/A"},0,{"$error":"#N/A"},"","","",null,{"$error":"#N/A"}]
["2021-03-24","03:56:00","2021-03-24T03:56:00",null,{"$f":"_xlfn.XLOOKUP(C959,Data!C:C,Data!I:I)","v":{"$error":"#N/A"}},{"$error":"#N/A"},{"$f":"_xlfn.XLOOKUP(C959,Data!C:C,Data!G:G,0)","v":0},{"$f":"_xlfn.XLOOKUP(C959,Data!C:C,Data!F:F)","v":{"$error":"#N/A"}},{"$f":"_xlfn.XLOOKUP(C959,Data!C:C,Data!H:H,0)","v":0},{"$error":"#N/A"},{"$error":"#N/A"},{"$error":"#N/A"},{"$error":"#N/A"},{"$error":"#N/A"},0,{"$error":"#N/A"},"","","",null,{"$error":"#N/A"}]
["2021-03-24","03:57:00","2021-03-24T03:57:00",null,{"$f":"_xlfn.XLOOKUP(C960,Data!C:C,Data!I:I)","v":{"$error":"#N/A"}},{"$error":"#N/A"},{"$f":"_xlfn.XLOOKUP(C960,Data!C:C,Data!G:G,0)","v":0},{"$f":"_xlfn.XLOOKUP(C960,Data!C:C,Data!F:F)","v":{"$error":"#N/A"}},{"$f":"_xlfn.XLOOKUP(C960,Data!C:C,Data!H:H,0)","v":0},{"$f":"IF(AND(MAX(E958:E959)=255,MAX(E960:E961)=255,  E959+E960+E961<3*255, OR(I960=123,I960=124,I960=106,I960=108)),   I960,   IF(AND(MAX(E958:E959)=255,MAX(E960:E961)=255,  E959+E960+E961<3*255, OR(I960>=80,I960<100)),106,108))","v":{"$error":"#N/A"}},{"$error":"#N/A"},{"$error":"#N/A"},{"$error":"#N/A"},{"$error":"#N/A"},0,{"$error":"#N/A"},"","","",null,{"$error":"#N/A"}]
["2021-03-24","03:58:00","2021-03-24T03:58:00",null,{"$f":"_xlfn.XLOOKUP(C961,Data!C:C,Data!I:I)","v":{"$error":"#N/A"}},{"$error":"#N/A"},{"$f":"_xlfn.XLOOKUP(C961,Data!C:C,Data!G:G,0)","v":0},{"$f":"_xlfn.XLOOKUP(C961,Data!C:C,Data!F:F)","v":{"$error":"#N/A"}},{"$f":"_xlfn.XLOOKUP(C961,Data!C:C,Data!H:H,0)","v":0},{"$error":"#N/A"},{"$error":"#N/A"},{"$error":"#N/A"},{"$error":"#N/A"},{"$error":"#N/A"},0,{"$error":"#N/A"},"","","",null,{"$error":"#N/A"}]
["2021-03-24","03:59:00","2021-03-24T03:59:00",null,{"$f":"_xlfn.XLOOKUP(C962,Data!C:C,Data!I:I)","v":{"$error":"#N/A"}},{"$error":"#N/A"},{"$f":"_xlfn.XLOOKUP(C962,Data!C:C,Data!G:G,0)","v":0},{"$f":"_xlfn.XLOOKUP(C962,Data!C:C,Data!F:F)","v":{"$error":"#N/A"}},{"$f":"_xlfn.XLOOKUP(C962,Data!C:C,Data!H:H,0)","v":0},{"$error":"#N/A"},{"$error":"#N/A"},{"$error":"#N/A"},{"$error":"#N/A"},{"$error":"#N/A"},0,{"$error":"#N/A"},"","","",null,{"$error":"#N/A"}]
["2021-03-24","04:00:00",{"$f":"A963+B963","v":"2021-03-24T04:00:00"},null,{"$f":"_xlfn.XLOOKUP(C963,Data!C:C,Data!I:I)","v":{"$error":"#N/A"}},{"$error":"#N/A"},{"$f":"_xlfn.XLOOKUP(C963,Data!C:C,Data!G:G,0)","v":0},{"$f":"_xlfn.XLOOKUP(C963,Data!C:C,Data!F:F)","v":{"$error":"#N/A"}},{"$f":"_xlfn.XLOOKUP(C963,Data!C:C,Data!H:H,0)","v":0},{"$error":"#N/A"},{"$f":"IF(AND(I963<100,  I963>=80,  OR(J963=105, J963=106,  J963=123)),  5,  0)","v":{"$error":"#N/A"}},{"$error":"#N/A"},{"$error":"#N/A"},{"$error":"#N/A"},{"$f":"IFERROR(F963,0)","v":0},{"$error":"#N/A"},"","","",null,{"$error":"#N/A"}]
["2021-03-24","04:01:00","2021-03-24T04:01:00",null,{"$f":"_xlfn.XLOOKUP(C964,Data!C:C,Data!I:I)","v":{"$error":"#N/A"}},{"$error":"#N/A"},{"$f":"_xlfn.XLOOKUP(C964,Data!C:C,Data!G:G,0)","v":0},{"$f":"_xlfn.XLOOKUP(C964,Data!C:C,Data!F:F)","v":{"$error":"#N/A"}},{"$f":"_xlfn.XLOOKUP(C964,Data!C:C,Data!H:H,0)","v":0},{"$error":"#N/A"},{"$error":"#N/A"},{"$f":"IF(AND(I964<130,  I964>104,  OR(J964=105, J964=106,  J964=123),  S964>$S$1450+$S$1443),  20,  0)","v":{"$error":"#N/A"}},{"$f":"IF(AND(I964<130,  I964>104,  OR(J964=105, J964=106,  J964=123),  R964>$Q$1449,  S964<=$S$1450+$S$1443),  20,  0)","v":{"$error":"#N/A"}},{"$f":"IF(AND(I964<130,  I964>104,  OR(J964=105, J964=106,  J964=123),  R964<=$Q$1449,  S964<=$S$1450+$S$1443),  20,  0)","v":{"$error":"#N/A"}},0,{"$f":"IF(Q964=\"\",F964,IF(Q964=0,P963,Q964))","v":{"$error":"#N/A"}},{"$f":"IF(I964>109,IF(O964*$Q$1451>(O963+O965)/2,MIN(O963:O965),O964),\"\")","v":""},"","",null,{"$error":"#N/A"}]
["2021-03-24","04:02:00","2021-03-24T04:02:00",null,{"$f":"_xlfn.XLOOKUP(C965,Data!C:C,Data!I:I)","v":{"$error":"#N/A"}},{"$f":"IF(E965=255,IF(MIN(E964:E966)=255,#N/A,MIN(E964:E966)),E965)","v":{"$error":"#N/A"}},{"$f":"_xlfn.XLOOKUP(C965,Data!C:C,Data!G:G,0)","v":0},{"$f":"_xlfn.XLOOKUP(C965,Data!C:C,Data!F:F)","v":{"$error":"#N/A"}},{"$f":"_xlfn.XLOOKUP(C965,Data!C:C,Data!H:H,0)","v":0},{"$error":"#N/A"},{"$error":"#N/A"},{"$error":"#N/A"},{"$error":"#N/A"},{"$error":"#N/A"},0,{"$error":"#N/A"},"","","",null,{"$error":"#N/A"}]
["2021-03-24","04:03:00","2021-03-24T04:03:00",null,{"$f":"_xlfn.XLOOKUP(C966,Data!C:C,Data!I:I)","v":{"$error":"#N/A"}},{"$error":"#N/A"},{"$f":"_xlfn.XLOOKUP(C966,Data!C:C,Data!G:G,0)","v":0},{"$f":"_xlfn.XLOOKUP(C966,Data!C:C,Data!F:F)","v":{"$error":"#N/A"}},{"$f":"_xlfn.XLOOKUP(C966,Data!C:C,Data!H:H,0)","v":0},{"$error":"#N/A"},{"$error":"#N/A"},{"$error":"#N/A"},{"$error":"#N/A"},{"$error":"#N/A"},0,{"$error":"#N/A"},"","","",null,{"$error":"#N/A"}]
["2021-03-24","04:04:00","2021-03-24T04:04:00",null,{"$f":"_xlfn.XLOOKUP(C967,Data!C:C,Data!I:I)","v":{"$error":"#N/A"}},{"$error":"#N/A"},{"$f":"_xlfn.XLOOKUP(C967,Data!C:C,Data!G:G,0)","v":0},{"$f":"_xlfn.XLOOKUP(C967,Data!C:C,Data!F:F)","v":{"$error":"#N/A"}},{"$f":"_xlfn.XLOOKUP(C967,Data!C:C,Data!H:H,0)","v":0},{"$error":"#N/A"},{"$error":"#N/A"},{"$error":"#N/A"},{"$error":"#N/A"},{"$error":"#N/A"},0,{"$error":"#N/A"},"","","",null,{"$f":"IF(F967=\"\",\"\",AVERAGE(F963:F971))","v":{"$error":"#N/A"}}]
["2021-03-24","04:05:00","2021-03-24T04:05:00",null,{"$f":"_xlfn.XLOOKUP(C968,Data!C:C,Data!I:I)","v":{"$error":"#N/A"}},{"$error":"#N/A"},{"$f":"_xlfn.XLOOKUP(C968,Data!C:C,Data!G:G,0)","v":0},{"$f":"_xlfn.XLOOKUP(C968,Data!C:C,Data!F:F)","v":{"$error":"#N/A"}},{"$f":"_xlfn.XLOOKUP(C968,Data!C:C,Data!H:H,0)","v":0},{"$error":"#N/A"},{"$error":"#N/A"},{"$error":"#N/A"},{"$error":"#N/A"},{"$error":"#N/A"},0,{"$error":"#N/A"},"",{"$f":"IF(Q968=\"\",\"\",AVERAGE(Q964:Q972))","v":""},{"$f":"IF(Q968=\"\",\"\",MAX(Q964:Q972)-MIN(Q964:Q972))","v":""},null,{"$error":"#N/A"}]
["2021-03-24","04:06:00","2021-03-24T04:06:00",null,{"$f":"_xlfn.XLOOKUP(C969,Data!C:C,Data!I:I)","v":{"$error":"#N/A"}},{"$error":"#N/A"},{"$f":"_xlfn.XLOOKUP(C969,Data!C:C,Data!G:G,0)","v":0},{"$f":"_xlfn.XLOOKUP(C969,Data!C:C,Data!F:F)","v":{"$error":"#N/A"}},{"$f":"_xlfn.XLOOKUP(C969,Data!C:C,Data!H:H,0)","v":0},{"$error":"#N/A"},{"$error":"#N/A"},{"$error":"#N/A"},{"$error":"#N/A"},{"$error":"#N/A"},0,{"$error":"#N/A"},"","","",null,{"$error":"#N/A"}]
["2021-03-24","04:07:00","2021-03-24T04:07:00",null,{"$f":"_xlfn.XLOOKUP(C970,Data!C:C,Data!I:I)","v":{"$error":"#N/A"}},{"$error":"#N/A"},{"$f":"_xlfn.XLOOKUP(C970,Data!C:C,Data!G:G,0)","v":0},{"$f":"_xlfn.XLOOKUP(C970,Data!C:C,Data!F:F)","v":{"$error":"#N/A"}},{"$f":"_xlfn.XLOOKUP(C970,Data!C:C,Data!H:H,0)","v":0},{"$error":"#N/A"},{"$error":"#N/A"},{"$error":"#N/A"},{"$error":"#N/A"},{"$error":"#N/A"},0,{"$error":"#N/A"},"","","",null,{"$error":"#N/A"}]
["2021-03-24","04:08:00","2021-03-24T04:08:00",null,{"$f":"_xlfn.XLOOKUP(C971,Data!C:C,Data!I:I)","v":{"$error":"#N/A"}},{"$error":"#N/A"},{"$f":"_xlfn.XLOOKUP(C971,Data!C:C,Data!G:G,0)","v":0},{"$f":"_xlfn.XLOOKUP(C971,Data!C:C,Data!F:F)","v":{"$error":"#N/A"}},{"$f":"_xlfn.XLOOKUP(C971,Data!C:C,Data!H:H,0)","v":0},{"$error":"#N/A"},{"$error":"#N/A"},{"$error":"#N/A"},{"$error":"#N/A"},{"$error":"#N/A"},0,{"$error":"#N/A"},"","","",null,{"$error":"#N/A"}]
["2021-03-24","04:09:00","2021-03-24T04:09:00",null,{"$f":"_xlfn.XLOOKUP(C972,Data!C:C,Data!I:I)","v":{"$error":"#N/A"}},{"$error":"#N/A"},{"$f":"_xlfn.XLOOKUP(C972,Data!C:C,Data!G:G,0)","v":0},{"$f":"_xlfn.XLOOKUP(C972,Data!C:C,Data!F:F)","v":{"$error":"#N/A"}},{"$f":"_xlfn.XLOOKUP(C972,Data!C:C,Data!H:H,0)","v":0},{"$error":"#N/A"},{"$error":"#N/A"},{"$error":"#N/A"},{"$error":"#N/A"},{"$error":"#N/A"},0,{"$error":"#N/A"},"","","",null,{"$error":"#N/A"}]
["2021-03-24","04:10:00","2021-03-24T04:10:00",null,{"$f":"_xlfn.XLOOKUP(C973,Data!C:C,Data!I:I)","v":{"$error":"#N/A"}},{"$error":"#N/A"},{"$f":"_xlfn.XLOOKUP(C973,Data!C:C,Data!G:G,0)","v":0},{"$f":"_xlfn.XLOOKUP(C973,Data!C:C,Data!F:F)","v":{"$error":"#N/A"}},{"$f":"_xlfn.XLOOKUP(C973,Data!C:C,Data!H:H,0)","v":0},{"$error":"#N/A"},{"$error":"#N/A"},{"$error":"#N/A"},{"$error":"#N/A"},{"$error":"#N/A"},0,{"$error":"#N/A"},"","","",null,{"$error":"#N/A"}]
["2021-03-24","04:11:00","2021-03-24T04:11:00",null,{"$f":"_xlfn.XLOOKUP(C974,Data!C:C,Data!I:I)","v":{"$error":"#N/A"}},{"$error":"#N/A"},{"$f":"_xlfn.XLOOKUP(C974,Data!C:C,Data!G:G,0)","v":0},{"$f":"_xlfn.XLOOKUP(C974,Data!C:C,Data!F:F)","v":{"$error":"#N/A"}},{"$f":"_xlfn.XLOOKUP(C974,Data!C:C,Data!H:H,0)","v":0},{"$error":"#N/A"},{"$error":"#N/A"},{"$error":"#N/A"},{"$error":"#N/A"},{"$error":"#N/A"},0,{"$error":"#N/A"},"","","",null,{"$error":"#N/A"}]
["2021-03-24","04:12:00","2021-03-24T04:12:00",null,{"$f":"_xlfn.XLOOKUP(C975,Data!C:C,Data!I:I)","v":{"$error":"#N/A"}},{"$error":"#N/A"},{"$f":"_xlfn.XLOOKUP(C975,Data!C:C,Data!G:G,0)","v":0},{"$f":"_xlfn.XLOOKUP(C975,Data!C:C,Data!F:F)","v":{"$error":"#N/A"}},{"$f":"_xlfn.XLOOKUP(C975,Data!C:C,Data!H:H,0)","v":0},{"$error":"#N/A"},{"$error":"#N/A"},{"$error":"#N/A"},{"$error":"#N/A"},{"$error":"#N/A"},0,{"$error":"#N/A"},"","","",null,{"$error":"#N/A"}]
["2021-03-24","04:13:00","2021-03-24T04:13:00",null,{"$f":"_xlfn.XLOOKUP(C976,Data!C:C,Data!I:I)","v":{"$error":"#N/A"}},{"$error":"#N/A"},{"$f":"_xlfn.XLOOKUP(C976,Data!C:C,Data!G:G,0)","v":0},{"$f":"_xlfn.XLOOKUP(C976,Data!C:C,Data!F:F)","v":{"$error":"#N/A"}},{"$f":"_xlfn.XLOOKUP(C976,Data!C:C,Data!H:H,0)","v":0},{"$error":"#N/A"},{"$error":"#N/A"},{"$error":"#N/A"},{"$error":"#N/A"},{"$error":"#N/A"},0,{"$error":"#N/A"},"","","",null,{"$error":"#N/A"}]
["2021-03-24","04:14:00","2021-03-24T04:14:00",null,{"$f":"_xlfn.XLOOKUP(C977,Data!C:C,Data!I:I)","v":{"$error":"#N/A"}},{"$error":"#N/A"},{"$f":"_xlfn.XLOOKUP(C977,Data!C:C,Data!G:G,0)","v":0},{"$f":"_xlfn.XLOOKUP(C977,Data!C:C,Data!F:F)","v":{"$error":"#N/A"}},{"$f":"_xlfn.XLOOKUP(C977,Data!C:C,Data!H:H,0)","v":0},{"$error":"#N/A"},{"$error":"#N/A"},{"$error":"#N/A"},{"$error":"#N/A"},{"$error":"#N/A"},0,{"$error":"#N/A"},"","","",null,{"$error":"#N/A"}]
["2021-03-24","04:15:00","2021-03-24T04:15:00",null,{"$f":"_xlfn.XLOOKUP(C978,Data!C:C,Data!I:I)","v":{"$error":"#N/A"}},{"$error":"#N/A"},{"$f":"_xlfn.XLOOKUP(C978,Data!C:C,Data!G:G,0)","v":0},{"$f":"_xlfn.XLOOKUP(C978,Data!C:C,Data!F:F)","v":{"$error":"#N/A"}},{"$f":"_xlfn.XLOOKUP(C978,Data!C:C,Data!H:H,0)","v":0},{"$error":"#N/A"},{"$error":"#N/A"},{"$error":"#N/A"},{"$error":"#N/A"},{"$error":"#N/A"},0,{"$error":"#N/A"},"","","",null,{"$error":"#N/A"}]
["2021-03-24","04:16:00","2021-03-24T04:16:00",null,{"$f":"_xlfn.XLOOKUP(C979,Data!C:C,Data!I:I)","v":{"$error":"#N/A"}},{"$error":"#N/A"},{"$f":"_xlfn.XLOOKUP(C979,Data!C:C,Data!G:G,0)","v":0},{"$f":"_xlfn.XLOOKUP(C979,Data!C:C,Data!F:F)","v":{"$error":"#N/A"}},{"$f":"_xlfn.XLOOKUP(C979,Data!C:C,Data!H:H,0)","v":0},{"$error":"#N/A"},{"$error":"#N/A"},{"$error":"#N/A"},{"$error":"#N/A"},{"$error":"#N/A"},0,{"$error":"#N/A"},"","","",null,{"$error":"#N/A"}]
["2021-03-24","04:17:00","2021-03-24T04:17:00",null,{"$f":"_xlfn.XLOOKUP(C980,Data!C:C,Data!I:I)","v":{"$error":"#N/A"}},{"$error":"#N/A"},{"$f":"_xlfn.XLOOKUP(C980,Data!C:C,Data!G:G,0)","v":0},{"$f":"_xlfn.XLOOKUP(C980,Data!C:C,Data!F:F)","v":{"$error":"#N/A"}},{"$f":"_xlfn.XLOOKUP(C980,Data!C:C,Data!H:H,0)","v":0},{"$error":"#N/A"},{"$error":"#N/A"},{"$error":"#N/A"},{"$error":"#N/A"},{"$error":"#N/A"},0,{"$error":"#N/A"},"","","",null,{"$error":"#N/A"}]
[{"$f":"$A$723","v":"2021-03-24"},"04:18:00","2021-03-24T04:18:00",null,{"$f":"_xlfn.XLOOKUP(C981,Data!C:C,Data!I:I)","v":{"$error":"#N/A"}},{"$error":"#N/A"},{"$f":"_xlfn.XLOOKUP(C981,Data!C:C,Data!G:G,0)","v":0},{"$f":"_xlfn.XLOOKUP(C981,Data!C:C,Data!F:F)","v":{"$error":"#N/A"}},{"$f":"_xlfn.XLOOKUP(C981,Data!C:C,Data!H:H,0)","v":0},{"$error":"#N/A"},{"$error":"#N/A"},{"$error":"#N/A"},{"$error":"#N/A"},{"$error":"#N/A"},0,{"$error":"#N/A"},"","","",null,{"$error":"#N/A"}]
["2021-03-24","04:19:00","2021-03-24T04:19:00",null,{"$f":"_xlfn.XLOOKUP(C982,Data!C:C,Data!I:I)","v":{"$error":"#N/A"}},{"$error":"#N/A"},{"$f":"_xlfn.XLOOKUP(C982,Data!C:C,Data!G:G,0)","v":0},{"$f":"_xlfn.XLOOKUP(C982,Data!C:C,Data!F:F)","v":{"$error":"#N/A"}},{"$f":"_xlfn.XLOOKUP(C982,Data!C:C,Data!H:H,0)","v":0},{"$error":"#N/A"},{"$error":"#N/A"},{"$error":"#N/A"},{"$error":"#N/A"},{"$error":"#N/A"},0,{"$error":"#N/A"},"","","",null,{"$error":"#N/A"}]
["2021-03-24","04:20:00","2021-03-24T04:20:00",null,{"$f":"_xlfn.XLOOKUP(C983,Data!C:C,Data!I:I)","v":{"$error":"#N/A"}},{"$error":"#N/A"},{"$f":"_xlfn.XLOOKUP(C983,Data!C:C,Data!G:G,0)","v":0},{"$f":"_xlfn.XLOOKUP(C983,Data!C:C,Data!F:F)","v":{"$error":"#N/A"}},{"$f":"_xlfn.XLOOKUP(C983,Data!C:C,Data!H:H,0)","v":0},{"$error":"#N/A"},{"$error":"#N/A"},{"$error":"#N/A"},{"$error":"#N/A"},{"$error":"#N/A"},0,{"$error":"#N/A"},"","","",null,{"$error":"#N/A"}]
["2021-03-24","04:21:00","2021-03-24T04:21:00",null,{"$f":"_xlfn.XLOOKUP(C984,Data!C:C,Data!I:I)","v":{"$error":"#N/A"}},{"$error":"#N/A"},{"$f":"_xlfn.XLOOKUP(C984,Data!C:C,Data!G:G,0)","v":0},{"$f":"_xlfn.XLOOKUP(C984,Data!C:C,Data!F:F)","v":{"$error":"#N/A"}},{"$f":"_xlfn.XLOOKUP(C984,Data!C:C,Data!H:H,0)","v":0},{"$error":"#N/A"},{"$error":"#N/A"},{"$error":"#N/A"},{"$error":"#N/A"},{"$error":"#N/A"},0,{"$error":"#N/A"},"","","",null,{"$error":"#N/A"}]
["2021-03-24","04:22:00","2021-03-24T04:22:00",null,{"$f":"_xlfn.XLOOKUP(C985,Data!C:C,Data!I:I)","v":{"$error":"#N/A"}},{"$error":"#N/A"},{"$f":"_xlfn.XLOOKUP(C985,Data!C:C,Data!G:G,0)","v":0},{"$f":"_xlfn.XLOOKUP(C985,Data!C:C,Data!F:F)","v":{"$error":"#N/A"}},{"$f":"_xlfn.XLOOKUP(C985,Data!C:C,Data!H:H,0)","v":0},{"$error":"#N/A"},{"$error":"#N/A"},{"$error":"#N/A"},{"$error":"#N/A"},{"$error":"#N/A"},0,{"$error":"#N/A"},"","","",null,{"$error":"#N/A"}]
["2021-03-24","04:23:00","2021-03-24T04:23:00",null,{"$f":"_xlfn.XLOOKUP(C986,Data!C:C,Data!I:I)","v":{"$error":"#N/A"}},{"$error":"#N/A"},{"$f":"_xlfn.XLOOKUP(C986,Data!C:C,Data!G:G,0)","v":0},{"$f":"_xlfn.XLOOKUP(C986,Data!C:C,Data!F:F)","v":{"$error":"#N/A"}},{"$f":"_xlfn.XLOOKUP(C986,Data!C:C,Data!H:H,0)","v":0},{"$error":"#N/A"},{"$error":"#N/A"},{"$error":"#N/A"},{"$error":"#N/A"},{"$error":"#N/A"},0,{"$error":"#N/A"},"","","",null,{"$error":"#N/A"}]
["2021-03-24","04:24:00","2021-03-24T04:24:00",null,{"$f":"_xlfn.XLOOKUP(C987,Data!C:C,Data!I:I)","v":{"$error":"#N/A"}},{"$error":"#N/A"},{"$f":"_xlfn.XLOOKUP(C987,Data!C:C,Data!G:G,0)","v":0},{"$f":"_xlfn.XLOOKUP(C987,Data!C:C,Data!F:F)","v":{"$error":"#N/A"}},{"$f":"_xlfn.XLOOKUP(C987,Data!C:C,Data!H:H,0)","v":0},{"$error":"#N/A"},{"$error":"#N/A"},{"$error":"#N/A"},{"$error":"#N/A"},{"$error":"#N/A"},0,{"$error":"#N/A"},"","","",null,{"$error":"#N/A"}]
["2021-03-24","04:25:00","2021-03-24T04:25:00",null,{"$f":"_xlfn.XLOOKUP(C988,Data!C:C,Data!I:I)","v":{"$error":"#N/A"}},{"$error":"#N/A"},{"$f":"_xlfn.XLOOKUP(C988,Data!C:C,Data!G:G,0)","v":0},{"$f":"_xlfn.XLOOKUP(C988,Data!C:C,Data!F:F)","v":{"$error":"#N/A"}},{"$f":"_xlfn.XLOOKUP(C988,Data!C:C,Data!H:H,0)","v":0},{"$error":"#N/A"},{"$error":"#N/A"},{"$error":"#N/A"},{"$error":"#N/A"},{"$error":"#N/A"},0,{"$error":"#N/A"},"","","",null,{"$error":"#N/A"}]
["2021-03-24","04:26:00","2021-03-24T04:26:00",null,{"$f":"_xlfn.XLOOKUP(C989,Data!C:C,Data!I:I)","v":{"$error":"#N/A"}},{"$error":"#N/A"},{"$f":"_xlfn.XLOOKUP(C989,Data!C:C,Data!G:G,0)","v":0},{"$f":"_xlfn.XLOOKUP(C989,Data!C:C,Data!F:F)","v":{"$error":"#N/A"}},{"$f":"_xlfn.XLOOKUP(C989,Data!C:C,Data!H:H,0)","v":0},{"$error":"#N/A"},{"$error":"#N/A"},{"$error":"#N/A"},{"$error":"#N/A"},{"$error":"#N/A"},0,{"$error":"#N/A"},"","","",null,{"$error":"#N/A"}]
["2021-03-24","04:27:00","2021-03-24T04:27:00",null,{"$f":"_xlfn.XLOOKUP(C990,Data!C:C,Data!I:I)","v":{"$error":"#N/A"}},{"$error":"#N/A"},{"$f":"_xlfn.XLOOKUP(C990,Data!C:C,Data!G:G,0)","v":0},{"$f":"_xlfn.XLOOKUP(C990,Data!C:C,Data!F:F)","v":{"$error":"#N/A"}},{"$f":"_xlfn.XLOOKUP(C990,Data!C:C,Data!H:H,0)","v":0},{"$error":"#N/A"},{"$error":"#N/A"},{"$error":"#N/A"},{"$error":"#N/A"},{"$error":"#N/A"},0,{"$error":"#N/A"},"","","",null,{"$error":"#N/A"}]
["2021-03-24","04:28:00","2021-03-24T04:28:00",null,{"$f":"_xlfn.XLOOKUP(C991,Data!C:C,Data!I:I)","v":{"$error":"#N/A"}},{"$error":"#N/A"},{"$f":"_xlfn.XLOOKUP(C991,Data!C:C,Data!G:G,0)","v":0},{"$f":"_xlfn.XLOOKUP(C991,Data!C:C,Data!F:F)","v":{"$error":"#N/A"}},{"$f":"_xlfn.XLOOKUP(C991,Data!C:C,Data!H:H,0)","v":0},{"$error":"#N/A"},{"$error":"#N/A"},{"$error":"#N/A"},{"$error":"#N/A"},{"$error":"#N/A"},0,{"$error":"#N/A"},"","","",null,{"$error":"#N/A"}]
["2021-03-24","04:29:00","2021-03-24T04:29:00",null,{"$f":"_xlfn.XLOOKUP(C992,Data!C:C,Data!I:I)","v":{"$error":"#N/A"}},{"$error":"#N/A"},{"$f":"_xlfn.XLOOKUP(C992,Data!C:C,Data!G:G,0)","v":0},{"$f":"_xlfn.XLOOKUP(C992,Data!C:C,Data!F:F)","v":{"$error":"#N/A"}},{"$f":"_xlfn.XLOOKUP(C992,Data!C:C,Data!H:H,0)","v":0},{"$error":"#N/A"},{"$error":"#N/A"},{"$error":"#N/A"},{"$error":"#N/A"},{"$error":"#N/A"},0,{"$error":"#N/A"},"","","",null,{"$error":"#N/A"}]
["2021-03-24","04:30:00","2021-03-24T04:30:00",null,{"$f":"_xlfn.XLOOKUP(C993,Data!C:C,Data!I:I)","v":{"$error":"#N/A"}},{"$error":"#N/A"},{"$f":"_xlfn.XLOOKUP(C993,Data!C:C,Data!G:G,0)","v":0},{"$f":"_xlfn.XLOOKUP(C993,Data!C:C,Data!F:F)","v":{"$error":"#N/A"}},{"$f":"_xlfn.XLOOKUP(C993,Data!C:C,Data!H:H,0)","v":0},{"$error":"#N/A"},{"$error":"#N/A"},{"$error":"#N/A"},{"$error":"#N/A"},{"$error":"#N/A"},0,{"$error":"#N/A"},"","","",null,{"$error":"#N/A"}]
["2021-03-24","04:31:00","2021-03-24T04:31:00",null,{"$f":"_xlfn.XLOOKUP(C994,Data!C:C,Data!I:I)","v":{"$error":"#N/A"}},{"$error":"#N/A"},{"$f":"_xlfn.XLOOKUP(C994,Data!C:C,Data!G:G,0)","v":0},{"$f":"_xlfn.XLOOKUP(C994,Data!C:C,Data!F:F)","v":{"$error":"#N/A"}},{"$f":"_xlfn.XLOOKUP(C994,Data!C:C,Data!H:H,0)","v":0},{"$error":"#N/A"},{"$error":"#N/A"},{"$error":"#N/A"},{"$error":"#N/A"},{"$error":"#N/A"},0,{"$error":"#N/A"},"","","",null,{"$error":"#N/A"}]
["2021-03-24","04:32:00","2021-03-24T04:32:00",null,{"$f":"_xlfn.XLOOKUP(C995,Data!C:C,Data!I:I)","v":{"$error":"#N/A"}},{"$error":"#N/A"},{"$f":"_xlfn.XLOOKUP(C995,Data!C:C,Data!G:G,0)","v":0},{"$f":"_xlfn.XLOOKUP(C995,Data!C:C,Data!F:F)","v":{"$error":"#N/A"}},{"$f":"_xlfn.XLOOKUP(C995,Data!C:C,Data!H:H,0)","v":0},{"$error":"#N/A"},{"$error":"#N/A"},{"$error":"#N/A"},{"$error":"#N/A"},{"$error":"#N/A"},0,{"$error":"#N/A"},"","","",null,{"$error":"#N/A"}]
["2021-03-24","04:33:00","2021-03-24T04:33:00",null,{"$f":"_xlfn.XLOOKUP(C996,Data!C:C,Data!I:I)","v":{"$error":"#N/A"}},{"$error":"#N/A"},{"$f":"_xlfn.XLOOKUP(C996,Data!C:C,Data!G:G,0)","v":0},{"$f":"_xlfn.XLOOKUP(C996,Data!C:C,Data!F:F)","v":{"$error":"#N/A"}},{"$f":"_xlfn.XLOOKUP(C996,Data!C:C,Data!H:H,0)","v":0},{"$error":"#N/A"},{"$error":"#N/A"},{"$error":"#N/A"},{"$error":"#N/A"},{"$error":"#N/A"},0,{"$error":"#N/A"},"","","",null,{"$error":"#N/A"}]
["2021-03-24","04:34:00","2021-03-24T04:34:00",null,{"$f":"_xlfn.XLOOKUP(C997,Data!C:C,Data!I:I)","v":{"$error":"#N/A"}},{"$error":"#N/A"},{"$f":"_xlfn.XLOOKUP(C997,Data!C:C,Data!G:G,0)","v":0},{"$f":"_xlfn.XLOOKUP(C997,Data!C:C,Data!F:F)","v":{"$error":"#N/A"}},{"$f":"_xlfn.XLOOKUP(C997,Data!C:C,Data!H:H,0)","v":0},{"$error":"#N/A"},{"$error":"#N/A"},{"$error":"#N/A"},{"$error":"#N/A"},{"$error":"#N/A"},0,{"$error":"#N/A"},"","","",null,{"$error":"#N/A"}]
["2021-03-24","04:35:00","2021-03-24T04:35:00",null,{"$f":"_xlfn.XLOOKUP(C998,Data!C:C,Data!I:I)","v":{"$error":"#N/A"}},{"$error":"#N/A"},{"$f":"_xlfn.XLOOKUP(C998,Data!C:C,Data!G:G,0)","v":0},{"$f":"_xlfn.XLOOKUP(C998,Data!C:C,Data!F:F)","v":{"$error":"#N/A"}},{"$f":"_xlfn.XLOOKUP(C998,Data!C:C,Data!H:H,0)","v":0},{"$error":"#N/A"},{"$error":"#N/A"},{"$error":"#N/A"},{"$error":"#N/A"},{"$error":"#N/A"},0,{"$error":"#N/A"},"","","",null,{"$error":"#N/A"}]
["2021-03-24","04:36:00","2021-03-24T04:36:00",null,{"$f":"_xlfn.XLOOKUP(C999,Data!C:C,Data!I:I)","v":{"$error":"#N/A"}},{"$error":"#N/A"},{"$f":"_xlfn.XLOOKUP(C999,Data!C:C,Data!G:G,0)","v":0},{"$f":"_xlfn.XLOOKUP(C999,Data!C:C,Data!F:F)","v":{"$error":"#N/A"}},{"$f":"_xlfn.XLOOKUP(C999,Data!C:C,Data!H:H,0)","v":0},{"$error":"#N/A"},{"$error":"#N/A"},{"$error":"#N/A"},{"$error":"#N/A"},{"$error":"#N/A"},0,{"$error":"#N/A"},"","","",null,{"$error":"#N/A"}]
["2021-03-24","04:37:00","2021-03-24T04:37:00",null,{"$f":"_xlfn.XLOOKUP(C1000,Data!C:C,Data!I:I)","v":{"$error":"#N/A"}},{"$error":"#N/A"},{"$f":"_xlfn.XLOOKUP(C1000,Data!C:C,Data!G:G,0)","v":0},{"$f":"_xlfn.XLOOKUP(C1000,Data!C:C,Data!F:F)","v":{"$error":"#N/A"}},{"$f":"_xlfn.XLOOKUP(C1000,Data!C:C,Data!H:H,0)","v":0},{"$error":"#N/A"},{"$error":"#N/A"},{"$error":"#N/A"},{"$error":"#N/A"},{"$error":"#N/A"},0,{"$error":"#N/A"},"","","",null,{"$error":"#N/A"}]
["2021-03-24","04:38:00","2021-03-24T04:38:00",null,{"$f":"_xlfn.XLOOKUP(C1001,Data!C:C,Data!I:I)","v":{"$error":"#N/A"}},{"$error":"#N/A"},{"$f":"_xlfn.XLOOKUP(C1001,Data!C:C,Data!G:G,0)","v":0},{"$f":"_xlfn.XLOOKUP(C1001,Data!C:C,Data!F:F)","v":{"$error":"#N/A"}},{"$f":"_xlfn.XLOOKUP(C1001,Data!C:C,Data!H:H,0)","v":0},{"$error":"#N/A"},{"$error":"#N/A"},{"$error":"#N/A"},{"$error":"#N/A"},{"$error":"#N/A"},0,{"$error":"#N/A"},"","","",null,{"$error":"#N/A"}]
["2021-03-24","04:39:00","2021-03-24T04:39:00",null,{"$f":"_xlfn.XLOOKUP(C1002,Data!C:C,Data!I:I)","v":{"$error":"#N/A"}},{"$error":"#N/A"},{"$f":"_xlfn.XLOOKUP(C1002,Data!C:C,Data!G:G,0)","v":0},{"$f":"_xlfn.XLOOKUP(C1002,Data!C:C,Data!F:F)","v":{"$error":"#N/A"}},{"$f":"_xlfn.XLOOKUP(C1002,Data!C:C,Data!H:H,0)","v":0},{"$error":"#N/A"},{"$error":"#N/A"},{"$error":"#N/A"},{"$error":"#N/A"},{"$error":"#N/A"},0,{"$error":"#N/A"},"","","",null,{"$error":"#N/A"}]
["2021-03-24","04:40:00","2021-03-24T04:40:00",null,{"$f":"_xlfn.XLOOKUP(C1003,Data!C:C,Data!I:I)","v":{"$error":"#N/A"}},{"$error":"#N/A"},{"$f":"_xlfn.XLOOKUP(C1003,Data!C:C,Data!G:G,0)","v":0},{"$f":"_xlfn.XLOOKUP(C1003,Data!C:C,Data!F:F)","v":{"$error":"#N/A"}},{"$f":"_xlfn.XLOOKUP(C1003,Data!C:C,Data!H:H,0)","v":0},{"$error":"#N/A"},{"$error":"#N/A"},{"$error":"#N/A"},{"$error":"#N/A"},{"$error":"#N/A"},0,{"$error":"#N/A"},"","","",null,{"$error":"#N/A"}]
["2021-03-24","04:41:00","2021-03-24T04:41:00",null,{"$f":"_xlfn.XLOOKUP(C1004,Data!C:C,Data!I:I)","v":{"$error":"#N/A"}},{"$error":"#N/A"},{"$f":"_xlfn.XLOOKUP(C1004,Data!C:C,Data!G:G,0)","v":0},{"$f":"_xlfn.XLOOKUP(C1004,Data!C:C,Data!F:F)","v":{"$error":"#N/A"}},{"$f":"_xlfn.XLOOKUP(C1004,Data!C:C,Data!H:H,0)","v":0},{"$error":"#N/A"},{"$error":"#N/A"},{"$error":"#N/A"},{"$error":"#N/A"},{"$error":"#N/A"},0,{"$error":"#N/A"},"","","",null,{"$error":"#N/A"}]
["2021-03-24","04:42:00","2021-03-24T04:42:00",null,{"$f":"_xlfn.XLOOKUP(C1005,Data!C:C,Data!I:I)","v":{"$error":"#N/A"}},{"$error":"#N/A"},{"$f":"_xlfn.XLOOKUP(C1005,Data!C:C,Data!G:G,0)","v":0},{"$f":"_xlfn.XLOOKUP(C1005,Data!C:C,Data!F:F)","v":{"$error":"#N/A"}},{"$f":"_xlfn.XLOOKUP(C1005,Data!C:C,Data!H:H,0)","v":0},{"$error":"#N/A"},{"$error":"#N/A"},{"$error":"#N/A"},{"$error":"#N/A"},{"$error":"#N/A"},0,{"$error":"#N/A"},"","","",null,{"$error":"#N/A"}]
["2021-03-24","04:43:00","2021-03-24T04:43:00",null,{"$f":"_xlfn.XLOOKUP(C1006,Data!C:C,Data!I:I)","v":{"$error":"#N/A"}},{"$error":"#N/A"},{"$f":"_xlfn.XLOOKUP(C1006,Data!C:C,Data!G:G,0)","v":0},{"$f":"_xlfn.XLOOKUP(C1006,Data!C:C,Data!F:F)","v":{"$error":"#N/A"}},{"$f":"_xlfn.XLOOKUP(C1006,Data!C:C,Data!H:H,0)","v":0},{"$error":"#N/A"},{"$error":"#N/A"},{"$error":"#N/A"},{"$error":"#N/A"},{"$error":"#N/A"},0,{"$error":"#N/A"},"","","",null,{"$error":"#N/A"}]
["2021-03-24","04:44:00","2021-03-24T04:44:00",null,{"$f":"_xlfn.XLOOKUP(C1007,Data!C:C,Data!I:I)","v":{"$error":"#N/A"}},{"$error":"#N/A"},{"$f":"_xlfn.XLOOKUP(C1007,Data!C:C,Data!G:G,0)","v":0},{"$f":"_xlfn.XLOOKUP(C1007,Data!C:C,Data!F:F)","v":{"$error":"#N/A"}},{"$f":"_xlfn.XLOOKUP(C1007,Data!C:C,Data!H:H,0)","v":0},{"$error":"#N/A"},{"$error":"#N/A"},{"$error":"#N/A"},{"$error":"#N/A"},{"$error":"#N/A"},0,{"$error":"#N/A"},"","","",null,{"$error":"#N/A"}]
["2021-03-24","04:45:00","2021-03-24T04:45:00",null,{"$f":"_xlfn.XLOOKUP(C1008,Data!C:C,Data!I:I)","v":{"$error":"#N/A"}},{"$error":"#N/A"},{"$f":"_xlfn.XLOOKUP(C1008,Data!C:C,Data!G:G,0)","v":0},{"$f":"_xlfn.XLOOKUP(C1008,Data!C:C,Data!F:F)","v":{"$error":"#N/A"}},{"$f":"_xlfn.XLOOKUP(C1008,Data!C:C,Data!H:H,0)","v":0},{"$error":"#N/A"},{"$error":"#N/A"},{"$error":"#N/A"},{"$error":"#N/A"},{"$error":"#N/A"},0,{"$error":"#N/A"},"","","",null,{"$error":"#N/A"}]
["2021-03-24","04:46:00","2021-03-24T04:46:00",null,{"$f":"_xlfn.XLOOKUP(C1009,Data!C:C,Data!I:I)","v":{"$error":"#N/A"}},{"$error":"#N/A"},{"$f":"_xlfn.XLOOKUP(C1009,Data!C:C,Data!G:G,0)","v":0},{"$f":"_xlfn.XLOOKUP(C1009,Data!C:C,Data!F:F)","v":{"$error":"#N/A"}},{"$f":"_xlfn.XLOOKUP(C1009,Data!C:C,Data!H:H,0)","v":0},{"$error":"#N/A"},{"$error":"#N/A"},{"$error":"#N/A"},{"$error":"#N/A"},{"$error":"#N/A"},0,{"$error":"#N/A"},"","","",null,{"$error":"#N/A"}]
["2021-03-24","04:47:00","2021-03-24T04:47:00",null,{"$f":"_xlfn.XLOOKUP(C1010,Data!C:C,Data!I:I)","v":{"$error":"#N/A"}},{"$error":"#N/A"},{"$f":"_xlfn.XLOOKUP(C1010,Data!C:C,Data!G:G,0)","v":0},{"$f":"_xlfn.XLOOKUP(C1010,Data!C:C,Data!F:F)","v":{"$error":"#N/A"}},{"$f":"_xlfn.XLOOKUP(C1010,Data!C:C,Data!H:H,0)","v":0},{"$error":"#N/A"},{"$error":"#N/A"},{"$error":"#N/A"},{"$error":"#N/A"},{"$error":"#N/A"},0,{"$error":"#N/A"},"","","",null,{"$error":"#N/A"}]
["2021-03-24","04:48:00","2021-03-24T04:48:00",null,{"$f":"_xlfn.XLOOKUP(C1011,Data!C:C,Data!I:I)","v":{"$error":"#N/A"}},{"$error":"#N/A"},{"$f":"_xlfn.XLOOKUP(C1011,Data!C:C,Data!G:G,0)","v":0},{"$f":"_xlfn.XLOOKUP(C1011,Data!C:C,Data!F:F)","v":{"$error":"#N/A"}},{"$f":"_xlfn.XLOOKUP(C1011,Data!C:C,Data!H:H,0)","v":0},{"$error":"#N/A"},{"$error":"#N/A"},{"$error":"#N/A"},{"$error":"#N/A"},{"$error":"#N/A"},0,{"$error":"#N/A"},"","","",null,{"$error":"#N/A"}]
["2021-03-24","04:49:00","2021-03-24T04:49:00",null,{"$f":"_xlfn.XLOOKUP(C1012,Data!C:C,Data!I:I)","v":{"$error":"#N/A"}},{"$error":"#N/A"},{"$f":"_xlfn.XLOOKUP(C1012,Data!C:C,Data!G:G,0)","v":0},{"$f":"_xlfn.XLOOKUP(C1012,Data!C:C,Data!F:F)","v":{"$error":"#N/A"}},{"$f":"_xlfn.XLOOKUP(C1012,Data!C:C,Data!H:H,0)","v":0},{"$error":"#N/A"},{"$error":"#N/A"},{"$error":"#N/A"},{"$error":"#N/A"},{"$error":"#N/A"},0,{"$error":"#N/A"},"","","",null,{"$error":"#N/A"}]
["2021-03-24","04:50:00","2021-03-24T04:50:00",null,{"$f":"_xlfn.XLOOKUP(C1013,Data!C:C,Data!I:I)","v":{"$error":"#N/A"}},{"$error":"#N/A"},{"$f":"_xlfn.XLOOKUP(C1013,Data!C:C,Data!G:G,0)","v":0},{"$f":"_xlfn.XLOOKUP(C1013,Data!C:C,Data!F:F)","v":{"$error":"#N/A"}},{"$f":"_xlfn.XLOOKUP(C1013,Data!C:C,Data!H:H,0)","v":0},{"$error":"#N/A"},{"$error":"#N/A"},{"$error":"#N/A"},{"$error":"#N/A"},{"$error":"#N/A"},0,{"$error":"#N/A"},"","","",null,{"$error":"#N/A"}]
["2021-03-24","04:51:00","2021-03-24T04:51:00",null,{"$f":"_xlfn.XLOOKUP(C1014,Data!C:C,Data!I:I)","v":{"$error":"#N/A"}},{"$error":"#N/A"},{"$f":"_xlfn.XLOOKUP(C1014,Data!C:C,Data!G:G,0)","v":0},{"$f":"_xlfn.XLOOKUP(C1014,Data!C:C,Data!F:F)","v":{"$error":"#N/A"}},{"$f":"_xlfn.XLOOKUP(C1014,Data!C:C,Data!H:H,0)","v":0},{"$error":"#N/A"},{"$error":"#N/A"},{"$error":"#N/A"},{"$error":"#N/A"},{"$error":"#N/A"},0,{"$error":"#N/A"},"","","",null,{"$error":"#N/A"}]
["2021-03-24","04:52:00","2021-03-24T04:52:00",null,{"$f":"_xlfn.XLOOKUP(C1015,Data!C:C,Data!I:I)","v":{"$error":"#N/A"}},{"$error":"#N/A"},{"$f":"_xlfn.XLOOKUP(C1015,Data!C:C,Data!G:G,0)","v":0},{"$f":"_xlfn.XLOOKUP(C1015,Data!C:C,Data!F:F)","v":{"$error":"#N/A"}},{"$f":"_xlfn.XLOOKUP(C1015,Data!C:C,Data!H:H,0)","v":0},{"$error":"#N/A"},{"$error":"#N/A"},{"$error":"#N/A"},{"$error":"#N/A"},{"$error":"#N/A"},0,{"$error":"#N/A"},"","","",null,{"$error":"#N/A"}]
["2021-03-24","04:53:00","2021-03-24T04:53:00",null,{"$f":"_xlfn.XLOOKUP(C1016,Data!C:C,Data!I:I)","v":{"$error":"#N/A"}},{"$error":"#N/A"},{"$f":"_xlfn.XLOOKUP(C1016,Data!C:C,Data!G:G,0)","v":0},{"$f":"_xlfn.XLOOKUP(C1016,Data!C:C,Data!F:F)","v":{"$error":"#N/A"}},{"$f":"_xlfn.XLOOKUP(C1016,Data!C:C,Data!H:H,0)","v":0},{"$error":"#N/A"},{"$error":"#N/A"},{"$error":"#N/A"},{"$error":"#N/A"},{"$error":"#N/A"},0,{"$error":"#N/A"},"","","",null,{"$error":"#N/A"}]
["2021-03-24","04:54:00","2021-03-24T04:54:00",null,{"$f":"_xlfn.XLOOKUP(C1017,Data!C:C,Data!I:I)","v":{"$error":"#N/A"}},{"$error":"#N/A"},{"$f":"_xlfn.XLOOKUP(C1017,Data!C:C,Data!G:G,0)","v":0},{"$f":"_xlfn.XLOOKUP(C1017,Data!C:C,Data!F:F)","v":{"$error":"#N/A"}},{"$f":"_xlfn.XLOOKUP(C1017,Data!C:C,Data!H:H,0)","v":0},{"$error":"#N/A"},{"$error":"#N/A"},{"$error":"#N/A"},{"$error":"#N/A"},{"$error":"#N/A"},0,{"$error":"#N/A"},"","","",null,{"$error":"#N/A"}]
["2021-03-24","04:55:00","2021-03-24T04:55:00",null,{"$f":"_xlfn.XLOOKUP(C1018,Data!C:C,Data!I:I)","v":{"$error":"#N/A"}},{"$error":"#N/A"},{"$f":"_xlfn.XLOOKUP(C1018,Data!C:C,Data!G:G,0)","v":0},{"$f":"_xlfn.XLOOKUP(C1018,Data!C:C,Data!F:F)","v":{"$error":"#N/A"}},{"$f":"_xlfn.XLOOKUP(C1018,Data!C:C,Data!H:H,0)","v":0},{"$error":"#N/A"},{"$error":"#N/A"},{"$error":"#N/A"},{"$error":"#N/A"},{"$error":"#N/A"},0,{"$error":"#N/A"},"","","",null,{"$error":"#N/A"}]
["2021-03-24","04:56:00","2021-03-24T04:56:00",null,{"$f":"_xlfn.XLOOKUP(C1019,Data!C:C,Data!I:I)","v":{"$error":"#N/A"}},{"$error":"#N/A"},{"$f":"_xlfn.XLOOKUP(C1019,Data!C:C,Data!G:G,0)","v":0},{"$f":"_xlfn.XLOOKUP(C1019,Data!C:C,Data!F:F)","v":{"$error":"#N/A"}},{"$f":"_xlfn.XLOOKUP(C1019,Data!C:C,Data!H:H,0)","v":0},{"$error":"#N/A"},{"$error":"#N/A"},{"$error":"#N/A"},{"$error":"#N/A"},{"$error":"#N/A"},0,{"$error":"#N/A"},"","","",null,{"$error":"#N/A"}]
["2021-03-24","04:57:00","2021-03-24T04:57:00",null,{"$f":"_xlfn.XLOOKUP(C1020,Data!C:C,Data!I:I)","v":{"$error":"#N/A"}},{"$error":"#N/A"},{"$f":"_xlfn.XLOOKUP(C1020,Data!C:C,Data!G:G,0)","v":0},{"$f":"_xlfn.XLOOKUP(C1020,Data!C:C,Data!F:F)","v":{"$error":"#N/A"}},{"$f":"_xlfn.XLOOKUP(C1020,Data!C:C,Data!H:H,0)","v":0},{"$error":"#N/A"},{"$error":"#N/A"},{"$error":"#N/A"},{"$error":"#N/A"},{"$error":"#N/A"},0,{"$error":"#N/A"},"","","",null,{"$error":"#N/A"}]
["2021-03-24","04:58:00","2021-03-24T04:58:00",null,{"$f":"_xlfn.XLOOKUP(C1021,Data!C:C,Data!I:I)","v":{"$error":"#N/A"}},{"$error":"#N/A"},{"$f":"_xlfn.XLOOKUP(C1021,Data!C:C,Data!G:G,0)","v":0},{"$f":"_xlfn.XLOOKUP(C1021,Data!C:C,Data!F:F)","v":{"$error":"#N/A"}},{"$f":"_xlfn.XLOOKUP(C1021,Data!C:C,Data!H:H,0)","v":0},{"$error":"#N/A"},{"$error":"#N/A"},{"$error":"#N/A"},{"$error":"#N/A"},{"$error":"#N/A"},0,{"$error":"#N/A"},"","","",null,{"$error":"#N/A"}]
["2021-03-24","04:59:00","2021-03-24T04:59:00",null,{"$f":"_xlfn.XLOOKUP(C1022,Data!C:C,Data!I:I)","v":{"$error":"#N/A"}},{"$error":"#N/A"},{"$f":"_xlfn.XLOOKUP(C1022,Data!C:C,Data!G:G,0)","v":0},{"$f":"_xlfn.XLOOKUP(C1022,Data!C:C,Data!F:F)","v":{"$error":"#N/A"}},{"$f":"_xlfn.XLOOKUP(C1022,Data!C:C,Data!H:H,0)","v":0},{"$error":"#N/A"},{"$error":"#N/A"},{"$error":"#N/A"},{"$error":"#N/A"},{"$error":"#N/A"},0,{"$error":"#N/A"},"","","",null,{"$error":"#N/A"}]
["2021-03-24","05:00:00","2021-03-24T05:00:00",null,{"$f":"_xlfn.XLOOKUP(C1023,Data!C:C,Data!I:I)","v":{"$error":"#N/A"}},{"$error":"#N/A"},{"$f":"_xlfn.XLOOKUP(C1023,Data!C:C,Data!G:G,0)","v":0},{"$f":"_xlfn.XLOOKUP(C1023,Data!C:C,Data!F:F)","v":{"$error":"#N/A"}},{"$f":"_xlfn.XLOOKUP(C1023,Data!C:C,Data!H:H,0)","v":0},{"$error":"#N/A"},{"$error":"#N/A"},{"$error":"#N/A"},{"$error":"#N/A"},{"$error":"#N/A"},0,{"$error":"#N/A"},"","","",null,{"$error":"#N/A"}]
["2021-03-24","05:01:00","2021-03-24T05:01:00",null,{"$f":"_xlfn.XLOOKUP(C1024,Data!C:C,Data!I:I)","v":{"$error":"#N/A"}},{"$error":"#N/A"},{"$f":"_xlfn.XLOOKUP(C1024,Data!C:C,Data!G:G,0)","v":0},{"$f":"_xlfn.XLOOKUP(C1024,Data!C:C,Data!F:F)","v":{"$error":"#N/A"}},{"$f":"_xlfn.XLOOKUP(C1024,Data!C:C,Data!H:H,0)","v":0},{"$f":"IF(AND(MAX(E1022:E1023)=255,MAX(E1024:E1025)=255,  E1023+E1024+E1025<3*255, OR(I1024=123,I1024=124,I1024=106,I1024=108)),   I1024,   IF(AND(MAX(E1022:E1023)=255,MAX(E1024:E1025)=255,  E1023+E1024+E1025<3*255, OR(I1024>=80,I1024<100)),106,108))","v":{"$error":"#N/A"}},{"$error":"#N/A"},{"$error":"#N/A"},{"$error":"#N/A"},{"$error":"#N/A"},0,{"$error":"#N/A"},"","","",null,{"$error":"#N/A"}]
["2021-03-24","05:02:00","2021-03-24T05:02:00",null,{"$f":"_xlfn.XLOOKUP(C1025,Data!C:C,Data!I:I)","v":{"$error":"#N/A"}},{"$error":"#N/A"},{"$f":"_xlfn.XLOOKUP(C1025,Data!C:C,Data!G:G,0)","v":0},{"$f":"_xlfn.XLOOKUP(C1025,Data!C:C,Data!F:F)","v":{"$error":"#N/A"}},{"$f":"_xlfn.XLOOKUP(C1025,Data!C:C,Data!H:H,0)","v":0},{"$error":"#N/A"},{"$error":"#N/A"},{"$error":"#N/A"},{"$error":"#N/A"},{"$error":"#N/A"},0,{"$error":"#N/A"},"","","",null,{"$error":"#N/A"}]
["2021-03-24","05:03:00","2021-03-24T05:03:00",null,{"$f":"_xlfn.XLOOKUP(C1026,Data!C:C,Data!I:I)","v":{"$error":"#N/A"}},{"$error":"#N/A"},{"$f":"_xlfn.XLOOKUP(C1026,Data!C:C,Data!G:G,0)","v":0},{"$f":"_xlfn.XLOOKUP(C1026,Data!C:C,Data!F:F)","v":{"$error":"#N/A"}},{"$f":"_xlfn.XLOOKUP(C1026,Data!C:C,Data!H:H,0)","v":0},{"$error":"#N/A"},{"$error":"#N/A"},{"$error":"#N/A"},{"$error":"#N/A"},{"$error":"#N/A"},0,{"$error":"#N/A"},"","","",null,{"$error":"#N/A"}]
["2021-03-24","05:04:00",{"$f":"A1027+B1027","v":"2021-03-24T05:04:00"},null,{"$f":"_xlfn.XLOOKUP(C1027,Data!C:C,Data!I:I)","v":{"$error":"#N/A"}},{"$error":"#N/A"},{"$f":"_xlfn.XLOOKUP(C1027,Data!C:C,Data!G:G,0)","v":0},{"$f":"_xlfn.XLOOKUP(C1027,Data!C:C,Data!F:F)","v":{"$error":"#N/A"}},{"$f":"_xlfn.XLOOKUP(C1027,Data!C:C,Data!H:H,0)","v":0},{"$error":"#N/A"},{"$f":"IF(AND(I1027<100,  I1027>=80,  OR(J1027=105, J1027=106,  J1027=123)),  5,  0)","v":{"$error":"#N/A"}},{"$error":"#N/A"},{"$error":"#N/A"},{"$error":"#N/A"},{"$f":"IFERROR(F1027,0)","v":0},{"$error":"#N/A"},"","","",null,{"$error":"#N/A"}]
["2021-03-24","05:05:00","2021-03-24T05:05:00",null,{"$f":"_xlfn.XLOOKUP(C1028,Data!C:C,Data!I:I)","v":{"$error":"#N/A"}},{"$error":"#N/A"},{"$f":"_xlfn.XLOOKUP(C1028,Data!C:C,Data!G:G,0)","v":0},{"$f":"_xlfn.XLOOKUP(C1028,Data!C:C,Data!F:F)","v":{"$error":"#N/A"}},{"$f":"_xlfn.XLOOKUP(C1028,Data!C:C,Data!H:H,0)","v":0},{"$error":"#N/A"},{"$error":"#N/A"},{"$f":"IF(AND(I1028<130,  I1028>104,  OR(J1028=105, J1028=106,  J1028=123),  S1028>$S$1450+$S$1443),  20,  0)","v":{"$error":"#N/A"}},{"$f":"IF(AND(I1028<130,  I1028>104,  OR(J1028=105, J1028=106,  J1028=123),  R1028>$Q$1449,  S1028<=$S$1450+$S$1443),  20,  0)","v":{"$error":"#N/A"}},{"$f":"IF(AND(I1028<130,  I1028>104,  OR(J1028=105, J1028=106,  J1028=123),  R1028<=$Q$1449,  S1028<=$S$1450+$S$1443),  20,  0)","v":{"$error":"#N/A"}},0,{"$f":"IF(Q1028=\"\",F1028,IF(Q1028=0,P1027,Q1028))","v":{"$error":"#N/A"}},{"$f":"IF(I1028>109,IF(O1028*$Q$1451>(O1027+O1029)/2,MIN(O1027:O1029),O1028),\"\")","v":""},"","",null,{"$error":"#N/A"}]
["2021-03-24","05:06:00","2021-03-24T05:06:00",null,{"$f":"_xlfn.XLOOKUP(C1029,Data!C:C,Data!I:I)","v":{"$error":"#N/A"}},{"$f":"IF(E1029=255,IF(MIN(E1028:E1030)=255,#N/A,MIN(E1028:E1030)),E1029)","v":{"$error":"#N/A"}},{"$f":"_xlfn.XLOOKUP(C1029,Data!C:C,Data!G:G,0)","v":0},{"$f":"_xlfn.XLOOKUP(C1029,Data!C:C,Data!F:F)","v":{"$error":"#N/A"}},{"$f":"_xlfn.XLOOKUP(C1029,Data!C:C,Data!H:H,0)","v":0},{"$error":"#N/A"},{"$error":"#N/A"},{"$error":"#N/A"},{"$error":"#N/A"},{"$error":"#N/A"},0,{"$error":"#N/A"},"","","",null,{"$error":"#N/A"}]
["2021-03-24","05:07:00","2021-03-24T05:07:00",null,{"$f":"_xlfn.XLOOKUP(C1030,Data!C:C,Data!I:I)","v":{"$error":"#N/A"}},{"$error":"#N/A"},{"$f":"_xlfn.XLOOKUP(C1030,Data!C:C,Data!G:G,0)","v":0},{"$f":"_xlfn.XLOOKUP(C1030,Data!C:C,Data!F:F)","v":{"$error":"#N/A"}},{"$f":"_xlfn.XLOOKUP(C1030,Data!C:C,Data!H:H,0)","v":0},{"$error":"#N/A"},{"$error":"#N/A"},{"$error":"#N/A"},{"$error":"#N/A"},{"$error":"#N/A"},0,{"$error":"#N/A"},"","","",null,{"$error":"#N/A"}]
["2021-03-24","05:08:00","2021-03-24T05:08:00",null,{"$f":"_xlfn.XLOOKUP(C1031,Data!C:C,Data!I:I)","v":{"$error":"#N/A"}},{"$error":"#N/A"},{"$f":"_xlfn.XLOOKUP(C1031,Data!C:C,Data!G:G,0)","v":0},{"$f":"_xlfn.XLOOKUP(C1031,Data!C:C,Data!F:F)","v":{"$error":"#N/A"}},{"$f":"_xlfn.XLOOKUP(C1031,Data!C:C,Data!H:H,0)","v":0},{"$error":"#N/A"},{"$error":"#N/A"},{"$error":"#N/A"},{"$error":"#N/A"},{"$error":"#N/A"},0,{"$error":"#N/A"},"","","",null,{"$f":"IF(F1031=\"\",\"\",AVERAGE(F1027:F1035))","v":{"$error":"#N/A"}}]
["2021-03-24","05:09:00","2021-03-24T05:09:00",null,{"$f":"_xlfn.XLOOKUP(C1032,Data!C:C,Data!I:I)","v":{"$error":"#N/A"}},{"$error":"#N/A"},{"$f":"_xlfn.XLOOKUP(C1032,Data!C:C,Data!G:G,0)","v":0},{"$f":"_xlfn.XLOOKUP(C1032,Data!C:C,Data!F:F)","v":{"$error":"#N/A"}},{"$f":"_xlfn.XLOOKUP(C1032,Data!C:C,Data!H:H,0)","v":0},{"$error":"#N/A"},{"$error":"#N/A"},{"$error":"#N/A"},{"$error":"#N/A"},{"$error":"#N/A"},0,{"$error":"#N/A"},"",{"$f":"IF(Q1032=\"\",\"\",AVERAGE(Q1028:Q1036))","v":""},{"$f":"IF(Q1032=\"\",\"\",MAX(Q1028:Q1036)-MIN(Q1028:Q1036))","v":""},null,{"$error":"#N/A"}]
["2021-03-24","05:10:00","2021-03-24T05:10:00",null,{"$f":"_xlfn.XLOOKUP(C1033,Data!C:C,Data!I:I)","v":{"$error":"#N/A"}},{"$error":"#N/A"},{"$f":"_xlfn.XLOOKUP(C1033,Data!C:C,Data!G:G,0)","v":0},{"$f":"_xlfn.XLOOKUP(C1033,Data!C:C,Data!F:F)","v":{"$error":"#N/A"}},{"$f":"_xlfn.XLOOKUP(C1033,Data!C:C,Data!H:H,0)","v":0},{"$error":"#N/A"},{"$error":"#N/A"},{"$error":"#N/A"},{"$error":"#N/A"},{"$error":"#N/A"},0,{"$error":"#N/A"},"","","",null,{"$error":"#N/A"}]
["2021-03-24","05:11:00","2021-03-24T05:11:00",null,{"$f":"_xlfn.XLOOKUP(C1034,Data!C:C,Data!I:I)","v":{"$error":"#N/A"}},{"$error":"#N/A"},{"$f":"_xlfn.XLOOKUP(C1034,Data!C:C,Data!G:G,0)","v":0},{"$f":"_xlfn.XLOOKUP(C1034,Data!C:C,Data!F:F)","v":{"$error":"#N/A"}},{"$f":"_xlfn.XLOOKUP(C1034,Data!C:C,Data!H:H,0)","v":0},{"$error":"#N/A"},{"$error":"#N/A"},{"$error":"#N/A"},{"$error":"#N/A"},{"$error":"#N/A"},0,{"$error":"#N/A"},"","","",null,{"$error":"#N/A"}]
["2021-03-24","05:12:00","2021-03-24T05:12:00",null,{"$f":"_xlfn.XLOOKUP(C1035,Data!C:C,Data!I:I)","v":{"$error":"#N/A"}},{"$error":"#N/A"},{"$f":"_xlfn.XLOOKUP(C1035,Data!C:C,Data!G:G,0)","v":0},{"$f":"_xlfn.XLOOKUP(C1035,Data!C:C,Data!F:F)","v":{"$error":"#N/A"}},{"$f":"_xlfn.XLOOKUP(C1035,Data!C:C,Data!H:H,0)","v":0},{"$error":"#N/A"},{"$error":"#N/A"},{"$error":"#N/A"},{"$error":"#N/A"},{"$error":"#N/A"},0,{"$error":"#N/A"},"","","",null,{"$error":"#N/A"}]
["2021-03-24","05:13:00","2021-03-24T05:13:00",null,{"$f":"_xlfn.XLOOKUP(C1036,Data!C:C,Data!I:I)","v":{"$error":"#N/A"}},{"$error":"#N/A"},{"$f":"_xlfn.XLOOKUP(C1036,Data!C:C,Data!G:G,0)","v":0},{"$f":"_xlfn.XLOOKUP(C1036,Data!C:C,Data!F:F)","v":{"$error":"#N/A"}},{"$f":"_xlfn.XLOOKUP(C1036,Data!C:C,Data!H:H,0)","v":0},{"$error":"#N/A"},{"$error":"#N/A"},{"$error":"#N/A"},{"$error":"#N/A"},{"$error":"#N/A"},0,{"$error":"#N/A"},"","","",null,{"$error":"#N/A"}]
["2021-03-24","05:14:00","2021-03-24T05:14:00",null,{"$f":"_xlfn.XLOOKUP(C1037,Data!C:C,Data!I:I)","v":{"$error":"#N/A"}},{"$error":"#N/A"},{"$f":"_xlfn.XLOOKUP(C1037,Data!C:C,Data!G:G,0)","v":0},{"$f":"_xlfn.XLOOKUP(C1037,Data!C:C,Data!F:F)","v":{"$error":"#N/A"}},{"$f":"_xlfn.XLOOKUP(C1037,Data!C:C,Data!H:H,0)","v":0},{"$error":"#N/A"},{"$error":"#N/A"},{"$error":"#N/A"},{"$error":"#N/A"},{"$error":"#N/A"},0,{"$error":"#N/A"},"","","",null,{"$error":"#N/A"}]
["2021-03-24","05:15:00","2021-03-24T05:15:00",null,{"$f":"_xlfn.XLOOKUP(C1038,Data!C:C,Data!I:I)","v":{"$error":"#N/A"}},{"$error":"#N/A"},{"$f":"_xlfn.XLOOKUP(C1038,Data!C:C,Data!G:G,0)","v":0},{"$f":"_xlfn.XLOOKUP(C1038,Data!C:C,Data!F:F)","v":{"$error":"#N/A"}},{"$f":"_xlfn.XLOOKUP(C1038,Data!C:C,Data!H:H,0)","v":0},{"$error":"#N/A"},{"$error":"#N/A"},{"$error":"#N/A"},{"$error":"#N/A"},{"$error":"#N/A"},0,{"$error":"#N/A"},"","","",null,{"$error":"#N/A"}]
["2021-03-24","05:16:00","2021-03-24T05:16:00",null,{"$f":"_xlfn.XLOOKUP(C1039,Data!C:C,Data!I:I)","v":{"$error":"#N/A"}},{"$error":"#N/A"},{"$f":"_xlfn.XLOOKUP(C1039,Data!C:C,Data!G:G,0)","v":0},{"$f":"_xlfn.XLOOKUP(C1039,Data!C:C,Data!F:F)","v":{"$error":"#N/A"}},{"$f":"_xlfn.XLOOKUP(C1039,Data!C:C,Data!H:H,0)","v":0},{"$error":"#N/A"},{"$error":"#N/A"},{"$error":"#N/A"},{"$error":"#N/A"},{"$error":"#N/A"},0,{"$error":"#N/A"},"","","",null,{"$error":"#N/A"}]
["2021-03-24","05:17:00","2021-03-24T05:17:00",null,{"$f":"_xlfn.XLOOKUP(C1040,Data!C:C,Data!I:I)","v":{"$error":"#N/A"}},{"$error":"#N/A"},{"$f":"_xlfn.XLOOKUP(C1040,Data!C:C,Data!G:G,0)","v":0},{"$f":"_xlfn.XLOOKUP(C1040,Data!C:C,Data!F:F)","v":{"$error":"#N/A"}},{"$f":"_xlfn.XLOOKUP(C1040,Data!C:C,Data!H:H,0)","v":0},{"$error":"#N/A"},{"$error":"#N/A"},{"$error":"#N/A"},{"$error":"#N/A"},{"$error":"#N/A"},0,{"$error":"#N/A"},"","","",null,{"$error":"#N/A"}]
["2021-03-24","05:18:00","2021-03-24T05:18:00",null,{"$f":"_xlfn.XLOOKUP(C1041,Data!C:C,Data!I:I)","v":{"$error":"#N/A"}},{"$error":"#N/A"},{"$f":"_xlfn.XLOOKUP(C1041,Data!C:C,Data!G:G,0)","v":0},{"$f":"_xlfn.XLOOKUP(C1041,Data!C:C,Data!F:F)","v":{"$error":"#N/A"}},{"$f":"_xlfn.XLOOKUP(C1041,Data!C:C,Data!H:H,0)","v":0},{"$error":"#N/A"},{"$error":"#N/A"},{"$error":"#N/A"},{"$error":"#N/A"},{"$error":"#N/A"},0,{"$error":"#N/A"},"","","",null,{"$error":"#N/A"}]
["2021-03-24","05:19:00","2021-03-24T05:19:00",null,{"$f":"_xlfn.XLOOKUP(C1042,Data!C:C,Data!I:I)","v":{"$error":"#N/A"}},{"$error":"#N/A"},{"$f":"_xlfn.XLOOKUP(C1042,Data!C:C,Data!G:G,0)","v":0},{"$f":"_xlfn.XLOOKUP(C1042,Data!C:C,Data!F:F)","v":{"$error":"#N/A"}},{"$f":"_xlfn.XLOOKUP(C1042,Data!C:C,Data!H:H,0)","v":0},{"$error":"#N/A"},{"$error":"#N/A"},{"$error":"#N/A"},{"$error":"#N/A"},{"$error":"#N/A"},0,{"$error":"#N/A"},"","","",null,{"$error":"#N/A"}]
["2021-03-24","05:20:00","2021-03-24T05:20:00",null,{"$f":"_xlfn.XLOOKUP(C1043,Data!C:C,Data!I:I)","v":{"$error":"#N/A"}},{"$error":"#N/A"},{"$f":"_xlfn.XLOOKUP(C1043,Data!C:C,Data!G:G,0)","v":0},{"$f":"_xlfn.XLOOKUP(C1043,Data!C:C,Data!F:F)","v":{"$error":"#N/A"}},{"$f":"_xlfn.XLOOKUP(C1043,Data!C:C,Data!H:H,0)","v":0},{"$error":"#N/A"},{"$error":"#N/A"},{"$error":"#N/A"},{"$error":"#N/A"},{"$error":"#N/A"},0,{"$error":"#N/A"},"","","",null,{"$error":"#N/A"}]
["2021-03-24","05:21:00","2021-03-24T05:21:00",null,{"$f":"_xlfn.XLOOKUP(C1044,Data!C:C,Data!I:I)","v":{"$error":"#N/A"}},{"$error":"#N/A"},{"$f":"_xlfn.XLOOKUP(C1044,Data!C:C,Data!G:G,0)","v":0},{"$f":"_xlfn.XLOOKUP(C1044,Data!C:C,Data!F:F)","v":{"$error":"#N/A"}},{"$f":"_xlfn.XLOOKUP(C1044,Data!C:C,Data!H:H,0)","v":0},{"$error":"#N/A"},{"$error":"#N/A"},{"$error":"#N/A"},{"$error":"#N/A"},{"$error":"#N/A"},0,{"$error":"#N/A"},"","","",null,{"$error":"#N/A"}]
[{"$f":"$A$723","v":"2021-03-24"},"05:22:00","2021-03-24T05:22:00",null,{"$f":"_xlfn.XLOOKUP(C1045,Data!C:C,Data!I:I)","v":{"$error":"#N/A"}},{"$error":"#N/A"},{"$f":"_xlfn.XLOOKUP(C1045,Data!C:C,Data!G:G,0)","v":0},{"$f":"_xlfn.XLOOKUP(C1045,Data!C:C,Data!F:F)","v":{"$error":"#N/A"}},{"$f":"_xlfn.XLOOKUP(C1045,Data!C:C,Data!H:H,0)","v":0},{"$error":"#N/A"},{"$error":"#N/A"},{"$error":"#N/A"},{"$error":"#N/A"},{"$error":"#N/A"},0,{"$error":"#N/A"},"","","",null,{"$error":"#N/A"}]
["2021-03-24","05:23:00","2021-03-24T05:23:00",null,{"$f":"_xlfn.XLOOKUP(C1046,Data!C:C,Data!I:I)","v":{"$error":"#N/A"}},{"$error":"#N/A"},{"$f":"_xlfn.XLOOKUP(C1046,Data!C:C,Data!G:G,0)","v":0},{"$f":"_xlfn.XLOOKUP(C1046,Data!C:C,Data!F:F)","v":{"$error":"#N/A"}},{"$f":"_xlfn.XLOOKUP(C1046,Data!C:C,Data!H:H,0)","v":0},{"$error":"#N/A"},{"$error":"#N/A"},{"$error":"#N/A"},{"$error":"#N/A"},{"$error":"#N/A"},0,{"$error":"#N/A"},"","","",null,{"$error":"#N/A"}]
["2021-03-24","05:24:00","2021-03-24T05:24:00",null,{"$f":"_xlfn.XLOOKUP(C1047,Data!C:C,Data!I:I)","v":{"$error":"#N/A"}},{"$error":"#N/A"},{"$f":"_xlfn.XLOOKUP(C1047,Data!C:C,Data!G:G,0)","v":0},{"$f":"_xlfn.XLOOKUP(C1047,Data!C:C,Data!F:F)","v":{"$error":"#N/A"}},{"$f":"_xlfn.XLOOKUP(C1047,Data!C:C,Data!H:H,0)","v":0},{"$error":"#N/A"},{"$error":"#N/A"},{"$error":"#N/A"},{"$error":"#N/A"},{"$error":"#N/A"},0,{"$error":"#N/A"},"","","",null,{"$error":"#N/A"}]
["2021-03-24","05:25:00","2021-03-24T05:25:00",null,{"$f":"_xlfn.XLOOKUP(C1048,Data!C:C,Data!I:I)","v":{"$error":"#N/A"}},{"$error":"#N/A"},{"$f":"_xlfn.XLOOKUP(C1048,Data!C:C,Data!G:G,0)","v":0},{"$f":"_xlfn.XLOOKUP(C1048,Data!C:C,Data!F:F)","v":{"$error":"#N/A"}},{"$f":"_xlfn.XLOOKUP(C1048,Data!C:C,Data!H:H,0)","v":0},{"$error":"#N/A"},{"$error":"#N/A"},{"$error":"#N/A"},{"$error":"#N/A"},{"$error":"#N/A"},0,{"$error":"#N/A"},"","","",null,{"$error":"#N/A"}]
["2021-03-24","05:26:00","2021-03-24T05:26:00",null,{"$f":"_xlfn.XLOOKUP(C1049,Data!C:C,Data!I:I)","v":{"$error":"#N/A"}},{"$error":"#N/A"},{"$f":"_xlfn.XLOOKUP(C1049,Data!C:C,Data!G:G,0)","v":0},{"$f":"_xlfn.XLOOKUP(C1049,Data!C:C,Data!F:F)","v":{"$error":"#N/A"}},{"$f":"_xlfn.XLOOKUP(C1049,Data!C:C,Data!H:H,0)","v":0},{"$error":"#N/A"},{"$error":"#N/A"},{"$error":"#N/A"},{"$error":"#N/A"},{"$error":"#N/A"},0,{"$error":"#N/A"},"","","",null,{"$error":"#N/A"}]
["2021-03-24","05:27:00","2021-03-24T05:27:00",null,{"$f":"_xlfn.XLOOKUP(C1050,Data!C:C,Data!I:I)","v":{"$error":"#N/A"}},{"$error":"#N/A"},{"$f":"_xlfn.XLOOKUP(C1050,Data!C:C,Data!G:G,0)","v":0},{"$f":"_xlfn.XLOOKUP(C1050,Data!C:C,Data!F:F)","v":{"$error":"#N/A"}},{"$f":"_xlfn.XLOOKUP(C1050,Data!C:C,Data!H:H,0)","v":0},{"$error":"#N/A"},{"$error":"#N/A"},{"$error":"#N/A"},{"$error":"#N/A"},{"$error":"#N/A"},0,{"$error":"#N/A"},"","","",null,{"$error":"#N/A"}]
["2021-03-24","05:28:00","2021-03-24T05:28:00",null,{"$f":"_xlfn.XLOOKUP(C1051,Data!C:C,Data!I:I)","v":{"$error":"#N/A"}},{"$error":"#N/A"},{"$f":"_xlfn.XLOOKUP(C1051,Data!C:C,Data!G:G,0)","v":0},{"$f":"_xlfn.XLOOKUP(C1051,Data!C:C,Data!F:F)","v":{"$error":"#N/A"}},{"$f":"_xlfn.XLOOKUP(C1051,Data!C:C,Data!H:H,0)","v":0},{"$error":"#N/A"},{"$error":"#N/A"},{"$error":"#N/A"},{"$error":"#N/A"},{"$error":"#N/A"},0,{"$error":"#N/A"},"","","",null,{"$error":"#N/A"}]
["2021-03-24","05:29:00","2021-03-24T05:29:00",null,{"$f":"_xlfn.XLOOKUP(C1052,Data!C:C,Data!I:I)","v":{"$error":"#N/A"}},{"$error":"#N/A"},{"$f":"_xlfn.XLOOKUP(C1052,Data!C:C,Data!G:G,0)","v":0},{"$f":"_xlfn.XLOOKUP(C1052,Data!C:C,Data!F:F)","v":{"$error":"#N/A"}},{"$f":"_xlfn.XLOOKUP(C1052,Data!C:C,Data!H:H,0)","v":0},{"$error":"#N/A"},{"$error":"#N/A"},{"$error":"#N/A"},{"$error":"#N/A"},{"$error":"#N/A"},0,{"$error":"#N/A"},"","","",null,{"$error":"#N/A"}]
["2021-03-24","05:30:00","2021-03-24T05:30:00",null,{"$f":"_xlfn.XLOOKUP(C1053,Data!C:C,Data!I:I)","v":{"$error":"#N/A"}},{"$error":"#N/A"},{"$f":"_xlfn.XLOOKUP(C1053,Data!C:C,Data!G:G,0)","v":0},{"$f":"_xlfn.XLOOKUP(C1053,Data!C:C,Data!F:F)","v":{"$error":"#N/A"}},{"$f":"_xlfn.XLOOKUP(C1053,Data!C:C,Data!H:H,0)","v":0},{"$error":"#N/A"},{"$error":"#N/A"},{"$error":"#N/A"},{"$error":"#N/A"},{"$error":"#N/A"},0,{"$error":"#N/A"},"","","",null,{"$error":"#N/A"}]
["2021-03-24","05:31:00","2021-03-24T05:31:00",null,{"$f":"_xlfn.XLOOKUP(C1054,Data!C:C,Data!I:I)","v":{"$error":"#N/A"}},{"$error":"#N/A"},{"$f":"_xlfn.XLOOKUP(C1054,Data!C:C,Data!G:G,0)","v":0},{"$f":"_xlfn.XLOOKUP(C1054,Data!C:C,Data!F:F)","v":{"$error":"#N/A"}},{"$f":"_xlfn.XLOOKUP(C1054,Data!C:C,Data!H:H,0)","v":0},{"$error":"#N/A"},{"$error":"#N/A"},{"$error":"#N/A"},{"$error":"#N/A"},{"$error":"#N/A"},0,{"$error":"#N/A"},"","","",null,{"$error":"#N/A"}]
["2021-03-24","05:32:00","2021-03-24T05:32:00",null,{"$f":"_xlfn.XLOOKUP(C1055,Data!C:C,Data!I:I)","v":{"$error":"#N/A"}},{"$error":"#N/A"},{"$f":"_xlfn.XLOOKUP(C1055,Data!C:C,Data!G:G,0)","v":0},{"$f":"_xlfn.XLOOKUP(C1055,Data!C:C,Data!F:F)","v":{"$error":"#N/A"}},{"$f":"_xlfn.XLOOKUP(C1055,Data!C:C,Data!H:H,0)","v":0},{"$error":"#N/A"},{"$error":"#N/A"},{"$error":"#N/A"},{"$error":"#N/A"},{"$error":"#N/A"},0,{"$error":"#N/A"},"","","",null,{"$error":"#N/A"}]
["2021-03-24","05:33:00","2021-03-24T05:33:00",null,{"$f":"_xlfn.XLOOKUP(C1056,Data!C:C,Data!I:I)","v":{"$error":"#N/A"}},{"$error":"#N/A"},{"$f":"_xlfn.XLOOKUP(C1056,Data!C:C,Data!G:G,0)","v":0},{"$f":"_xlfn.XLOOKUP(C1056,Data!C:C,Data!F:F)","v":{"$error":"#N/A"}},{"$f":"_xlfn.XLOOKUP(C1056,Data!C:C,Data!H:H,0)","v":0},{"$error":"#N/A"},{"$error":"#N/A"},{"$error":"#N/A"},{"$error":"#N/A"},{"$error":"#N/A"},0,{"$error":"#N/A"},"","","",null,{"$error":"#N/A"}]
["2021-03-24","05:34:00","2021-03-24T05:34:00",null,{"$f":"_xlfn.XLOOKUP(C1057,Data!C:C,Data!I:I)","v":{"$error":"#N/A"}},{"$error":"#N/A"},{"$f":"_xlfn.XLOOKUP(C1057,Data!C:C,Data!G:G,0)","v":0},{"$f":"_xlfn.XLOOKUP(C1057,Data!C:C,Data!F:F)","v":{"$error":"#N/A"}},{"$f":"_xlfn.XLOOKUP(C1057,Data!C:C,Data!H:H,0)","v":0},{"$error":"#N/A"},{"$error":"#N/A"},{"$error":"#N/A"},{"$error":"#N/A"},{"$error":"#N/A"},0,{"$error":"#N/A"},"","","",null,{"$error":"#N/A"}]
["2021-03-24","05:35:00","2021-03-24T05:35:00",null,{"$f":"_xlfn.XLOOKUP(C1058,Data!C:C,Data!I:I)","v":{"$error":"#N/A"}},{"$error":"#N/A"},{"$f":"_xlfn.XLOOKUP(C1058,Data!C:C,Data!G:G,0)","v":0},{"$f":"_xlfn.XLOOKUP(C1058,Data!C:C,Data!F:F)","v":{"$error":"#N/A"}},{"$f":"_xlfn.XLOOKUP(C1058,Data!C:C,Data!H:H,0)","v":0},{"$error":"#N/A"},{"$error":"#N/A"},{"$error":"#N/A"},{"$error":"#N/A"},{"$error":"#N/A"},0,{"$error":"#N/A"},"","","",null,{"$error":"#N/A"}]
["2021-03-24","05:36:00","2021-03-24T05:36:00",null,{"$f":"_xlfn.XLOOKUP(C1059,Data!C:C,Data!I:I)","v":{"$error":"#N/A"}},{"$error":"#N/A"},{"$f":"_xlfn.XLOOKUP(C1059,Data!C:C,Data!G:G,0)","v":0},{"$f":"_xlfn.XLOOKUP(C1059,Data!C:C,Data!F:F)","v":{"$error":"#N/A"}},{"$f":"_xlfn.XLOOKUP(C1059,Data!C:C,Data!H:H,0)","v":0},{"$error":"#N/A"},{"$error":"#N/A"},{"$error":"#N/A"},{"$error":"#N/A"},{"$error":"#N/A"},0,{"$error":"#N/A"},"","","",null,{"$error":"#N/A"}]
["2021-03-24","05:37:00","2021-03-24T05:37:00",null,{"$f":"_xlfn.XLOOKUP(C1060,Data!C:C,Data!I:I)","v":{"$error":"#N/A"}},{"$error":"#N/A"},{"$f":"_xlfn.XLOOKUP(C1060,Data!C:C,Data!G:G,0)","v":0},{"$f":"_xlfn.XLOOKUP(C1060,Data!C:C,Data!F:F)","v":{"$error":"#N/A"}},{"$f":"_xlfn.XLOOKUP(C1060,Data!C:C,Data!H:H,0)","v":0},{"$error":"#N/A"},{"$error":"#N/A"},{"$error":"#N/A"},{"$error":"#N/A"},{"$error":"#N/A"},0,{"$error":"#N/A"},"","","",null,{"$error":"#N/A"}]
["2021-03-24","05:38:00","2021-03-24T05:38:00",null,{"$f":"_xlfn.XLOOKUP(C1061,Data!C:C,Data!I:I)","v":{"$error":"#N/A"}},{"$error":"#N/A"},{"$f":"_xlfn.XLOOKUP(C1061,Data!C:C,Data!G:G,0)","v":0},{"$f":"_xlfn.XLOOKUP(C1061,Data!C:C,Data!F:F)","v":{"$error":"#N/A"}},{"$f":"_xlfn.XLOOKUP(C1061,Data!C:C,Data!H:H,0)","v":0},{"$error":"#N/A"},{"$error":"#N/A"},{"$error":"#N/A"},{"$error":"#N/A"},{"$error":"#N/A"},0,{"$error":"#N/A"},"","","",null,{"$error":"#N/A"}]
["2021-03-24","05:39:00","2021-03-24T05:39:00",null,{"$f":"_xlfn.XLOOKUP(C1062,Data!C:C,Data!I:I)","v":{"$error":"#N/A"}},{"$error":"#N/A"},{"$f":"_xlfn.XLOOKUP(C1062,Data!C:C,Data!G:G,0)","v":0},{"$f":"_xlfn.XLOOKUP(C1062,Data!C:C,Data!F:F)","v":{"$error":"#N/A"}},{"$f":"_xlfn.XLOOKUP(C1062,Data!C:C,Data!H:H,0)","v":0},{"$error":"#N/A"},{"$error":"#N/A"},{"$error":"#N/A"},{"$error":"#N/A"},{"$error":"#N/A"},0,{"$error":"#N/A"},"","","",null,{"$error":"#N/A"}]
["2021-03-24","05:40:00","2021-03-24T05:40:00",null,{"$f":"_xlfn.XLOOKUP(C1063,Data!C:C,Data!I:I)","v":{"$error":"#N/A"}},{"$error":"#N/A"},{"$f":"_xlfn.XLOOKUP(C1063,Data!C:C,Data!G:G,0)","v":0},{"$f":"_xlfn.XLOOKUP(C1063,Data!C:C,Data!F:F)","v":{"$error":"#N/A"}},{"$f":"_xlfn.XLOOKUP(C1063,Data!C:C,Data!H:H,0)","v":0},{"$error":"#N/A"},{"$error":"#N/A"},{"$error":"#N/A"},{"$error":"#N/A"},{"$error":"#N/A"},0,{"$error":"#N/A"},"","","",null,{"$error":"#N/A"}]
["2021-03-24","05:41:00","2021-03-24T05:41:00",null,{"$f":"_xlfn.XLOOKUP(C1064,Data!C:C,Data!I:I)","v":{"$error":"#N/A"}},{"$error":"#N/A"},{"$f":"_xlfn.XLOOKUP(C1064,Data!C:C,Data!G:G,0)","v":0},{"$f":"_xlfn.XLOOKUP(C1064,Data!C:C,Data!F:F)","v":{"$error":"#N/A"}},{"$f":"_xlfn.XLOOKUP(C1064,Data!C:C,Data!H:H,0)","v":0},{"$error":"#N/A"},{"$error":"#N/A"},{"$error":"#N/A"},{"$error":"#N/A"},{"$error":"#N/A"},0,{"$error":"#N/A"},"","","",null,{"$error":"#N/A"}]
["2021-03-24","05:42:00","2021-03-24T05:42:00",null,{"$f":"_xlfn.XLOOKUP(C1065,Data!C:C,Data!I:I)","v":{"$error":"#N/A"}},{"$error":"#N/A"},{"$f":"_xlfn.XLOOKUP(C1065,Data!C:C,Data!G:G,0)","v":0},{"$f":"_xlfn.XLOOKUP(C1065,Data!C:C,Data!F:F)","v":{"$error":"#N/A"}},{"$f":"_xlfn.XLOOKUP(C1065,Data!C:C,Data!H:H,0)","v":0},{"$error":"#N/A"},{"$error":"#N/A"},{"$error":"#N/A"},{"$error":"#N/A"},{"$error":"#N/A"},0,{"$error":"#N/A"},"","","",null,{"$error":"#N/A"}]
["2021-03-24","05:43:00","2021-03-24T05:43:00",null,{"$f":"_xlfn.XLOOKUP(C1066,Data!C:C,Data!I:I)","v":{"$error":"#N/A"}},{"$error":"#N/A"},{"$f":"_xlfn.XLOOKUP(C1066,Data!C:C,Data!G:G,0)","v":0},{"$f":"_xlfn.XLOOKUP(C1066,Data!C:C,Data!F:F)","v":{"$error":"#N/A"}},{"$f":"_xlfn.XLOOKUP(C1066,Data!C:C,Data!H:H,0)","v":0},{"$error":"#N/A"},{"$error":"#N/A"},{"$error":"#N/A"},{"$error":"#N/A"},{"$error":"#N/A"},0,{"$error":"#N/A"},"","","",null,{"$error":"#N/A"}]
["2021-03-24","05:44:00","2021-03-24T05:44:00",null,{"$f":"_xlfn.XLOOKUP(C1067,Data!C:C,Data!I:I)","v":{"$error":"#N/A"}},{"$error":"#N/A"},{"$f":"_xlfn.XLOOKUP(C1067,Data!C:C,Data!G:G,0)","v":0},{"$f":"_xlfn.XLOOKUP(C1067,Data!C:C,Data!F:F)","v":{"$error":"#N/A"}},{"$f":"_xlfn.XLOOKUP(C1067,Data!C:C,Data!H:H,0)","v":0},{"$error":"#N/A"},{"$error":"#N/A"},{"$error":"#N/A"},{"$error":"#N/A"},{"$error":"#N/A"},0,{"$error":"#N/A"},"","","",null,{"$error":"#N/A"}]
["2021-03-24","05:45:00","2021-03-24T05:45:00",null,{"$f":"_xlfn.XLOOKUP(C1068,Data!C:C,Data!I:I)","v":{"$error":"#N/A"}},{"$error":"#N/A"},{"$f":"_xlfn.XLOOKUP(C1068,Data!C:C,Data!G:G,0)","v":0},{"$f":"_xlfn.XLOOKUP(C1068,Data!C:C,Data!F:F)","v":{"$error":"#N/A"}},{"$f":"_xlfn.XLOOKUP(C1068,Data!C:C,Data!H:H,0)","v":0},{"$error":"#N/A"},{"$error":"#N/A"},{"$error":"#N/A"},{"$error":"#N/A"},{"$error":"#N/A"},0,{"$error":"#N/A"},"","","",null,{"$error":"#N/A"}]
["2021-03-24","05:46:00","2021-03-24T05:46:00",null,{"$f":"_xlfn.XLOOKUP(C1069,Data!C:C,Data!I:I)","v":{"$error":"#N/A"}},{"$error":"#N/A"},{"$f":"_xlfn.XLOOKUP(C1069,Data!C:C,Data!G:G,0)","v":0},{"$f":"_xlfn.XLOOKUP(C1069,Data!C:C,Data!F:F)","v":{"$error":"#N/A"}},{"$f":"_xlfn.XLOOKUP(C1069,Data!C:C,Data!H:H,0)","v":0},{"$error":"#N/A"},{"$error":"#N/A"},{"$error":"#N/A"},{"$error":"#N/A"},{"$error":"#N/A"},0,{"$error":"#N/A"},"","","",null,{"$error":"#N/A"}]
["2021-03-24","05:47:00","2021-03-24T05:47:00",null,{"$f":"_xlfn.XLOOKUP(C1070,Data!C:C,Data!I:I)","v":{"$error":"#N/A"}},{"$error":"#N/A"},{"$f":"_xlfn.XLOOKUP(C1070,Data!C:C,Data!G:G,0)","v":0},{"$f":"_xlfn.XLOOKUP(C1070,Data!C:C,Data!F:F)","v":{"$error":"#N/A"}},{"$f":"_xlfn.XLOOKUP(C1070,Data!C:C,Data!H:H,0)","v":0},{"$error":"#N/A"},{"$error":"#N/A"},{"$error":"#N/A"},{"$error":"#N/A"},{"$error":"#N/A"},0,{"$error":"#N/A"},"","","",null,{"$error":"#N/A"}]
["2021-03-24","05:48:00","2021-03-24T05:48:00",null,{"$f":"_xlfn.XLOOKUP(C1071,Data!C:C,Data!I:I)","v":{"$error":"#N/A"}},{"$error":"#N/A"},{"$f":"_xlfn.XLOOKUP(C1071,Data!C:C,Data!G:G,0)","v":0},{"$f":"_xlfn.XLOOKUP(C1071,Data!C:C,Data!F:F)","v":{"$error":"#N/A"}},{"$f":"_xlfn.XLOOKUP(C1071,Data!C:C,Data!H:H,0)","v":0},{"$error":"#N/A"},{"$error":"#N/A"},{"$error":"#N/A"},{"$error":"#N/A"},{"$error":"#N/A"},0,{"$error":"#N/A"},"","","",null,{"$error":"#N/A"}]
["2021-03-24","05:49:00","2021-03-24T05:49:00",null,{"$f":"_xlfn.XLOOKUP(C1072,Data!C:C,Data!I:I)","v":{"$error":"#N/A"}},{"$error":"#N/A"},{"$f":"_xlfn.XLOOKUP(C1072,Data!C:C,Data!G:G,0)","v":0},{"$f":"_xlfn.XLOOKUP(C1072,Data!C:C,Data!F:F)","v":{"$error":"#N/A"}},{"$f":"_xlfn.XLOOKUP(C1072,Data!C:C,Data!H:H,0)","v":0},{"$error":"#N/A"},{"$error":"#N/A"},{"$error":"#N/A"},{"$error":"#N/A"},{"$error":"#N/A"},0,{"$error":"#N/A"},"","","",null,{"$error":"#N/A"}]
["2021-03-24","05:50:00","2021-03-24T05:50:00",null,{"$f":"_xlfn.XLOOKUP(C1073,Data!C:C,Data!I:I)","v":{"$error":"#N/A"}},{"$error":"#N/A"},{"$f":"_xlfn.XLOOKUP(C1073,Data!C:C,Data!G:G,0)","v":0},{"$f":"_xlfn.XLOOKUP(C1073,Data!C:C,Data!F:F)","v":{"$error":"#N/A"}},{"$f":"_xlfn.XLOOKUP(C1073,Data!C:C,Data!H:H,0)","v":0},{"$error":"#N/A"},{"$error":"#N/A"},{"$error":"#N/A"},{"$error":"#N/A"},{"$error":"#N/A"},0,{"$error":"#N/A"},"","","",null,{"$error":"#N/A"}]
["2021-03-24","05:51:00","2021-03-24T05:51:00",null,{"$f":"_xlfn.XLOOKUP(C1074,Data!C:C,Data!I:I)","v":{"$error":"#N/A"}},{"$error":"#N/A"},{"$f":"_xlfn.XLOOKUP(C1074,Data!C:C,Data!G:G,0)","v":0},{"$f":"_xlfn.XLOOKUP(C1074,Data!C:C,Data!F:F)","v":{"$error":"#N/A"}},{"$f":"_xlfn.XLOOKUP(C1074,Data!C:C,Data!H:H,0)","v":0},{"$error":"#N/A"},{"$error":"#N/A"},{"$error":"#N/A"},{"$error":"#N/A"},{"$error":"#N/A"},0,{"$error":"#N/A"},"","","",null,{"$error":"#N/A"}]
["2021-03-24","05:52:00","2021-03-24T05:52:00",null,{"$f":"_xlfn.XLOOKUP(C1075,Data!C:C,Data!I:I)","v":{"$error":"#N/A"}},{"$error":"#N/A"},{"$f":"_xlfn.XLOOKUP(C1075,Data!C:C,Data!G:G,0)","v":0},{"$f":"_xlfn.XLOOKUP(C1075,Data!C:C,Data!F:F)","v":{"$error":"#N/A"}},{"$f":"_xlfn.XLOOKUP(C1075,Data!C:C,Data!H:H,0)","v":0},{"$error":"#N/A"},{"$error":"#N/A"},{"$error":"#N/A"},{"$error":"#N/A"},{"$error":"#N/A"},0,{"$error":"#N/A"},"","","",null,{"$error":"#N/A"}]
["2021-03-24","05:53:00","2021-03-24T05:53:00",null,{"$f":"_xlfn.XLOOKUP(C1076,Data!C:C,Data!I:I)","v":{"$error":"#N/A"}},{"$error":"#N/A"},{"$f":"_xlfn.XLOOKUP(C1076,Data!C:C,Data!G:G,0)","v":0},{"$f":"_xlfn.XLOOKUP(C1076,Data!C:C,Data!F:F)","v":{"$error":"#N/A"}},{"$f":"_xlfn.XLOOKUP(C1076,Data!C:C,Data!H:H,0)","v":0},{"$error":"#N/A"},{"$error":"#N/A"},{"$error":"#N/A"},{"$error":"#N/A"},{"$error":"#N/A"},0,{"$error":"#N/A"},"","","",null,{"$error":"#N/A"}]
["2021-03-24","05:54:00","2021-03-24T05:54:00",null,{"$f":"_xlfn.XLOOKUP(C1077,Data!C:C,Data!I:I)","v":{"$error":"#N/A"}},{"$error":"#N/A"},{"$f":"_xlfn.XLOOKUP(C1077,Data!C:C,Data!G:G,0)","v":0},{"$f":"_xlfn.XLOOKUP(C1077,Data!C:C,Data!F:F)","v":{"$error":"#N/A"}},{"$f":"_xlfn.XLOOKUP(C1077,Data!C:C,Data!H:H,0)","v":0},{"$error":"#N/A"},{"$error":"#N/A"},{"$error":"#N/A"},{"$error":"#N/A"},{"$error":"#N/A"},0,{"$error":"#N/A"},"","","",null,{"$error":"#N/A"}]
["2021-03-24","05:55:00","2021-03-24T05:55:00",null,{"$f":"_xlfn.XLOOKUP(C1078,Data!C:C,Data!I:I)","v":{"$error":"#N/A"}},{"$error":"#N/A"},{"$f":"_xlfn.XLOOKUP(C1078,Data!C:C,Data!G:G,0)","v":0},{"$f":"_xlfn.XLOOKUP(C1078,Data!C:C,Data!F:F)","v":{"$error":"#N/A"}},{"$f":"_xlfn.XLOOKUP(C1078,Data!C:C,Data!H:H,0)","v":0},{"$error":"#N/A"},{"$error":"#N/A"},{"$error":"#N/A"},{"$error":"#N/A"},{"$error":"#N/A"},0,{"$error":"#N/A"},"","","",null,{"$error":"#N/A"}]
["2021-03-24","05:56:00","2021-03-24T05:56:00",null,{"$f":"_xlfn.XLOOKUP(C1079,Data!C:C,Data!I:I)","v":{"$error":"#N/A"}},{"$error":"#N/A"},{"$f":"_xlfn.XLOOKUP(C1079,Data!C:C,Data!G:G,0)","v":0},{"$f":"_xlfn.XLOOKUP(C1079,Data!C:C,Data!F:F)","v":{"$error":"#N/A"}},{"$f":"_xlfn.XLOOKUP(C1079,Data!C:C,Data!H:H,0)","v":0},{"$error":"#N/A"},{"$error":"#N/A"},{"$error":"#N/A"},{"$error":"#N/A"},{"$error":"#N/A"},0,{"$error":"#N/A"},"","","",null,{"$error":"#N/A"}]
["2021-03-24","05:57:00","2021-03-24T05:57:00",null,{"$f":"_xlfn.XLOOKUP(C1080,Data!C:C,Data!I:I)","v":{"$error":"#N/A"}},{"$error":"#N/A"},{"$f":"_xlfn.XLOOKUP(C1080,Data!C:C,Data!G:G,0)","v":0},{"$f":"_xlfn.XLOOKUP(C1080,Data!C:C,Data!F:F)","v":{"$error":"#N/A"}},{"$f":"_xlfn.XLOOKUP(C1080,Data!C:C,Data!H:H,0)","v":0},{"$error":"#N/A"},{"$error":"#N/A"},{"$error":"#N/A"},{"$error":"#N/A"},{"$error":"#N/A"},0,{"$error":"#N/A"},"","","",null,{"$error":"#N/A"}]
["2021-03-24","05:58:00","2021-03-24T05:58:00",null,{"$f":"_xlfn.XLOOKUP(C1081,Data!C:C,Data!I:I)","v":{"$error":"#N/A"}},{"$error":"#N/A"},{"$f":"_xlfn.XLOOKUP(C1081,Data!C:C,Data!G:G,0)","v":0},{"$f":"_xlfn.XLOOKUP(C1081,Data!C:C,Data!F:F)","v":{"$error":"#N/A"}},{"$f":"_xlfn.XLOOKUP(C1081,Data!C:C,Data!H:H,0)","v":0},{"$error":"#N/A"},{"$error":"#N/A"},{"$error":"#N/A"},{"$error":"#N/A"},{"$error":"#N/A"},0,{"$error":"#N/A"},"","","",null,{"$error":"#N/A"}]
["2021-03-24","05:59:00","2021-03-24T05:59:00",null,{"$f":"_xlfn.XLOOKUP(C1082,Data!C:C,Data!I:I)","v":{"$error":"#N/A"}},{"$error":"#N/A"},{"$f":"_xlfn.XLOOKUP(C1082,Data!C:C,Data!G:G,0)","v":0},{"$f":"_xlfn.XLOOKUP(C1082,Data!C:C,Data!F:F)","v":{"$error":"#N/A"}},{"$f":"_xlfn.XLOOKUP(C1082,Data!C:C,Data!H:H,0)","v":0},{"$error":"#N/A"},{"$error":"#N/A"},{"$error":"#N/A"},{"$error":"#N/A"},{"$error":"#N/A"},0,{"$error":"#N/A"},"","","",null,{"$error":"#N/A"}]
["2021-03-24","06:00:00","2021-03-24T06:00:00",null,{"$f":"_xlfn.XLOOKUP(C1083,Data!C:C,Data!I:I)","v":{"$error":"#N/A"}},{"$error":"#N/A"},{"$f":"_xlfn.XLOOKUP(C1083,Data!C:C,Data!G:G,0)","v":0},{"$f":"_xlfn.XLOOKUP(C1083,Data!C:C,Data!F:F)","v":{"$error":"#N/A"}},{"$f":"_xlfn.XLOOKUP(C1083,Data!C:C,Data!H:H,0)","v":0},{"$error":"#N/A"},{"$error":"#N/A"},{"$error":"#N/A"},{"$error":"#N/A"},{"$error":"#N/A"},0,{"$error":"#N/A"},"","","",null,{"$error":"#N/A"}]
["2021-03-24","06:01:00","2021-03-24T06:01:00",null,{"$f":"_xlfn.XLOOKUP(C1084,Data!C:C,Data!I:I)","v":{"$error":"#N/A"}},{"$error":"#N/A"},{"$f":"_xlfn.XLOOKUP(C1084,Data!C:C,Data!G:G,0)","v":0},{"$f":"_xlfn.XLOOKUP(C1084,Data!C:C,Data!F:F)","v":{"$error":"#N/A"}},{"$f":"_xlfn.XLOOKUP(C1084,Data!C:C,Data!H:H,0)","v":0},{"$error":"#N/A"},{"$error":"#N/A"},{"$error":"#N/A"},{"$error":"#N/A"},{"$error":"#N/A"},0,{"$error":"#N/A"},"","","",null,{"$error":"#N/A"}]
["2021-03-24","06:02:00","2021-03-24T06:02:00",null,{"$f":"_xlfn.XLOOKUP(C1085,Data!C:C,Data!I:I)","v":{"$error":"#N/A"}},{"$error":"#N/A"},{"$f":"_xlfn.XLOOKUP(C1085,Data!C:C,Data!G:G,0)","v":0},{"$f":"_xlfn.XLOOKUP(C1085,Data!C:C,Data!F:F)","v":{"$error":"#N/A"}},{"$f":"_xlfn.XLOOKUP(C1085,Data!C:C,Data!H:H,0)","v":0},{"$error":"#N/A"},{"$error":"#N/A"},{"$error":"#N/A"},{"$error":"#N/A"},{"$error":"#N/A"},0,{"$error":"#N/A"},"","","",null,{"$error":"#N/A"}]
["2021-03-24","06:03:00","2021-03-24T06:03:00",null,{"$f":"_xlfn.XLOOKUP(C1086,Data!C:C,Data!I:I)","v":{"$error":"#N/A"}},{"$error":"#N/A"},{"$f":"_xlfn.XLOOKUP(C1086,Data!C:C,Data!G:G,0)","v":0},{"$f":"_xlfn.XLOOKUP(C1086,Data!C:C,Data!F:F)","v":{"$error":"#N/A"}},{"$f":"_xlfn.XLOOKUP(C1086,Data!C:C,Data!H:H,0)","v":0},{"$error":"#N/A"},{"$error":"#N/A"},{"$error":"#N/A"},{"$error":"#N/A"},{"$error":"#N/A"},0,{"$error":"#N/A"},"","","",null,{"$error":"#N/A"}]
["2021-03-24","06:04:00","2021-03-24T06:04:00",null,{"$f":"_xlfn.XLOOKUP(C1087,Data!C:C,Data!I:I)","v":{"$error":"#N/A"}},{"$error":"#N/A"},{"$f":"_xlfn.XLOOKUP(C1087,Data!C:C,Data!G:G,0)","v":0},{"$f":"_xlfn.XLOOKUP(C1087,Data!C:C,Data!F:F)","v":{"$error":"#N/A"}},{"$f":"_xlfn.XLOOKUP(C1087,Data!C:C,Data!H:H,0)","v":0},{"$error":"#N/A"},{"$error":"#N/A"},{"$error":"#N/A"},{"$error":"#N/A"},{"$error":"#N/A"},0,{"$error":"#N/A"},"","","",null,{"$error":"#N/A"}]
["2021-03-24","06:05:00","2021-03-24T06:05:00",null,{"$f":"_xlfn.XLOOKUP(C1088,Data!C:C,Data!I:I)","v":{"$error":"#N/A"}},{"$error":"#N/A"},{"$f":"_xlfn.XLOOKUP(C1088,Data!C:C,Data!G:G,0)","v":0},{"$f":"_xlfn.XLOOKUP(C1088,Data!C:C,Data!F:F)","v":{"$error":"#N/A"}},{"$f":"_xlfn.XLOOKUP(C1088,Data!C:C,Data!H:H,0)","v":0},{"$f":"IF(AND(MAX(E1086:E1087)=255,MAX(E1088:E1089)=255,  E1087+E1088+E1089<3*255, OR(I1088=123,I1088=124,I1088=106,I1088=108)),   I1088,   IF(AND(MAX(E1086:E1087)=255,MAX(E1088:E1089)=255,  E1087+E1088+E1089<3*255, OR(I1088>=80,I1088<100)),106,108))","v":{"$error":"#N/A"}},{"$error":"#N/A"},{"$error":"#N/A"},{"$error":"#N/A"},{"$error":"#N/A"},0,{"$error":"#N/A"},"","","",null,{"$error":"#N/A"}]
["2021-03-24","06:06:00","2021-03-24T06:06:00",null,{"$f":"_xlfn.XLOOKUP(C1089,Data!C:C,Data!I:I)","v":{"$error":"#N/A"}},{"$error":"#N/A"},{"$f":"_xlfn.XLOOKUP(C1089,Data!C:C,Data!G:G,0)","v":0},{"$f":"_xlfn.XLOOKUP(C1089,Data!C:C,Data!F:F)","v":{"$error":"#N/A"}},{"$f":"_xlfn.XLOOKUP(C1089,Data!C:C,Data!H:H,0)","v":0},{"$error":"#N/A"},{"$error":"#N/A"},{"$error":"#N/A"},{"$error":"#N/A"},{"$error":"#N/A"},0,{"$error":"#N/A"},"","","",null,{"$error":"#N/A"}]
["2021-03-24","06:07:00","2021-03-24T06:07:00",null,{"$f":"_xlfn.XLOOKUP(C1090,Data!C:C,Data!I:I)","v":{"$error":"#N/A"}},{"$error":"#N/A"},{"$f":"_xlfn.XLOOKUP(C1090,Data!C:C,Data!G:G,0)","v":0},{"$f":"_xlfn.XLOOKUP(C1090,Data!C:C,Data!F:F)","v":{"$error":"#N/A"}},{"$f":"_xlfn.XLOOKUP(C1090,Data!C:C,Data!H:H,0)","v":0},{"$error":"#N/A"},{"$error":"#N/A"},{"$error":"#N/A"},{"$error":"#N/A"},{"$error":"#N/A"},0,{"$error":"#N/A"},"","","",null,{"$error":"#N/A"}]
["2021-03-24","06:08:00",{"$f":"A1091+B1091","v":"2021-03-24T06:08:00"},null,{"$f":"_xlfn.XLOOKUP(C1091,Data!C:C,Data!I:I)","v":{"$error":"#N/A"}},{"$error":"#N/A"},{"$f":"_xlfn.XLOOKUP(C1091,Data!C:C,Data!G:G,0)","v":0},{"$f":"_xlfn.XLOOKUP(C1091,Data!C:C,Data!F:F)","v":{"$error":"#N/A"}},{"$f":"_xlfn.XLOOKUP(C1091,Data!C:C,Data!H:H,0)","v":0},{"$error":"#N/A"},{"$f":"IF(AND(I1091<100,  I1091>=80,  OR(J1091=105, J1091=106,  J1091=123)),  5,  0)","v":{"$error":"#N/A"}},{"$error":"#N/A"},{"$error":"#N/A"},{"$error":"#N/A"},{"$f":"IFERROR(F1091,0)","v":0},{"$error":"#N/A"},"","","",null,{"$error":"#N/A"}]
["2021-03-24","06:09:00","2021-03-24T06:09:00",null,{"$f":"_xlfn.XLOOKUP(C1092,Data!C:C,Data!I:I)","v":{"$error":"#N/A"}},{"$error":"#N/A"},{"$f":"_xlfn.XLOOKUP(C1092,Data!C:C,Data!G:G,0)","v":0},{"$f":"_xlfn.XLOOKUP(C1092,Data!C:C,Data!F:F)","v":{"$error":"#N/A"}},{"$f":"_xlfn.XLOOKUP(C1092,Data!C:C,Data!H:H,0)","v":0},{"$error":"#N/A"},{"$error":"#N/A"},{"$f":"IF(AND(I1092<130,  I1092>104,  OR(J1092=105, J1092=106,  J1092=123),  S1092>$S$1450+$S$1443),  20,  0)","v":{"$error":"#N/A"}},{"$f":"IF(AND(I1092<130,  I1092>104,  OR(J1092=105, J1092=106,  J1092=123),  R1092>$Q$1449,  S1092<=$S$1450+$S$1443),  20,  0)","v":{"$error":"#N/A"}},{"$f":"IF(AND(I1092<130,  I1092>104,  OR(J1092=105, J1092=106,  J1092=123),  R1092<=$Q$1449,  S1092<=$S$1450+$S$1443),  20,  0)","v":{"$error":"#N/A"}},0,{"$f":"IF(Q1092=\"\",F1092,IF(Q1092=0,P1091,Q1092))","v":{"$error":"#N/A"}},{"$f":"IF(I1092>109,IF(O1092*$Q$1451>(O1091+O1093)/2,MIN(O1091:O1093),O1092),\"\")","v":""},"","",null,{"$error":"#N/A"}]
["2021-03-24","06:10:00","2021-03-24T06:10:00",null,{"$f":"_xlfn.XLOOKUP(C1093,Data!C:C,Data!I:I)","v":{"$error":"#N/A"}},{"$f":"IF(E1093=255,IF(MIN(E1092:E1094)=255,#N/A,MIN(E1092:E1094)),E1093)","v":{"$error":"#N/A"}},{"$f":"_xlfn.XLOOKUP(C1093,Data!C:C,Data!G:G,0)","v":0},{"$f":"_xlfn.XLOOKUP(C1093,Data!C:C,Data!F:F)","v":{"$error":"#N/A"}},{"$f":"_xlfn.XLOOKUP(C1093,Data!C:C,Data!H:H,0)","v":0},{"$error":"#N/A"},{"$error":"#N/A"},{"$error":"#N/A"},{"$error":"#N/A"},{"$error":"#N/A"},0,{"$error":"#N/A"},"","","",null,{"$error":"#N/A"}]
["2021-03-24","06:11:00","2021-03-24T06:11:00",null,{"$f":"_xlfn.XLOOKUP(C1094,Data!C:C,Data!I:I)","v":{"$error":"#N/A"}},{"$error":"#N/A"},{"$f":"_xlfn.XLOOKUP(C1094,Data!C:C,Data!G:G,0)","v":0},{"$f":"_xlfn.XLOOKUP(C1094,Data!C:C,Data!F:F)","v":{"$error":"#N/A"}},{"$f":"_xlfn.XLOOKUP(C1094,Data!C:C,Data!H:H,0)","v":0},{"$error":"#N/A"},{"$error":"#N/A"},{"$error":"#N/A"},{"$error":"#N/A"},{"$error":"#N/A"},0,{"$error":"#N/A"},"","","",null,{"$error":"#N/A"}]
["2021-03-24","06:12:00","2021-03-24T06:12:00",null,{"$f":"_xlfn.XLOOKUP(C1095,Data!C:C,Data!I:I)","v":{"$error":"#N/A"}},{"$error":"#N/A"},{"$f":"_xlfn.XLOOKUP(C1095,Data!C:C,Data!G:G,0)","v":0},{"$f":"_xlfn.XLOOKUP(C1095,Data!C:C,Data!F:F)","v":{"$error":"#N/A"}},{"$f":"_xlfn.XLOOKUP(C1095,Data!C:C,Data!H:H,0)","v":0},{"$error":"#N/A"},{"$error":"#N/A"},{"$error":"#N/A"},{"$error":"#N/A"},{"$error":"#N/A"},0,{"$error":"#N/A"},"","","",null,{"$f":"IF(F1095=\"\",\"\",AVERAGE(F1091:F1099))","v":{"$error":"#N/A"}}]
["2021-03-24","06:13:00","2021-03-24T06:13:00",null,{"$f":"_xlfn.XLOOKUP(C1096,Data!C:C,Data!I:I)","v":{"$error":"#N/A"}},{"$error":"#N/A"},{"$f":"_xlfn.XLOOKUP(C1096,Data!C:C,Data!G:G,0)","v":0},{"$f":"_xlfn.XLOOKUP(C1096,Data!C:C,Data!F:F)","v":{"$error":"#N/A"}},{"$f":"_xlfn.XLOOKUP(C1096,Data!C:C,Data!H:H,0)","v":0},{"$error":"#N/A"},{"$error":"#N/A"},{"$error":"#N/A"},{"$error":"#N/A"},{"$error":"#N/A"},0,{"$error":"#N/A"},"",{"$f":"IF(Q1096=\"\",\"\",AVERAGE(Q1092:Q1100))","v":""},{"$f":"IF(Q1096=\"\",\"\",MAX(Q1092:Q1100)-MIN(Q1092:Q1100))","v":""},null,{"$error":"#N/A"}]
["2021-03-24","06:14:00","2021-03-24T06:14:00",null,{"$f":"_xlfn.XLOOKUP(C1097,Data!C:C,Data!I:I)","v":{"$error":"#N/A"}},{"$error":"#N/A"},{"$f":"_xlfn.XLOOKUP(C1097,Data!C:C,Data!G:G,0)","v":0},{"$f":"_xlfn.XLOOKUP(C1097,Data!C:C,Data!F:F)","v":{"$error":"#N/A"}},{"$f":"_xlfn.XLOOKUP(C1097,Data!C:C,Data!H:H,0)","v":0},{"$error":"#N/A"},{"$error":"#N/A"},{"$error":"#N/A"},{"$error":"#N/A"},{"$error":"#N/A"},0,{"$error":"#N/A"},"","","",null,{"$error":"#N/A"}]
["2021-03-24","06:15:00","2021-03-24T06:15:00",null,{"$f":"_xlfn.XLOOKUP(C1098,Data!C:C,Data!I:I)","v":{"$error":"#N/A"}},{"$error":"#N/A"},{"$f":"_xlfn.XLOOKUP(C1098,Data!C:C,Data!G:G,0)","v":0},{"$f":"_xlfn.XLOOKUP(C1098,Data!C:C,Data!F:F)","v":{"$error":"#N/A"}},{"$f":"_xlfn.XLOOKUP(C1098,Data!C:C,Data!H:H,0)","v":0},{"$error":"#N/A"},{"$error":"#N/A"},{"$error":"#N/A"},{"$error":"#N/A"},{"$error":"#N/A"},0,{"$error":"#N/A"},"","","",null,{"$error":"#N/A"}]
["2021-03-24","06:16:00","2021-03-24T06:16:00",null,{"$f":"_xlfn.XLOOKUP(C1099,Data!C:C,Data!I:I)","v":{"$error":"#N/A"}},{"$error":"#N/A"},{"$f":"_xlfn.XLOOKUP(C1099,Data!C:C,Data!G:G,0)","v":0},{"$f":"_xlfn.XLOOKUP(C1099,Data!C:C,Data!F:F)","v":{"$error":"#N/A"}},{"$f":"_xlfn.XLOOKUP(C1099,Data!C:C,Data!H:H,0)","v":0},{"$error":"#N/A"},{"$error":"#N/A"},{"$error":"#N/A"},{"$error":"#N/A"},{"$error":"#N/A"},0,{"$error":"#N/A"},"","","",null,{"$error":"#N/A"}]
["2021-03-24","06:17:00","2021-03-24T06:17:00",null,{"$f":"_xlfn.XLOOKUP(C1100,Data!C:C,Data!I:I)","v":{"$error":"#N/A"}},{"$error":"#N/A"},{"$f":"_xlfn.XLOOKUP(C1100,Data!C:C,Data!G:G,0)","v":0},{"$f":"_xlfn.XLOOKUP(C1100,Data!C:C,Data!F:F)","v":{"$error":"#N/A"}},{"$f":"_xlfn.XLOOKUP(C1100,Data!C:C,Data!H:H,0)","v":0},{"$error":"#N/A"},{"$error":"#N/A"},{"$error":"#N/A"},{"$error":"#N/A"},{"$error":"#N/A"},0,{"$error":"#N/A"},"","","",null,{"$error":"#N/A"}]
["2021-03-24","06:18:00","2021-03-24T06:18:00",null,{"$f":"_xlfn.XLOOKUP(C1101,Data!C:C,Data!I:I)","v":{"$error":"#N/A"}},{"$error":"#N/A"},{"$f":"_xlfn.XLOOKUP(C1101,Data!C:C,Data!G:G,0)","v":0},{"$f":"_xlfn.XLOOKUP(C1101,Data!C:C,Data!F:F)","v":{"$error":"#N/A"}},{"$f":"_xlfn.XLOOKUP(C1101,Data!C:C,Data!H:H,0)","v":0},{"$error":"#N/A"},{"$error":"#N/A"},{"$error":"#N/A"},{"$error":"#N/A"},{"$error":"#N/A"},0,{"$error":"#N/A"},"","","",null,{"$error":"#N/A"}]
["2021-03-24","06:19:00","2021-03-24T06:19:00",null,{"$f":"_xlfn.XLOOKUP(C1102,Data!C:C,Data!I:I)","v":{"$error":"#N/A"}},{"$error":"#N/A"},{"$f":"_xlfn.XLOOKUP(C1102,Data!C:C,Data!G:G,0)","v":0},{"$f":"_xlfn.XLOOKUP(C1102,Data!C:C,Data!F:F)","v":{"$error":"#N/A"}},{"$f":"_xlfn.XLOOKUP(C1102,Data!C:C,Data!H:H,0)","v":0},{"$error":"#N/A"},{"$error":"#N/A"},{"$error":"#N/A"},{"$error":"#N/A"},{"$error":"#N/A"},0,{"$error":"#N/A"},"","","",null,{"$error":"#N/A"}]
["2021-03-24","06:20:00","2021-03-24T06:20:00",null,{"$f":"_xlfn.XLOOKUP(C1103,Data!C:C,Data!I:I)","v":{"$error":"#N/A"}},{"$error":"#N/A"},{"$f":"_xlfn.XLOOKUP(C1103,Data!C:C,Data!G:G,0)","v":0},{"$f":"_xlfn.XLOOKUP(C1103,Data!C:C,Data!F:F)","v":{"$error":"#N/A"}},{"$f":"_xlfn.XLOOKUP(C1103,Data!C:C,Data!H:H,0)","v":0},{"$error":"#N/A"},{"$error":"#N/A"},{"$error":"#N/A"},{"$error":"#N/A"},{"$error":"#N/A"},0,{"$error":"#N/A"},"","","",null,{"$error":"#N/A"}]
["2021-03-24","06:21:00","2021-03-24T06:21:00",null,{"$f":"_xlfn.XLOOKUP(C1104,Data!C:C,Data!I:I)","v":{"$error":"#N/A"}},{"$error":"#N/A"},{"$f":"_xlfn.XLOOKUP(C1104,Data!C:C,Data!G:G,0)","v":0},{"$f":"_xlfn.XLOOKUP(C1104,Data!C:C,Data!F:F)","v":{"$error":"#N/A"}},{"$f":"_xlfn.XLOOKUP(C1104,Data!C:C,Data!H:H,0)","v":0},{"$error":"#N/A"},{"$error":"#N/A"},{"$error":"#N/A"},{"$error":"#N/A"},{"$error":"#N/A"},0,{"$error":"#N/A"},"","","",null,{"$error":"#N/A"}]
["2021-03-24","06:22:00","2021-03-24T06:22:00",null,{"$f":"_xlfn.XLOOKUP(C1105,Data!C:C,Data!I:I)","v":{"$error":"#N/A"}},{"$error":"#N/A"},{"$f":"_xlfn.XLOOKUP(C1105,Data!C:C,Data!G:G,0)","v":0},{"$f":"_xlfn.XLOOKUP(C1105,Data!C:C,Data!F:F)","v":{"$error":"#N/A"}},{"$f":"_xlfn.XLOOKUP(C1105,Data!C:C,Data!H:H,0)","v":0},{"$error":"#N/A"},{"$error":"#N/A"},{"$error":"#N/A"},{"$error":"#N/A"},{"$error":"#N/A"},0,{"$error":"#N/A"},"","","",null,{"$error":"#N/A"}]
["2021-03-24","06:23:00","2021-03-24T06:23:00",null,{"$f":"_xlfn.XLOOKUP(C1106,Data!C:C,Data!I:I)","v":{"$error":"#N/A"}},{"$error":"#N/A"},{"$f":"_xlfn.XLOOKUP(C1106,Data!C:C,Data!G:G,0)","v":0},{"$f":"_xlfn.XLOOKUP(C1106,Data!C:C,Data!F:F)","v":{"$error":"#N/A"}},{"$f":"_xlfn.XLOOKUP(C1106,Data!C:C,Data!H:H,0)","v":0},{"$error":"#N/A"},{"$error":"#N/A"},{"$error":"#N/A"},{"$error":"#N/A"},{"$error":"#N/A"},0,{"$error":"#N/A"},"","","",null,{"$error":"#N/A"}]
["2021-03-24","06:24:00","2021-03-24T06:24:00",null,{"$f":"_xlfn.XLOOKUP(C1107,Data!C:C,Data!I:I)","v":{"$error":"#N/A"}},{"$error":"#N/A"},{"$f":"_xlfn.XLOOKUP(C1107,Data!C:C,Data!G:G,0)","v":0},{"$f":"_xlfn.XLOOKUP(C1107,Data!C:C,Data!F:F)","v":{"$error":"#N/A"}},{"$f":"_xlfn.XLOOKUP(C1107,Data!C:C,Data!H:H,0)","v":0},{"$error":"#N/A"},{"$error":"#N/A"},{"$error":"#N/A"},{"$error":"#N/A"},{"$error":"#N/A"},0,{"$error":"#N/A"},"","","",null,{"$error":"#N/A"}]
["2021-03-24","06:25:00","2021-03-24T06:25:00",null,{"$f":"_xlfn.XLOOKUP(C1108,Data!C:C,Data!I:I)","v":{"$error":"#N/A"}},{"$error":"#N/A"},{"$f":"_xlfn.XLOOKUP(C1108,Data!C:C,Data!G:G,0)","v":0},{"$f":"_xlfn.XLOOKUP(C1108,Data!C:C,Data!F:F)","v":{"$error":"#N/A"}},{"$f":"_xlfn.XLOOKUP(C1108,Data!C:C,Data!H:H,0)","v":0},{"$error":"#N/A"},{"$error":"#N/A"},{"$error":"#N/A"},{"$error":"#N/A"},{"$error":"#N/A"},0,{"$error":"#N/A"},"","","",null,{"$error":"#N/A"}]
[{"$f":"$A$723","v":"2021-03-24"},"06:26:00","2021-03-24T06:26:00",null,{"$f":"_xlfn.XLOOKUP(C1109,Data!C:C,Data!I:I)","v":{"$error":"#N/A"}},{"$error":"#N/A"},{"$f":"_xlfn.XLOOKUP(C1109,Data!C:C,Data!G:G,0)","v":0},{"$f":"_xlfn.XLOOKUP(C1109,Data!C:C,Data!F:F)","v":{"$error":"#N/A"}},{"$f":"_xlfn.XLOOKUP(C1109,Data!C:C,Data!H:H,0)","v":0},{"$error":"#N/A"},{"$error":"#N/A"},{"$error":"#N/A"},{"$error":"#N/A"},{"$error":"#N/A"},0,{"$error":"#N/A"},"","","",null,{"$error":"#N/A"}]
["2021-03-24","06:27:00","2021-03-24T06:27:00",null,{"$f":"_xlfn.XLOOKUP(C1110,Data!C:C,Data!I:I)","v":{"$error":"#N/A"}},{"$error":"#N/A"},{"$f":"_xlfn.XLOOKUP(C1110,Data!C:C,Data!G:G,0)","v":0},{"$f":"_xlfn.XLOOKUP(C1110,Data!C:C,Data!F:F)","v":{"$error":"#N/A"}},{"$f":"_xlfn.XLOOKUP(C1110,Data!C:C,Data!H:H,0)","v":0},{"$error":"#N/A"},{"$error":"#N/A"},{"$error":"#N/A"},{"$error":"#N/A"},{"$error":"#N/A"},0,{"$error":"#N/A"},"","","",null,{"$error":"#N/A"}]
["2021-03-24","06:28:00","2021-03-24T06:28:00",null,{"$f":"_xlfn.XLOOKUP(C1111,Data!C:C,Data!I:I)","v":{"$error":"#N/A"}},{"$error":"#N/A"},{"$f":"_xlfn.XLOOKUP(C1111,Data!C:C,Data!G:G,0)","v":0},{"$f":"_xlfn.XLOOKUP(C1111,Data!C:C,Data!F:F)","v":{"$error":"#N/A"}},{"$f":"_xlfn.XLOOKUP(C1111,Data!C:C,Data!H:H,0)","v":0},{"$error":"#N/A"},{"$error":"#N/A"},{"$error":"#N/A"},{"$error":"#N/A"},{"$error":"#N/A"},0,{"$error":"#N/A"},"","","",null,{"$error":"#N/A"}]
["2021-03-24","06:29:00","2021-03-24T06:29:00",null,{"$f":"_xlfn.XLOOKUP(C1112,Data!C:C,Data!I:I)","v":{"$error":"#N/A"}},{"$error":"#N/A"},{"$f":"_xlfn.XLOOKUP(C1112,Data!C:C,Data!G:G,0)","v":0},{"$f":"_xlfn.XLOOKUP(C1112,Data!C:C,Data!F:F)","v":{"$error":"#N/A"}},{"$f":"_xlfn.XLOOKUP(C1112,Data!C:C,Data!H:H,0)","v":0},{"$error":"#N/A"},{"$error":"#N/A"},{"$error":"#N/A"},{"$error":"#N/A"},{"$error":"#N/A"},0,{"$error":"#N/A"},"","","",null,{"$error":"#N/A"}]
["2021-03-24","06:30:00","2021-03-24T06:30:00",null,{"$f":"_xlfn.XLOOKUP(C1113,Data!C:C,Data!I:I)","v":{"$error":"#N/A"}},{"$error":"#N/A"},{"$f":"_xlfn.XLOOKUP(C1113,Data!C:C,Data!G:G,0)","v":0},{"$f":"_xlfn.XLOOKUP(C1113,Data!C:C,Data!F:F)","v":{"$error":"#N/A"}},{"$f":"_xlfn.XLOOKUP(C1113,Data!C:C,Data!H:H,0)","v":0},{"$error":"#N/A"},{"$error":"#N/A"},{"$error":"#N/A"},{"$error":"#N/A"},{"$error":"#N/A"},0,{"$error":"#N/A"},"","","",null,{"$error":"#N/A"}]
["2021-03-24","06:31:00","2021-03-24T06:31:00",null,{"$f":"_xlfn.XLOOKUP(C1114,Data!C:C,Data!I:I)","v":{"$error":"#N/A"}},{"$error":"#N/A"},{"$f":"_xlfn.XLOOKUP(C1114,Data!C:C,Data!G:G,0)","v":0},{"$f":"_xlfn.XLOOKUP(C1114,Data!C:C,Data!F:F)","v":{"$error":"#N/A"}},{"$f":"_xlfn.XLOOKUP(C1114,Data!C:C,Data!H:H,0)","v":0},{"$error":"#N/A"},{"$error":"#N/A"},{"$error":"#N/A"},{"$error":"#N/A"},{"$error":"#N/A"},0,{"$error":"#N/A"},"","","",null,{"$error":"#N/A"}]
["2021-03-24","06:32:00","2021-03-24T06:32:00",null,{"$f":"_xlfn.XLOOKUP(C1115,Data!C:C,Data!I:I)","v":{"$error":"#N/A"}},{"$error":"#N/A"},{"$f":"_xlfn.XLOOKUP(C1115,Data!C:C,Data!G:G,0)","v":0},{"$f":"_xlfn.XLOOKUP(C1115,Data!C:C,Data!F:F)","v":{"$error":"#N/A"}},{"$f":"_xlfn.XLOOKUP(C1115,Data!C:C,Data!H:H,0)","v":0},{"$error":"#N/A"},{"$error":"#N/A"},{"$error":"#N/A"},{"$error":"#N/A"},{"$error":"#N/A"},0,{"$error":"#N/A"},"","","",null,{"$error":"#N/A"}]
["2021-03-24","06:33:00","2021-03-24T06:33:00",null,{"$f":"_xlfn.XLOOKUP(C1116,Data!C:C,Data!I:I)","v":{"$error":"#N/A"}},{"$error":"#N/A"},{"$f":"_xlfn.XLOOKUP(C1116,Data!C:C,Data!G:G,0)","v":0},{"$f":"_xlfn.XLOOKUP(C1116,Data!C:C,Data!F:F)","v":{"$error":"#N/A"}},{"$f":"_xlfn.XLOOKUP(C1116,Data!C:C,Data!H:H,0)","v":0},{"$error":"#N/A"},{"$error":"#N/A"},{"$error":"#N/A"},{"$error":"#N/A"},{"$error":"#N/A"},0,{"$error":"#N/A"},"","","",null,{"$error":"#N/A"}]
["2021-03-24","06:34:00","2021-03-24T06:34:00",null,{"$f":"_xlfn.XLOOKUP(C1117,Data!C:C,Data!I:I)","v":{"$error":"#N/A"}},{"$error":"#N/A"},{"$f":"_xlfn.XLOOKUP(C1117,Data!C:C,Data!G:G,0)","v":0},{"$f":"_xlfn.XLOOKUP(C1117,Data!C:C,Data!F:F)","v":{"$error":"#N/A"}},{"$f":"_xlfn.XLOOKUP(C1117,Data!C:C,Data!H:H,0)","v":0},{"$error":"#N/A"},{"$error":"#N/A"},{"$error":"#N/A"},{"$error":"#N/A"},{"$error":"#N/A"},0,{"$error":"#N/A"},"","","",null,{"$error":"#N/A"}]
["2021-03-24","06:35:00","2021-03-24T06:35:00",null,{"$f":"_xlfn.XLOOKUP(C1118,Data!C:C,Data!I:I)","v":{"$error":"#N/A"}},{"$error":"#N/A"},{"$f":"_xlfn.XLOOKUP(C1118,Data!C:C,Data!G:G,0)","v":0},{"$f":"_xlfn.XLOOKUP(C1118,Data!C:C,Data!F:F)","v":{"$error":"#N/A"}},{"$f":"_xlfn.XLOOKUP(C1118,Data!C:C,Data!H:H,0)","v":0},{"$error":"#N/A"},{"$error":"#N/A"},{"$error":"#N/A"},{"$error":"#N/A"},{"$error":"#N/A"},0,{"$error":"#N/A"},"","","",null,{"$error":"#N/A"}]
["2021-03-24","06:36:00","2021-03-24T06:36:00",null,{"$f":"_xlfn.XLOOKUP(C1119,Data!C:C,Data!I:I)","v":{"$error":"#N/A"}},{"$error":"#N/A"},{"$f":"_xlfn.XLOOKUP(C1119,Data!C:C,Data!G:G,0)","v":0},{"$f":"_xlfn.XLOOKUP(C1119,Data!C:C,Data!F:F)","v":{"$error":"#N/A"}},{"$f":"_xlfn.XLOOKUP(C1119,Data!C:C,Data!H:H,0)","v":0},{"$error":"#N/A"},{"$error":"#N/A"},{"$error":"#N/A"},{"$error":"#N/A"},{"$error":"#N/A"},0,{"$error":"#N/A"},"","","",null,{"$error":"#N/A"}]
["2021-03-24","06:37:00","2021-03-24T06:37:00",null,{"$f":"_xlfn.XLOOKUP(C1120,Data!C:C,Data!I:I)","v":{"$error":"#N/A"}},{"$error":"#N/A"},{"$f":"_xlfn.XLOOKUP(C1120,Data!C:C,Data!G:G,0)","v":0},{"$f":"_xlfn.XLOOKUP(C1120,Data!C:C,Data!F:F)","v":{"$error":"#N/A"}},{"$f":"_xlfn.XLOOKUP(C1120,Data!C:C,Data!H:H,0)","v":0},{"$error":"#N/A"},{"$error":"#N/A"},{"$error":"#N/A"},{"$error":"#N/A"},{"$error":"#N/A"},0,{"$error":"#N/A"},"","","",null,{"$error":"#N/A"}]
["2021-03-24","06:38:00","2021-03-24T06:38:00",null,{"$f":"_xlfn.XLOOKUP(C1121,Data!C:C,Data!I:I)","v":{"$error":"#N/A"}},{"$error":"#N/A"},{"$f":"_xlfn.XLOOKUP(C1121,Data!C:C,Data!G:G,0)","v":0},{"$f":"_xlfn.XLOOKUP(C1121,Data!C:C,Data!F:F)","v":{"$error":"#N/A"}},{"$f":"_xlfn.XLOOKUP(C1121,Data!C:C,Data!H:H,0)","v":0},{"$error":"#N/A"},{"$error":"#N/A"},{"$error":"#N/A"},{"$error":"#N/A"},{"$error":"#N/A"},0,{"$error":"#N/A"},"","","",null,{"$error":"#N/A"}]
["2021-03-24","06:39:00","2021-03-24T06:39:00",null,{"$f":"_xlfn.XLOOKUP(C1122,Data!C:C,Data!I:I)","v":{"$error":"#N/A"}},{"$error":"#N/A"},{"$f":"_xlfn.XLOOKUP(C1122,Data!C:C,Data!G:G,0)","v":0},{"$f":"_xlfn.XLOOKUP(C1122,Data!C:C,Data!F:F)","v":{"$error":"#N/A"}},{"$f":"_xlfn.XLOOKUP(C1122,Data!C:C,Data!H:H,0)","v":0},{"$error":"#N/A"},{"$error":"#N/A"},{"$error":"#N/A"},{"$error":"#N/A"},{"$error":"#N/A"},0,{"$error":"#N/A"},"","","",null,{"$error":"#N/A"}]
["2021-03-24","06:40:00","2021-03-24T06:40:00",null,{"$f":"_xlfn.XLOOKUP(C1123,Data!C:C,Data!I:I)","v":{"$error":"#N/A"}},{"$error":"#N/A"},{"$f":"_xlfn.XLOOKUP(C1123,Data!C:C,Data!G:G,0)","v":0},{"$f":"_xlfn.XLOOKUP(C1123,Data!C:C,Data!F:F)","v":{"$error":"#N/A"}},{"$f":"_xlfn.XLOOKUP(C1123,Data!C:C,Data!H:H,0)","v":0},{"$error":"#N/A"},{"$error":"#N/A"},{"$error":"#N/A"},{"$error":"#N/A"},{"$error":"#N/A"},0,{"$error":"#N/A"},"","","",null,{"$error":"#N/A"}]
["2021-03-24","06:41:00","2021-03-24T06:41:00",null,{"$f":"_xlfn.XLOOKUP(C1124,Data!C:C,Data!I:I)","v":{"$error":"#N/A"}},{"$error":"#N/A"},{"$f":"_xlfn.XLOOKUP(C1124,Data!C:C,Data!G:G,0)","v":0},{"$f":"_xlfn.XLOOKUP(C1124,Data!C:C,Data!F:F)","v":{"$error":"#N/A"}},{"$f":"_xlfn.XLOOKUP(C1124,Data!C:C,Data!H:H,0)","v":0},{"$error":"#N/A"},{"$error":"#N/A"},{"$error":"#N/A"},{"$error":"#N/A"},{"$error":"#N/A"},0,{"$error":"#N/A"},"","","",null,{"$error":"#N/A"}]
["2021-03-24","06:42:00","2021-03-24T06:42:00",null,{"$f":"_xlfn.XLOOKUP(C1125,Data!C:C,Data!I:I)","v":{"$error":"#N/A"}},{"$error":"#N/A"},{"$f":"_xlfn.XLOOKUP(C1125,Data!C:C,Data!G:G,0)","v":0},{"$f":"_xlfn.XLOOKUP(C1125,Data!C:C,Data!F:F)","v":{"$error":"#N/A"}},{"$f":"_xlfn.XLOOKUP(C1125,Data!C:C,Data!H:H,0)","v":0},{"$error":"#N/A"},{"$error":"#N/A"},{"$error":"#N/A"},{"$error":"#N/A"},{"$error":"#N/A"},0,{"$error":"#N/A"},"","","",null,{"$error":"#N/A"}]
["2021-03-24","06:43:00","2021-03-24T06:43:00",null,{"$f":"_xlfn.XLOOKUP(C1126,Data!C:C,Data!I:I)","v":{"$error":"#N/A"}},{"$error":"#N/A"},{"$f":"_xlfn.XLOOKUP(C1126,Data!C:C,Data!G:G,0)","v":0},{"$f":"_xlfn.XLOOKUP(C1126,Data!C:C,Data!F:F)","v":{"$error":"#N/A"}},{"$f":"_xlfn.XLOOKUP(C1126,Data!C:C,Data!H:H,0)","v":0},{"$error":"#N/A"},{"$error":"#N/A"},{"$error":"#N/A"},{"$error":"#N/A"},{"$error":"#N/A"},0,{"$error":"#N/A"},"","","",null,{"$error":"#N/A"}]
["2021-03-24","06:44:00","2021-03-24T06:44:00",null,{"$f":"_xlfn.XLOOKUP(C1127,Data!C:C,Data!I:I)","v":{"$error":"#N/A"}},{"$error":"#N/A"},{"$f":"_xlfn.XLOOKUP(C1127,Data!C:C,Data!G:G,0)","v":0},{"$f":"_xlfn.XLOOKUP(C1127,Data!C:C,Data!F:F)","v":{"$error":"#N/A"}},{"$f":"_xlfn.XLOOKUP(C1127,Data!C:C,Data!H:H,0)","v":0},{"$error":"#N/A"},{"$error":"#N/A"},{"$error":"#N/A"},{"$error":"#N/A"},{"$error":"#N/A"},0,{"$error":"#N/A"},"","","",null,{"$error":"#N/A"}]
["2021-03-24","06:45:00","2021-03-24T06:45:00",null,{"$f":"_xlfn.XLOOKUP(C1128,Data!C:C,Data!I:I)","v":{"$error":"#N/A"}},{"$error":"#N/A"},{"$f":"_xlfn.XLOOKUP(C1128,Data!C:C,Data!G:G,0)","v":0},{"$f":"_xlfn.XLOOKUP(C1128,Data!C:C,Data!F:F)","v":{"$error":"#N/A"}},{"$f":"_xlfn.XLOOKUP(C1128,Data!C:C,Data!H:H,0)","v":0},{"$error":"#N/A"},{"$error":"#N/A"},{"$error":"#N/A"},{"$error":"#N/A"},{"$error":"#N/A"},0,{"$error":"#N/A"},"","","",null,{"$error":"#N/A"}]
["2021-03-24","06:46:00","2021-03-24T06:46:00",null,{"$f":"_xlfn.XLOOKUP(C1129,Data!C:C,Data!I:I)","v":{"$error":"#N/A"}},{"$error":"#N/A"},{"$f":"_xlfn.XLOOKUP(C1129,Data!C:C,Data!G:G,0)","v":0},{"$f":"_xlfn.XLOOKUP(C1129,Data!C:C,Data!F:F)","v":{"$error":"#N/A"}},{"$f":"_xlfn.XLOOKUP(C1129,Data!C:C,Data!H:H,0)","v":0},{"$error":"#N/A"},{"$error":"#N/A"},{"$error":"#N/A"},{"$error":"#N/A"},{"$error":"#N/A"},0,{"$error":"#N/A"},"","","",null,{"$error":"#N/A"}]
["2021-03-24","06:47:00","2021-03-24T06:47:00",null,{"$f":"_xlfn.XLOOKUP(C1130,Data!C:C,Data!I:I)","v":{"$error":"#N/A"}},{"$error":"#N/A"},{"$f":"_xlfn.XLOOKUP(C1130,Data!C:C,Data!G:G,0)","v":0},{"$f":"_xlfn.XLOOKUP(C1130,Data!C:C,Data!F:F)","v":{"$error":"#N/A"}},{"$f":"_xlfn.XLOOKUP(C1130,Data!C:C,Data!H:H,0)","v":0},{"$error":"#N/A"},{"$error":"#N/A"},{"$error":"#N/A"},{"$error":"#N/A"},{"$error":"#N/A"},0,{"$error":"#N/A"},"","","",null,{"$error":"#N/A"}]
["2021-03-24","06:48:00","2021-03-24T06:48:00",null,{"$f":"_xlfn.XLOOKUP(C1131,Data!C:C,Data!I:I)","v":{"$error":"#N/A"}},{"$error":"#N/A"},{"$f":"_xlfn.XLOOKUP(C1131,Data!C:C,Data!G:G,0)","v":0},{"$f":"_xlfn.XLOOKUP(C1131,Data!C:C,Data!F:F)","v":{"$error":"#N/A"}},{"$f":"_xlfn.XLOOKUP(C1131,Data!C:C,Data!H:H,0)","v":0},{"$error":"#N/A"},{"$error":"#N/A"},{"$error":"#N/A"},{"$error":"#N/A"},{"$error":"#N/A"},0,{"$error":"#N/A"},"","","",null,{"$error":"#N/A"}]
["2021-03-24","06:49:00","2021-03-24T06:49:00",null,{"$f":"_xlfn.XLOOKUP(C1132,Data!C:C,Data!I:I)","v":{"$error":"#N/A"}},{"$error":"#N/A"},{"$f":"_xlfn.XLOOKUP(C1132,Data!C:C,Data!G:G,0)","v":0},{"$f":"_xlfn.XLOOKUP(C1132,Data!C:C,Data!F:F)","v":{"$error":"#N/A"}},{"$f":"_xlfn.XLOOKUP(C1132,Data!C:C,Data!H:H,0)","v":0},{"$error":"#N/A"},{"$error":"#N/A"},{"$error":"#N/A"},{"$error":"#N/A"},{"$error":"#N/A"},0,{"$error":"#N/A"},"","","",null,{"$error":"#N/A"}]
["2021-03-24","06:50:00","2021-03-24T06:50:00",null,{"$f":"_xlfn.XLOOKUP(C1133,Data!C:C,Data!I:I)","v":{"$error":"#N/A"}},{"$error":"#N/A"},{"$f":"_xlfn.XLOOKUP(C1133,Data!C:C,Data!G:G,0)","v":0},{"$f":"_xlfn.XLOOKUP(C1133,Data!C:C,Data!F:F)","v":{"$error":"#N/A"}},{"$f":"_xlfn.XLOOKUP(C1133,Data!C:C,Data!H:H,0)","v":0},{"$error":"#N/A"},{"$error":"#N/A"},{"$error":"#N/A"},{"$error":"#N/A"},{"$error":"#N/A"},0,{"$error":"#N/A"},"","","",null,{"$error":"#N/A"}]
["2021-03-24","06:51:00","2021-03-24T06:51:00",null,{"$f":"_xlfn.XLOOKUP(C1134,Data!C:C,Data!I:I)","v":{"$error":"#N/A"}},{"$error":"#N/A"},{"$f":"_xlfn.XLOOKUP(C1134,Data!C:C,Data!G:G,0)","v":0},{"$f":"_xlfn.XLOOKUP(C1134,Data!C:C,Data!F:F)","v":{"$error":"#N/A"}},{"$f":"_xlfn.XLOOKUP(C1134,Data!C:C,Data!H:H,0)","v":0},{"$error":"#N/A"},{"$error":"#N/A"},{"$error":"#N/A"},{"$error":"#N/A"},{"$error":"#N/A"},0,{"$error":"#N/A"},"","","",null,{"$error":"#N/A"}]
["2021-03-24","06:52:00","2021-03-24T06:52:00",null,{"$f":"_xlfn.XLOOKUP(C1135,Data!C:C,Data!I:I)","v":{"$error":"#N/A"}},{"$error":"#N/A"},{"$f":"_xlfn.XLOOKUP(C1135,Data!C:C,Data!G:G,0)","v":0},{"$f":"_xlfn.XLOOKUP(C1135,Data!C:C,Data!F:F)","v":{"$error":"#N/A"}},{"$f":"_xlfn.XLOOKUP(C1135,Data!C:C,Data!H:H,0)","v":0},{"$error":"#N/A"},{"$error":"#N/A"},{"$error":"#N/A"},{"$error":"#N/A"},{"$error":"#N/A"},0,{"$error":"#N/A"},"","","",null,{"$error":"#N/A"}]
["2021-03-24","06:53:00","2021-03-24T06:53:00",null,{"$f":"_xlfn.XLOOKUP(C1136,Data!C:C,Data!I:I)","v":{"$error":"#N/A"}},{"$error":"#N/A"},{"$f":"_xlfn.XLOOKUP(C1136,Data!C:C,Data!G:G,0)","v":0},{"$f":"_xlfn.XLOOKUP(C1136,Data!C:C,Data!F:F)","v":{"$error":"#N/A"}},{"$f":"_xlfn.XLOOKUP(C1136,Data!C:C,Data!H:H,0)","v":0},{"$error":"#N/A"},{"$error":"#N/A"},{"$error":"#N/A"},{"$error":"#N/A"},{"$error":"#N/A"},0,{"$error":"#N/A"},"","","",null,{"$error":"#N/A"}]
["2021-03-24","06:54:00","2021-03-24T06:54:00",null,{"$f":"_xlfn.XLOOKUP(C1137,Data!C:C,Data!I:I)","v":{"$error":"#N/A"}},{"$error":"#N/A"},{"$f":"_xlfn.XLOOKUP(C1137,Data!C:C,Data!G:G,0)","v":0},{"$f":"_xlfn.XLOOKUP(C1137,Data!C:C,Data!F:F)","v":{"$error":"#N/A"}},{"$f":"_xlfn.XLOOKUP(C1137,Data!C:C,Data!H:H,0)","v":0},{"$error":"#N/A"},{"$error":"#N/A"},{"$error":"#N/A"},{"$error":"#N/A"},{"$error":"#N/A"},0,{"$error":"#N/A"},"","","",null,{"$error":"#N/A"}]
["2021-03-24","06:55:00","2021-03-24T06:55:00",null,{"$f":"_xlfn.XLOOKUP(C1138,Data!C:C,Data!I:I)","v":{"$error":"#N/A"}},{"$error":"#N/A"},{"$f":"_xlfn.XLOOKUP(C1138,Data!C:C,Data!G:G,0)","v":0},{"$f":"_xlfn.XLOOKUP(C1138,Data!C:C,Data!F:F)","v":{"$error":"#N/A"}},{"$f":"_xlfn.XLOOKUP(C1138,Data!C:C,Data!H:H,0)","v":0},{"$error":"#N/A"},{"$error":"#N/A"},{"$error":"#N/A"},{"$error":"#N/A"},{"$error":"#N/A"},0,{"$error":"#N/A"},"","","",null,{"$error":"#N/A"}]
["2021-03-24","06:56:00","2021-03-24T06:56:00",null,{"$f":"_xlfn.XLOOKUP(C1139,Data!C:C,Data!I:I)","v":{"$error":"#N/A"}},{"$error":"#N/A"},{"$f":"_xlfn.XLOOKUP(C1139,Data!C:C,Data!G:G,0)","v":0},{"$f":"_xlfn.XLOOKUP(C1139,Data!C:C,Data!F:F)","v":{"$error":"#N/A"}},{"$f":"_xlfn.XLOOKUP(C1139,Data!C:C,Data!H:H,0)","v":0},{"$error":"#N/A"},{"$error":"#N/A"},{"$error":"#N/A"},{"$error":"#N/A"},{"$error":"#N/A"},0,{"$error":"#N/A"},"","","",null,{"$error":"#N/A"}]
["2021-03-24","06:57:00","2021-03-24T06:57:00",null,{"$f":"_xlfn.XLOOKUP(C1140,Data!C:C,Data!I:I)","v":{"$error":"#N/A"}},{"$error":"#N/A"},{"$f":"_xlfn.XLOOKUP(C1140,Data!C:C,Data!G:G,0)","v":0},{"$f":"_xlfn.XLOOKUP(C1140,Data!C:C,Data!F:F)","v":{"$error":"#N/A"}},{"$f":"_xlfn.XLOOKUP(C1140,Data!C:C,Data!H:H,0)","v":0},{"$error":"#N/A"},{"$error":"#N/A"},{"$error":"#N/A"},{"$error":"#N/A"},{"$error":"#N/A"},0,{"$error":"#N/A"},"","","",null,{"$error":"#N/A"}]
["2021-03-24","06:58:00","2021-03-24T06:58:00",null,{"$f":"_xlfn.XLOOKUP(C1141,Data!C:C,Data!I:I)","v":{"$error":"#N/A"}},{"$error":"#N/A"},{"$f":"_xlfn.XLOOKUP(C1141,Data!C:C,Data!G:G,0)","v":0},{"$f":"_xlfn.XLOOKUP(C1141,Data!C:C,Data!F:F)","v":{"$error":"#N/A"}},{"$f":"_xlfn.XLOOKUP(C1141,Data!C:C,Data!H:H,0)","v":0},{"$error":"#N/A"},{"$error":"#N/A"},{"$error":"#N/A"},{"$error":"#N/A"},{"$error":"#N/A"},0,{"$error":"#N/A"},"","","",null,{"$error":"#N/A"}]
["2021-03-24","06:59:00","2021-03-24T06:59:00",null,{"$f":"_xlfn.XLOOKUP(C1142,Data!C:C,Data!I:I)","v":{"$error":"#N/A"}},{"$error":"#N/A"},{"$f":"_xlfn.XLOOKUP(C1142,Data!C:C,Data!G:G,0)","v":0},{"$f":"_xlfn.XLOOKUP(C1142,Data!C:C,Data!F:F)","v":{"$error":"#N/A"}},{"$f":"_xlfn.XLOOKUP(C1142,Data!C:C,Data!H:H,0)","v":0},{"$error":"#N/A"},{"$error":"#N/A"},{"$error":"#N/A"},{"$error":"#N/A"},{"$error":"#N/A"},0,{"$error":"#N/A"},"","","",null,{"$error":"#N/A"}]
["2021-03-24","07:00:00","2021-03-24T07:00:00",null,{"$f":"_xlfn.XLOOKUP(C1143,Data!C:C,Data!I:I)","v":{"$error":"#N/A"}},{"$error":"#N/A"},{"$f":"_xlfn.XLOOKUP(C1143,Data!C:C,Data!G:G,0)","v":0},{"$f":"_xlfn.XLOOKUP(C1143,Data!C:C,Data!F:F)","v":{"$error":"#N/A"}},{"$f":"_xlfn.XLOOKUP(C1143,Data!C:C,Data!H:H,0)","v":0},{"$error":"#N/A"},{"$error":"#N/A"},{"$error":"#N/A"},{"$error":"#N/A"},{"$error":"#N/A"},0,{"$error":"#N/A"},"","","",null,{"$error":"#N/A"}]
["2021-03-24","07:01:00","2021-03-24T07:01:00",null,{"$f":"_xlfn.XLOOKUP(C1144,Data!C:C,Data!I:I)","v":{"$error":"#N/A"}},{"$error":"#N/A"},{"$f":"_xlfn.XLOOKUP(C1144,Data!C:C,Data!G:G,0)","v":0},{"$f":"_xlfn.XLOOKUP(C1144,Data!C:C,Data!F:F)","v":{"$error":"#N/A"}},{"$f":"_xlfn.XLOOKUP(C1144,Data!C:C,Data!H:H,0)","v":0},{"$error":"#N/A"},{"$error":"#N/A"},{"$error":"#N/A"},{"$error":"#N/A"},{"$error":"#N/A"},0,{"$error":"#N/A"},"","","",null,{"$error":"#N/A"}]
["2021-03-24","07:02:00","2021-03-24T07:02:00",null,{"$f":"_xlfn.XLOOKUP(C1145,Data!C:C,Data!I:I)","v":{"$error":"#N/A"}},{"$error":"#N/A"},{"$f":"_xlfn.XLOOKUP(C1145,Data!C:C,Data!G:G,0)","v":0},{"$f":"_xlfn.XLOOKUP(C1145,Data!C:C,Data!F:F)","v":{"$error":"#N/A"}},{"$f":"_xlfn.XLOOKUP(C1145,Data!C:C,Data!H:H,0)","v":0},{"$error":"#N/A"},{"$error":"#N/A"},{"$error":"#N/A"},{"$error":"#N/A"},{"$error":"#N/A"},0,{"$error":"#N/A"},"","","",null,{"$error":"#N/A"}]
["2021-03-24","07:03:00","2021-03-24T07:03:00",null,{"$f":"_xlfn.XLOOKUP(C1146,Data!C:C,Data!I:I)","v":{"$error":"#N/A"}},{"$error":"#N/A"},{"$f":"_xlfn.XLOOKUP(C1146,Data!C:C,Data!G:G,0)","v":0},{"$f":"_xlfn.XLOOKUP(C1146,Data!C:C,Data!F:F)","v":{"$error":"#N/A"}},{"$f":"_xlfn.XLOOKUP(C1146,Data!C:C,Data!H:H,0)","v":0},{"$error":"#N/A"},{"$error":"#N/A"},{"$error":"#N/A"},{"$error":"#N/A"},{"$error":"#N/A"},0,{"$error":"#N/A"},"","","",null,{"$error":"#N/A"}]
["2021-03-24","07:04:00","2021-03-24T07:04:00",null,{"$f":"_xlfn.XLOOKUP(C1147,Data!C:C,Data!I:I)","v":{"$error":"#N/A"}},{"$error":"#N/A"},{"$f":"_xlfn.XLOOKUP(C1147,Data!C:C,Data!G:G,0)","v":0},{"$f":"_xlfn.XLOOKUP(C1147,Data!C:C,Data!F:F)","v":{"$error":"#N/A"}},{"$f":"_xlfn.XLOOKUP(C1147,Data!C:C,Data!H:H,0)","v":0},{"$error":"#N/A"},{"$error":"#N/A"},{"$error":"#N/A"},{"$error":"#N/A"},{"$error":"#N/A"},0,{"$error":"#N/A"},"","","",null,{"$error":"#N/A"}]
["2021-03-24","07:05:00","2021-03-24T07:05:00",null,{"$f":"_xlfn.XLOOKUP(C1148,Data!C:C,Data!I:I)","v":{"$error":"#N/A"}},{"$error":"#N/A"},{"$f":"_xlfn.XLOOKUP(C1148,Data!C:C,Data!G:G,0)","v":0},{"$f":"_xlfn.XLOOKUP(C1148,Data!C:C,Data!F:F)","v":{"$error":"#N/A"}},{"$f":"_xlfn.XLOOKUP(C1148,Data!C:C,Data!H:H,0)","v":0},{"$error":"#N/A"},{"$error":"#N/A"},{"$error":"#N/A"},{"$error":"#N/A"},{"$error":"#N/A"},0,{"$error":"#N/A"},"","","",null,{"$error":"#N/A"}]
["2021-03-24","07:06:00","2021-03-24T07:06:00",null,{"$f":"_xlfn.XLOOKUP(C1149,Data!C:C,Data!I:I)","v":{"$error":"#N/A"}},{"$error":"#N/A"},{"$f":"_xlfn.XLOOKUP(C1149,Data!C:C,Data!G:G,0)","v":0},{"$f":"_xlfn.XLOOKUP(C1149,Data!C:C,Data!F:F)","v":{"$error":"#N/A"}},{"$f":"_xlfn.XLOOKUP(C1149,Data!C:C,Data!H:H,0)","v":0},{"$error":"#N/A"},{"$error":"#N/A"},{"$error":"#N/A"},{"$error":"#N/A"},{"$error":"#N/A"},0,{"$error":"#N/A"},"","","",null,{"$error":"#N/A"}]
["2021-03-24","07:07:00","2021-03-24T07:07:00",null,{"$f":"_xlfn.XLOOKUP(C1150,Data!C:C,Data!I:I)","v":{"$error":"#N/A"}},{"$error":"#N/A"},{"$f":"_xlfn.XLOOKUP(C1150,Data!C:C,Data!G:G,0)","v":0},{"$f":"_xlfn.XLOOKUP(C1150,Data!C:C,Data!F:F)","v":{"$error":"#N/A"}},{"$f":"_xlfn.XLOOKUP(C1150,Data!C:C,Data!H:H,0)","v":0},{"$error":"#N/A"},{"$error":"#N/A"},{"$error":"#N/A"},{"$error":"#N/A"},{"$error":"#N/A"},0,{"$error":"#N/A"},"","","",null,{"$error":"#N/A"}]
["2021-03-24","07:08:00","2021-03-24T07:08:00",null,{"$f":"_xlfn.XLOOKUP(C1151,Data!C:C,Data!I:I)","v":{"$error":"#N/A"}},{"$error":"#N/A"},{"$f":"_xlfn.XLOOKUP(C1151,Data!C:C,Data!G:G,0)","v":0},{"$f":"_xlfn.XLOOKUP(C1151,Data!C:C,Data!F:F)","v":{"$error":"#N/A"}},{"$f":"_xlfn.XLOOKUP(C1151,Data!C:C,Data!H:H,0)","v":0},{"$error":"#N/A"},{"$error":"#N/A"},{"$error":"#N/A"},{"$error":"#N/A"},{"$error":"#N/A"},0,{"$error":"#N/A"},"","","",null,{"$error":"#N/A"}]
["2021-03-24","07:09:00","2021-03-24T07:09:00",null,{"$f":"_xlfn.XLOOKUP(C1152,Data!C:C,Data!I:I)","v":{"$error":"#N/A"}},{"$error":"#N/A"},{"$f":"_xlfn.XLOOKUP(C1152,Data!C:C,Data!G:G,0)","v":0},{"$f":"_xlfn.XLOOKUP(C1152,Data!C:C,Data!F:F)","v":{"$error":"#N/A"}},{"$f":"_xlfn.XLOOKUP(C1152,Data!C:C,Data!H:H,0)","v":0},{"$f":"IF(AND(MAX(E1150:E1151)=255,MAX(E1152:E1153)=255,  E1151+E1152+E1153<3*255, OR(I1152=123,I1152=124,I1152=106,I1152=108)),   I1152,   IF(AND(MAX(E1150:E1151)=255,MAX(E1152:E1153)=255,  E1151+E1152+E1153<3*255, OR(I1152>=80,I1152<100)),106,108))","v":{"$error":"#N/A"}},{"$error":"#N/A"},{"$error":"#N/A"},{"$error":"#N/A"},{"$error":"#N/A"},0,{"$error":"#N/A"},"","","",null,{"$error":"#N/A"}]
["2021-03-24","07:10:00","2021-03-24T07:10:00",null,{"$f":"_xlfn.XLOOKUP(C1153,Data!C:C,Data!I:I)","v":{"$error":"#N/A"}},{"$error":"#N/A"},{"$f":"_xlfn.XLOOKUP(C1153,Data!C:C,Data!G:G,0)","v":0},{"$f":"_xlfn.XLOOKUP(C1153,Data!C:C,Data!F:F)","v":{"$error":"#N/A"}},{"$f":"_xlfn.XLOOKUP(C1153,Data!C:C,Data!H:H,0)","v":0},{"$error":"#N/A"},{"$error":"#N/A"},{"$error":"#N/A"},{"$error":"#N/A"},{"$error":"#N/A"},0,{"$error":"#N/A"},"","","",null,{"$error":"#N/A"}]
["2021-03-24","07:11:00","2021-03-24T07:11:00",null,{"$f":"_xlfn.XLOOKUP(C1154,Data!C:C,Data!I:I)","v":{"$error":"#N/A"}},{"$error":"#N/A"},{"$f":"_xlfn.XLOOKUP(C1154,Data!C:C,Data!G:G,0)","v":0},{"$f":"_xlfn.XLOOKUP(C1154,Data!C:C,Data!F:F)","v":{"$error":"#N/A"}},{"$f":"_xlfn.XLOOKUP(C1154,Data!C:C,Data!H:H,0)","v":0},{"$error":"#N/A"},{"$error":"#N/A"},{"$error":"#N/A"},{"$error":"#N/A"},{"$error":"#N/A"},0,{"$error":"#N/A"},"","","",null,{"$error":"#N/A"}]
["2021-03-24","07:12:00",{"$f":"A1155+B1155","v":"2021-03-24T07:12:00"},null,{"$f":"_xlfn.XLOOKUP(C1155,Data!C:C,Data!I:I)","v":{"$error":"#N/A"}},{"$error":"#N/A"},{"$f":"_xlfn.XLOOKUP(C1155,Data!C:C,Data!G:G,0)","v":0},{"$f":"_xlfn.XLOOKUP(C1155,Data!C:C,Data!F:F)","v":{"$error":"#N/A"}},{"$f":"_xlfn.XLOOKUP(C1155,Data!C:C,Data!H:H,0)","v":0},{"$error":"#N/A"},{"$f":"IF(AND(I1155<100,  I1155>=80,  OR(J1155=105, J1155=106,  J1155=123)),  5,  0)","v":{"$error":"#N/A"}},{"$error":"#N/A"},{"$error":"#N/A"},{"$error":"#N/A"},{"$f":"IFERROR(F1155,0)","v":0},{"$error":"#N/A"},"","","",null,{"$error":"#N/A"}]
["2021-03-24","07:13:00","2021-03-24T07:13:00",null,{"$f":"_xlfn.XLOOKUP(C1156,Data!C:C,Data!I:I)","v":{"$error":"#N/A"}},{"$error":"#N/A"},{"$f":"_xlfn.XLOOKUP(C1156,Data!C:C,Data!G:G,0)","v":0},{"$f":"_xlfn.XLOOKUP(C1156,Data!C:C,Data!F:F)","v":{"$error":"#N/A"}},{"$f":"_xlfn.XLOOKUP(C1156,Data!C:C,Data!H:H,0)","v":0},{"$error":"#N/A"},{"$error":"#N/A"},{"$f":"IF(AND(I1156<130,  I1156>104,  OR(J1156=105, J1156=106,  J1156=123),  S1156>$S$1450+$S$1443),  20,  0)","v":{"$error":"#N/A"}},{"$f":"IF(AND(I1156<130,  I1156>104,  OR(J1156=105, J1156=106,  J1156=123),  R1156>$Q$1449,  S1156<=$S$1450+$S$1443),  20,  0)","v":{"$error":"#N/A"}},{"$f":"IF(AND(I1156<130,  I1156>104,  OR(J1156=105, J1156=106,  J1156=123),  R1156<=$Q$1449,  S1156<=$S$1450+$S$1443),  20,  0)","v":{"$error":"#N/A"}},0,{"$f":"IF(Q1156=\"\",F1156,IF(Q1156=0,P1155,Q1156))","v":{"$error":"#N/A"}},{"$f":"IF(I1156>109,IF(O1156*$Q$1451>(O1155+O1157)/2,MIN(O1155:O1157),O1156),\"\")","v":""},"","",null,{"$error":"#N/A"}]
["2021-03-24","07:14:00","2021-03-24T07:14:00",null,{"$f":"_xlfn.XLOOKUP(C1157,Data!C:C,Data!I:I)","v":{"$error":"#N/A"}},{"$f":"IF(E1157=255,IF(MIN(E1156:E1158)=255,#N/A,MIN(E1156:E1158)),E1157)","v":{"$error":"#N/A"}},{"$f":"_xlfn.XLOOKUP(C1157,Data!C:C,Data!G:G,0)","v":0},{"$f":"_xlfn.XLOOKUP(C1157,Data!C:C,Data!F:F)","v":{"$error":"#N/A"}},{"$f":"_xlfn.XLOOKUP(C1157,Data!C:C,Data!H:H,0)","v":0},{"$error":"#N/A"},{"$error":"#N/A"},{"$error":"#N/A"},{"$error":"#N/A"},{"$error":"#N/A"},0,{"$error":"#N/A"},"","","",null,{"$error":"#N/A"}]
["2021-03-24","07:15:00","2021-03-24T07:15:00",null,{"$f":"_xlfn.XLOOKUP(C1158,Data!C:C,Data!I:I)","v":{"$error":"#N/A"}},{"$error":"#N/A"},{"$f":"_xlfn.XLOOKUP(C1158,Data!C:C,Data!G:G,0)","v":0},{"$f":"_xlfn.XLOOKUP(C1158,Data!C:C,Data!F:F)","v":{"$error":"#N/A"}},{"$f":"_xlfn.XLOOKUP(C1158,Data!C:C,Data!H:H,0)","v":0},{"$error":"#N/A"},{"$error":"#N/A"},{"$error":"#N/A"},{"$error":"#N/A"},{"$error":"#N/A"},0,{"$error":"#N/A"},"","","",null,{"$error":"#N/A"}]
["2021-03-24","07:16:00","2021-03-24T07:16:00",null,{"$f":"_xlfn.XLOOKUP(C1159,Data!C:C,Data!I:I)","v":{"$error":"#N/A"}},{"$error":"#N/A"},{"$f":"_xlfn.XLOOKUP(C1159,Data!C:C,Data!G:G,0)","v":0},{"$f":"_xlfn.XLOOKUP(C1159,Data!C:C,Data!F:F)","v":{"$error":"#N/A"}},{"$f":"_xlfn.XLOOKUP(C1159,Data!C:C,Data!H:H,0)","v":0},{"$error":"#N/A"},{"$error":"#N/A"},{"$error":"#N/A"},{"$error":"#N/A"},{"$error":"#N/A"},0,{"$error":"#N/A"},"","","",null,{"$f":"IF(F1159=\"\",\"\",AVERAGE(F1155:F1163))","v":{"$error":"#N/A"}}]
["2021-03-24","07:17:00","2021-03-24T07:17:00",null,{"$f":"_xlfn.XLOOKUP(C1160,Data!C:C,Data!I:I)","v":{"$error":"#N/A"}},{"$error":"#N/A"},{"$f":"_xlfn.XLOOKUP(C1160,Data!C:C,Data!G:G,0)","v":0},{"$f":"_xlfn.XLOOKUP(C1160,Data!C:C,Data!F:F)","v":{"$error":"#N/A"}},{"$f":"_xlfn.XLOOKUP(C1160,Data!C:C,Data!H:H,0)","v":0},{"$error":"#N/A"},{"$error":"#N/A"},{"$error":"#N/A"},{"$error":"#N/A"},{"$error":"#N/A"},0,{"$error":"#N/A"},"",{"$f":"IF(Q1160=\"\",\"\",AVERAGE(Q1156:Q1164))","v":""},{"$f":"IF(Q1160=\"\",\"\",MAX(Q1156:Q1164)-MIN(Q1156:Q1164))","v":""},null,{"$error":"#N/A"}]
["2021-03-24","07:18:00","2021-03-24T07:18:00",null,{"$f":"_xlfn.XLOOKUP(C1161,Data!C:C,Data!I:I)","v":{"$error":"#N/A"}},{"$error":"#N/A"},{"$f":"_xlfn.XLOOKUP(C1161,Data!C:C,Data!G:G,0)","v":0},{"$f":"_xlfn.XLOOKUP(C1161,Data!C:C,Data!F:F)","v":{"$error":"#N/A"}},{"$f":"_xlfn.XLOOKUP(C1161,Data!C:C,Data!H:H,0)","v":0},{"$error":"#N/A"},{"$error":"#N/A"},{"$error":"#N/A"},{"$error":"#N/A"},{"$error":"#N/A"},0,{"$error":"#N/A"},"","","",null,{"$error":"#N/A"}]
["2021-03-24","07:19:00","2021-03-24T07:19:00",null,{"$f":"_xlfn.XLOOKUP(C1162,Data!C:C,Data!I:I)","v":{"$error":"#N/A"}},{"$error":"#N/A"},{"$f":"_xlfn.XLOOKUP(C1162,Data!C:C,Data!G:G,0)","v":0},{"$f":"_xlfn.XLOOKUP(C1162,Data!C:C,Data!F:F)","v":{"$error":"#N/A"}},{"$f":"_xlfn.XLOOKUP(C1162,Data!C:C,Data!H:H,0)","v":0},{"$error":"#N/A"},{"$error":"#N/A"},{"$error":"#N/A"},{"$error":"#N/A"},{"$error":"#N/A"},0,{"$error":"#N/A"},"","","",null,{"$error":"#N/A"}]
["2021-03-24","07:20:00","2021-03-24T07:20:00",null,{"$f":"_xlfn.XLOOKUP(C1163,Data!C:C,Data!I:I)","v":{"$error":"#N/A"}},{"$error":"#N/A"},{"$f":"_xlfn.XLOOKUP(C1163,Data!C:C,Data!G:G,0)","v":0},{"$f":"_xlfn.XLOOKUP(C1163,Data!C:C,Data!F:F)","v":{"$error":"#N/A"}},{"$f":"_xlfn.XLOOKUP(C1163,Data!C:C,Data!H:H,0)","v":0},{"$error":"#N/A"},{"$error":"#N/A"},{"$error":"#N/A"},{"$error":"#N/A"},{"$error":"#N/A"},0,{"$error":"#N/A"},"","","",null,{"$error":"#N/A"}]
["2021-03-24","07:21:00","2021-03-24T07:21:00",null,{"$f":"_xlfn.XLOOKUP(C1164,Data!C:C,Data!I:I)","v":{"$error":"#N/A"}},{"$error":"#N/A"},{"$f":"_xlfn.XLOOKUP(C1164,Data!C:C,Data!G:G,0)","v":0},{"$f":"_xlfn.XLOOKUP(C1164,Data!C:C,Data!F:F)","v":{"$error":"#N/A"}},{"$f":"_xlfn.XLOOKUP(C1164,Data!C:C,Data!H:H,0)","v":0},{"$error":"#N/A"},{"$error":"#N/A"},{"$error":"#N/A"},{"$error":"#N/A"},{"$error":"#N/A"},0,{"$error":"#N/A"},"","","",null,{"$error":"#N/A"}]
["2021-03-24","07:22:00","2021-03-24T07:22:00",null,{"$f":"_xlfn.XLOOKUP(C1165,Data!C:C,Data!I:I)","v":{"$error":"#N/A"}},{"$error":"#N/A"},{"$f":"_xlfn.XLOOKUP(C1165,Data!C:C,Data!G:G,0)","v":0},{"$f":"_xlfn.XLOOKUP(C1165,Data!C:C,Data!F:F)","v":{"$error":"#N/A"}},{"$f":"_xlfn.XLOOKUP(C1165,Data!C:C,Data!H:H,0)","v":0},{"$error":"#N/A"},{"$error":"#N/A"},{"$error":"#N/A"},{"$error":"#N/A"},{"$error":"#N/A"},0,{"$error":"#N/A"},"","","",null,{"$error":"#N/A"}]
["2021-03-24","07:23:00","2021-03-24T07:23:00",null,{"$f":"_xlfn.XLOOKUP(C1166,Data!C:C,Data!I:I)","v":{"$error":"#N/A"}},{"$error":"#N/A"},{"$f":"_xlfn.XLOOKUP(C1166,Data!C:C,Data!G:G,0)","v":0},{"$f":"_xlfn.XLOOKUP(C1166,Data!C:C,Data!F:F)","v":{"$error":"#N/A"}},{"$f":"_xlfn.XLOOKUP(C1166,Data!C:C,Data!H:H,0)","v":0},{"$error":"#N/A"},{"$error":"#N/A"},{"$error":"#N/A"},{"$error":"#N/A"},{"$error":"#N/A"},0,{"$error":"#N/A"},"","","",null,{"$error":"#N/A"}]
["2021-03-24","07:24:00","2021-03-24T07:24:00",null,{"$f":"_xlfn.XLOOKUP(C1167,Data!C:C,Data!I:I)","v":{"$error":"#N/A"}},{"$error":"#N/A"},{"$f":"_xlfn.XLOOKUP(C1167,Data!C:C,Data!G:G,0)","v":0},{"$f":"_xlfn.XLOOKUP(C1167,Data!C:C,Data!F:F)","v":{"$error":"#N/A"}},{"$f":"_xlfn.XLOOKUP(C1167,Data!C:C,Data!H:H,0)","v":0},{"$error":"#N/A"},{"$error":"#N/A"},{"$error":"#N/A"},{"$error":"#N/A"},{"$error":"#N/A"},0,{"$error":"#N/A"},"","","",null,{"$error":"#N/A"}]
["2021-03-24","07:25:00","2021-03-24T07:25:00",null,{"$f":"_xlfn.XLOOKUP(C1168,Data!C:C,Data!I:I)","v":{"$error":"#N/A"}},{"$error":"#N/A"},{"$f":"_xlfn.XLOOKUP(C1168,Data!C:C,Data!G:G,0)","v":0},{"$f":"_xlfn.XLOOKUP(C1168,Data!C:C,Data!F:F)","v":{"$error":"#N/A"}},{"$f":"_xlfn.XLOOKUP(C1168,Data!C:C,Data!H:H,0)","v":0},{"$error":"#N/A"},{"$error":"#N/A"},{"$error":"#N/A"},{"$error":"#N/A"},{"$error":"#N/A"},0,{"$error":"#N/A"},"","","",null,{"$error":"#N/A"}]
["2021-03-24","07:26:00","2021-03-24T07:26:00",null,{"$f":"_xlfn.XLOOKUP(C1169,Data!C:C,Data!I:I)","v":{"$error":"#N/A"}},{"$error":"#N/A"},{"$f":"_xlfn.XLOOKUP(C1169,Data!C:C,Data!G:G,0)","v":0},{"$f":"_xlfn.XLOOKUP(C1169,Data!C:C,Data!F:F)","v":{"$error":"#N/A"}},{"$f":"_xlfn.XLOOKUP(C1169,Data!C:C,Data!H:H,0)","v":0},{"$error":"#N/A"},{"$error":"#N/A"},{"$error":"#N/A"},{"$error":"#N/A"},{"$error":"#N/A"},0,{"$error":"#N/A"},"","","",null,{"$error":"#N/A"}]
["2021-03-24","07:27:00","2021-03-24T07:27:00",null,{"$f":"_xlfn.XLOOKUP(C1170,Data!C:C,Data!I:I)","v":{"$error":"#N/A"}},{"$error":"#N/A"},{"$f":"_xlfn.XLOOKUP(C1170,Data!C:C,Data!G:G,0)","v":0},{"$f":"_xlfn.XLOOKUP(C1170,Data!C:C,Data!F:F)","v":{"$error":"#N/A"}},{"$f":"_xlfn.XLOOKUP(C1170,Data!C:C,Data!H:H,0)","v":0},{"$error":"#N/A"},{"$error":"#N/A"},{"$error":"#N/A"},{"$error":"#N/A"},{"$error":"#N/A"},0,{"$error":"#N/A"},"","","",null,{"$error":"#N/A"}]
["2021-03-24","07:28:00","2021-03-24T07:28:00",null,{"$f":"_xlfn.XLOOKUP(C1171,Data!C:C,Data!I:I)","v":{"$error":"#N/A"}},{"$error":"#N/A"},{"$f":"_xlfn.XLOOKUP(C1171,Data!C:C,Data!G:G,0)","v":0},{"$f":"_xlfn.XLOOKUP(C1171,Data!C:C,Data!F:F)","v":{"$error":"#N/A"}},{"$f":"_xlfn.XLOOKUP(C1171,Data!C:C,Data!H:H,0)","v":0},{"$error":"#N/A"},{"$error":"#N/A"},{"$error":"#N/A"},{"$error":"#N/A"},{"$error":"#N/A"},0,{"$error":"#N/A"},"","","",null,{"$error":"#N/A"}]
["2021-03-24","07:29:00","2021-03-24T07:29:00",null,{"$f":"_xlfn.XLOOKUP(C1172,Data!C:C,Data!I:I)","v":{"$error":"#N/A"}},{"$error":"#N/A"},{"$f":"_xlfn.XLOOKUP(C1172,Data!C:C,Data!G:G,0)","v":0},{"$f":"_xlfn.XLOOKUP(C1172,Data!C:C,Data!F:F)","v":{"$error":"#N/A"}},{"$f":"_xlfn.XLOOKUP(C1172,Data!C:C,Data!H:H,0)","v":0},{"$error":"#N/A"},{"$error":"#N/A"},{"$error":"#N/A"},{"$error":"#N/A"},{"$error":"#N/A"},0,{"$error":"#N/A"},"","","",null,{"$error":"#N/A"}]
[{"$f":"$A$723","v":"2021-03-24"},"07:30:00","2021-03-24T07:30:00",null,{"$f":"_xlfn.XLOOKUP(C1173,Data!C:C,Data!I:I)","v":{"$error":"#N/A"}},{"$error":"#N/A"},{"$f":"_xlfn.XLOOKUP(C1173,Data!C:C,Data!G:G,0)","v":0},{"$f":"_xlfn.XLOOKUP(C1173,Data!C:C,Data!F:F)","v":{"$error":"#N/A"}},{"$f":"_xlfn.XLOOKUP(C1173,Data!C:C,Data!H:H,0)","v":0},{"$error":"#N/A"},{"$error":"#N/A"},{"$error":"#N/A"},{"$error":"#N/A"},{"$error":"#N/A"},0,{"$error":"#N/A"},"","","",null,{"$error":"#N/A"}]
["2021-03-24","07:31:00","2021-03-24T07:31:00",null,{"$f":"_xlfn.XLOOKUP(C1174,Data!C:C,Data!I:I)","v":{"$error":"#N/A"}},{"$error":"#N/A"},{"$f":"_xlfn.XLOOKUP(C1174,Data!C:C,Data!G:G,0)","v":0},{"$f":"_xlfn.XLOOKUP(C1174,Data!C:C,Data!F:F)","v":{"$error":"#N/A"}},{"$f":"_xlfn.XLOOKUP(C1174,Data!C:C,Data!H:H,0)","v":0},{"$error":"#N/A"},{"$error":"#N/A"},{"$error":"#N/A"},{"$error":"#N/A"},{"$error":"#N/A"},0,{"$error":"#N/A"},"","","",null,{"$error":"#N/A"}]
["2021-03-24","07:32:00","2021-03-24T07:32:00",null,{"$f":"_xlfn.XLOOKUP(C1175,Data!C:C,Data!I:I)","v":{"$error":"#N/A"}},{"$error":"#N/A"},{"$f":"_xlfn.XLOOKUP(C1175,Data!C:C,Data!G:G,0)","v":0},{"$f":"_xlfn.XLOOKUP(C1175,Data!C:C,Data!F:F)","v":{"$error":"#N/A"}},{"$f":"_xlfn.XLOOKUP(C1175,Data!C:C,Data!H:H,0)","v":0},{"$error":"#N/A"},{"$error":"#N/A"},{"$error":"#N/A"},{"$error":"#N/A"},{"$error":"#N/A"},0,{"$error":"#N/A"},"","","",null,{"$error":"#N/A"}]
["2021-03-24","07:33:00","2021-03-24T07:33:00",null,{"$f":"_xlfn.XLOOKUP(C1176,Data!C:C,Data!I:I)","v":{"$error":"#N/A"}},{"$error":"#N/A"},{"$f":"_xlfn.XLOOKUP(C1176,Data!C:C,Data!G:G,0)","v":0},{"$f":"_xlfn.XLOOKUP(C1176,Data!C:C,Data!F:F)","v":{"$error":"#N/A"}},{"$f":"_xlfn.XLOOKUP(C1176,Data!C:C,Data!H:H,0)","v":0},{"$error":"#N/A"},{"$error":"#N/A"},{"$error":"#N/A"},{"$error":"#N/A"},{"$error":"#N/A"},0,{"$error":"#N/A"},"","","",null,{"$error":"#N/A"}]
["2021-03-24","07:34:00","2021-03-24T07:34:00",null,{"$f":"_xlfn.XLOOKUP(C1177,Data!C:C,Data!I:I)","v":{"$error":"#N/A"}},{"$error":"#N/A"},{"$f":"_xlfn.XLOOKUP(C1177,Data!C:C,Data!G:G,0)","v":0},{"$f":"_xlfn.XLOOKUP(C1177,Data!C:C,Data!F:F)","v":{"$error":"#N/A"}},{"$f":"_xlfn.XLOOKUP(C1177,Data!C:C,Data!H:H,0)","v":0},{"$error":"#N/A"},{"$error":"#N/A"},{"$error":"#N/A"},{"$error":"#N/A"},{"$error":"#N/A"},0,{"$error":"#N/A"},"","","",null,{"$error":"#N/A"}]
["2021-03-24","07:35:00","2021-03-24T07:35:00",null,{"$f":"_xlfn.XLOOKUP(C1178,Data!C:C,Data!I:I)","v":{"$error":"#N/A"}},{"$error":"#N/A"},{"$f":"_xlfn.XLOOKUP(C1178,Data!C:C,Data!G:G,0)","v":0},{"$f":"_xlfn.XLOOKUP(C1178,Data!C:C,Data!F:F)","v":{"$error":"#N/A"}},{"$f":"_xlfn.XLOOKUP(C1178,Data!C:C,Data!H:H,0)","v":0},{"$error":"#N/A"},{"$error":"#N/A"},{"$error":"#N/A"},{"$error":"#N/A"},{"$error":"#N/A"},0,{"$error":"#N/A"},"","","",null,{"$error":"#N/A"}]
["2021-03-24","07:36:00","2021-03-24T07:36:00",null,{"$f":"_xlfn.XLOOKUP(C1179,Data!C:C,Data!I:I)","v":{"$error":"#N/A"}},{"$error":"#N/A"},{"$f":"_xlfn.XLOOKUP(C1179,Data!C:C,Data!G:G,0)","v":0},{"$f":"_xlfn.XLOOKUP(C1179,Data!C:C,Data!F:F)","v":{"$error":"#N/A"}},{"$f":"_xlfn.XLOOKUP(C1179,Data!C:C,Data!H:H,0)","v":0},{"$error":"#N/A"},{"$error":"#N/A"},{"$error":"#N/A"},{"$error":"#N/A"},{"$error":"#N/A"},0,{"$error":"#N/A"},"","","",null,{"$error":"#N/A"}]
["2021-03-24","07:37:00","2021-03-24T07:37:00",null,{"$f":"_xlfn.XLOOKUP(C1180,Data!C:C,Data!I:I)","v":{"$error":"#N/A"}},{"$error":"#N/A"},{"$f":"_xlfn.XLOOKUP(C1180,Data!C:C,Data!G:G,0)","v":0},{"$f":"_xlfn.XLOOKUP(C1180,Data!C:C,Data!F:F)","v":{"$error":"#N/A"}},{"$f":"_xlfn.XLOOKUP(C1180,Data!C:C,Data!H:H,0)","v":0},{"$error":"#N/A"},{"$error":"#N/A"},{"$error":"#N/A"},{"$error":"#N/A"},{"$error":"#N/A"},0,{"$error":"#N/A"},"","","",null,{"$error":"#N/A"}]
["2021-03-24","07:38:00","2021-03-24T07:38:00",null,{"$f":"_xlfn.XLOOKUP(C1181,Data!C:C,Data!I:I)","v":{"$error":"#N/A"}},{"$error":"#N/A"},{"$f":"_xlfn.XLOOKUP(C1181,Data!C:C,Data!G:G,0)","v":0},{"$f":"_xlfn.XLOOKUP(C1181,Data!C:C,Data!F:F)","v":{"$error":"#N/A"}},{"$f":"_xlfn.XLOOKUP(C1181,Data!C:C,Data!H:H,0)","v":0},{"$error":"#N/A"},{"$error":"#N/A"},{"$error":"#N/A"},{"$error":"#N/A"},{"$error":"#N/A"},0,{"$error":"#N/A"},"","","",null,{"$error":"#N/A"}]
["2021-03-24","07:39:00","2021-03-24T07:39:00",null,{"$f":"_xlfn.XLOOKUP(C1182,Data!C:C,Data!I:I)","v":{"$error":"#N/A"}},{"$error":"#N/A"},{"$f":"_xlfn.XLOOKUP(C1182,Data!C:C,Data!G:G,0)","v":0},{"$f":"_xlfn.XLOOKUP(C1182,Data!C:C,Data!F:F)","v":{"$error":"#N/A"}},{"$f":"_xlfn.XLOOKUP(C1182,Data!C:C,Data!H:H,0)","v":0},{"$error":"#N/A"},{"$error":"#N/A"},{"$error":"#N/A"},{"$error":"#N/A"},{"$error":"#N/A"},0,{"$error":"#N/A"},"","","",null,{"$error":"#N/A"}]
["2021-03-24","07:40:00","2021-03-24T07:40:00",null,{"$f":"_xlfn.XLOOKUP(C1183,Data!C:C,Data!I:I)","v":{"$error":"#N/A"}},{"$error":"#N/A"},{"$f":"_xlfn.XLOOKUP(C1183,Data!C:C,Data!G:G,0)","v":0},{"$f":"_xlfn.XLOOKUP(C1183,Data!C:C,Data!F:F)","v":{"$error":"#N/A"}},{"$f":"_xlfn.XLOOKUP(C1183,Data!C:C,Data!H:H,0)","v":0},{"$error":"#N/A"},{"$error":"#N/A"},{"$error":"#N/A"},{"$error":"#N/A"},{"$error":"#N/A"},0,{"$error":"#N/A"},"","","",null,{"$error":"#N/A"}]
["2021-03-24","07:41:00","2021-03-24T07:41:00",null,{"$f":"_xlfn.XLOOKUP(C1184,Data!C:C,Data!I:I)","v":{"$error":"#N/A"}},{"$error":"#N/A"},{"$f":"_xlfn.XLOOKUP(C1184,Data!C:C,Data!G:G,0)","v":0},{"$f":"_xlfn.XLOOKUP(C1184,Data!C:C,Data!F:F)","v":{"$error":"#N/A"}},{"$f":"_xlfn.XLOOKUP(C1184,Data!C:C,Data!H:H,0)","v":0},{"$error":"#N/A"},{"$error":"#N/A"},{"$error":"#N/A"},{"$error":"#N/A"},{"$error":"#N/A"},0,{"$error":"#N/A"},"","","",null,{"$error":"#N/A"}]
["2021-03-24","07:42:00","2021-03-24T07:42:00",null,{"$f":"_xlfn.XLOOKUP(C1185,Data!C:C,Data!I:I)","v":{"$error":"#N/A"}},{"$error":"#N/A"},{"$f":"_xlfn.XLOOKUP(C1185,Data!C:C,Data!G:G,0)","v":0},{"$f":"_xlfn.XLOOKUP(C1185,Data!C:C,Data!F:F)","v":{"$error":"#N/A"}},{"$f":"_xlfn.XLOOKUP(C1185,Data!C:C,Data!H:H,0)","v":0},{"$error":"#N/A"},{"$error":"#N/A"},{"$error":"#N/A"},{"$error":"#N/A"},{"$error":"#N/A"},0,{"$error":"#N/A"},"","","",null,{"$error":"#N/A"}]
["2021-03-24","07:43:00","2021-03-24T07:43:00",null,{"$f":"_xlfn.XLOOKUP(C1186,Data!C:C,Data!I:I)","v":{"$error":"#N/A"}},{"$error":"#N/A"},{"$f":"_xlfn.XLOOKUP(C1186,Data!C:C,Data!G:G,0)","v":0},{"$f":"_xlfn.XLOOKUP(C1186,Data!C:C,Data!F:F)","v":{"$error":"#N/A"}},{"$f":"_xlfn.XLOOKUP(C1186,Data!C:C,Data!H:H,0)","v":0},{"$error":"#N/A"},{"$error":"#N/A"},{"$error":"#N/A"},{"$error":"#N/A"},{"$error":"#N/A"},0,{"$error":"#N/A"},"","","",null,{"$error":"#N/A"}]
["2021-03-24","07:44:00","2021-03-24T07:44:00",null,{"$f":"_xlfn.XLOOKUP(C1187,Data!C:C,Data!I:I)","v":{"$error":"#N/A"}},{"$error":"#N/A"},{"$f":"_xlfn.XLOOKUP(C1187,Data!C:C,Data!G:G,0)","v":0},{"$f":"_xlfn.XLOOKUP(C1187,Data!C:C,Data!F:F)","v":{"$error":"#N/A"}},{"$f":"_xlfn.XLOOKUP(C1187,Data!C:C,Data!H:H,0)","v":0},{"$error":"#N/A"},{"$error":"#N/A"},{"$error":"#N/A"},{"$error":"#N/A"},{"$error":"#N/A"},0,{"$error":"#N/A"},"","","",null,{"$error":"#N/A"}]
["2021-03-24","07:45:00","2021-03-24T07:45:00",null,{"$f":"_xlfn.XLOOKUP(C1188,Data!C:C,Data!I:I)","v":{"$error":"#N/A"}},{"$error":"#N/A"},{"$f":"_xlfn.XLOOKUP(C1188,Data!C:C,Data!G:G,0)","v":0},{"$f":"_xlfn.XLOOKUP(C1188,Data!C:C,Data!F:F)","v":{"$error":"#N/A"}},{"$f":"_xlfn.XLOOKUP(C1188,Data!C:C,Data!H:H,0)","v":0},{"$error":"#N/A"},{"$error":"#N/A"},{"$error":"#N/A"},{"$error":"#N/A"},{"$error":"#N/A"},0,{"$error":"#N/A"},"","","",null,{"$error":"#N/A"}]
["2021-03-24","07:46:00","2021-03-24T07:46:00",null,{"$f":"_xlfn.XLOOKUP(C1189,Data!C:C,Data!I:I)","v":{"$error":"#N/A"}},{"$error":"#N/A"},{"$f":"_xlfn.XLOOKUP(C1189,Data!C:C,Data!G:G,0)","v":0},{"$f":"_xlfn.XLOOKUP(C1189,Data!C:C,Data!F:F)","v":{"$error":"#N/A"}},{"$f":"_xlfn.XLOOKUP(C1189,Data!C:C,Data!H:H,0)","v":0},{"$error":"#N/A"},{"$error":"#N/A"},{"$error":"#N/A"},{"$error":"#N/A"},{"$error":"#N/A"},0,{"$error":"#N/A"},"","","",null,{"$error":"#N/A"}]
["2021-03-24","07:47:00","2021-03-24T07:47:00",null,{"$f":"_xlfn.XLOOKUP(C1190,Data!C:C,Data!I:I)","v":{"$error":"#N/A"}},{"$error":"#N/A"},{"$f":"_xlfn.XLOOKUP(C1190,Data!C:C,Data!G:G,0)","v":0},{"$f":"_xlfn.XLOOKUP(C1190,Data!C:C,Data!F:F)","v":{"$error":"#N/A"}},{"$f":"_xlfn.XLOOKUP(C1190,Data!C:C,Data!H:H,0)","v":0},{"$error":"#N/A"},{"$error":"#N/A"},{"$error":"#N/A"},{"$error":"#N/A"},{"$error":"#N/A"},0,{"$error":"#N/A"},"","","",null,{"$error":"#N/A"}]
["2021-03-24","07:48:00","2021-03-24T07:48:00",null,{"$f":"_xlfn.XLOOKUP(C1191,Data!C:C,Data!I:I)","v":{"$error":"#N/A"}},{"$error":"#N/A"},{"$f":"_xlfn.XLOOKUP(C1191,Data!C:C,Data!G:G,0)","v":0},{"$f":"_xlfn.XLOOKUP(C1191,Data!C:C,Data!F:F)","v":{"$error":"#N/A"}},{"$f":"_xlfn.XLOOKUP(C1191,Data!C:C,Data!H:H,0)","v":0},{"$error":"#N/A"},{"$error":"#N/A"},{"$error":"#N/A"},{"$error":"#N/A"},{"$error":"#N/A"},0,{"$error":"#N/A"},"","","",null,{"$error":"#N/A"}]
["2021-03-24","07:49:00","2021-03-24T07:49:00",null,{"$f":"_xlfn.XLOOKUP(C1192,Data!C:C,Data!I:I)","v":{"$error":"#N/A"}},{"$error":"#N/A"},{"$f":"_xlfn.XLOOKUP(C1192,Data!C:C,Data!G:G,0)","v":0},{"$f":"_xlfn.XLOOKUP(C1192,Data!C:C,Data!F:F)","v":{"$error":"#N/A"}},{"$f":"_xlfn.XLOOKUP(C1192,Data!C:C,Data!H:H,0)","v":0},{"$error":"#N/A"},{"$error":"#N/A"},{"$error":"#N/A"},{"$error":"#N/A"},{"$error":"#N/A"},0,{"$error":"#N/A"},"","","",null,{"$error":"#N/A"}]
["2021-03-24","07:50:00","2021-03-24T07:50:00",null,{"$f":"_xlfn.XLOOKUP(C1193,Data!C:C,Data!I:I)","v":{"$error":"#N/A"}},{"$error":"#N/A"},{"$f":"_xlfn.XLOOKUP(C1193,Data!C:C,Data!G:G,0)","v":0},{"$f":"_xlfn.XLOOKUP(C1193,Data!C:C,Data!F:F)","v":{"$error":"#N/A"}},{"$f":"_xlfn.XLOOKUP(C1193,Data!C:C,Data!H:H,0)","v":0},{"$error":"#N/A"},{"$error":"#N/A"},{"$error":"#N/A"},{"$error":"#N/A"},{"$error":"#N/A"},0,{"$error":"#N/A"},"","","",null,{"$error":"#N/A"}]
["2021-03-24","07:51:00","2021-03-24T07:51:00",null,{"$f":"_xlfn.XLOOKUP(C1194,Data!C:C,Data!I:I)","v":{"$error":"#N/A"}},{"$error":"#N/A"},{"$f":"_xlfn.XLOOKUP(C1194,Data!C:C,Data!G:G,0)","v":0},{"$f":"_xlfn.XLOOKUP(C1194,Data!C:C,Data!F:F)","v":{"$error":"#N/A"}},{"$f":"_xlfn.XLOOKUP(C1194,Data!C:C,Data!H:H,0)","v":0},{"$error":"#N/A"},{"$error":"#N/A"},{"$error":"#N/A"},{"$error":"#N/A"},{"$error":"#N/A"},0,{"$error":"#N/A"},"","","",null,{"$error":"#N/A"}]
["2021-03-24","07:52:00","2021-03-24T07:52:00",null,{"$f":"_xlfn.XLOOKUP(C1195,Data!C:C,Data!I:I)","v":{"$error":"#N/A"}},{"$error":"#N/A"},{"$f":"_xlfn.XLOOKUP(C1195,Data!C:C,Data!G:G,0)","v":0},{"$f":"_xlfn.XLOOKUP(C1195,Data!C:C,Data!F:F)","v":{"$error":"#N/A"}},{"$f":"_xlfn.XLOOKUP(C1195,Data!C:C,Data!H:H,0)","v":0},{"$error":"#N/A"},{"$error":"#N/A"},{"$error":"#N/A"},{"$error":"#N/A"},{"$error":"#N/A"},0,{"$error":"#N/A"},"","","",null,{"$error":"#N/A"}]
["2021-03-24","07:53:00","2021-03-24T07:53:00",null,{"$f":"_xlfn.XLOOKUP(C1196,Data!C:C,Data!I:I)","v":{"$error":"#N/A"}},{"$error":"#N/A"},{"$f":"_xlfn.XLOOKUP(C1196,Data!C:C,Data!G:G,0)","v":0},{"$f":"_xlfn.XLOOKUP(C1196,Data!C:C,Data!F:F)","v":{"$error":"#N/A"}},{"$f":"_xlfn.XLOOKUP(C1196,Data!C:C,Data!H:H,0)","v":0},{"$error":"#N/A"},{"$error":"#N/A"},{"$error":"#N/A"},{"$error":"#N/A"},{"$error":"#N/A"},0,{"$error":"#N/A"},"","","",null,{"$error":"#N/A"}]
["2021-03-24","07:54:00","2021-03-24T07:54:00",null,{"$f":"_xlfn.XLOOKUP(C1197,Data!C:C,Data!I:I)","v":{"$error":"#N/A"}},{"$error":"#N/A"},{"$f":"_xlfn.XLOOKUP(C1197,Data!C:C,Data!G:G,0)","v":0},{"$f":"_xlfn.XLOOKUP(C1197,Data!C:C,Data!F:F)","v":{"$error":"#N/A"}},{"$f":"_xlfn.XLOOKUP(C1197,Data!C:C,Data!H:H,0)","v":0},{"$error":"#N/A"},{"$error":"#N/A"},{"$error":"#N/A"},{"$error":"#N/A"},{"$error":"#N/A"},0,{"$error":"#N/A"},"","","",null,{"$error":"#N/A"}]
["2021-03-24","07:55:00","2021-03-24T07:55:00",null,{"$f":"_xlfn.XLOOKUP(C1198,Data!C:C,Data!I:I)","v":{"$error":"#N/A"}},{"$error":"#N/A"},{"$f":"_xlfn.XLOOKUP(C1198,Data!C:C,Data!G:G,0)","v":0},{"$f":"_xlfn.XLOOKUP(C1198,Data!C:C,Data!F:F)","v":{"$error":"#N/A"}},{"$f":"_xlfn.XLOOKUP(C1198,Data!C:C,Data!H:H,0)","v":0},{"$error":"#N/A"},{"$error":"#N/A"},{"$error":"#N/A"},{"$error":"#N/A"},{"$error":"#N/A"},0,{"$error":"#N/A"},"","","",null,{"$error":"#N/A"}]
["2021-03-24","07:56:00","2021-03-24T07:56:00",null,{"$f":"_xlfn.XLOOKUP(C1199,Data!C:C,Data!I:I)","v":{"$error":"#N/A"}},{"$error":"#N/A"},{"$f":"_xlfn.XLOOKUP(C1199,Data!C:C,Data!G:G,0)","v":0},{"$f":"_xlfn.XLOOKUP(C1199,Data!C:C,Data!F:F)","v":{"$error":"#N/A"}},{"$f":"_xlfn.XLOOKUP(C1199,Data!C:C,Data!H:H,0)","v":0},{"$error":"#N/A"},{"$error":"#N/A"},{"$error":"#N/A"},{"$error":"#N/A"},{"$error":"#N/A"},0,{"$error":"#N/A"},"","","",null,{"$error":"#N/A"}]
["2021-03-24","07:57:00","2021-03-24T07:57:00",null,{"$f":"_xlfn.XLOOKUP(C1200,Data!C:C,Data!I:I)","v":{"$error":"#N/A"}},{"$error":"#N/A"},{"$f":"_xlfn.XLOOKUP(C1200,Data!C:C,Data!G:G,0)","v":0},{"$f":"_xlfn.XLOOKUP(C1200,Data!C:C,Data!F:F)","v":{"$error":"#N/A"}},{"$f":"_xlfn.XLOOKUP(C1200,Data!C:C,Data!H:H,0)","v":0},{"$error":"#N/A"},{"$error":"#N/A"},{"$error":"#N/A"},{"$error":"#N/A"},{"$error":"#N/A"},0,{"$error":"#N/A"},"","","",null,{"$error":"#N/A"}]
["2021-03-24","07:58:00","2021-03-24T07:58:00",null,{"$f":"_xlfn.XLOOKUP(C1201,Data!C:C,Data!I:I)","v":{"$error":"#N/A"}},{"$error":"#N/A"},{"$f":"_xlfn.XLOOKUP(C1201,Data!C:C,Data!G:G,0)","v":0},{"$f":"_xlfn.XLOOKUP(C1201,Data!C:C,Data!F:F)","v":{"$error":"#N/A"}},{"$f":"_xlfn.XLOOKUP(C1201,Data!C:C,Data!H:H,0)","v":0},{"$error":"#N/A"},{"$error":"#N/A"},{"$error":"#N/A"},{"$error":"#N/A"},{"$error":"#N/A"},0,{"$error":"#N/A"},"","","",null,{"$error":"#N/A"}]
["2021-03-24","07:59:00","2021-03-24T07:59:00",null,{"$f":"_xlfn.XLOOKUP(C1202,Data!C:C,Data!I:I)","v":{"$error":"#N/A"}},{"$error":"#N/A"},{"$f":"_xlfn.XLOOKUP(C1202,Data!C:C,Data!G:G,0)","v":0},{"$f":"_xlfn.XLOOKUP(C1202,Data!C:C,Data!F:F)","v":{"$error":"#N/A"}},{"$f":"_xlfn.XLOOKUP(C1202,Data!C:C,Data!H:H,0)","v":0},{"$error":"#N/A"},{"$error":"#N/A"},{"$error":"#N/A"},{"$error":"#N/A"},{"$error":"#N/A"},0,{"$error":"#N/A"},"","","",null,{"$error":"#N/A"}]
["2021-03-24","08:00:00","2021-03-24T08:00:00",null,{"$f":"_xlfn.XLOOKUP(C1203,Data!C:C,Data!I:I)","v":{"$error":"#N/A"}},{"$error":"#N/A"},{"$f":"_xlfn.XLOOKUP(C1203,Data!C:C,Data!G:G,0)","v":0},{"$f":"_xlfn.XLOOKUP(C1203,Data!C:C,Data!F:F)","v":{"$error":"#N/A"}},{"$f":"_xlfn.XLOOKUP(C1203,Data!C:C,Data!H:H,0)","v":0},{"$error":"#N/A"},{"$error":"#N/A"},{"$error":"#N/A"},{"$error":"#N/A"},{"$error":"#N/A"},0,{"$error":"#N/A"},"","","",null,{"$error":"#N/A"}]
["2021-03-24","08:01:00","2021-03-24T08:01:00",null,{"$f":"_xlfn.XLOOKUP(C1204,Data!C:C,Data!I:I)","v":{"$error":"#N/A"}},{"$error":"#N/A"},{"$f":"_xlfn.XLOOKUP(C1204,Data!C:C,Data!G:G,0)","v":0},{"$f":"_xlfn.XLOOKUP(C1204,Data!C:C,Data!F:F)","v":{"$error":"#N/A"}},{"$f":"_xlfn.XLOOKUP(C1204,Data!C:C,Data!H:H,0)","v":0},{"$error":"#N/A"},{"$error":"#N/A"},{"$error":"#N/A"},{"$error":"#N/A"},{"$error":"#N/A"},0,{"$error":"#N/A"},"","","",null,{"$error":"#N/A"}]
["2021-03-24","08:02:00","2021-03-24T08:02:00",null,{"$f":"_xlfn.XLOOKUP(C1205,Data!C:C,Data!I:I)","v":{"$error":"#N/A"}},{"$error":"#N/A"},{"$f":"_xlfn.XLOOKUP(C1205,Data!C:C,Data!G:G,0)","v":0},{"$f":"_xlfn.XLOOKUP(C1205,Data!C:C,Data!F:F)","v":{"$error":"#N/A"}},{"$f":"_xlfn.XLOOKUP(C1205,Data!C:C,Data!H:H,0)","v":0},{"$error":"#N/A"},{"$error":"#N/A"},{"$error":"#N/A"},{"$error":"#N/A"},{"$error":"#N/A"},0,{"$error":"#N/A"},"","","",null,{"$error":"#N/A"}]
["2021-03-24","08:03:00","2021-03-24T08:03:00",null,{"$f":"_xlfn.XLOOKUP(C1206,Data!C:C,Data!I:I)","v":{"$error":"#N/A"}},{"$error":"#N/A"},{"$f":"_xlfn.XLOOKUP(C1206,Data!C:C,Data!G:G,0)","v":0},{"$f":"_xlfn.XLOOKUP(C1206,Data!C:C,Data!F:F)","v":{"$error":"#N/A"}},{"$f":"_xlfn.XLOOKUP(C1206,Data!C:C,Data!H:H,0)","v":0},{"$error":"#N/A"},{"$error":"#N/A"},{"$error":"#N/A"},{"$error":"#N/A"},{"$error":"#N/A"},0,{"$error":"#N/A"},"","","",null,{"$error":"#N/A"}]
["2021-03-24","08:04:00","2021-03-24T08:04:00",null,{"$f":"_xlfn.XLOOKUP(C1207,Data!C:C,Data!I:I)","v":{"$error":"#N/A"}},{"$error":"#N/A"},{"$f":"_xlfn.XLOOKUP(C1207,Data!C:C,Data!G:G,0)","v":0},{"$f":"_xlfn.XLOOKUP(C1207,Data!C:C,Data!F:F)","v":{"$error":"#N/A"}},{"$f":"_xlfn.XLOOKUP(C1207,Data!C:C,Data!H:H,0)","v":0},{"$error":"#N/A"},{"$error":"#N/A"},{"$error":"#N/A"},{"$error":"#N/A"},{"$error":"#N/A"},0,{"$error":"#N/A"},"","","",null,{"$error":"#N/A"}]
["2021-03-24","08:05:00","2021-03-24T08:05:00",null,{"$f":"_xlfn.XLOOKUP(C1208,Data!C:C,Data!I:I)","v":{"$error":"#N/A"}},{"$error":"#N/A"},{"$f":"_xlfn.XLOOKUP(C1208,Data!C:C,Data!G:G,0)","v":0},{"$f":"_xlfn.XLOOKUP(C1208,Data!C:C,Data!F:F)","v":{"$error":"#N/A"}},{"$f":"_xlfn.XLOOKUP(C1208,Data!C:C,Data!H:H,0)","v":0},{"$error":"#N/A"},{"$error":"#N/A"},{"$error":"#N/A"},{"$error":"#N/A"},{"$error":"#N/A"},0,{"$error":"#N/A"},"","","",null,{"$error":"#N/A"}]
["2021-03-24","08:06:00","2021-03-24T08:06:00",null,{"$f":"_xlfn.XLOOKUP(C1209,Data!C:C,Data!I:I)","v":{"$error":"#N/A"}},{"$error":"#N/A"},{"$f":"_xlfn.XLOOKUP(C1209,Data!C:C,Data!G:G,0)","v":0},{"$f":"_xlfn.XLOOKUP(C1209,Data!C:C,Data!F:F)","v":{"$error":"#N/A"}},{"$f":"_xlfn.XLOOKUP(C1209,Data!C:C,Data!H:H,0)","v":0},{"$error":"#N/A"},{"$error":"#N/A"},{"$error":"#N/A"},{"$error":"#N/A"},{"$error":"#N/A"},0,{"$error":"#N/A"},"","","",null,{"$error":"#N/A"}]
["2021-03-24","08:07:00","2021-03-24T08:07:00",null,{"$f":"_xlfn.XLOOKUP(C1210,Data!C:C,Data!I:I)","v":{"$error":"#N/A"}},{"$error":"#N/A"},{"$f":"_xlfn.XLOOKUP(C1210,Data!C:C,Data!G:G,0)","v":0},{"$f":"_xlfn.XLOOKUP(C1210,Data!C:C,Data!F:F)","v":{"$error":"#N/A"}},{"$f":"_xlfn.XLOOKUP(C1210,Data!C:C,Data!H:H,0)","v":0},{"$error":"#N/A"},{"$error":"#N/A"},{"$error":"#N/A"},{"$error":"#N/A"},{"$error":"#N/A"},0,{"$error":"#N/A"},"","","",null,{"$error":"#N/A"}]
["2021-03-24","08:08:00","2021-03-24T08:08:00",null,{"$f":"_xlfn.XLOOKUP(C1211,Data!C:C,Data!I:I)","v":{"$error":"#N/A"}},{"$error":"#N/A"},{"$f":"_xlfn.XLOOKUP(C1211,Data!C:C,Data!G:G,0)","v":0},{"$f":"_xlfn.XLOOKUP(C1211,Data!C:C,Data!F:F)","v":{"$error":"#N/A"}},{"$f":"_xlfn.XLOOKUP(C1211,Data!C:C,Data!H:H,0)","v":0},{"$error":"#N/A"},{"$error":"#N/A"},{"$error":"#N/A"},{"$error":"#N/A"},{"$error":"#N/A"},0,{"$error":"#N/A"},"","","",null,{"$error":"#N/A"}]
["2021-03-24","08:09:00","2021-03-24T08:09:00",null,{"$f":"_xlfn.XLOOKUP(C1212,Data!C:C,Data!I:I)","v":{"$error":"#N/A"}},{"$error":"#N/A"},{"$f":"_xlfn.XLOOKUP(C1212,Data!C:C,Data!G:G,0)","v":0},{"$f":"_xlfn.XLOOKUP(C1212,Data!C:C,Data!F:F)","v":{"$error":"#N/A"}},{"$f":"_xlfn.XLOOKUP(C1212,Data!C:C,Data!H:H,0)","v":0},{"$error":"#N/A"},{"$error":"#N/A"},{"$error":"#N/A"},{"$error":"#N/A"},{"$error":"#N/A"},0,{"$error":"#N/A"},"","","",null,{"$error":"#N/A"}]
["2021-03-24","08:10:00","2021-03-24T08:10:00",null,{"$f":"_xlfn.XLOOKUP(C1213,Data!C:C,Data!I:I)","v":{"$error":"#N/A"}},{"$error":"#N/A"},{"$f":"_xlfn.XLOOKUP(C1213,Data!C:C,Data!G:G,0)","v":0},{"$f":"_xlfn.XLOOKUP(C1213,Data!C:C,Data!F:F)","v":{"$error":"#N/A"}},{"$f":"_xlfn.XLOOKUP(C1213,Data!C:C,Data!H:H,0)","v":0},{"$error":"#N/A"},{"$error":"#N/A"},{"$error":"#N/A"},{"$error":"#N/A"},{"$error":"#N/A"},0,{"$error":"#N/A"},"","","",null,{"$error":"#N/A"}]
["2021-03-24","08:11:00","2021-03-24T08:11:00",null,{"$f":"_xlfn.XLOOKUP(C1214,Data!C:C,Data!I:I)","v":{"$error":"#N/A"}},{"$error":"#N/A"},{"$f":"_xlfn.XLOOKUP(C1214,Data!C:C,Data!G:G,0)","v":0},{"$f":"_xlfn.XLOOKUP(C1214,Data!C:C,Data!F:F)","v":{"$error":"#N/A"}},{"$f":"_xlfn.XLOOKUP(C1214,Data!C:C,Data!H:H,0)","v":0},{"$error":"#N/A"},{"$error":"#N/A"},{"$error":"#N/A"},{"$error":"#N/A"},{"$error":"#N/A"},0,{"$error":"#N/A"},"","","",null,{"$error":"#N/A"}]
["2021-03-24","08:12:00","2021-03-24T08:12:00",null,{"$f":"_xlfn.XLOOKUP(C1215,Data!C:C,Data!I:I)","v":{"$error":"#N/A"}},{"$error":"#N/A"},{"$f":"_xlfn.XLOOKUP(C1215,Data!C:C,Data!G:G,0)","v":0},{"$f":"_xlfn.XLOOKUP(C1215,Data!C:C,Data!F:F)","v":{"$error":"#N/A"}},{"$f":"_xlfn.XLOOKUP(C1215,Data!C:C,Data!H:H,0)","v":0},{"$error":"#N/A"},{"$error":"#N/A"},{"$error":"#N/A"},{"$error":"#N/A"},{"$error":"#N/A"},0,{"$error":"#N/A"},"","","",null,{"$error":"#N/A"}]
["2021-03-24","08:13:00","2021-03-24T08:13:00",null,{"$f":"_xlfn.XLOOKUP(C1216,Data!C:C,Data!I:I)","v":{"$error":"#N/A"}},{"$error":"#N/A"},{"$f":"_xlfn.XLOOKUP(C1216,Data!C:C,Data!G:G,0)","v":0},{"$f":"_xlfn.XLOOKUP(C1216,Data!C:C,Data!F:F)","v":{"$error":"#N/A"}},{"$f":"_xlfn.XLOOKUP(C1216,Data!C:C,Data!H:H,0)","v":0},{"$f":"IF(AND(MAX(E1214:E1215)=255,MAX(E1216:E1217)=255,  E1215+E1216+E1217<3*255, OR(I1216=123,I1216=124,I1216=106,I1216=108)),   I1216,   IF(AND(MAX(E1214:E1215)=255,MAX(E1216:E1217)=255,  E1215+E1216+E1217<3*255, OR(I1216>=80,I1216<100)),106,108))","v":{"$error":"#N/A"}},{"$error":"#N/A"},{"$error":"#N/A"},{"$error":"#N/A"},{"$error":"#N/A"},0,{"$error":"#N/A"},"","","",null,{"$error":"#N/A"}]
["2021-03-24","08:14:00","2021-03-24T08:14:00",null,{"$f":"_xlfn.XLOOKUP(C1217,Data!C:C,Data!I:I)","v":{"$error":"#N/A"}},{"$error":"#N/A"},{"$f":"_xlfn.XLOOKUP(C1217,Data!C:C,Data!G:G,0)","v":0},{"$f":"_xlfn.XLOOKUP(C1217,Data!C:C,Data!F:F)","v":{"$error":"#N/A"}},{"$f":"_xlfn.XLOOKUP(C1217,Data!C:C,Data!H:H,0)","v":0},{"$error":"#N/A"},{"$error":"#N/A"},{"$error":"#N/A"},{"$error":"#N/A"},{"$error":"#N/A"},0,{"$error":"#N/A"},"","","",null,{"$error":"#N/A"}]
["2021-03-24","08:15:00","2021-03-24T08:15:00",null,{"$f":"_xlfn.XLOOKUP(C1218,Data!C:C,Data!I:I)","v":{"$error":"#N/A"}},{"$error":"#N/A"},{"$f":"_xlfn.XLOOKUP(C1218,Data!C:C,Data!G:G,0)","v":0},{"$f":"_xlfn.XLOOKUP(C1218,Data!C:C,Data!F:F)","v":{"$error":"#N/A"}},{"$f":"_xlfn.XLOOKUP(C1218,Data!C:C,Data!H:H,0)","v":0},{"$error":"#N/A"},{"$error":"#N/A"},{"$error":"#N/A"},{"$error":"#N/A"},{"$error":"#N/A"},0,{"$error":"#N/A"},"","","",null,{"$error":"#N/A"}]
["2021-03-24","08:16:00",{"$f":"A1219+B1219","v":"2021-03-24T08:16:00"},null,{"$f":"_xlfn.XLOOKUP(C1219,Data!C:C,Data!I:I)","v":{"$error":"#N/A"}},{"$error":"#N/A"},{"$f":"_xlfn.XLOOKUP(C1219,Data!C:C,Data!G:G,0)","v":0},{"$f":"_xlfn.XLOOKUP(C1219,Data!C:C,Data!F:F)","v":{"$error":"#N/A"}},{"$f":"_xlfn.XLOOKUP(C1219,Data!C:C,Data!H:H,0)","v":0},{"$error":"#N/A"},{"$f":"IF(AND(I1219<100,  I1219>=80,  OR(J1219=105, J1219=106,  J1219=123)),  5,  0)","v":{"$error":"#N/A"}},{"$error":"#N/A"},{"$error":"#N/A"},{"$error":"#N/A"},{"$f":"IFERROR(F1219,0)","v":0},{"$error":"#N/A"},"","","",null,{"$error":"#N/A"}]
["2021-03-24","08:17:00","2021-03-24T08:17:00",null,{"$f":"_xlfn.XLOOKUP(C1220,Data!C:C,Data!I:I)","v":{"$error":"#N/A"}},{"$error":"#N/A"},{"$f":"_xlfn.XLOOKUP(C1220,Data!C:C,Data!G:G,0)","v":0},{"$f":"_xlfn.XLOOKUP(C1220,Data!C:C,Data!F:F)","v":{"$error":"#N/A"}},{"$f":"_xlfn.XLOOKUP(C1220,Data!C:C,Data!H:H,0)","v":0},{"$error":"#N/A"},{"$error":"#N/A"},{"$f":"IF(AND(I1220<130,  I1220>104,  OR(J1220=105, J1220=106,  J1220=123),  S1220>$S$1450+$S$1443),  20,  0)","v":{"$error":"#N/A"}},{"$f":"IF(AND(I1220<130,  I1220>104,  OR(J1220=105, J1220=106,  J1220=123),  R1220>$Q$1449,  S1220<=$S$1450+$S$1443),  20,  0)","v":{"$error":"#N/A"}},{"$f":"IF(AND(I1220<130,  I1220>104,  OR(J1220=105, J1220=106,  J1220=123),  R1220<=$Q$1449,  S1220<=$S$1450+$S$1443),  20,  0)","v":{"$error":"#N/A"}},0,{"$f":"IF(Q1220=\"\",F1220,IF(Q1220=0,P1219,Q1220))","v":{"$error":"#N/A"}},{"$f":"IF(I1220>109,IF(O1220*$Q$1451>(O1219+O1221)/2,MIN(O1219:O1221),O1220),\"\")","v":""},"","",null,{"$error":"#N/A"}]
["2021-03-24","08:18:00","2021-03-24T08:18:00",null,{"$f":"_xlfn.XLOOKUP(C1221,Data!C:C,Data!I:I)","v":{"$error":"#N/A"}},{"$f":"IF(E1221=255,IF(MIN(E1220:E1222)=255,#N/A,MIN(E1220:E1222)),E1221)","v":{"$error":"#N/A"}},{"$f":"_xlfn.XLOOKUP(C1221,Data!C:C,Data!G:G,0)","v":0},{"$f":"_xlfn.XLOOKUP(C1221,Data!C:C,Data!F:F)","v":{"$error":"#N/A"}},{"$f":"_xlfn.XLOOKUP(C1221,Data!C:C,Data!H:H,0)","v":0},{"$error":"#N/A"},{"$error":"#N/A"},{"$error":"#N/A"},{"$error":"#N/A"},{"$error":"#N/A"},0,{"$error":"#N/A"},"","","",null,{"$error":"#N/A"}]
["2021-03-24","08:19:00","2021-03-24T08:19:00",null,{"$f":"_xlfn.XLOOKUP(C1222,Data!C:C,Data!I:I)","v":{"$error":"#N/A"}},{"$error":"#N/A"},{"$f":"_xlfn.XLOOKUP(C1222,Data!C:C,Data!G:G,0)","v":0},{"$f":"_xlfn.XLOOKUP(C1222,Data!C:C,Data!F:F)","v":{"$error":"#N/A"}},{"$f":"_xlfn.XLOOKUP(C1222,Data!C:C,Data!H:H,0)","v":0},{"$error":"#N/A"},{"$error":"#N/A"},{"$error":"#N/A"},{"$error":"#N/A"},{"$error":"#N/A"},0,{"$error":"#N/A"},"","","",null,{"$error":"#N/A"}]
["2021-03-24","08:20:00","2021-03-24T08:20:00",null,{"$f":"_xlfn.XLOOKUP(C1223,Data!C:C,Data!I:I)","v":{"$error":"#N/A"}},{"$error":"#N/A"},{"$f":"_xlfn.XLOOKUP(C1223,Data!C:C,Data!G:G,0)","v":0},{"$f":"_xlfn.XLOOKUP(C1223,Data!C:C,Data!F:F)","v":{"$error":"#N/A"}},{"$f":"_xlfn.XLOOKUP(C1223,Data!C:C,Data!H:H,0)","v":0},{"$error":"#N/A"},{"$error":"#N/A"},{"$error":"#N/A"},{"$error":"#N/A"},{"$error":"#N/A"},0,{"$error":"#N/A"},"","","",null,{"$f":"IF(F1223=\"\",\"\",AVERAGE(F1219:F1227))","v":{"$error":"#N/A"}}]
["2021-03-24","08:21:00","2021-03-24T08:21:00",null,{"$f":"_xlfn.XLOOKUP(C1224,Data!C:C,Data!I:I)","v":{"$error":"#N/A"}},{"$error":"#N/A"},{"$f":"_xlfn.XLOOKUP(C1224,Data!C:C,Data!G:G,0)","v":0},{"$f":"_xlfn.XLOOKUP(C1224,Data!C:C,Data!F:F)","v":{"$error":"#N/A"}},{"$f":"_xlfn.XLOOKUP(C1224,Data!C:C,Data!H:H,0)","v":0},{"$error":"#N/A"},{"$error":"#N/A"},{"$error":"#N/A"},{"$error":"#N/A"},{"$error":"#N/A"},0,{"$error":"#N/A"},"",{"$f":"IF(Q1224=\"\",\"\",AVERAGE(Q1220:Q1228))","v":""},{"$f":"IF(Q1224=\"\",\"\",MAX(Q1220:Q1228)-MIN(Q1220:Q1228))","v":""},null,{"$error":"#N/A"}]
["2021-03-24","08:22:00","2021-03-24T08:22:00",null,{"$f":"_xlfn.XLOOKUP(C1225,Data!C:C,Data!I:I)","v":{"$error":"#N/A"}},{"$error":"#N/A"},{"$f":"_xlfn.XLOOKUP(C1225,Data!C:C,Data!G:G,0)","v":0},{"$f":"_xlfn.XLOOKUP(C1225,Data!C:C,Data!F:F)","v":{"$error":"#N/A"}},{"$f":"_xlfn.XLOOKUP(C1225,Data!C:C,Data!H:H,0)","v":0},{"$error":"#N/A"},{"$error":"#N/A"},{"$error":"#N/A"},{"$error":"#N/A"},{"$error":"#N/A"},0,{"$error":"#N/A"},"","","",null,{"$error":"#N/A"}]
["2021-03-24","08:23:00","2021-03-24T08:23:00",null,{"$f":"_xlfn.XLOOKUP(C1226,Data!C:C,Data!I:I)","v":{"$error":"#N/A"}},{"$error":"#N/A"},{"$f":"_xlfn.XLOOKUP(C1226,Data!C:C,Data!G:G,0)","v":0},{"$f":"_xlfn.XLOOKUP(C1226,Data!C:C,Data!F:F)","v":{"$error":"#N/A"}},{"$f":"_xlfn.XLOOKUP(C1226,Data!C:C,Data!H:H,0)","v":0},{"$error":"#N/A"},{"$error":"#N/A"},{"$error":"#N/A"},{"$error":"#N/A"},{"$error":"#N/A"},0,{"$error":"#N/A"},"","","",null,{"$error":"#N/A"}]
["2021-03-24","08:24:00","2021-03-24T08:24:00",null,{"$f":"_xlfn.XLOOKUP(C1227,Data!C:C,Data!I:I)","v":{"$error":"#N/A"}},{"$error":"#N/A"},{"$f":"_xlfn.XLOOKUP(C1227,Data!C:C,Data!G:G,0)","v":0},{"$f":"_xlfn.XLOOKUP(C1227,Data!C:C,Data!F:F)","v":{"$error":"#N/A"}},{"$f":"_xlfn.XLOOKUP(C1227,Data!C:C,Data!H:H,0)","v":0},{"$error":"#N/A"},{"$error":"#N/A"},{"$error":"#N/A"},{"$error":"#N/A"},{"$error":"#N/A"},0,{"$error":"#N/A"},"","","",null,{"$error":"#N/A"}]
["2021-03-24","08:25:00","2021-03-24T08:25:00",null,{"$f":"_xlfn.XLOOKUP(C1228,Data!C:C,Data!I:I)","v":{"$error":"#N/A"}},{"$error":"#N/A"},{"$f":"_xlfn.XLOOKUP(C1228,Data!C:C,Data!G:G,0)","v":0},{"$f":"_xlfn.XLOOKUP(C1228,Data!C:C,Data!F:F)","v":{"$error":"#N/A"}},{"$f":"_xlfn.XLOOKUP(C1228,Data!C:C,Data!H:H,0)","v":0},{"$error":"#N/A"},{"$error":"#N/A"},{"$error":"#N/A"},{"$error":"#N/A"},{"$error":"#N/A"},0,{"$error":"#N/A"},"","","",null,{"$error":"#N/A"}]
["2021-03-24","08:26:00","2021-03-24T08:26:00",null,{"$f":"_xlfn.XLOOKUP(C1229,Data!C:C,Data!I:I)","v":{"$error":"#N/A"}},{"$error":"#N/A"},{"$f":"_xlfn.XLOOKUP(C1229,Data!C:C,Data!G:G,0)","v":0},{"$f":"_xlfn.XLOOKUP(C1229,Data!C:C,Data!F:F)","v":{"$error":"#N/A"}},{"$f":"_xlfn.XLOOKUP(C1229,Data!C:C,Data!H:H,0)","v":0},{"$error":"#N/A"},{"$error":"#N/A"},{"$error":"#N/A"},{"$error":"#N/A"},{"$error":"#N/A"},0,{"$error":"#N/A"},"","","",null,{"$error":"#N/A"}]
["2021-03-24","08:27:00","2021-03-24T08:27:00",null,{"$f":"_xlfn.XLOOKUP(C1230,Data!C:C,Data!I:I)","v":{"$error":"#N/A"}},{"$error":"#N/A"},{"$f":"_xlfn.XLOOKUP(C1230,Data!C:C,Data!G:G,0)","v":0},{"$f":"_xlfn.XLOOKUP(C1230,Data!C:C,Data!F:F)","v":{"$error":"#N/A"}},{"$f":"_xlfn.XLOOKUP(C1230,Data!C:C,Data!H:H,0)","v":0},{"$error":"#N/A"},{"$error":"#N/A"},{"$error":"#N/A"},{"$error":"#N/A"},{"$error":"#N/A"},0,{"$error":"#N/A"},"","","",null,{"$error":"#N/A"}]
["2021-03-24","08:28:00","2021-03-24T08:28:00",null,{"$f":"_xlfn.XLOOKUP(C1231,Data!C:C,Data!I:I)","v":{"$error":"#N/A"}},{"$error":"#N/A"},{"$f":"_xlfn.XLOOKUP(C1231,Data!C:C,Data!G:G,0)","v":0},{"$f":"_xlfn.XLOOKUP(C1231,Data!C:C,Data!F:F)","v":{"$error":"#N/A"}},{"$f":"_xlfn.XLOOKUP(C1231,Data!C:C,Data!H:H,0)","v":0},{"$error":"#N/A"},{"$error":"#N/A"},{"$error":"#N/A"},{"$error":"#N/A"},{"$error":"#N/A"},0,{"$error":"#N/A"},"","","",null,{"$error":"#N/A"}]
["2021-03-24","08:29:00","2021-03-24T08:29:00",null,{"$f":"_xlfn.XLOOKUP(C1232,Data!C:C,Data!I:I)","v":{"$error":"#N/A"}},{"$error":"#N/A"},{"$f":"_xlfn.XLOOKUP(C1232,Data!C:C,Data!G:G,0)","v":0},{"$f":"_xlfn.XLOOKUP(C1232,Data!C:C,Data!F:F)","v":{"$error":"#N/A"}},{"$f":"_xlfn.XLOOKUP(C1232,Data!C:C,Data!H:H,0)","v":0},{"$error":"#N/A"},{"$error":"#N/A"},{"$error":"#N/A"},{"$error":"#N/A"},{"$error":"#N/A"},0,{"$error":"#N/A"},"","","",null,{"$error":"#N/A"}]
["2021-03-24","08:30:00","2021-03-24T08:30:00",null,{"$f":"_xlfn.XLOOKUP(C1233,Data!C:C,Data!I:I)","v":{"$error":"#N/A"}},{"$error":"#N/A"},{"$f":"_xlfn.XLOOKUP(C1233,Data!C:C,Data!G:G,0)","v":0},{"$f":"_xlfn.XLOOKUP(C1233,Data!C:C,Data!F:F)","v":{"$error":"#N/A"}},{"$f":"_xlfn.XLOOKUP(C1233,Data!C:C,Data!H:H,0)","v":0},{"$error":"#N/A"},{"$error":"#N/A"},{"$error":"#N/A"},{"$error":"#N/A"},{"$error":"#N/A"},0,{"$error":"#N/A"},"","","",null,{"$error":"#N/A"}]
["2021-03-24","08:31:00","2021-03-24T08:31:00",null,{"$f":"_xlfn.XLOOKUP(C1234,Data!C:C,Data!I:I)","v":{"$error":"#N/A"}},{"$error":"#N/A"},{"$f":"_xlfn.XLOOKUP(C1234,Data!C:C,Data!G:G,0)","v":0},{"$f":"_xlfn.XLOOKUP(C1234,Data!C:C,Data!F:F)","v":{"$error":"#N/A"}},{"$f":"_xlfn.XLOOKUP(C1234,Data!C:C,Data!H:H,0)","v":0},{"$error":"#N/A"},{"$error":"#N/A"},{"$error":"#N/A"},{"$error":"#N/A"},{"$error":"#N/A"},0,{"$error":"#N/A"},"","","",null,{"$error":"#N/A"}]
["2021-03-24","08:32:00","2021-03-24T08:32:00",null,{"$f":"_xlfn.XLOOKUP(C1235,Data!C:C,Data!I:I)","v":{"$error":"#N/A"}},{"$error":"#N/A"},{"$f":"_xlfn.XLOOKUP(C1235,Data!C:C,Data!G:G,0)","v":0},{"$f":"_xlfn.XLOOKUP(C1235,Data!C:C,Data!F:F)","v":{"$error":"#N/A"}},{"$f":"_xlfn.XLOOKUP(C1235,Data!C:C,Data!H:H,0)","v":0},{"$error":"#N/A"},{"$error":"#N/A"},{"$error":"#N/A"},{"$error":"#N/A"},{"$error":"#N/A"},0,{"$error":"#N/A"},"","","",null,{"$error":"#N/A"}]
["2021-03-24","08:33:00","2021-03-24T08:33:00",null,{"$f":"_xlfn.XLOOKUP(C1236,Data!C:C,Data!I:I)","v":{"$error":"#N/A"}},{"$error":"#N/A"},{"$f":"_xlfn.XLOOKUP(C1236,Data!C:C,Data!G:G,0)","v":0},{"$f":"_xlfn.XLOOKUP(C1236,Data!C:C,Data!F:F)","v":{"$error":"#N/A"}},{"$f":"_xlfn.XLOOKUP(C1236,Data!C:C,Data!H:H,0)","v":0},{"$error":"#N/A"},{"$error":"#N/A"},{"$error":"#N/A"},{"$error":"#N/A"},{"$error":"#N/A"},0,{"$error":"#N/A"},"","","",null,{"$error":"#N/A"}]
[{"$f":"$A$723","v":"2021-03-24"},"08:34:00","2021-03-24T08:34:00",null,{"$f":"_xlfn.XLOOKUP(C1237,Data!C:C,Data!I:I)","v":{"$error":"#N/A"}},{"$error":"#N/A"},{"$f":"_xlfn.XLOOKUP(C1237,Data!C:C,Data!G:G,0)","v":0},{"$f":"_xlfn.XLOOKUP(C1237,Data!C:C,Data!F:F)","v":{"$error":"#N/A"}},{"$f":"_xlfn.XLOOKUP(C1237,Data!C:C,Data!H:H,0)","v":0},{"$error":"#N/A"},{"$error":"#N/A"},{"$error":"#N/A"},{"$error":"#N/A"},{"$error":"#N/A"},0,{"$error":"#N/A"},"","","",null,{"$error":"#N/A"}]
["2021-03-24","08:35:00","2021-03-24T08:35:00",null,{"$f":"_xlfn.XLOOKUP(C1238,Data!C:C,Data!I:I)","v":{"$error":"#N/A"}},{"$error":"#N/A"},{"$f":"_xlfn.XLOOKUP(C1238,Data!C:C,Data!G:G,0)","v":0},{"$f":"_xlfn.XLOOKUP(C1238,Data!C:C,Data!F:F)","v":{"$error":"#N/A"}},{"$f":"_xlfn.XLOOKUP(C1238,Data!C:C,Data!H:H,0)","v":0},{"$error":"#N/A"},{"$error":"#N/A"},{"$error":"#N/A"},{"$error":"#N/A"},{"$error":"#N/A"},0,{"$error":"#N/A"},"","","",null,{"$error":"#N/A"}]
["2021-03-24","08:36:00","2021-03-24T08:36:00",null,{"$f":"_xlfn.XLOOKUP(C1239,Data!C:C,Data!I:I)","v":{"$error":"#N/A"}},{"$error":"#N/A"},{"$f":"_xlfn.XLOOKUP(C1239,Data!C:C,Data!G:G,0)","v":0},{"$f":"_xlfn.XLOOKUP(C1239,Data!C:C,Data!F:F)","v":{"$error":"#N/A"}},{"$f":"_xlfn.XLOOKUP(C1239,Data!C:C,Data!H:H,0)","v":0},{"$error":"#N/A"},{"$error":"#N/A"},{"$error":"#N/A"},{"$error":"#N/A"},{"$error":"#N/A"},0,{"$error":"#N/A"},"","","",null,{"$error":"#N/A"}]
["2021-03-24","08:37:00","2021-03-24T08:37:00",null,{"$f":"_xlfn.XLOOKUP(C1240,Data!C:C,Data!I:I)","v":{"$error":"#N/A"}},{"$error":"#N/A"},{"$f":"_xlfn.XLOOKUP(C1240,Data!C:C,Data!G:G,0)","v":0},{"$f":"_xlfn.XLOOKUP(C1240,Data!C:C,Data!F:F)","v":{"$error":"#N/A"}},{"$f":"_xlfn.XLOOKUP(C1240,Data!C:C,Data!H:H,0)","v":0},{"$error":"#N/A"},{"$error":"#N/A"},{"$error":"#N/A"},{"$error":"#N/A"},{"$error":"#N/A"},0,{"$error":"#N/A"},"","","",null,{"$error":"#N/A"}]
["2021-03-24","08:38:00","2021-03-24T08:38:00",null,{"$f":"_xlfn.XLOOKUP(C1241,Data!C:C,Data!I:I)","v":{"$error":"#N/A"}},{"$error":"#N/A"},{"$f":"_xlfn.XLOOKUP(C1241,Data!C:C,Data!G:G,0)","v":0},{"$f":"_xlfn.XLOOKUP(C1241,Data!C:C,Data!F:F)","v":{"$error":"#N/A"}},{"$f":"_xlfn.XLOOKUP(C1241,Data!C:C,Data!H:H,0)","v":0},{"$error":"#N/A"},{"$error":"#N/A"},{"$error":"#N/A"},{"$error":"#N/A"},{"$error":"#N/A"},0,{"$error":"#N/A"},"","","",null,{"$error":"#N/A"}]
["2021-03-24","08:39:00","2021-03-24T08:39:00",null,{"$f":"_xlfn.XLOOKUP(C1242,Data!C:C,Data!I:I)","v":{"$error":"#N/A"}},{"$error":"#N/A"},{"$f":"_xlfn.XLOOKUP(C1242,Data!C:C,Data!G:G,0)","v":0},{"$f":"_xlfn.XLOOKUP(C1242,Data!C:C,Data!F:F)","v":{"$error":"#N/A"}},{"$f":"_xlfn.XLOOKUP(C1242,Data!C:C,Data!H:H,0)","v":0},{"$error":"#N/A"},{"$error":"#N/A"},{"$error":"#N/A"},{"$error":"#N/A"},{"$error":"#N/A"},0,{"$error":"#N/A"},"","","",null,{"$error":"#N/A"}]
["2021-03-24","08:40:00","2021-03-24T08:40:00",null,{"$f":"_xlfn.XLOOKUP(C1243,Data!C:C,Data!I:I)","v":{"$error":"#N/A"}},{"$error":"#N/A"},{"$f":"_xlfn.XLOOKUP(C1243,Data!C:C,Data!G:G,0)","v":0},{"$f":"_xlfn.XLOOKUP(C1243,Data!C:C,Data!F:F)","v":{"$error":"#N/A"}},{"$f":"_xlfn.XLOOKUP(C1243,Data!C:C,Data!H:H,0)","v":0},{"$error":"#N/A"},{"$error":"#N/A"},{"$error":"#N/A"},{"$error":"#N/A"},{"$error":"#N/A"},0,{"$error":"#N/A"},"","","",null,{"$error":"#N/A"}]
["2021-03-24","08:41:00","2021-03-24T08:41:00",null,{"$f":"_xlfn.XLOOKUP(C1244,Data!C:C,Data!I:I)","v":{"$error":"#N/A"}},{"$error":"#N/A"},{"$f":"_xlfn.XLOOKUP(C1244,Data!C:C,Data!G:G,0)","v":0},{"$f":"_xlfn.XLOOKUP(C1244,Data!C:C,Data!F:F)","v":{"$error":"#N/A"}},{"$f":"_xlfn.XLOOKUP(C1244,Data!C:C,Data!H:H,0)","v":0},{"$error":"#N/A"},{"$error":"#N/A"},{"$error":"#N/A"},{"$error":"#N/A"},{"$error":"#N/A"},0,{"$error":"#N/A"},"","","",null,{"$error":"#N/A"}]
["2021-03-24","08:42:00","2021-03-24T08:42:00",null,{"$f":"_xlfn.XLOOKUP(C1245,Data!C:C,Data!I:I)","v":{"$error":"#N/A"}},{"$error":"#N/A"},{"$f":"_xlfn.XLOOKUP(C1245,Data!C:C,Data!G:G,0)","v":0},{"$f":"_xlfn.XLOOKUP(C1245,Data!C:C,Data!F:F)","v":{"$error":"#N/A"}},{"$f":"_xlfn.XLOOKUP(C1245,Data!C:C,Data!H:H,0)","v":0},{"$error":"#N/A"},{"$error":"#N/A"},{"$error":"#N/A"},{"$error":"#N/A"},{"$error":"#N/A"},0,{"$error":"#N/A"},"","","",null,{"$error":"#N/A"}]
["2021-03-24","08:43:00","2021-03-24T08:43:00",null,{"$f":"_xlfn.XLOOKUP(C1246,Data!C:C,Data!I:I)","v":{"$error":"#N/A"}},{"$error":"#N/A"},{"$f":"_xlfn.XLOOKUP(C1246,Data!C:C,Data!G:G,0)","v":0},{"$f":"_xlfn.XLOOKUP(C1246,Data!C:C,Data!F:F)","v":{"$error":"#N/A"}},{"$f":"_xlfn.XLOOKUP(C1246,Data!C:C,Data!H:H,0)","v":0},{"$error":"#N/A"},{"$error":"#N/A"},{"$error":"#N/A"},{"$error":"#N/A"},{"$error":"#N/A"},0,{"$error":"#N/A"},"","","",null,{"$error":"#N/A"}]
["2021-03-24","08:44:00","2021-03-24T08:44:00",null,{"$f":"_xlfn.XLOOKUP(C1247,Data!C:C,Data!I:I)","v":{"$error":"#N/A"}},{"$error":"#N/A"},{"$f":"_xlfn.XLOOKUP(C1247,Data!C:C,Data!G:G,0)","v":0},{"$f":"_xlfn.XLOOKUP(C1247,Data!C:C,Data!F:F)","v":{"$error":"#N/A"}},{"$f":"_xlfn.XLOOKUP(C1247,Data!C:C,Data!H:H,0)","v":0},{"$error":"#N/A"},{"$error":"#N/A"},{"$error":"#N/A"},{"$error":"#N/A"},{"$error":"#N/A"},0,{"$error":"#N/A"},"","","",null,{"$error":"#N/A"}]
["2021-03-24","08:45:00","2021-03-24T08:45:00",null,{"$f":"_xlfn.XLOOKUP(C1248,Data!C:C,Data!I:I)","v":{"$error":"#N/A"}},{"$error":"#N/A"},{"$f":"_xlfn.XLOOKUP(C1248,Data!C:C,Data!G:G,0)","v":0},{"$f":"_xlfn.XLOOKUP(C1248,Data!C:C,Data!F:F)","v":{"$error":"#N/A"}},{"$f":"_xlfn.XLOOKUP(C1248,Data!C:C,Data!H:H,0)","v":0},{"$error":"#N/A"},{"$error":"#N/A"},{"$error":"#N/A"},{"$error":"#N/A"},{"$error":"#N/A"},0,{"$error":"#N/A"},"","","",null,{"$error":"#N/A"}]
["2021-03-24","08:46:00","2021-03-24T08:46:00",null,{"$f":"_xlfn.XLOOKUP(C1249,Data!C:C,Data!I:I)","v":{"$error":"#N/A"}},{"$error":"#N/A"},{"$f":"_xlfn.XLOOKUP(C1249,Data!C:C,Data!G:G,0)","v":0},{"$f":"_xlfn.XLOOKUP(C1249,Data!C:C,Data!F:F)","v":{"$error":"#N/A"}},{"$f":"_xlfn.XLOOKUP(C1249,Data!C:C,Data!H:H,0)","v":0},{"$error":"#N/A"},{"$error":"#N/A"},{"$error":"#N/A"},{"$error":"#N/A"},{"$error":"#N/A"},0,{"$error":"#N/A"},"","","",null,{"$error":"#N/A"}]
["2021-03-24","08:47:00","2021-03-24T08:47:00",null,{"$f":"_xlfn.XLOOKUP(C1250,Data!C:C,Data!I:I)","v":{"$error":"#N/A"}},{"$error":"#N/A"},{"$f":"_xlfn.XLOOKUP(C1250,Data!C:C,Data!G:G,0)","v":0},{"$f":"_xlfn.XLOOKUP(C1250,Data!C:C,Data!F:F)","v":{"$error":"#N/A"}},{"$f":"_xlfn.XLOOKUP(C1250,Data!C:C,Data!H:H,0)","v":0},{"$error":"#N/A"},{"$error":"#N/A"},{"$error":"#N/A"},{"$error":"#N/A"},{"$error":"#N/A"},0,{"$error":"#N/A"},"","","",null,{"$error":"#N/A"}]
["2021-03-24","08:48:00","2021-03-24T08:48:00",null,{"$f":"_xlfn.XLOOKUP(C1251,Data!C:C,Data!I:I)","v":{"$error":"#N/A"}},{"$error":"#N/A"},{"$f":"_xlfn.XLOOKUP(C1251,Data!C:C,Data!G:G,0)","v":0},{"$f":"_xlfn.XLOOKUP(C1251,Data!C:C,Data!F:F)","v":{"$error":"#N/A"}},{"$f":"_xlfn.XLOOKUP(C1251,Data!C:C,Data!H:H,0)","v":0},{"$error":"#N/A"},{"$error":"#N/A"},{"$error":"#N/A"},{"$error":"#N/A"},{"$error":"#N/A"},0,{"$error":"#N/A"},"","","",null,{"$error":"#N/A"}]
["2021-03-24","08:49:00","2021-03-24T08:49:00",null,{"$f":"_xlfn.XLOOKUP(C1252,Data!C:C,Data!I:I)","v":{"$error":"#N/A"}},{"$error":"#N/A"},{"$f":"_xlfn.XLOOKUP(C1252,Data!C:C,Data!G:G,0)","v":0},{"$f":"_xlfn.XLOOKUP(C1252,Data!C:C,Data!F:F)","v":{"$error":"#N/A"}},{"$f":"_xlfn.XLOOKUP(C1252,Data!C:C,Data!H:H,0)","v":0},{"$error":"#N/A"},{"$error":"#N/A"},{"$error":"#N/A"},{"$error":"#N/A"},{"$error":"#N/A"},0,{"$error":"#N/A"},"","","",null,{"$error":"#N/A"}]
["2021-03-24","08:50:00","2021-03-24T08:50:00",null,{"$f":"_xlfn.XLOOKUP(C1253,Data!C:C,Data!I:I)","v":{"$error":"#N/A"}},{"$error":"#N/A"},{"$f":"_xlfn.XLOOKUP(C1253,Data!C:C,Data!G:G,0)","v":0},{"$f":"_xlfn.XLOOKUP(C1253,Data!C:C,Data!F:F)","v":{"$error":"#N/A"}},{"$f":"_xlfn.XLOOKUP(C1253,Data!C:C,Data!H:H,0)","v":0},{"$error":"#N/A"},{"$error":"#N/A"},{"$error":"#N/A"},{"$error":"#N/A"},{"$error":"#N/A"},0,{"$error":"#N/A"},"","","",null,{"$error":"#N/A"}]
["2021-03-24","08:51:00","2021-03-24T08:51:00",null,{"$f":"_xlfn.XLOOKUP(C1254,Data!C:C,Data!I:I)","v":{"$error":"#N/A"}},{"$error":"#N/A"},{"$f":"_xlfn.XLOOKUP(C1254,Data!C:C,Data!G:G,0)","v":0},{"$f":"_xlfn.XLOOKUP(C1254,Data!C:C,Data!F:F)","v":{"$error":"#N/A"}},{"$f":"_xlfn.XLOOKUP(C1254,Data!C:C,Data!H:H,0)","v":0},{"$error":"#N/A"},{"$error":"#N/A"},{"$error":"#N/A"},{"$error":"#N/A"},{"$error":"#N/A"},0,{"$error":"#N/A"},"","","",null,{"$error":"#N/A"}]
["2021-03-24","08:52:00","2021-03-24T08:52:00",null,{"$f":"_xlfn.XLOOKUP(C1255,Data!C:C,Data!I:I)","v":{"$error":"#N/A"}},{"$error":"#N/A"},{"$f":"_xlfn.XLOOKUP(C1255,Data!C:C,Data!G:G,0)","v":0},{"$f":"_xlfn.XLOOKUP(C1255,Data!C:C,Data!F:F)","v":{"$error":"#N/A"}},{"$f":"_xlfn.XLOOKUP(C1255,Data!C:C,Data!H:H,0)","v":0},{"$error":"#N/A"},{"$error":"#N/A"},{"$error":"#N/A"},{"$error":"#N/A"},{"$error":"#N/A"},0,{"$error":"#N/A"},"","","",null,{"$error":"#N/A"}]
["2021-03-24","08:53:00","2021-03-24T08:53:00",null,{"$f":"_xlfn.XLOOKUP(C1256,Data!C:C,Data!I:I)","v":{"$error":"#N/A"}},{"$error":"#N/A"},{"$f":"_xlfn.XLOOKUP(C1256,Data!C:C,Data!G:G,0)","v":0},{"$f":"_xlfn.XLOOKUP(C1256,Data!C:C,Data!F:F)","v":{"$error":"#N/A"}},{"$f":"_xlfn.XLOOKUP(C1256,Data!C:C,Data!H:H,0)","v":0},{"$error":"#N/A"},{"$error":"#N/A"},{"$error":"#N/A"},{"$error":"#N/A"},{"$error":"#N/A"},0,{"$error":"#N/A"},"","","",null,{"$error":"#N/A"}]
["2021-03-24","08:54:00","2021-03-24T08:54:00",null,{"$f":"_xlfn.XLOOKUP(C1257,Data!C:C,Data!I:I)","v":{"$error":"#N/A"}},{"$error":"#N/A"},{"$f":"_xlfn.XLOOKUP(C1257,Data!C:C,Data!G:G,0)","v":0},{"$f":"_xlfn.XLOOKUP(C1257,Data!C:C,Data!F:F)","v":{"$error":"#N/A"}},{"$f":"_xlfn.XLOOKUP(C1257,Data!C:C,Data!H:H,0)","v":0},{"$error":"#N/A"},{"$error":"#N/A"},{"$error":"#N/A"},{"$error":"#N/A"},{"$error":"#N/A"},0,{"$error":"#N/A"},"","","",null,{"$error":"#N/A"}]
["2021-03-24","08:55:00","2021-03-24T08:55:00",null,{"$f":"_xlfn.XLOOKUP(C1258,Data!C:C,Data!I:I)","v":{"$error":"#N/A"}},{"$error":"#N/A"},{"$f":"_xlfn.XLOOKUP(C1258,Data!C:C,Data!G:G,0)","v":0},{"$f":"_xlfn.XLOOKUP(C1258,Data!C:C,Data!F:F)","v":{"$error":"#N/A"}},{"$f":"_xlfn.XLOOKUP(C1258,Data!C:C,Data!H:H,0)","v":0},{"$error":"#N/A"},{"$error":"#N/A"},{"$error":"#N/A"},{"$error":"#N/A"},{"$error":"#N/A"},0,{"$error":"#N/A"},"","","",null,{"$error":"#N/A"}]
["2021-03-24","08:56:00","2021-03-24T08:56:00",null,{"$f":"_xlfn.XLOOKUP(C1259,Data!C:C,Data!I:I)","v":{"$error":"#N/A"}},{"$error":"#N/A"},{"$f":"_xlfn.XLOOKUP(C1259,Data!C:C,Data!G:G,0)","v":0},{"$f":"_xlfn.XLOOKUP(C1259,Data!C:C,Data!F:F)","v":{"$error":"#N/A"}},{"$f":"_xlfn.XLOOKUP(C1259,Data!C:C,Data!H:H,0)","v":0},{"$error":"#N/A"},{"$error":"#N/A"},{"$error":"#N/A"},{"$error":"#N/A"},{"$error":"#N/A"},0,{"$error":"#N/A"},"","","",null,{"$error":"#N/A"}]
["2021-03-24","08:57:00","2021-03-24T08:57:00",null,{"$f":"_xlfn.XLOOKUP(C1260,Data!C:C,Data!I:I)","v":{"$error":"#N/A"}},{"$error":"#N/A"},{"$f":"_xlfn.XLOOKUP(C1260,Data!C:C,Data!G:G,0)","v":0},{"$f":"_xlfn.XLOOKUP(C1260,Data!C:C,Data!F:F)","v":{"$error":"#N/A"}},{"$f":"_xlfn.XLOOKUP(C1260,Data!C:C,Data!H:H,0)","v":0},{"$error":"#N/A"},{"$error":"#N/A"},{"$error":"#N/A"},{"$error":"#N/A"},{"$error":"#N/A"},0,{"$error":"#N/A"},"","","",null,{"$error":"#N/A"}]
["2021-03-24","08:58:00","2021-03-24T08:58:00",null,{"$f":"_xlfn.XLOOKUP(C1261,Data!C:C,Data!I:I)","v":{"$error":"#N/A"}},{"$error":"#N/A"},{"$f":"_xlfn.XLOOKUP(C1261,Data!C:C,Data!G:G,0)","v":0},{"$f":"_xlfn.XLOOKUP(C1261,Data!C:C,Data!F:F)","v":{"$error":"#N/A"}},{"$f":"_xlfn.XLOOKUP(C1261,Data!C:C,Data!H:H,0)","v":0},{"$error":"#N/A"},{"$error":"#N/A"},{"$error":"#N/A"},{"$error":"#N/A"},{"$error":"#N/A"},0,{"$error":"#N/A"},"","","",null,{"$error":"#N/A"}]
["2021-03-24","08:59:00","2021-03-24T08:59:00",null,{"$f":"_xlfn.XLOOKUP(C1262,Data!C:C,Data!I:I)","v":{"$error":"#N/A"}},{"$error":"#N/A"},{"$f":"_xlfn.XLOOKUP(C1262,Data!C:C,Data!G:G,0)","v":0},{"$f":"_xlfn.XLOOKUP(C1262,Data!C:C,Data!F:F)","v":{"$error":"#N/A"}},{"$f":"_xlfn.XLOOKUP(C1262,Data!C:C,Data!H:H,0)","v":0},{"$error":"#N/A"},{"$error":"#N/A"},{"$error":"#N/A"},{"$error":"#N/A"},{"$error":"#N/A"},0,{"$error":"#N/A"},"","","",null,{"$error":"#N/A"}]
["2021-03-24","09:00:00","2021-03-24T09:00:00",null,{"$f":"_xlfn.XLOOKUP(C1263,Data!C:C,Data!I:I)","v":{"$error":"#N/A"}},{"$error":"#N/A"},{"$f":"_xlfn.XLOOKUP(C1263,Data!C:C,Data!G:G,0)","v":0},{"$f":"_xlfn.XLOOKUP(C1263,Data!C:C,Data!F:F)","v":{"$error":"#N/A"}},{"$f":"_xlfn.XLOOKUP(C1263,Data!C:C,Data!H:H,0)","v":0},{"$error":"#N/A"},{"$error":"#N/A"},{"$error":"#N/A"},{"$error":"#N/A"},{"$error":"#N/A"},0,{"$error":"#N/A"},"","","",null,{"$error":"#N/A"}]
["2021-03-24","09:01:00","2021-03-24T09:01:00",null,{"$f":"_xlfn.XLOOKUP(C1264,Data!C:C,Data!I:I)","v":{"$error":"#N/A"}},{"$error":"#N/A"},{"$f":"_xlfn.XLOOKUP(C1264,Data!C:C,Data!G:G,0)","v":0},{"$f":"_xlfn.XLOOKUP(C1264,Data!C:C,Data!F:F)","v":{"$error":"#N/A"}},{"$f":"_xlfn.XLOOKUP(C1264,Data!C:C,Data!H:H,0)","v":0},{"$error":"#N/A"},{"$error":"#N/A"},{"$error":"#N/A"},{"$error":"#N/A"},{"$error":"#N/A"},0,{"$error":"#N/A"},"","","",null,{"$error":"#N/A"}]
["2021-03-24","09:02:00","2021-03-24T09:02:00",null,{"$f":"_xlfn.XLOOKUP(C1265,Data!C:C,Data!I:I)","v":{"$error":"#N/A"}},{"$error":"#N/A"},{"$f":"_xlfn.XLOOKUP(C1265,Data!C:C,Data!G:G,0)","v":0},{"$f":"_xlfn.XLOOKUP(C1265,Data!C:C,Data!F:F)","v":{"$error":"#N/A"}},{"$f":"_xlfn.XLOOKUP(C1265,Data!C:C,Data!H:H,0)","v":0},{"$error":"#N/A"},{"$error":"#N/A"},{"$error":"#N/A"},{"$error":"#N/A"},{"$error":"#N/A"},0,{"$error":"#N/A"},"","","",null,{"$error":"#N/A"}]
["2021-03-24","09:03:00","2021-03-24T09:03:00",null,{"$f":"_xlfn.XLOOKUP(C1266,Data!C:C,Data!I:I)","v":{"$error":"#N/A"}},{"$error":"#N/A"},{"$f":"_xlfn.XLOOKUP(C1266,Data!C:C,Data!G:G,0)","v":0},{"$f":"_xlfn.XLOOKUP(C1266,Data!C:C,Data!F:F)","v":{"$error":"#N/A"}},{"$f":"_xlfn.XLOOKUP(C1266,Data!C:C,Data!H:H,0)","v":0},{"$error":"#N/A"},{"$error":"#N/A"},{"$error":"#N/A"},{"$error":"#N/A"},{"$error":"#N/A"},0,{"$error":"#N/A"},"","","",null,{"$error":"#N/A"}]
["2021-03-24","09:04:00","2021-03-24T09:04:00",null,{"$f":"_xlfn.XLOOKUP(C1267,Data!C:C,Data!I:I)","v":{"$error":"#N/A"}},{"$error":"#N/A"},{"$f":"_xlfn.XLOOKUP(C1267,Data!C:C,Data!G:G,0)","v":0},{"$f":"_xlfn.XLOOKUP(C1267,Data!C:C,Data!F:F)","v":{"$error":"#N/A"}},{"$f":"_xlfn.XLOOKUP(C1267,Data!C:C,Data!H:H,0)","v":0},{"$error":"#N/A"},{"$error":"#N/A"},{"$error":"#N/A"},{"$error":"#N/A"},{"$error":"#N/A"},0,{"$error":"#N/A"},"","","",null,{"$error":"#N/A"}]
["2021-03-24","09:05:00","2021-03-24T09:05:00",null,{"$f":"_xlfn.XLOOKUP(C1268,Data!C:C,Data!I:I)","v":{"$error":"#N/A"}},{"$error":"#N/A"},{"$f":"_xlfn.XLOOKUP(C1268,Data!C:C,Data!G:G,0)","v":0},{"$f":"_xlfn.XLOOKUP(C1268,Data!C:C,Data!F:F)","v":{"$error":"#N/A"}},{"$f":"_xlfn.XLOOKUP(C1268,Data!C:C,Data!H:H,0)","v":0},{"$error":"#N/A"},{"$error":"#N/A"},{"$error":"#N/A"},{"$error":"#N/A"},{"$error":"#N/A"},0,{"$error":"#N/A"},"","","",null,{"$error":"#N/A"}]
["2021-03-24","09:06:00","2021-03-24T09:06:00",null,{"$f":"_xlfn.XLOOKUP(C1269,Data!C:C,Data!I:I)","v":{"$error":"#N/A"}},{"$error":"#N/A"},{"$f":"_xlfn.XLOOKUP(C1269,Data!C:C,Data!G:G,0)","v":0},{"$f":"_xlfn.XLOOKUP(C1269,Data!C:C,Data!F:F)","v":{"$error":"#N/A"}},{"$f":"_xlfn.XLOOKUP(C1269,Data!C:C,Data!H:H,0)","v":0},{"$error":"#N/A"},{"$error":"#N/A"},{"$error":"#N/A"},{"$error":"#N/A"},{"$error":"#N/A"},0,{"$error":"#N/A"},"","","",null,{"$error":"#N/A"}]
["2021-03-24","09:07:00","2021-03-24T09:07:00",null,{"$f":"_xlfn.XLOOKUP(C1270,Data!C:C,Data!I:I)","v":{"$error":"#N/A"}},{"$error":"#N/A"},{"$f":"_xlfn.XLOOKUP(C1270,Data!C:C,Data!G:G,0)","v":0},{"$f":"_xlfn.XLOOKUP(C1270,Data!C:C,Data!F:F)","v":{"$error":"#N/A"}},{"$f":"_xlfn.XLOOKUP(C1270,Data!C:C,Data!H:H,0)","v":0},{"$error":"#N/A"},{"$error":"#N/A"},{"$error":"#N/A"},{"$error":"#N/A"},{"$error":"#N/A"},0,{"$error":"#N/A"},"","","",null,{"$error":"#N/A"}]
["2021-03-24","09:08:00","2021-03-24T09:08:00",null,{"$f":"_xlfn.XLOOKUP(C1271,Data!C:C,Data!I:I)","v":{"$error":"#N/A"}},{"$error":"#N/A"},{"$f":"_xlfn.XLOOKUP(C1271,Data!C:C,Data!G:G,0)","v":0},{"$f":"_xlfn.XLOOKUP(C1271,Data!C:C,Data!F:F)","v":{"$error":"#N/A"}},{"$f":"_xlfn.XLOOKUP(C1271,Data!C:C,Data!H:H,0)","v":0},{"$error":"#N/A"},{"$error":"#N/A"},{"$error":"#N/A"},{"$error":"#N/A"},{"$error":"#N/A"},0,{"$error":"#N/A"},"","","",null,{"$error":"#N/A"}]
["2021-03-24","09:09:00","2021-03-24T09:09:00",null,{"$f":"_xlfn.XLOOKUP(C1272,Data!C:C,Data!I:I)","v":{"$error":"#N/A"}},{"$error":"#N/A"},{"$f":"_xlfn.XLOOKUP(C1272,Data!C:C,Data!G:G,0)","v":0},{"$f":"_xlfn.XLOOKUP(C1272,Data!C:C,Data!F:F)","v":{"$error":"#N/A"}},{"$f":"_xlfn.XLOOKUP(C1272,Data!C:C,Data!H:H,0)","v":0},{"$error":"#N/A"},{"$error":"#N/A"},{"$error":"#N/A"},{"$error":"#N/A"},{"$error":"#N/A"},0,{"$error":"#N/A"},"","","",null,{"$error":"#N/A"}]
["2021-03-24","09:10:00","2021-03-24T09:10:00",null,{"$f":"_xlfn.XLOOKUP(C1273,Data!C:C,Data!I:I)","v":{"$error":"#N/A"}},{"$error":"#N/A"},{"$f":"_xlfn.XLOOKUP(C1273,Data!C:C,Data!G:G,0)","v":0},{"$f":"_xlfn.XLOOKUP(C1273,Data!C:C,Data!F:F)","v":{"$error":"#N/A"}},{"$f":"_xlfn.XLOOKUP(C1273,Data!C:C,Data!H:H,0)","v":0},{"$error":"#N/A"},{"$error":"#N/A"},{"$error":"#N/A"},{"$error":"#N/A"},{"$error":"#N/A"},0,{"$error":"#N/A"},"","","",null,{"$error":"#N/A"}]
["2021-03-24","09:11:00","2021-03-24T09:11:00",null,{"$f":"_xlfn.XLOOKUP(C1274,Data!C:C,Data!I:I)","v":{"$error":"#N/A"}},{"$error":"#N/A"},{"$f":"_xlfn.XLOOKUP(C1274,Data!C:C,Data!G:G,0)","v":0},{"$f":"_xlfn.XLOOKUP(C1274,Data!C:C,Data!F:F)","v":{"$error":"#N/A"}},{"$f":"_xlfn.XLOOKUP(C1274,Data!C:C,Data!H:H,0)","v":0},{"$error":"#N/A"},{"$error":"#N/A"},{"$error":"#N/A"},{"$error":"#N/A"},{"$error":"#N/A"},0,{"$error":"#N/A"},"","","",null,{"$error":"#N/A"}]
["2021-03-24","09:12:00","2021-03-24T09:12:00",null,{"$f":"_xlfn.XLOOKUP(C1275,Data!C:C,Data!I:I)","v":{"$error":"#N/A"}},{"$error":"#N/A"},{"$f":"_xlfn.XLOOKUP(C1275,Data!C:C,Data!G:G,0)","v":0},{"$f":"_xlfn.XLOOKUP(C1275,Data!C:C,Data!F:F)","v":{"$error":"#N/A"}},{"$f":"_xlfn.XLOOKUP(C1275,Data!C:C,Data!H:H,0)","v":0},{"$error":"#N/A"},{"$error":"#N/A"},{"$error":"#N/A"},{"$error":"#N/A"},{"$error":"#N/A"},0,{"$error":"#N/A"},"","","",null,{"$error":"#N/A"}]
["2021-03-24","09:13:00","2021-03-24T09:13:00",null,{"$f":"_xlfn.XLOOKUP(C1276,Data!C:C,Data!I:I)","v":{"$error":"#N/A"}},{"$error":"#N/A"},{"$f":"_xlfn.XLOOKUP(C1276,Data!C:C,Data!G:G,0)","v":0},{"$f":"_xlfn.XLOOKUP(C1276,Data!C:C,Data!F:F)","v":{"$error":"#N/A"}},{"$f":"_xlfn.XLOOKUP(C1276,Data!C:C,Data!H:H,0)","v":0},{"$error":"#N/A"},{"$error":"#N/A"},{"$error":"#N/A"},{"$error":"#N/A"},{"$error":"#N/A"},0,{"$error":"#N/A"},"","","",null,{"$error":"#N/A"}]
["2021-03-24","09:14:00","2021-03-24T09:14:00",null,{"$f":"_xlfn.XLOOKUP(C1277,Data!C:C,Data!I:I)","v":{"$error":"#N/A"}},{"$error":"#N/A"},{"$f":"_xlfn.XLOOKUP(C1277,Data!C:C,Data!G:G,0)","v":0},{"$f":"_xlfn.XLOOKUP(C1277,Data!C:C,Data!F:F)","v":{"$error":"#N/A"}},{"$f":"_xlfn.XLOOKUP(C1277,Data!C:C,Data!H:H,0)","v":0},{"$error":"#N/A"},{"$error":"#N/A"},{"$error":"#N/A"},{"$error":"#N/A"},{"$error":"#N/A"},0,{"$error":"#N/A"},"","","",null,{"$error":"#N/A"}]
["2021-03-24","09:15:00","2021-03-24T09:15:00",null,{"$f":"_xlfn.XLOOKUP(C1278,Data!C:C,Data!I:I)","v":{"$error":"#N/A"}},{"$error":"#N/A"},{"$f":"_xlfn.XLOOKUP(C1278,Data!C:C,Data!G:G,0)","v":0},{"$f":"_xlfn.XLOOKUP(C1278,Data!C:C,Data!F:F)","v":{"$error":"#N/A"}},{"$f":"_xlfn.XLOOKUP(C1278,Data!C:C,Data!H:H,0)","v":0},{"$error":"#N/A"},{"$error":"#N/A"},{"$error":"#N/A"},{"$error":"#N/A"},{"$error":"#N/A"},0,{"$error":"#N/A"},"","","",null,{"$error":"#N/A"}]
["2021-03-24","09:16:00","2021-03-24T09:16:00",null,{"$f":"_xlfn.XLOOKUP(C1279,Data!C:C,Data!I:I)","v":{"$error":"#N/A"}},{"$error":"#N/A"},{"$f":"_xlfn.XLOOKUP(C1279,Data!C:C,Data!G:G,0)","v":0},{"$f":"_xlfn.XLOOKUP(C1279,Data!C:C,Data!F:F)","v":{"$error":"#N/A"}},{"$f":"_xlfn.XLOOKUP(C1279,Data!C:C,Data!H:H,0)","v":0},{"$error":"#N/A"},{"$error":"#N/A"},{"$error":"#N/A"},{"$error":"#N/A"},{"$error":"#N/A"},0,{"$error":"#N/A"},"","","",null,{"$error":"#N/A"}]
["2021-03-24","09:17:00","2021-03-24T09:17:00",null,{"$f":"_xlfn.XLOOKUP(C1280,Data!C:C,Data!I:I)","v":{"$error":"#N/A"}},{"$error":"#N/A"},{"$f":"_xlfn.XLOOKUP(C1280,Data!C:C,Data!G:G,0)","v":0},{"$f":"_xlfn.XLOOKUP(C1280,Data!C:C,Data!F:F)","v":{"$error":"#N/A"}},{"$f":"_xlfn.XLOOKUP(C1280,Data!C:C,Data!H:H,0)","v":0},{"$f":"IF(AND(MAX(E1278:E1279)=255,MAX(E1280:E1281)=255,  E1279+E1280+E1281<3*255, OR(I1280=123,I1280=124,I1280=106,I1280=108)),   I1280,   IF(AND(MAX(E1278:E1279)=255,MAX(E1280:E1281)=255,  E1279+E1280+E1281<3*255, OR(I1280>=80,I1280<100)),106,108))","v":{"$error":"#N/A"}},{"$error":"#N/A"},{"$error":"#N/A"},{"$error":"#N/A"},{"$error":"#N/A"},0,{"$error":"#N/A"},"","","",null,{"$error":"#N/A"}]
["2021-03-24","09:18:00","2021-03-24T09:18:00",null,{"$f":"_xlfn.XLOOKUP(C1281,Data!C:C,Data!I:I)","v":{"$error":"#N/A"}},{"$error":"#N/A"},{"$f":"_xlfn.XLOOKUP(C1281,Data!C:C,Data!G:G,0)","v":0},{"$f":"_xlfn.XLOOKUP(C1281,Data!C:C,Data!F:F)","v":{"$error":"#N/A"}},{"$f":"_xlfn.XLOOKUP(C1281,Data!C:C,Data!H:H,0)","v":0},{"$error":"#N/A"},{"$error":"#N/A"},{"$error":"#N/A"},{"$error":"#N/A"},{"$error":"#N/A"},0,{"$error":"#N/A"},"","","",null,{"$error":"#N/A"}]
["2021-03-24","09:19:00","2021-03-24T09:19:00",null,{"$f":"_xlfn.XLOOKUP(C1282,Data!C:C,Data!I:I)","v":{"$error":"#N/A"}},{"$error":"#N/A"},{"$f":"_xlfn.XLOOKUP(C1282,Data!C:C,Data!G:G,0)","v":0},{"$f":"_xlfn.XLOOKUP(C1282,Data!C:C,Data!F:F)","v":{"$error":"#N/A"}},{"$f":"_xlfn.XLOOKUP(C1282,Data!C:C,Data!H:H,0)","v":0},{"$error":"#N/A"},{"$error":"#N/A"},{"$error":"#N/A"},{"$error":"#N/A"},{"$error":"#N/A"},0,{"$error":"#N/A"},"","","",null,{"$error":"#N/A"}]
["2021-03-24","09:20:00",{"$f":"A1283+B1283","v":"2021-03-24T09:20:00"},null,{"$f":"_xlfn.XLOOKUP(C1283,Data!C:C,Data!I:I)","v":{"$error":"#N/A"}},{"$error":"#N/A"},{"$f":"_xlfn.XLOOKUP(C1283,Data!C:C,Data!G:G,0)","v":0},{"$f":"_xlfn.XLOOKUP(C1283,Data!C:C,Data!F:F)","v":{"$error":"#N/A"}},{"$f":"_xlfn.XLOOKUP(C1283,Data!C:C,Data!H:H,0)","v":0},{"$error":"#N/A"},{"$f":"IF(AND(I1283<100,  I1283>=80,  OR(J1283=105, J1283=106,  J1283=123)),  5,  0)","v":{"$error":"#N/A"}},{"$error":"#N/A"},{"$error":"#N/A"},{"$error":"#N/A"},{"$f":"IFERROR(F1283,0)","v":0},{"$error":"#N/A"},"","","",null,{"$error":"#N/A"}]
["2021-03-24","09:21:00","2021-03-24T09:21:00",null,{"$f":"_xlfn.XLOOKUP(C1284,Data!C:C,Data!I:I)","v":{"$error":"#N/A"}},{"$error":"#N/A"},{"$f":"_xlfn.XLOOKUP(C1284,Data!C:C,Data!G:G,0)","v":0},{"$f":"_xlfn.XLOOKUP(C1284,Data!C:C,Data!F:F)","v":{"$error":"#N/A"}},{"$f":"_xlfn.XLOOKUP(C1284,Data!C:C,Data!H:H,0)","v":0},{"$error":"#N/A"},{"$error":"#N/A"},{"$f":"IF(AND(I1284<130,  I1284>104,  OR(J1284=105, J1284=106,  J1284=123),  S1284>$S$1450+$S$1443),  20,  0)","v":{"$error":"#N/A"}},{"$f":"IF(AND(I1284<130,  I1284>104,  OR(J1284=105, J1284=106,  J1284=123),  R1284>$Q$1449,  S1284<=$S$1450+$S$1443),  20,  0)","v":{"$error":"#N/A"}},{"$f":"IF(AND(I1284<130,  I1284>104,  OR(J1284=105, J1284=106,  J1284=123),  R1284<=$Q$1449,  S1284<=$S$1450+$S$1443),  20,  0)","v":{"$error":"#N/A"}},0,{"$f":"IF(Q1284=\"\",F1284,IF(Q1284=0,P1283,Q1284))","v":{"$error":"#N/A"}},{"$f":"IF(I1284>109,IF(O1284*$Q$1451>(O1283+O1285)/2,MIN(O1283:O1285),O1284),\"\")","v":""},"","",null,{"$error":"#N/A"}]
["2021-03-24","09:22:00","2021-03-24T09:22:00",null,{"$f":"_xlfn.XLOOKUP(C1285,Data!C:C,Data!I:I)","v":{"$error":"#N/A"}},{"$f":"IF(E1285=255,IF(MIN(E1284:E1286)=255,#N/A,MIN(E1284:E1286)),E1285)","v":{"$error":"#N/A"}},{"$f":"_xlfn.XLOOKUP(C1285,Data!C:C,Data!G:G,0)","v":0},{"$f":"_xlfn.XLOOKUP(C1285,Data!C:C,Data!F:F)","v":{"$error":"#N/A"}},{"$f":"_xlfn.XLOOKUP(C1285,Data!C:C,Data!H:H,0)","v":0},{"$error":"#N/A"},{"$error":"#N/A"},{"$error":"#N/A"},{"$error":"#N/A"},{"$error":"#N/A"},0,{"$error":"#N/A"},"","","",null,{"$error":"#N/A"}]
["2021-03-24","09:23:00","2021-03-24T09:23:00",null,{"$f":"_xlfn.XLOOKUP(C1286,Data!C:C,Data!I:I)","v":{"$error":"#N/A"}},{"$error":"#N/A"},{"$f":"_xlfn.XLOOKUP(C1286,Data!C:C,Data!G:G,0)","v":0},{"$f":"_xlfn.XLOOKUP(C1286,Data!C:C,Data!F:F)","v":{"$error":"#N/A"}},{"$f":"_xlfn.XLOOKUP(C1286,Data!C:C,Data!H:H,0)","v":0},{"$error":"#N/A"},{"$error":"#N/A"},{"$error":"#N/A"},{"$error":"#N/A"},{"$error":"#N/A"},0,{"$error":"#N/A"},"","","",null,{"$error":"#N/A"}]
["2021-03-24","09:24:00","2021-03-24T09:24:00",null,{"$f":"_xlfn.XLOOKUP(C1287,Data!C:C,Data!I:I)","v":{"$error":"#N/A"}},{"$error":"#N/A"},{"$f":"_xlfn.XLOOKUP(C1287,Data!C:C,Data!G:G,0)","v":0},{"$f":"_xlfn.XLOOKUP(C1287,Data!C:C,Data!F:F)","v":{"$error":"#N/A"}},{"$f":"_xlfn.XLOOKUP(C1287,Data!C:C,Data!H:H,0)","v":0},{"$error":"#N/A"},{"$error":"#N/A"},{"$error":"#N/A"},{"$error":"#N/A"},{"$error":"#N/A"},0,{"$error":"#N/A"},"","","",null,{"$f":"IF(F1287=\"\",\"\",AVERAGE(F1283:F1291))","v":{"$error":"#N/A"}}]
["2021-03-24","09:25:00","2021-03-24T09:25:00",null,{"$f":"_xlfn.XLOOKUP(C1288,Data!C:C,Data!I:I)","v":{"$error":"#N/A"}},{"$error":"#N/A"},{"$f":"_xlfn.XLOOKUP(C1288,Data!C:C,Data!G:G,0)","v":0},{"$f":"_xlfn.XLOOKUP(C1288,Data!C:C,Data!F:F)","v":{"$error":"#N/A"}},{"$f":"_xlfn.XLOOKUP(C1288,Data!C:C,Data!H:H,0)","v":0},{"$error":"#N/A"},{"$error":"#N/A"},{"$error":"#N/A"},{"$error":"#N/A"},{"$error":"#N/A"},0,{"$error":"#N/A"},"",{"$f":"IF(Q1288=\"\",\"\",AVERAGE(Q1284:Q1292))","v":""},{"$f":"IF(Q1288=\"\",\"\",MAX(Q1284:Q1292)-MIN(Q1284:Q1292))","v":""},null,{"$error":"#N/A"}]
["2021-03-24","09:26:00","2021-03-24T09:26:00",null,{"$f":"_xlfn.XLOOKUP(C1289,Data!C:C,Data!I:I)","v":{"$error":"#N/A"}},{"$error":"#N/A"},{"$f":"_xlfn.XLOOKUP(C1289,Data!C:C,Data!G:G,0)","v":0},{"$f":"_xlfn.XLOOKUP(C1289,Data!C:C,Data!F:F)","v":{"$error":"#N/A"}},{"$f":"_xlfn.XLOOKUP(C1289,Data!C:C,Data!H:H,0)","v":0},{"$error":"#N/A"},{"$error":"#N/A"},{"$error":"#N/A"},{"$error":"#N/A"},{"$error":"#N/A"},0,{"$error":"#N/A"},"","","",null,{"$error":"#N/A"}]
["2021-03-24","09:27:00","2021-03-24T09:27:00",null,{"$f":"_xlfn.XLOOKUP(C1290,Data!C:C,Data!I:I)","v":{"$error":"#N/A"}},{"$error":"#N/A"},{"$f":"_xlfn.XLOOKUP(C1290,Data!C:C,Data!G:G,0)","v":0},{"$f":"_xlfn.XLOOKUP(C1290,Data!C:C,Data!F:F)","v":{"$error":"#N/A"}},{"$f":"_xlfn.XLOOKUP(C1290,Data!C:C,Data!H:H,0)","v":0},{"$error":"#N/A"},{"$error":"#N/A"},{"$error":"#N/A"},{"$error":"#N/A"},{"$error":"#N/A"},0,{"$error":"#N/A"},"","","",null,{"$error":"#N/A"}]
["2021-03-24","09:28:00","2021-03-24T09:28:00",null,{"$f":"_xlfn.XLOOKUP(C1291,Data!C:C,Data!I:I)","v":{"$error":"#N/A"}},{"$error":"#N/A"},{"$f":"_xlfn.XLOOKUP(C1291,Data!C:C,Data!G:G,0)","v":0},{"$f":"_xlfn.XLOOKUP(C1291,Data!C:C,Data!F:F)","v":{"$error":"#N/A"}},{"$f":"_xlfn.XLOOKUP(C1291,Data!C:C,Data!H:H,0)","v":0},{"$error":"#N/A"},{"$error":"#N/A"},{"$error":"#N/A"},{"$error":"#N/A"},{"$error":"#N/A"},0,{"$error":"#N/A"},"","","",null,{"$error":"#N/A"}]
["2021-03-24","09:29:00","2021-03-24T09:29:00",null,{"$f":"_xlfn.XLOOKUP(C1292,Data!C:C,Data!I:I)","v":{"$error":"#N/A"}},{"$error":"#N/A"},{"$f":"_xlfn.XLOOKUP(C1292,Data!C:C,Data!G:G,0)","v":0},{"$f":"_xlfn.XLOOKUP(C1292,Data!C:C,Data!F:F)","v":{"$error":"#N/A"}},{"$f":"_xlfn.XLOOKUP(C1292,Data!C:C,Data!H:H,0)","v":0},{"$error":"#N/A"},{"$error":"#N/A"},{"$error":"#N/A"},{"$error":"#N/A"},{"$error":"#N/A"},0,{"$error":"#N/A"},"","","",null,{"$error":"#N/A"}]
["2021-03-24","09:30:00","2021-03-24T09:30:00",null,{"$f":"_xlfn.XLOOKUP(C1293,Data!C:C,Data!I:I)","v":{"$error":"#N/A"}},{"$error":"#N/A"},{"$f":"_xlfn.XLOOKUP(C1293,Data!C:C,Data!G:G,0)","v":0},{"$f":"_xlfn.XLOOKUP(C1293,Data!C:C,Data!F:F)","v":{"$error":"#N/A"}},{"$f":"_xlfn.XLOOKUP(C1293,Data!C:C,Data!H:H,0)","v":0},{"$error":"#N/A"},{"$error":"#N/A"},{"$error":"#N/A"},{"$error":"#N/A"},{"$error":"#N/A"},0,{"$error":"#N/A"},"","","",null,{"$error":"#N/A"}]
["2021-03-24","09:31:00","2021-03-24T09:31:00",null,{"$f":"_xlfn.XLOOKUP(C1294,Data!C:C,Data!I:I)","v":{"$error":"#N/A"}},{"$error":"#N/A"},{"$f":"_xlfn.XLOOKUP(C1294,Data!C:C,Data!G:G,0)","v":0},{"$f":"_xlfn.XLOOKUP(C1294,Data!C:C,Data!F:F)","v":{"$error":"#N/A"}},{"$f":"_xlfn.XLOOKUP(C1294,Data!C:C,Data!H:H,0)","v":0},{"$error":"#N/A"},{"$error":"#N/A"},{"$error":"#N/A"},{"$error":"#N/A"},{"$error":"#N/A"},0,{"$error":"#N/A"},"","","",null,{"$error":"#N/A"}]
["2021-03-24","09:32:00","2021-03-24T09:32:00",null,{"$f":"_xlfn.XLOOKUP(C1295,Data!C:C,Data!I:I)","v":{"$error":"#N/A"}},{"$error":"#N/A"},{"$f":"_xlfn.XLOOKUP(C1295,Data!C:C,Data!G:G,0)","v":0},{"$f":"_xlfn.XLOOKUP(C1295,Data!C:C,Data!F:F)","v":{"$error":"#N/A"}},{"$f":"_xlfn.XLOOKUP(C1295,Data!C:C,Data!H:H,0)","v":0},{"$error":"#N/A"},{"$error":"#N/A"},{"$error":"#N/A"},{"$error":"#N/A"},{"$error":"#N/A"},0,{"$error":"#N/A"},"","","",null,{"$error":"#N/A"}]
["2021-03-24","09:33:00","2021-03-24T09:33:00",null,{"$f":"_xlfn.XLOOKUP(C1296,Data!C:C,Data!I:I)","v":{"$error":"#N/A"}},{"$error":"#N/A"},{"$f":"_xlfn.XLOOKUP(C1296,Data!C:C,Data!G:G,0)","v":0},{"$f":"_xlfn.XLOOKUP(C1296,Data!C:C,Data!F:F)","v":{"$error":"#N/A"}},{"$f":"_xlfn.XLOOKUP(C1296,Data!C:C,Data!H:H,0)","v":0},{"$error":"#N/A"},{"$error":"#N/A"},{"$error":"#N/A"},{"$error":"#N/A"},{"$error":"#N/A"},0,{"$error":"#N/A"},"","","",null,{"$error":"#N/A"}]
["2021-03-24","09:34:00","2021-03-24T09:34:00",null,{"$f":"_xlfn.XLOOKUP(C1297,Data!C:C,Data!I:I)","v":{"$error":"#N/A"}},{"$error":"#N/A"},{"$f":"_xlfn.XLOOKUP(C1297,Data!C:C,Data!G:G,0)","v":0},{"$f":"_xlfn.XLOOKUP(C1297,Data!C:C,Data!F:F)","v":{"$error":"#N/A"}},{"$f":"_xlfn.XLOOKUP(C1297,Data!C:C,Data!H:H,0)","v":0},{"$error":"#N/A"},{"$error":"#N/A"},{"$error":"#N/A"},{"$error":"#N/A"},{"$error":"#N/A"},0,{"$error":"#N/A"},"","","",null,{"$error":"#N/A"}]
["2021-03-24","09:35:00","2021-03-24T09:35:00",null,{"$f":"_xlfn.XLOOKUP(C1298,Data!C:C,Data!I:I)","v":{"$error":"#N/A"}},{"$error":"#N/A"},{"$f":"_xlfn.XLOOKUP(C1298,Data!C:C,Data!G:G,0)","v":0},{"$f":"_xlfn.XLOOKUP(C1298,Data!C:C,Data!F:F)","v":{"$error":"#N/A"}},{"$f":"_xlfn.XLOOKUP(C1298,Data!C:C,Data!H:H,0)","v":0},{"$error":"#N/A"},{"$error":"#N/A"},{"$error":"#N/A"},{"$error":"#N/A"},{"$error":"#N/A"},0,{"$error":"#N/A"},"","","",null,{"$error":"#N/A"}]
["2021-03-24","09:36:00","2021-03-24T09:36:00",null,{"$f":"_xlfn.XLOOKUP(C1299,Data!C:C,Data!I:I)","v":{"$error":"#N/A"}},{"$error":"#N/A"},{"$f":"_xlfn.XLOOKUP(C1299,Data!C:C,Data!G:G,0)","v":0},{"$f":"_xlfn.XLOOKUP(C1299,Data!C:C,Data!F:F)","v":{"$error":"#N/A"}},{"$f":"_xlfn.XLOOKUP(C1299,Data!C:C,Data!H:H,0)","v":0},{"$error":"#N/A"},{"$error":"#N/A"},{"$error":"#N/A"},{"$error":"#N/A"},{"$error":"#N/A"},0,{"$error":"#N/A"},"","","",null,{"$error":"#N/A"}]
["2021-03-24","09:37:00","2021-03-24T09:37:00",null,{"$f":"_xlfn.XLOOKUP(C1300,Data!C:C,Data!I:I)","v":{"$error":"#N/A"}},{"$error":"#N/A"},{"$f":"_xlfn.XLOOKUP(C1300,Data!C:C,Data!G:G,0)","v":0},{"$f":"_xlfn.XLOOKUP(C1300,Data!C:C,Data!F:F)","v":{"$error":"#N/A"}},{"$f":"_xlfn.XLOOKUP(C1300,Data!C:C,Data!H:H,0)","v":0},{"$error":"#N/A"},{"$error":"#N/A"},{"$error":"#N/A"},{"$error":"#N/A"},{"$error":"#N/A"},0,{"$error":"#N/A"},"","","",null,{"$error":"#N/A"}]
[{"$f":"$A$723","v":"2021-03-24"},"09:38:00","2021-03-24T09:38:00",null,{"$f":"_xlfn.XLOOKUP(C1301,Data!C:C,Data!I:I)","v":{"$error":"#N/A"}},{"$error":"#N/A"},{"$f":"_xlfn.XLOOKUP(C1301,Data!C:C,Data!G:G,0)","v":0},{"$f":"_xlfn.XLOOKUP(C1301,Data!C:C,Data!F:F)","v":{"$error":"#N/A"}},{"$f":"_xlfn.XLOOKUP(C1301,Data!C:C,Data!H:H,0)","v":0},{"$error":"#N/A"},{"$error":"#N/A"},{"$error":"#N/A"},{"$error":"#N/A"},{"$error":"#N/A"},0,{"$error":"#N/A"},"","","",null,{"$error":"#N/A"}]
["2021-03-24","09:39:00","2021-03-24T09:39:00",null,{"$f":"_xlfn.XLOOKUP(C1302,Data!C:C,Data!I:I)","v":{"$error":"#N/A"}},{"$error":"#N/A"},{"$f":"_xlfn.XLOOKUP(C1302,Data!C:C,Data!G:G,0)","v":0},{"$f":"_xlfn.XLOOKUP(C1302,Data!C:C,Data!F:F)","v":{"$error":"#N/A"}},{"$f":"_xlfn.XLOOKUP(C1302,Data!C:C,Data!H:H,0)","v":0},{"$error":"#N/A"},{"$error":"#N/A"},{"$error":"#N/A"},{"$error":"#N/A"},{"$error":"#N/A"},0,{"$error":"#N/A"},"","","",null,{"$error":"#N/A"}]
["2021-03-24","09:40:00","2021-03-24T09:40:00",null,{"$f":"_xlfn.XLOOKUP(C1303,Data!C:C,Data!I:I)","v":{"$error":"#N/A"}},{"$error":"#N/A"},{"$f":"_xlfn.XLOOKUP(C1303,Data!C:C,Data!G:G,0)","v":0},{"$f":"_xlfn.XLOOKUP(C1303,Data!C:C,Data!F:F)","v":{"$error":"#N/A"}},{"$f":"_xlfn.XLOOKUP(C1303,Data!C:C,Data!H:H,0)","v":0},{"$error":"#N/A"},{"$error":"#N/A"},{"$error":"#N/A"},{"$error":"#N/A"},{"$error":"#N/A"},0,{"$error":"#N/A"},"","","",null,{"$error":"#N/A"}]
["2021-03-24","09:41:00","2021-03-24T09:41:00",null,{"$f":"_xlfn.XLOOKUP(C1304,Data!C:C,Data!I:I)","v":{"$error":"#N/A"}},{"$error":"#N/A"},{"$f":"_xlfn.XLOOKUP(C1304,Data!C:C,Data!G:G,0)","v":0},{"$f":"_xlfn.XLOOKUP(C1304,Data!C:C,Data!F:F)","v":{"$error":"#N/A"}},{"$f":"_xlfn.XLOOKUP(C1304,Data!C:C,Data!H:H,0)","v":0},{"$error":"#N/A"},{"$error":"#N/A"},{"$error":"#N/A"},{"$error":"#N/A"},{"$error":"#N/A"},0,{"$error":"#N/A"},"","","",null,{"$error":"#N/A"}]
["2021-03-24","09:42:00","2021-03-24T09:42:00",null,{"$f":"_xlfn.XLOOKUP(C1305,Data!C:C,Data!I:I)","v":{"$error":"#N/A"}},{"$error":"#N/A"},{"$f":"_xlfn.XLOOKUP(C1305,Data!C:C,Data!G:G,0)","v":0},{"$f":"_xlfn.XLOOKUP(C1305,Data!C:C,Data!F:F)","v":{"$error":"#N/A"}},{"$f":"_xlfn.XLOOKUP(C1305,Data!C:C,Data!H:H,0)","v":0},{"$error":"#N/A"},{"$error":"#N/A"},{"$error":"#N/A"},{"$error":"#N/A"},{"$error":"#N/A"},0,{"$error":"#N/A"},"","","",null,{"$error":"#N/A"}]
["2021-03-24","09:43:00","2021-03-24T09:43:00",null,{"$f":"_xlfn.XLOOKUP(C1306,Data!C:C,Data!I:I)","v":{"$error":"#N/A"}},{"$error":"#N/A"},{"$f":"_xlfn.XLOOKUP(C1306,Data!C:C,Data!G:G,0)","v":0},{"$f":"_xlfn.XLOOKUP(C1306,Data!C:C,Data!F:F)","v":{"$error":"#N/A"}},{"$f":"_xlfn.XLOOKUP(C1306,Data!C:C,Data!H:H,0)","v":0},{"$error":"#N/A"},{"$error":"#N/A"},{"$error":"#N/A"},{"$error":"#N/A"},{"$error":"#N/A"},0,{"$error":"#N/A"},"","","",null,{"$error":"#N/A"}]
["2021-03-24","09:44:00","2021-03-24T09:44:00",null,{"$f":"_xlfn.XLOOKUP(C1307,Data!C:C,Data!I:I)","v":{"$error":"#N/A"}},{"$error":"#N/A"},{"$f":"_xlfn.XLOOKUP(C1307,Data!C:C,Data!G:G,0)","v":0},{"$f":"_xlfn.XLOOKUP(C1307,Data!C:C,Data!F:F)","v":{"$error":"#N/A"}},{"$f":"_xlfn.XLOOKUP(C1307,Data!C:C,Data!H:H,0)","v":0},{"$error":"#N/A"},{"$error":"#N/A"},{"$error":"#N/A"},{"$error":"#N/A"},{"$error":"#N/A"},0,{"$error":"#N/A"},"","","",null,{"$error":"#N/A"}]
["2021-03-24","09:45:00","2021-03-24T09:45:00",null,{"$f":"_xlfn.XLOOKUP(C1308,Data!C:C,Data!I:I)","v":{"$error":"#N/A"}},{"$error":"#N/A"},{"$f":"_xlfn.XLOOKUP(C1308,Data!C:C,Data!G:G,0)","v":0},{"$f":"_xlfn.XLOOKUP(C1308,Data!C:C,Data!F:F)","v":{"$error":"#N/A"}},{"$f":"_xlfn.XLOOKUP(C1308,Data!C:C,Data!H:H,0)","v":0},{"$error":"#N/A"},{"$error":"#N/A"},{"$error":"#N/A"},{"$error":"#N/A"},{"$error":"#N/A"},0,{"$error":"#N/A"},"","","",null,{"$error":"#N/A"}]
["2021-03-24","09:46:00","2021-03-24T09:46:00",null,{"$f":"_xlfn.XLOOKUP(C1309,Data!C:C,Data!I:I)","v":{"$error":"#N/A"}},{"$error":"#N/A"},{"$f":"_xlfn.XLOOKUP(C1309,Data!C:C,Data!G:G,0)","v":0},{"$f":"_xlfn.XLOOKUP(C1309,Data!C:C,Data!F:F)","v":{"$error":"#N/A"}},{"$f":"_xlfn.XLOOKUP(C1309,Data!C:C,Data!H:H,0)","v":0},{"$error":"#N/A"},{"$error":"#N/A"},{"$error":"#N/A"},{"$error":"#N/A"},{"$error":"#N/A"},0,{"$error":"#N/A"},"","","",null,{"$error":"#N/A"}]
["2021-03-24","09:47:00","2021-03-24T09:47:00",null,{"$f":"_xlfn.XLOOKUP(C1310,Data!C:C,Data!I:I)","v":{"$error":"#N/A"}},{"$error":"#N/A"},{"$f":"_xlfn.XLOOKUP(C1310,Data!C:C,Data!G:G,0)","v":0},{"$f":"_xlfn.XLOOKUP(C1310,Data!C:C,Data!F:F)","v":{"$error":"#N/A"}},{"$f":"_xlfn.XLOOKUP(C1310,Data!C:C,Data!H:H,0)","v":0},{"$error":"#N/A"},{"$error":"#N/A"},{"$error":"#N/A"},{"$error":"#N/A"},{"$error":"#N/A"},0,{"$error":"#N/A"},"","","",null,{"$error":"#N/A"}]
["2021-03-24","09:48:00","2021-03-24T09:48:00",null,{"$f":"_xlfn.XLOOKUP(C1311,Data!C:C,Data!I:I)","v":{"$error":"#N/A"}},{"$error":"#N/A"},{"$f":"_xlfn.XLOOKUP(C1311,Data!C:C,Data!G:G,0)","v":0},{"$f":"_xlfn.XLOOKUP(C1311,Data!C:C,Data!F:F)","v":{"$error":"#N/A"}},{"$f":"_xlfn.XLOOKUP(C1311,Data!C:C,Data!H:H,0)","v":0},{"$error":"#N/A"},{"$error":"#N/A"},{"$error":"#N/A"},{"$error":"#N/A"},{"$error":"#N/A"},0,{"$error":"#N/A"},"","","",null,{"$error":"#N/A"}]
["2021-03-24","09:49:00","2021-03-24T09:49:00",null,{"$f":"_xlfn.XLOOKUP(C1312,Data!C:C,Data!I:I)","v":{"$error":"#N/A"}},{"$error":"#N/A"},{"$f":"_xlfn.XLOOKUP(C1312,Data!C:C,Data!G:G,0)","v":0},{"$f":"_xlfn.XLOOKUP(C1312,Data!C:C,Data!F:F)","v":{"$error":"#N/A"}},{"$f":"_xlfn.XLOOKUP(C1312,Data!C:C,Data!H:H,0)","v":0},{"$error":"#N/A"},{"$error":"#N/A"},{"$error":"#N/A"},{"$error":"#N/A"},{"$error":"#N/A"},0,{"$error":"#N/A"},"","","",null,{"$error":"#N/A"}]
["2021-03-24","09:50:00","2021-03-24T09:50:00",null,{"$f":"_xlfn.XLOOKUP(C1313,Data!C:C,Data!I:I)","v":{"$error":"#N/A"}},{"$error":"#N/A"},{"$f":"_xlfn.XLOOKUP(C1313,Data!C:C,Data!G:G,0)","v":0},{"$f":"_xlfn.XLOOKUP(C1313,Data!C:C,Data!F:F)","v":{"$error":"#N/A"}},{"$f":"_xlfn.XLOOKUP(C1313,Data!C:C,Data!H:H,0)","v":0},{"$error":"#N/A"},{"$error":"#N/A"},{"$error":"#N/A"},{"$error":"#N/A"},{"$error":"#N/A"},0,{"$error":"#N/A"},"","","",null,{"$error":"#N/A"}]
["2021-03-24","09:51:00","2021-03-24T09:51:00",null,{"$f":"_xlfn.XLOOKUP(C1314,Data!C:C,Data!I:I)","v":{"$error":"#N/A"}},{"$error":"#N/A"},{"$f":"_xlfn.XLOOKUP(C1314,Data!C:C,Data!G:G,0)","v":0},{"$f":"_xlfn.XLOOKUP(C1314,Data!C:C,Data!F:F)","v":{"$error":"#N/A"}},{"$f":"_xlfn.XLOOKUP(C1314,Data!C:C,Data!H:H,0)","v":0},{"$error":"#N/A"},{"$error":"#N/A"},{"$error":"#N/A"},{"$error":"#N/A"},{"$error":"#N/A"},0,{"$error":"#N/A"},"","","",null,{"$error":"#N/A"}]
["2021-03-24","09:52:00","2021-03-24T09:52:00",null,{"$f":"_xlfn.XLOOKUP(C1315,Data!C:C,Data!I:I)","v":{"$error":"#N/A"}},{"$error":"#N/A"},{"$f":"_xlfn.XLOOKUP(C1315,Data!C:C,Data!G:G,0)","v":0},{"$f":"_xlfn.XLOOKUP(C1315,Data!C:C,Data!F:F)","v":{"$error":"#N/A"}},{"$f":"_xlfn.XLOOKUP(C1315,Data!C:C,Data!H:H,0)","v":0},{"$error":"#N/A"},{"$error":"#N/A"},{"$error":"#N/A"},{"$error":"#N/A"},{"$error":"#N/A"},0,{"$error":"#N/A"},"","","",null,{"$error":"#N/A"}]
["2021-03-24","09:53:00","2021-03-24T09:53:00",null,{"$f":"_xlfn.XLOOKUP(C1316,Data!C:C,Data!I:I)","v":{"$error":"#N/A"}},{"$error":"#N/A"},{"$f":"_xlfn.XLOOKUP(C1316,Data!C:C,Data!G:G,0)","v":0},{"$f":"_xlfn.XLOOKUP(C1316,Data!C:C,Data!F:F)","v":{"$error":"#N/A"}},{"$f":"_xlfn.XLOOKUP(C1316,Data!C:C,Data!H:H,0)","v":0},{"$error":"#N/A"},{"$error":"#N/A"},{"$error":"#N/A"},{"$error":"#N/A"},{"$error":"#N/A"},0,{"$error":"#N/A"},"","","",null,{"$error":"#N/A"}]
["2021-03-24","09:54:00","2021-03-24T09:54:00",null,{"$f":"_xlfn.XLOOKUP(C1317,Data!C:C,Data!I:I)","v":{"$error":"#N/A"}},{"$error":"#N/A"},{"$f":"_xlfn.XLOOKUP(C1317,Data!C:C,Data!G:G,0)","v":0},{"$f":"_xlfn.XLOOKUP(C1317,Data!C:C,Data!F:F)","v":{"$error":"#N/A"}},{"$f":"_xlfn.XLOOKUP(C1317,Data!C:C,Data!H:H,0)","v":0},{"$error":"#N/A"},{"$error":"#N/A"},{"$error":"#N/A"},{"$error":"#N/A"},{"$error":"#N/A"},0,{"$error":"#N/A"},"","","",null,{"$error":"#N/A"}]
["2021-03-24","09:55:00","2021-03-24T09:55:00",null,{"$f":"_xlfn.XLOOKUP(C1318,Data!C:C,Data!I:I)","v":{"$error":"#N/A"}},{"$error":"#N/A"},{"$f":"_xlfn.XLOOKUP(C1318,Data!C:C,Data!G:G,0)","v":0},{"$f":"_xlfn.XLOOKUP(C1318,Data!C:C,Data!F:F)","v":{"$error":"#N/A"}},{"$f":"_xlfn.XLOOKUP(C1318,Data!C:C,Data!H:H,0)","v":0},{"$error":"#N/A"},{"$error":"#N/A"},{"$error":"#N/A"},{"$error":"#N/A"},{"$error":"#N/A"},0,{"$error":"#N/A"},"","","",null,{"$error":"#N/A"}]
["2021-03-24","09:56:00","2021-03-24T09:56:00",null,{"$f":"_xlfn.XLOOKUP(C1319,Data!C:C,Data!I:I)","v":{"$error":"#N/A"}},{"$error":"#N/A"},{"$f":"_xlfn.XLOOKUP(C1319,Data!C:C,Data!G:G,0)","v":0},{"$f":"_xlfn.XLOOKUP(C1319,Data!C:C,Data!F:F)","v":{"$error":"#N/A"}},{"$f":"_xlfn.XLOOKUP(C1319,Data!C:C,Data!H:H,0)","v":0},{"$error":"#N/A"},{"$error":"#N/A"},{"$error":"#N/A"},{"$error":"#N/A"},{"$error":"#N/A"},0,{"$error":"#N/A"},"","","",null,{"$error":"#N/A"}]
["2021-03-24","09:57:00","2021-03-24T09:57:00",null,{"$f":"_xlfn.XLOOKUP(C1320,Data!C:C,Data!I:I)","v":{"$error":"#N/A"}},{"$error":"#N/A"},{"$f":"_xlfn.XLOOKUP(C1320,Data!C:C,Data!G:G,0)","v":0},{"$f":"_xlfn.XLOOKUP(C1320,Data!C:C,Data!F:F)","v":{"$error":"#N/A"}},{"$f":"_xlfn.XLOOKUP(C1320,Data!C:C,Data!H:H,0)","v":0},{"$error":"#N/A"},{"$error":"#N/A"},{"$error":"#N/A"},{"$error":"#N/A"},{"$error":"#N/A"},0,{"$error":"#N/A"},"","","",null,{"$error":"#N/A"}]
["2021-03-24","09:58:00","2021-03-24T09:58:00",null,{"$f":"_xlfn.XLOOKUP(C1321,Data!C:C,Data!I:I)","v":{"$error":"#N/A"}},{"$error":"#N/A"},{"$f":"_xlfn.XLOOKUP(C1321,Data!C:C,Data!G:G,0)","v":0},{"$f":"_xlfn.XLOOKUP(C1321,Data!C:C,Data!F:F)","v":{"$error":"#N/A"}},{"$f":"_xlfn.XLOOKUP(C1321,Data!C:C,Data!H:H,0)","v":0},{"$error":"#N/A"},{"$error":"#N/A"},{"$error":"#N/A"},{"$error":"#N/A"},{"$error":"#N/A"},0,{"$error":"#N/A"},"","","",null,{"$error":"#N/A"}]
["2021-03-24","09:59:00","2021-03-24T09:59:00",null,{"$f":"_xlfn.XLOOKUP(C1322,Data!C:C,Data!I:I)","v":{"$error":"#N/A"}},{"$error":"#N/A"},{"$f":"_xlfn.XLOOKUP(C1322,Data!C:C,Data!G:G,0)","v":0},{"$f":"_xlfn.XLOOKUP(C1322,Data!C:C,Data!F:F)","v":{"$error":"#N/A"}},{"$f":"_xlfn.XLOOKUP(C1322,Data!C:C,Data!H:H,0)","v":0},{"$error":"#N/A"},{"$error":"#N/A"},{"$error":"#N/A"},{"$error":"#N/A"},{"$error":"#N/A"},0,{"$error":"#N/A"},"","","",null,{"$error":"#N/A"}]
["2021-03-24","10:00:00","2021-03-24T10:00:00",null,{"$f":"_xlfn.XLOOKUP(C1323,Data!C:C,Data!I:I)","v":{"$error":"#N/A"}},{"$error":"#N/A"},{"$f":"_xlfn.XLOOKUP(C1323,Data!C:C,Data!G:G,0)","v":0},{"$f":"_xlfn.XLOOKUP(C1323,Data!C:C,Data!F:F)","v":{"$error":"#N/A"}},{"$f":"_xlfn.XLOOKUP(C1323,Data!C:C,Data!H:H,0)","v":0},{"$error":"#N/A"},{"$error":"#N/A"},{"$error":"#N/A"},{"$error":"#N/A"},{"$error":"#N/A"},0,{"$error":"#N/A"},"","","",null,{"$error":"#N/A"}]
["2021-03-24","10:01:00","2021-03-24T10:01:00",null,{"$f":"_xlfn.XLOOKUP(C1324,Data!C:C,Data!I:I)","v":{"$error":"#N/A"}},{"$error":"#N/A"},{"$f":"_xlfn.XLOOKUP(C1324,Data!C:C,Data!G:G,0)","v":0},{"$f":"_xlfn.XLOOKUP(C1324,Data!C:C,Data!F:F)","v":{"$error":"#N/A"}},{"$f":"_xlfn.XLOOKUP(C1324,Data!C:C,Data!H:H,0)","v":0},{"$error":"#N/A"},{"$error":"#N/A"},{"$error":"#N/A"},{"$error":"#N/A"},{"$error":"#N/A"},0,{"$error":"#N/A"},"","","",null,{"$error":"#N/A"}]
["2021-03-24","10:02:00","2021-03-24T10:02:00",null,{"$f":"_xlfn.XLOOKUP(C1325,Data!C:C,Data!I:I)","v":{"$error":"#N/A"}},{"$error":"#N/A"},{"$f":"_xlfn.XLOOKUP(C1325,Data!C:C,Data!G:G,0)","v":0},{"$f":"_xlfn.XLOOKUP(C1325,Data!C:C,Data!F:F)","v":{"$error":"#N/A"}},{"$f":"_xlfn.XLOOKUP(C1325,Data!C:C,Data!H:H,0)","v":0},{"$error":"#N/A"},{"$error":"#N/A"},{"$error":"#N/A"},{"$error":"#N/A"},{"$error":"#N/A"},0,{"$error":"#N/A"},"","","",null,{"$error":"#N/A"}]
["2021-03-24","10:03:00","2021-03-24T10:03:00",null,{"$f":"_xlfn.XLOOKUP(C1326,Data!C:C,Data!I:I)","v":{"$error":"#N/A"}},{"$error":"#N/A"},{"$f":"_xlfn.XLOOKUP(C1326,Data!C:C,Data!G:G,0)","v":0},{"$f":"_xlfn.XLOOKUP(C1326,Data!C:C,Data!F:F)","v":{"$error":"#N/A"}},{"$f":"_xlfn.XLOOKUP(C1326,Data!C:C,Data!H:H,0)","v":0},{"$error":"#N/A"},{"$error":"#N/A"},{"$error":"#N/A"},{"$error":"#N/A"},{"$error":"#N/A"},0,{"$error":"#N/A"},"","","",null,{"$error":"#N/A"}]
["2021-03-24","10:04:00","2021-03-24T10:04:00",null,{"$f":"_xlfn.XLOOKUP(C1327,Data!C:C,Data!I:I)","v":{"$error":"#N/A"}},{"$error":"#N/A"},{"$f":"_xlfn.XLOOKUP(C1327,Data!C:C,Data!G:G,0)","v":0},{"$f":"_xlfn.XLOOKUP(C1327,Data!C:C,Data!F:F)","v":{"$error":"#N/A"}},{"$f":"_xlfn.XLOOKUP(C1327,Data!C:C,Data!H:H,0)","v":0},{"$error":"#N/A"},{"$error":"#N/A"},{"$error":"#N/A"},{"$error":"#N/A"},{"$error":"#N/A"},0,{"$error":"#N/A"},"","","",null,{"$error":"#N/A"}]
["2021-03-24","10:05:00","2021-03-24T10:05:00",null,{"$f":"_xlfn.XLOOKUP(C1328,Data!C:C,Data!I:I)","v":{"$error":"#N/A"}},{"$error":"#N/A"},{"$f":"_xlfn.XLOOKUP(C1328,Data!C:C,Data!G:G,0)","v":0},{"$f":"_xlfn.XLOOKUP(C1328,Data!C:C,Data!F:F)","v":{"$error":"#N/A"}},{"$f":"_xlfn.XLOOKUP(C1328,Data!C:C,Data!H:H,0)","v":0},{"$error":"#N/A"},{"$error":"#N/A"},{"$error":"#N/A"},{"$error":"#N/A"},{"$error":"#N/A"},0,{"$error":"#N/A"},"","","",null,{"$error":"#N/A"}]
["2021-03-24","10:06:00","2021-03-24T10:06:00",null,{"$f":"_xlfn.XLOOKUP(C1329,Data!C:C,Data!I:I)","v":{"$error":"#N/A"}},{"$error":"#N/A"},{"$f":"_xlfn.XLOOKUP(C1329,Data!C:C,Data!G:G,0)","v":0},{"$f":"_xlfn.XLOOKUP(C1329,Data!C:C,Data!F:F)","v":{"$error":"#N/A"}},{"$f":"_xlfn.XLOOKUP(C1329,Data!C:C,Data!H:H,0)","v":0},{"$error":"#N/A"},{"$error":"#N/A"},{"$error":"#N/A"},{"$error":"#N/A"},{"$error":"#N/A"},0,{"$error":"#N/A"},"","","",null,{"$error":"#N/A"}]
["2021-03-24","10:07:00","2021-03-24T10:07:00",null,{"$f":"_xlfn.XLOOKUP(C1330,Data!C:C,Data!I:I)","v":{"$error":"#N/A"}},{"$error":"#N/A"},{"$f":"_xlfn.XLOOKUP(C1330,Data!C:C,Data!G:G,0)","v":0},{"$f":"_xlfn.XLOOKUP(C1330,Data!C:C,Data!F:F)","v":{"$error":"#N/A"}},{"$f":"_xlfn.XLOOKUP(C1330,Data!C:C,Data!H:H,0)","v":0},{"$error":"#N/A"},{"$error":"#N/A"},{"$error":"#N/A"},{"$error":"#N/A"},{"$error":"#N/A"},0,{"$error":"#N/A"},"","","",null,{"$error":"#N/A"}]
["2021-03-24","10:08:00","2021-03-24T10:08:00",null,{"$f":"_xlfn.XLOOKUP(C1331,Data!C:C,Data!I:I)","v":{"$error":"#N/A"}},{"$error":"#N/A"},{"$f":"_xlfn.XLOOKUP(C1331,Data!C:C,Data!G:G,0)","v":0},{"$f":"_xlfn.XLOOKUP(C1331,Data!C:C,Data!F:F)","v":{"$error":"#N/A"}},{"$f":"_xlfn.XLOOKUP(C1331,Data!C:C,Data!H:H,0)","v":0},{"$error":"#N/A"},{"$error":"#N/A"},{"$error":"#N/A"},{"$error":"#N/A"},{"$error":"#N/A"},0,{"$error":"#N/A"},"","","",null,{"$error":"#N/A"}]
["2021-03-24","10:09:00","2021-03-24T10:09:00",null,{"$f":"_xlfn.XLOOKUP(C1332,Data!C:C,Data!I:I)","v":{"$error":"#N/A"}},{"$error":"#N/A"},{"$f":"_xlfn.XLOOKUP(C1332,Data!C:C,Data!G:G,0)","v":0},{"$f":"_xlfn.XLOOKUP(C1332,Data!C:C,Data!F:F)","v":{"$error":"#N/A"}},{"$f":"_xlfn.XLOOKUP(C1332,Data!C:C,Data!H:H,0)","v":0},{"$error":"#N/A"},{"$error":"#N/A"},{"$error":"#N/A"},{"$error":"#N/A"},{"$error":"#N/A"},0,{"$error":"#N/A"},"","","",null,{"$error":"#N/A"}]
["2021-03-24","10:10:00","2021-03-24T10:10:00",null,{"$f":"_xlfn.XLOOKUP(C1333,Data!C:C,Data!I:I)","v":{"$error":"#N/A"}},{"$error":"#N/A"},{"$f":"_xlfn.XLOOKUP(C1333,Data!C:C,Data!G:G,0)","v":0},{"$f":"_xlfn.XLOOKUP(C1333,Data!C:C,Data!F:F)","v":{"$error":"#N/A"}},{"$f":"_xlfn.XLOOKUP(C1333,Data!C:C,Data!H:H,0)","v":0},{"$error":"#N/A"},{"$error":"#N/A"},{"$error":"#N/A"},{"$error":"#N/A"},{"$error":"#N/A"},0,{"$error":"#N/A"},"","","",null,{"$error":"#N/A"}]
["2021-03-24","10:11:00","2021-03-24T10:11:00",null,{"$f":"_xlfn.XLOOKUP(C1334,Data!C:C,Data!I:I)","v":{"$error":"#N/A"}},{"$error":"#N/A"},{"$f":"_xlfn.XLOOKUP(C1334,Data!C:C,Data!G:G,0)","v":0},{"$f":"_xlfn.XLOOKUP(C1334,Data!C:C,Data!F:F)","v":{"$error":"#N/A"}},{"$f":"_xlfn.XLOOKUP(C1334,Data!C:C,Data!H:H,0)","v":0},{"$error":"#N/A"},{"$error":"#N/A"},{"$error":"#N/A"},{"$error":"#N/A"},{"$error":"#N/A"},0,{"$error":"#N/A"},"","","",null,{"$error":"#N/A"}]
["2021-03-24","10:12:00","2021-03-24T10:12:00",null,{"$f":"_xlfn.XLOOKUP(C1335,Data!C:C,Data!I:I)","v":{"$error":"#N/A"}},{"$error":"#N/A"},{"$f":"_xlfn.XLOOKUP(C1335,Data!C:C,Data!G:G,0)","v":0},{"$f":"_xlfn.XLOOKUP(C1335,Data!C:C,Data!F:F)","v":{"$error":"#N/A"}},{"$f":"_xlfn.XLOOKUP(C1335,Data!C:C,Data!H:H,0)","v":0},{"$error":"#N/A"},{"$error":"#N/A"},{"$error":"#N/A"},{"$error":"#N/A"},{"$error":"#N/A"},0,{"$error":"#N/A"},"","","",null,{"$error":"#N/A"}]
["2021-03-24","10:13:00","2021-03-24T10:13:00",null,{"$f":"_xlfn.XLOOKUP(C1336,Data!C:C,Data!I:I)","v":{"$error":"#N/A"}},{"$error":"#N/A"},{"$f":"_xlfn.XLOOKUP(C1336,Data!C:C,Data!G:G,0)","v":0},{"$f":"_xlfn.XLOOKUP(C1336,Data!C:C,Data!F:F)","v":{"$error":"#N/A"}},{"$f":"_xlfn.XLOOKUP(C1336,Data!C:C,Data!H:H,0)","v":0},{"$error":"#N/A"},{"$error":"#N/A"},{"$error":"#N/A"},{"$error":"#N/A"},{"$error":"#N/A"},0,{"$error":"#N/A"},"","","",null,{"$error":"#N/A"}]
["2021-03-24","10:14:00","2021-03-24T10:14:00",null,{"$f":"_xlfn.XLOOKUP(C1337,Data!C:C,Data!I:I)","v":{"$error":"#N/A"}},{"$error":"#N/A"},{"$f":"_xlfn.XLOOKUP(C1337,Data!C:C,Data!G:G,0)","v":0},{"$f":"_xlfn.XLOOKUP(C1337,Data!C:C,Data!F:F)","v":{"$error":"#N/A"}},{"$f":"_xlfn.XLOOKUP(C1337,Data!C:C,Data!H:H,0)","v":0},{"$error":"#N/A"},{"$error":"#N/A"},{"$error":"#N/A"},{"$error":"#N/A"},{"$error":"#N/A"},0,{"$error":"#N/A"},"","","",null,{"$error":"#N/A"}]
["2021-03-24","10:15:00","2021-03-24T10:15:00",null,{"$f":"_xlfn.XLOOKUP(C1338,Data!C:C,Data!I:I)","v":{"$error":"#N/A"}},{"$error":"#N/A"},{"$f":"_xlfn.XLOOKUP(C1338,Data!C:C,Data!G:G,0)","v":0},{"$f":"_xlfn.XLOOKUP(C1338,Data!C:C,Data!F:F)","v":{"$error":"#N/A"}},{"$f":"_xlfn.XLOOKUP(C1338,Data!C:C,Data!H:H,0)","v":0},{"$error":"#N/A"},{"$error":"#N/A"},{"$error":"#N/A"},{"$error":"#N/A"},{"$error":"#N/A"},0,{"$error":"#N/A"},"","","",null,{"$error":"#N/A"}]
["2021-03-24","10:16:00","2021-03-24T10:16:00",null,{"$f":"_xlfn.XLOOKUP(C1339,Data!C:C,Data!I:I)","v":{"$error":"#N/A"}},{"$error":"#N/A"},{"$f":"_xlfn.XLOOKUP(C1339,Data!C:C,Data!G:G,0)","v":0},{"$f":"_xlfn.XLOOKUP(C1339,Data!C:C,Data!F:F)","v":{"$error":"#N/A"}},{"$f":"_xlfn.XLOOKUP(C1339,Data!C:C,Data!H:H,0)","v":0},{"$error":"#N/A"},{"$error":"#N/A"},{"$error":"#N/A"},{"$error":"#N/A"},{"$error":"#N/A"},0,{"$error":"#N/A"},"","","",null,{"$error":"#N/A"}]
["2021-03-24","10:17:00","2021-03-24T10:17:00",null,{"$f":"_xlfn.XLOOKUP(C1340,Data!C:C,Data!I:I)","v":{"$error":"#N/A"}},{"$error":"#N/A"},{"$f":"_xlfn.XLOOKUP(C1340,Data!C:C,Data!G:G,0)","v":0},{"$f":"_xlfn.XLOOKUP(C1340,Data!C:C,Data!F:F)","v":{"$error":"#N/A"}},{"$f":"_xlfn.XLOOKUP(C1340,Data!C:C,Data!H:H,0)","v":0},{"$error":"#N/A"},{"$error":"#N/A"},{"$error":"#N/A"},{"$error":"#N/A"},{"$error":"#N/A"},0,{"$error":"#N/A"},"","","",null,{"$error":"#N/A"}]
["2021-03-24","10:18:00","2021-03-24T10:18:00",null,{"$f":"_xlfn.XLOOKUP(C1341,Data!C:C,Data!I:I)","v":{"$error":"#N/A"}},{"$error":"#N/A"},{"$f":"_xlfn.XLOOKUP(C1341,Data!C:C,Data!G:G,0)","v":0},{"$f":"_xlfn.XLOOKUP(C1341,Data!C:C,Data!F:F)","v":{"$error":"#N/A"}},{"$f":"_xlfn.XLOOKUP(C1341,Data!C:C,Data!H:H,0)","v":0},{"$error":"#N/A"},{"$error":"#N/A"},{"$error":"#N/A"},{"$error":"#N/A"},{"$error":"#N/A"},0,{"$error":"#N/A"},"","","",null,{"$error":"#N/A"}]
["2021-03-24","10:19:00","2021-03-24T10:19:00",null,{"$f":"_xlfn.XLOOKUP(C1342,Data!C:C,Data!I:I)","v":{"$error":"#N/A"}},{"$error":"#N/A"},{"$f":"_xlfn.XLOOKUP(C1342,Data!C:C,Data!G:G,0)","v":0},{"$f":"_xlfn.XLOOKUP(C1342,Data!C:C,Data!F:F)","v":{"$error":"#N/A"}},{"$f":"_xlfn.XLOOKUP(C1342,Data!C:C,Data!H:H,0)","v":0},{"$error":"#N/A"},{"$error":"#N/A"},{"$error":"#N/A"},{"$error":"#N/A"},{"$error":"#N/A"},0,{"$error":"#N/A"},"","","",null,{"$error":"#N/A"}]
["2021-03-24","10:20:00","2021-03-24T10:20:00",null,{"$f":"_xlfn.XLOOKUP(C1343,Data!C:C,Data!I:I)","v":{"$error":"#N/A"}},{"$error":"#N/A"},{"$f":"_xlfn.XLOOKUP(C1343,Data!C:C,Data!G:G,0)","v":0},{"$f":"_xlfn.XLOOKUP(C1343,Data!C:C,Data!F:F)","v":{"$error":"#N/A"}},{"$f":"_xlfn.XLOOKUP(C1343,Data!C:C,Data!H:H,0)","v":0},{"$error":"#N/A"},{"$error":"#N/A"},{"$error":"#N/A"},{"$error":"#N/A"},{"$error":"#N/A"},0,{"$error":"#N/A"},"","","",null,{"$error":"#N/A"}]
["2021-03-24","10:21:00","2021-03-24T10:21:00",null,{"$f":"_xlfn.XLOOKUP(C1344,Data!C:C,Data!I:I)","v":{"$error":"#N/A"}},{"$error":"#N/A"},{"$f":"_xlfn.XLOOKUP(C1344,Data!C:C,Data!G:G,0)","v":0},{"$f":"_xlfn.XLOOKUP(C1344,Data!C:C,Data!F:F)","v":{"$error":"#N/A"}},{"$f":"_xlfn.XLOOKUP(C1344,Data!C:C,Data!H:H,0)","v":0},{"$f":"IF(AND(MAX(E1342:E1343)=255,MAX(E1344:E1345)=255,  E1343+E1344+E1345<3*255, OR(I1344=123,I1344=124,I1344=106,I1344=108)),   I1344,   IF(AND(MAX(E1342:E1343)=255,MAX(E1344:E1345)=255,  E1343+E1344+E1345<3*255, OR(I1344>=80,I1344<100)),106,108))","v":{"$error":"#N/A"}},{"$error":"#N/A"},{"$error":"#N/A"},{"$error":"#N/A"},{"$error":"#N/A"},0,{"$error":"#N/A"},"","","",null,{"$error":"#N/A"}]
["2021-03-24","10:22:00","2021-03-24T10:22:00",null,{"$f":"_xlfn.XLOOKUP(C1345,Data!C:C,Data!I:I)","v":{"$error":"#N/A"}},{"$error":"#N/A"},{"$f":"_xlfn.XLOOKUP(C1345,Data!C:C,Data!G:G,0)","v":0},{"$f":"_xlfn.XLOOKUP(C1345,Data!C:C,Data!F:F)","v":{"$error":"#N/A"}},{"$f":"_xlfn.XLOOKUP(C1345,Data!C:C,Data!H:H,0)","v":0},{"$error":"#N/A"},{"$error":"#N/A"},{"$error":"#N/A"},{"$error":"#N/A"},{"$error":"#N/A"},0,{"$error":"#N/A"},"","","",null,{"$error":"#N/A"}]
["2021-03-24","10:23:00","2021-03-24T10:23:00",null,{"$f":"_xlfn.XLOOKUP(C1346,Data!C:C,Data!I:I)","v":{"$error":"#N/A"}},{"$error":"#N/A"},{"$f":"_xlfn.XLOOKUP(C1346,Data!C:C,Data!G:G,0)","v":0},{"$f":"_xlfn.XLOOKUP(C1346,Data!C:C,Data!F:F)","v":{"$error":"#N/A"}},{"$f":"_xlfn.XLOOKUP(C1346,Data!C:C,Data!H:H,0)","v":0},{"$error":"#N/A"},{"$error":"#N/A"},{"$error":"#N/A"},{"$error":"#N/A"},{"$error":"#N/A"},0,{"$error":"#N/A"},"","","",null,{"$error":"#N/A"}]
["2021-03-24","10:24:00",{"$f":"A1347+B1347","v":"2021-03-24T10:24:00"},null,{"$f":"_xlfn.XLOOKUP(C1347,Data!C:C,Data!I:I)","v":{"$error":"#N/A"}},{"$error":"#N/A"},{"$f":"_xlfn.XLOOKUP(C1347,Data!C:C,Data!G:G,0)","v":0},{"$f":"_xlfn.XLOOKUP(C1347,Data!C:C,Data!F:F)","v":{"$error":"#N/A"}},{"$f":"_xlfn.XLOOKUP(C1347,Data!C:C,Data!H:H,0)","v":0},{"$error":"#N/A"},{"$f":"IF(AND(I1347<100,  I1347>=80,  OR(J1347=105, J1347=106,  J1347=123)),  5,  0)","v":{"$error":"#N/A"}},{"$error":"#N/A"},{"$error":"#N/A"},{"$error":"#N/A"},{"$f":"IFERROR(F1347,0)","v":0},{"$error":"#N/A"},"","","",null,{"$error":"#N/A"}]
["2021-03-24","10:25:00","2021-03-24T10:25:00",null,{"$f":"_xlfn.XLOOKUP(C1348,Data!C:C,Data!I:I)","v":{"$error":"#N/A"}},{"$error":"#N/A"},{"$f":"_xlfn.XLOOKUP(C1348,Data!C:C,Data!G:G,0)","v":0},{"$f":"_xlfn.XLOOKUP(C1348,Data!C:C,Data!F:F)","v":{"$error":"#N/A"}},{"$f":"_xlfn.XLOOKUP(C1348,Data!C:C,Data!H:H,0)","v":0},{"$error":"#N/A"},{"$error":"#N/A"},{"$f":"IF(AND(I1348<130,  I1348>104,  OR(J1348=105, J1348=106,  J1348=123),  S1348>$S$1450+$S$1443),  20,  0)","v":{"$error":"#N/A"}},{"$f":"IF(AND(I1348<130,  I1348>104,  OR(J1348=105, J1348=106,  J1348=123),  R1348>$Q$1449,  S1348<=$S$1450+$S$1443),  20,  0)","v":{"$error":"#N/A"}},{"$f":"IF(AND(I1348<130,  I1348>104,  OR(J1348=105, J1348=106,  J1348=123),  R1348<=$Q$1449,  S1348<=$S$1450+$S$1443),  20,  0)","v":{"$error":"#N/A"}},0,{"$f":"IF(Q1348=\"\",F1348,IF(Q1348=0,P1347,Q1348))","v":{"$error":"#N/A"}},{"$f":"IF(I1348>109,IF(O1348*$Q$1451>(O1347+O1349)/2,MIN(O1347:O1349),O1348),\"\")","v":""},"","",null,{"$error":"#N/A"}]
["2021-03-24","10:26:00","2021-03-24T10:26:00",null,{"$f":"_xlfn.XLOOKUP(C1349,Data!C:C,Data!I:I)","v":{"$error":"#N/A"}},{"$f":"IF(E1349=255,IF(MIN(E1348:E1350)=255,#N/A,MIN(E1348:E1350)),E1349)","v":{"$error":"#N/A"}},{"$f":"_xlfn.XLOOKUP(C1349,Data!C:C,Data!G:G,0)","v":0},{"$f":"_xlfn.XLOOKUP(C1349,Data!C:C,Data!F:F)","v":{"$error":"#N/A"}},{"$f":"_xlfn.XLOOKUP(C1349,Data!C:C,Data!H:H,0)","v":0},{"$error":"#N/A"},{"$error":"#N/A"},{"$error":"#N/A"},{"$error":"#N/A"},{"$error":"#N/A"},0,{"$error":"#N/A"},"","","",null,{"$error":"#N/A"}]
["2021-03-24","10:27:00","2021-03-24T10:27:00",null,{"$f":"_xlfn.XLOOKUP(C1350,Data!C:C,Data!I:I)","v":{"$error":"#N/A"}},{"$error":"#N/A"},{"$f":"_xlfn.XLOOKUP(C1350,Data!C:C,Data!G:G,0)","v":0},{"$f":"_xlfn.XLOOKUP(C1350,Data!C:C,Data!F:F)","v":{"$error":"#N/A"}},{"$f":"_xlfn.XLOOKUP(C1350,Data!C:C,Data!H:H,0)","v":0},{"$error":"#N/A"},{"$error":"#N/A"},{"$error":"#N/A"},{"$error":"#N/A"},{"$error":"#N/A"},0,{"$error":"#N/A"},"","","",null,{"$error":"#N/A"}]
["2021-03-24","10:28:00","2021-03-24T10:28:00",null,{"$f":"_xlfn.XLOOKUP(C1351,Data!C:C,Data!I:I)","v":{"$error":"#N/A"}},{"$error":"#N/A"},{"$f":"_xlfn.XLOOKUP(C1351,Data!C:C,Data!G:G,0)","v":0},{"$f":"_xlfn.XLOOKUP(C1351,Data!C:C,Data!F:F)","v":{"$error":"#N/A"}},{"$f":"_xlfn.XLOOKUP(C1351,Data!C:C,Data!H:H,0)","v":0},{"$error":"#N/A"},{"$error":"#N/A"},{"$error":"#N/A"},{"$error":"#N/A"},{"$error":"#N/A"},0,{"$error":"#N/A"},"","","",null,{"$f":"IF(F1351=\"\",\"\",AVERAGE(F1347:F1355))","v":{"$error":"#N/A"}}]
["2021-03-24","10:29:00","2021-03-24T10:29:00",null,{"$f":"_xlfn.XLOOKUP(C1352,Data!C:C,Data!I:I)","v":{"$error":"#N/A"}},{"$error":"#N/A"},{"$f":"_xlfn.XLOOKUP(C1352,Data!C:C,Data!G:G,0)","v":0},{"$f":"_xlfn.XLOOKUP(C1352,Data!C:C,Data!F:F)","v":{"$error":"#N/A"}},{"$f":"_xlfn.XLOOKUP(C1352,Data!C:C,Data!H:H,0)","v":0},{"$error":"#N/A"},{"$error":"#N/A"},{"$error":"#N/A"},{"$error":"#N/A"},{"$error":"#N/A"},0,{"$error":"#N/A"},"",{"$f":"IF(Q1352=\"\",\"\",AVERAGE(Q1348:Q1356))","v":""},{"$f":"IF(Q1352=\"\",\"\",MAX(Q1348:Q1356)-MIN(Q1348:Q1356))","v":""},null,{"$error":"#N/A"}]
["2021-03-24","10:30:00","2021-03-24T10:30:00",null,{"$f":"_xlfn.XLOOKUP(C1353,Data!C:C,Data!I:I)","v":{"$error":"#N/A"}},{"$error":"#N/A"},{"$f":"_xlfn.XLOOKUP(C1353,Data!C:C,Data!G:G,0)","v":0},{"$f":"_xlfn.XLOOKUP(C1353,Data!C:C,Data!F:F)","v":{"$error":"#N/A"}},{"$f":"_xlfn.XLOOKUP(C1353,Data!C:C,Data!H:H,0)","v":0},{"$error":"#N/A"},{"$error":"#N/A"},{"$error":"#N/A"},{"$error":"#N/A"},{"$error":"#N/A"},0,{"$error":"#N/A"},"","","",null,{"$error":"#N/A"}]
["2021-03-24","10:31:00","2021-03-24T10:31:00",null,{"$f":"_xlfn.XLOOKUP(C1354,Data!C:C,Data!I:I)","v":{"$error":"#N/A"}},{"$error":"#N/A"},{"$f":"_xlfn.XLOOKUP(C1354,Data!C:C,Data!G:G,0)","v":0},{"$f":"_xlfn.XLOOKUP(C1354,Data!C:C,Data!F:F)","v":{"$error":"#N/A"}},{"$f":"_xlfn.XLOOKUP(C1354,Data!C:C,Data!H:H,0)","v":0},{"$error":"#N/A"},{"$error":"#N/A"},{"$error":"#N/A"},{"$error":"#N/A"},{"$error":"#N/A"},0,{"$error":"#N/A"},"","","",null,{"$error":"#N/A"}]
["2021-03-24","10:32:00","2021-03-24T10:32:00",null,{"$f":"_xlfn.XLOOKUP(C1355,Data!C:C,Data!I:I)","v":{"$error":"#N/A"}},{"$error":"#N/A"},{"$f":"_xlfn.XLOOKUP(C1355,Data!C:C,Data!G:G,0)","v":0},{"$f":"_xlfn.XLOOKUP(C1355,Data!C:C,Data!F:F)","v":{"$error":"#N/A"}},{"$f":"_xlfn.XLOOKUP(C1355,Data!C:C,Data!H:H,0)","v":0},{"$error":"#N/A"},{"$error":"#N/A"},{"$error":"#N/A"},{"$error":"#N/A"},{"$error":"#N/A"},0,{"$error":"#N/A"},"","","",null,{"$error":"#N/A"}]
["2021-03-24","10:33:00","2021-03-24T10:33:00",null,{"$f":"_xlfn.XLOOKUP(C1356,Data!C:C,Data!I:I)","v":{"$error":"#N/A"}},{"$error":"#N/A"},{"$f":"_xlfn.XLOOKUP(C1356,Data!C:C,Data!G:G,0)","v":0},{"$f":"_xlfn.XLOOKUP(C1356,Data!C:C,Data!F:F)","v":{"$error":"#N/A"}},{"$f":"_xlfn.XLOOKUP(C1356,Data!C:C,Data!H:H,0)","v":0},{"$error":"#N/A"},{"$error":"#N/A"},{"$error":"#N/A"},{"$error":"#N/A"},{"$error":"#N/A"},0,{"$error":"#N/A"},"","","",null,{"$error":"#N/A"}]
["2021-03-24","10:34:00","2021-03-24T10:34:00",null,{"$f":"_xlfn.XLOOKUP(C1357,Data!C:C,Data!I:I)","v":{"$error":"#N/A"}},{"$error":"#N/A"},{"$f":"_xlfn.XLOOKUP(C1357,Data!C:C,Data!G:G,0)","v":0},{"$f":"_xlfn.XLOOKUP(C1357,Data!C:C,Data!F:F)","v":{"$error":"#N/A"}},{"$f":"_xlfn.XLOOKUP(C1357,Data!C:C,Data!H:H,0)","v":0},{"$error":"#N/A"},{"$error":"#N/A"},{"$error":"#N/A"},{"$error":"#N/A"},{"$error":"#N/A"},0,{"$error":"#N/A"},"","","",null,{"$error":"#N/A"}]
["2021-03-24","10:35:00","2021-03-24T10:35:00",null,{"$f":"_xlfn.XLOOKUP(C1358,Data!C:C,Data!I:I)","v":{"$error":"#N/A"}},{"$error":"#N/A"},{"$f":"_xlfn.XLOOKUP(C1358,Data!C:C,Data!G:G,0)","v":0},{"$f":"_xlfn.XLOOKUP(C1358,Data!C:C,Data!F:F)","v":{"$error":"#N/A"}},{"$f":"_xlfn.XLOOKUP(C1358,Data!C:C,Data!H:H,0)","v":0},{"$error":"#N/A"},{"$error":"#N/A"},{"$error":"#N/A"},{"$error":"#N/A"},{"$error":"#N/A"},0,{"$error":"#N/A"},"","","",null,{"$error":"#N/A"}]
["2021-03-24","10:36:00","2021-03-24T10:36:00",null,{"$f":"_xlfn.XLOOKUP(C1359,Data!C:C,Data!I:I)","v":{"$error":"#N/A"}},{"$error":"#N/A"},{"$f":"_xlfn.XLOOKUP(C1359,Data!C:C,Data!G:G,0)","v":0},{"$f":"_xlfn.XLOOKUP(C1359,Data!C:C,Data!F:F)","v":{"$error":"#N/A"}},{"$f":"_xlfn.XLOOKUP(C1359,Data!C:C,Data!H:H,0)","v":0},{"$error":"#N/A"},{"$error":"#N/A"},{"$error":"#N/A"},{"$error":"#N/A"},{"$error":"#N/A"},0,{"$error":"#N/A"},"","","",null,{"$error":"#N/A"}]
["2021-03-24","10:37:00","2021-03-24T10:37:00",null,{"$f":"_xlfn.XLOOKUP(C1360,Data!C:C,Data!I:I)","v":{"$error":"#N/A"}},{"$error":"#N/A"},{"$f":"_xlfn.XLOOKUP(C1360,Data!C:C,Data!G:G,0)","v":0},{"$f":"_xlfn.XLOOKUP(C1360,Data!C:C,Data!F:F)","v":{"$error":"#N/A"}},{"$f":"_xlfn.XLOOKUP(C1360,Data!C:C,Data!H:H,0)","v":0},{"$error":"#N/A"},{"$error":"#N/A"},{"$error":"#N/A"},{"$error":"#N/A"},{"$error":"#N/A"},0,{"$error":"#N/A"},"","","",null,{"$error":"#N/A"}]
["2021-03-24","10:38:00","2021-03-24T10:38:00",null,{"$f":"_xlfn.XLOOKUP(C1361,Data!C:C,Data!I:I)","v":{"$error":"#N/A"}},{"$error":"#N/A"},{"$f":"_xlfn.XLOOKUP(C1361,Data!C:C,Data!G:G,0)","v":0},{"$f":"_xlfn.XLOOKUP(C1361,Data!C:C,Data!F:F)","v":{"$error":"#N/A"}},{"$f":"_xlfn.XLOOKUP(C1361,Data!C:C,Data!H:H,0)","v":0},{"$error":"#N/A"},{"$error":"#N/A"},{"$error":"#N/A"},{"$error":"#N/A"},{"$error":"#N/A"},0,{"$error":"#N/A"},"","","",null,{"$error":"#N/A"}]
["2021-03-24","10:39:00","2021-03-24T10:39:00",null,{"$f":"_xlfn.XLOOKUP(C1362,Data!C:C,Data!I:I)","v":{"$error":"#N/A"}},{"$error":"#N/A"},{"$f":"_xlfn.XLOOKUP(C1362,Data!C:C,Data!G:G,0)","v":0},{"$f":"_xlfn.XLOOKUP(C1362,Data!C:C,Data!F:F)","v":{"$error":"#N/A"}},{"$f":"_xlfn.XLOOKUP(C1362,Data!C:C,Data!H:H,0)","v":0},{"$error":"#N/A"},{"$error":"#N/A"},{"$error":"#N/A"},{"$error":"#N/A"},{"$error":"#N/A"},0,{"$error":"#N/A"},"","","",null,{"$error":"#N/A"}]
["2021-03-24","10:40:00","2021-03-24T10:40:00",null,{"$f":"_xlfn.XLOOKUP(C1363,Data!C:C,Data!I:I)","v":{"$error":"#N/A"}},{"$error":"#N/A"},{"$f":"_xlfn.XLOOKUP(C1363,Data!C:C,Data!G:G,0)","v":0},{"$f":"_xlfn.XLOOKUP(C1363,Data!C:C,Data!F:F)","v":{"$error":"#N/A"}},{"$f":"_xlfn.XLOOKUP(C1363,Data!C:C,Data!H:H,0)","v":0},{"$error":"#N/A"},{"$error":"#N/A"},{"$error":"#N/A"},{"$error":"#N/A"},{"$error":"#N/A"},0,{"$error":"#N/A"},"","","",null,{"$error":"#N/A"}]
["2021-03-24","10:41:00","2021-03-24T10:41:00",null,{"$f":"_xlfn.XLOOKUP(C1364,Data!C:C,Data!I:I)","v":{"$error":"#N/A"}},{"$error":"#N/A"},{"$f":"_xlfn.XLOOKUP(C1364,Data!C:C,Data!G:G,0)","v":0},{"$f":"_xlfn.XLOOKUP(C1364,Data!C:C,Data!F:F)","v":{"$error":"#N/A"}},{"$f":"_xlfn.XLOOKUP(C1364,Data!C:C,Data!H:H,0)","v":0},{"$error":"#N/A"},{"$error":"#N/A"},{"$error":"#N/A"},{"$error":"#N/A"},{"$error":"#N/A"},0,{"$error":"#N/A"},"","","",null,{"$error":"#N/A"}]
[{"$f":"$A$723","v":"2021-03-24"},"10:42:00","2021-03-24T10:42:00",null,{"$f":"_xlfn.XLOOKUP(C1365,Data!C:C,Data!I:I)","v":{"$error":"#N/A"}},{"$error":"#N/A"},{"$f":"_xlfn.XLOOKUP(C1365,Data!C:C,Data!G:G,0)","v":0},{"$f":"_xlfn.XLOOKUP(C1365,Data!C:C,Data!F:F)","v":{"$error":"#N/A"}},{"$f":"_xlfn.XLOOKUP(C1365,Data!C:C,Data!H:H,0)","v":0},{"$error":"#N/A"},{"$error":"#N/A"},{"$error":"#N/A"},{"$error":"#N/A"},{"$error":"#N/A"},0,{"$error":"#N/A"},"","","",null,{"$error":"#N/A"}]
["2021-03-24","10:43:00","2021-03-24T10:43:00",null,{"$f":"_xlfn.XLOOKUP(C1366,Data!C:C,Data!I:I)","v":{"$error":"#N/A"}},{"$error":"#N/A"},{"$f":"_xlfn.XLOOKUP(C1366,Data!C:C,Data!G:G,0)","v":0},{"$f":"_xlfn.XLOOKUP(C1366,Data!C:C,Data!F:F)","v":{"$error":"#N/A"}},{"$f":"_xlfn.XLOOKUP(C1366,Data!C:C,Data!H:H,0)","v":0},{"$error":"#N/A"},{"$error":"#N/A"},{"$error":"#N/A"},{"$error":"#N/A"},{"$error":"#N/A"},0,{"$error":"#N/A"},"","","",null,{"$error":"#N/A"}]
["2021-03-24","10:44:00","2021-03-24T10:44:00",null,{"$f":"_xlfn.XLOOKUP(C1367,Data!C:C,Data!I:I)","v":{"$error":"#N/A"}},{"$error":"#N/A"},{"$f":"_xlfn.XLOOKUP(C1367,Data!C:C,Data!G:G,0)","v":0},{"$f":"_xlfn.XLOOKUP(C1367,Data!C:C,Data!F:F)","v":{"$error":"#N/A"}},{"$f":"_xlfn.XLOOKUP(C1367,Data!C:C,Data!H:H,0)","v":0},{"$error":"#N/A"},{"$error":"#N/A"},{"$error":"#N/A"},{"$error":"#N/A"},{"$error":"#N/A"},0,{"$error":"#N/A"},"","","",null,{"$error":"#N/A"}]
["2021-03-24","10:45:00","2021-03-24T10:45:00",null,{"$f":"_xlfn.XLOOKUP(C1368,Data!C:C,Data!I:I)","v":{"$error":"#N/A"}},{"$error":"#N/A"},{"$f":"_xlfn.XLOOKUP(C1368,Data!C:C,Data!G:G,0)","v":0},{"$f":"_xlfn.XLOOKUP(C1368,Data!C:C,Data!F:F)","v":{"$error":"#N/A"}},{"$f":"_xlfn.XLOOKUP(C1368,Data!C:C,Data!H:H,0)","v":0},{"$error":"#N/A"},{"$error":"#N/A"},{"$error":"#N/A"},{"$error":"#N/A"},{"$error":"#N/A"},0,{"$error":"#N/A"},"","","",null,{"$error":"#N/A"}]
["2021-03-24","10:46:00","2021-03-24T10:46:00",null,{"$f":"_xlfn.XLOOKUP(C1369,Data!C:C,Data!I:I)","v":{"$error":"#N/A"}},{"$error":"#N/A"},{"$f":"_xlfn.XLOOKUP(C1369,Data!C:C,Data!G:G,0)","v":0},{"$f":"_xlfn.XLOOKUP(C1369,Data!C:C,Data!F:F)","v":{"$error":"#N/A"}},{"$f":"_xlfn.XLOOKUP(C1369,Data!C:C,Data!H:H,0)","v":0},{"$error":"#N/A"},{"$error":"#N/A"},{"$error":"#N/A"},{"$error":"#N/A"},{"$error":"#N/A"},0,{"$error":"#N/A"},"","","",null,{"$error":"#N/A"}]
["2021-03-24","10:47:00","2021-03-24T10:47:00",null,{"$f":"_xlfn.XLOOKUP(C1370,Data!C:C,Data!I:I)","v":{"$error":"#N/A"}},{"$error":"#N/A"},{"$f":"_xlfn.XLOOKUP(C1370,Data!C:C,Data!G:G,0)","v":0},{"$f":"_xlfn.XLOOKUP(C1370,Data!C:C,Data!F:F)","v":{"$error":"#N/A"}},{"$f":"_xlfn.XLOOKUP(C1370,Data!C:C,Data!H:H,0)","v":0},{"$error":"#N/A"},{"$error":"#N/A"},{"$error":"#N/A"},{"$error":"#N/A"},{"$error":"#N/A"},0,{"$error":"#N/A"},"","","",null,{"$error":"#N/A"}]
["2021-03-24","10:48:00","2021-03-24T10:48:00",null,{"$f":"_xlfn.XLOOKUP(C1371,Data!C:C,Data!I:I)","v":{"$error":"#N/A"}},{"$error":"#N/A"},{"$f":"_xlfn.XLOOKUP(C1371,Data!C:C,Data!G:G,0)","v":0},{"$f":"_xlfn.XLOOKUP(C1371,Data!C:C,Data!F:F)","v":{"$error":"#N/A"}},{"$f":"_xlfn.XLOOKUP(C1371,Data!C:C,Data!H:H,0)","v":0},{"$error":"#N/A"},{"$error":"#N/A"},{"$error":"#N/A"},{"$error":"#N/A"},{"$error":"#N/A"},0,{"$error":"#N/A"},"","","",null,{"$error":"#N/A"}]
["2021-03-24","10:49:00","2021-03-24T10:49:00",null,{"$f":"_xlfn.XLOOKUP(C1372,Data!C:C,Data!I:I)","v":{"$error":"#N/A"}},{"$error":"#N/A"},{"$f":"_xlfn.XLOOKUP(C1372,Data!C:C,Data!G:G,0)","v":0},{"$f":"_xlfn.XLOOKUP(C1372,Data!C:C,Data!F:F)","v":{"$error":"#N/A"}},{"$f":"_xlfn.XLOOKUP(C1372,Data!C:C,Data!H:H,0)","v":0},{"$error":"#N/A"},{"$error":"#N/A"},{"$error":"#N/A"},{"$error":"#N/A"},{"$error":"#N/A"},0,{"$error":"#N/A"},"","","",null,{"$error":"#N/A"}]
["2021-03-24","10:50:00","2021-03-24T10:50:00",null,{"$f":"_xlfn.XLOOKUP(C1373,Data!C:C,Data!I:I)","v":{"$error":"#N/A"}},{"$error":"#N/A"},{"$f":"_xlfn.XLOOKUP(C1373,Data!C:C,Data!G:G,0)","v":0},{"$f":"_xlfn.XLOOKUP(C1373,Data!C:C,Data!F:F)","v":{"$error":"#N/A"}},{"$f":"_xlfn.XLOOKUP(C1373,Data!C:C,Data!H:H,0)","v":0},{"$error":"#N/A"},{"$error":"#N/A"},{"$error":"#N/A"},{"$error":"#N/A"},{"$error":"#N/A"},0,{"$error":"#N/A"},"","","",null,{"$error":"#N/A"}]
["2021-03-24","10:51:00","2021-03-24T10:51:00",null,{"$f":"_xlfn.XLOOKUP(C1374,Data!C:C,Data!I:I)","v":{"$error":"#N/A"}},{"$error":"#N/A"},{"$f":"_xlfn.XLOOKUP(C1374,Data!C:C,Data!G:G,0)","v":0},{"$f":"_xlfn.XLOOKUP(C1374,Data!C:C,Data!F:F)","v":{"$error":"#N/A"}},{"$f":"_xlfn.XLOOKUP(C1374,Data!C:C,Data!H:H,0)","v":0},{"$error":"#N/A"},{"$error":"#N/A"},{"$error":"#N/A"},{"$error":"#N/A"},{"$error":"#N/A"},0,{"$error":"#N/A"},"","","",null,{"$error":"#N/A"}]
["2021-03-24","10:52:00","2021-03-24T10:52:00",null,{"$f":"_xlfn.XLOOKUP(C1375,Data!C:C,Data!I:I)","v":{"$error":"#N/A"}},{"$error":"#N/A"},{"$f":"_xlfn.XLOOKUP(C1375,Data!C:C,Data!G:G,0)","v":0},{"$f":"_xlfn.XLOOKUP(C1375,Data!C:C,Data!F:F)","v":{"$error":"#N/A"}},{"$f":"_xlfn.XLOOKUP(C1375,Data!C:C,Data!H:H,0)","v":0},{"$error":"#N/A"},{"$error":"#N/A"},{"$error":"#N/A"},{"$error":"#N/A"},{"$error":"#N/A"},0,{"$error":"#N/A"},"","","",null,{"$error":"#N/A"}]
["2021-03-24","10:53:00","2021-03-24T10:53:00",null,{"$f":"_xlfn.XLOOKUP(C1376,Data!C:C,Data!I:I)","v":{"$error":"#N/A"}},{"$error":"#N/A"},{"$f":"_xlfn.XLOOKUP(C1376,Data!C:C,Data!G:G,0)","v":0},{"$f":"_xlfn.XLOOKUP(C1376,Data!C:C,Data!F:F)","v":{"$error":"#N/A"}},{"$f":"_xlfn.XLOOKUP(C1376,Data!C:C,Data!H:H,0)","v":0},{"$error":"#N/A"},{"$error":"#N/A"},{"$error":"#N/A"},{"$error":"#N/A"},{"$error":"#N/A"},0,{"$error":"#N/A"},"","","",null,{"$error":"#N/A"}]
["2021-03-24","10:54:00","2021-03-24T10:54:00",null,{"$f":"_xlfn.XLOOKUP(C1377,Data!C:C,Data!I:I)","v":{"$error":"#N/A"}},{"$error":"#N/A"},{"$f":"_xlfn.XLOOKUP(C1377,Data!C:C,Data!G:G,0)","v":0},{"$f":"_xlfn.XLOOKUP(C1377,Data!C:C,Data!F:F)","v":{"$error":"#N/A"}},{"$f":"_xlfn.XLOOKUP(C1377,Data!C:C,Data!H:H,0)","v":0},{"$error":"#N/A"},{"$error":"#N/A"},{"$error":"#N/A"},{"$error":"#N/A"},{"$error":"#N/A"},0,{"$error":"#N/A"},"","","",null,{"$error":"#N/A"}]
["2021-03-24","10:55:00","2021-03-24T10:55:00",null,{"$f":"_xlfn.XLOOKUP(C1378,Data!C:C,Data!I:I)","v":{"$error":"#N/A"}},{"$error":"#N/A"},{"$f":"_xlfn.XLOOKUP(C1378,Data!C:C,Data!G:G,0)","v":0},{"$f":"_xlfn.XLOOKUP(C1378,Data!C:C,Data!F:F)","v":{"$error":"#N/A"}},{"$f":"_xlfn.XLOOKUP(C1378,Data!C:C,Data!H:H,0)","v":0},{"$error":"#N/A"},{"$error":"#N/A"},{"$error":"#N/A"},{"$error":"#N/A"},{"$error":"#N/A"},0,{"$error":"#N/A"},"","","",null,{"$error":"#N/A"}]
["2021-03-24","10:56:00","2021-03-24T10:56:00",null,{"$f":"_xlfn.XLOOKUP(C1379,Data!C:C,Data!I:I)","v":{"$error":"#N/A"}},{"$error":"#N/A"},{"$f":"_xlfn.XLOOKUP(C1379,Data!C:C,Data!G:G,0)","v":0},{"$f":"_xlfn.XLOOKUP(C1379,Data!C:C,Data!F:F)","v":{"$error":"#N/A"}},{"$f":"_xlfn.XLOOKUP(C1379,Data!C:C,Data!H:H,0)","v":0},{"$error":"#N/A"},{"$error":"#N/A"},{"$error":"#N/A"},{"$error":"#N/A"},{"$error":"#N/A"},0,{"$error":"#N/A"},"","","",null,{"$error":"#N/A"}]
["2021-03-24","10:57:00","2021-03-24T10:57:00",null,{"$f":"_xlfn.XLOOKUP(C1380,Data!C:C,Data!I:I)","v":{"$error":"#N/A"}},{"$error":"#N/A"},{"$f":"_xlfn.XLOOKUP(C1380,Data!C:C,Data!G:G,0)","v":0},{"$f":"_xlfn.XLOOKUP(C1380,Data!C:C,Data!F:F)","v":{"$error":"#N/A"}},{"$f":"_xlfn.XLOOKUP(C1380,Data!C:C,Data!H:H,0)","v":0},{"$error":"#N/A"},{"$error":"#N/A"},{"$error":"#N/A"},{"$error":"#N/A"},{"$error":"#N/A"},0,{"$error":"#N/A"},"","","",null,{"$error":"#N/A"}]
["2021-03-24","10:58:00","2021-03-24T10:58:00",null,{"$f":"_xlfn.XLOOKUP(C1381,Data!C:C,Data!I:I)","v":{"$error":"#N/A"}},{"$error":"#N/A"},{"$f":"_xlfn.XLOOKUP(C1381,Data!C:C,Data!G:G,0)","v":0},{"$f":"_xlfn.XLOOKUP(C1381,Data!C:C,Data!F:F)","v":{"$error":"#N/A"}},{"$f":"_xlfn.XLOOKUP(C1381,Data!C:C,Data!H:H,0)","v":0},{"$error":"#N/A"},{"$error":"#N/A"},{"$error":"#N/A"},{"$error":"#N/A"},{"$error":"#N/A"},0,{"$error":"#N/A"},"","","",null,{"$error":"#N/A"}]
["2021-03-24","10:59:00","2021-03-24T10:59:00",null,{"$f":"_xlfn.XLOOKUP(C1382,Data!C:C,Data!I:I)","v":{"$error":"#N/A"}},{"$error":"#N/A"},{"$f":"_xlfn.XLOOKUP(C1382,Data!C:C,Data!G:G,0)","v":0},{"$f":"_xlfn.XLOOKUP(C1382,Data!C:C,Data!F:F)","v":{"$error":"#N/A"}},{"$f":"_xlfn.XLOOKUP(C1382,Data!C:C,Data!H:H,0)","v":0},{"$error":"#N/A"},{"$error":"#N/A"},{"$error":"#N/A"},{"$error":"#N/A"},{"$error":"#N/A"},0,{"$error":"#N/A"},"","","",null,{"$error":"#N/A"}]
["2021-03-24","11:00:00","2021-03-24T11:00:00",null,{"$f":"_xlfn.XLOOKUP(C1383,Data!C:C,Data!I:I)","v":{"$error":"#N/A"}},{"$error":"#N/A"},{"$f":"_xlfn.XLOOKUP(C1383,Data!C:C,Data!G:G,0)","v":0},{"$f":"_xlfn.XLOOKUP(C1383,Data!C:C,Data!F:F)","v":{"$error":"#N/A"}},{"$f":"_xlfn.XLOOKUP(C1383,Data!C:C,Data!H:H,0)","v":0},{"$error":"#N/A"},{"$error":"#N/A"},{"$error":"#N/A"},{"$error":"#N/A"},{"$error":"#N/A"},0,{"$error":"#N/A"},"","","",null,{"$error":"#N/A"}]
["2021-03-24","11:01:00","2021-03-24T11:01:00",null,{"$f":"_xlfn.XLOOKUP(C1384,Data!C:C,Data!I:I)","v":{"$error":"#N/A"}},{"$error":"#N/A"},{"$f":"_xlfn.XLOOKUP(C1384,Data!C:C,Data!G:G,0)","v":0},{"$f":"_xlfn.XLOOKUP(C1384,Data!C:C,Data!F:F)","v":{"$error":"#N/A"}},{"$f":"_xlfn.XLOOKUP(C1384,Data!C:C,Data!H:H,0)","v":0},{"$error":"#N/A"},{"$error":"#N/A"},{"$error":"#N/A"},{"$error":"#N/A"},{"$error":"#N/A"},0,{"$error":"#N/A"},"","","",null,{"$error":"#N/A"}]
["2021-03-24","11:02:00","2021-03-24T11:02:00",null,{"$f":"_xlfn.XLOOKUP(C1385,Data!C:C,Data!I:I)","v":{"$error":"#N/A"}},{"$error":"#N/A"},{"$f":"_xlfn.XLOOKUP(C1385,Data!C:C,Data!G:G,0)","v":0},{"$f":"_xlfn.XLOOKUP(C1385,Data!C:C,Data!F:F)","v":{"$error":"#N/A"}},{"$f":"_xlfn.XLOOKUP(C1385,Data!C:C,Data!H:H,0)","v":0},{"$error":"#N/A"},{"$error":"#N/A"},{"$error":"#N/A"},{"$error":"#N/A"},{"$error":"#N/A"},0,{"$error":"#N/A"},"","","",null,{"$error":"#N/A"}]
["2021-03-24","11:03:00","2021-03-24T11:03:00",null,{"$f":"_xlfn.XLOOKUP(C1386,Data!C:C,Data!I:I)","v":{"$error":"#N/A"}},{"$error":"#N/A"},{"$f":"_xlfn.XLOOKUP(C1386,Data!C:C,Data!G:G,0)","v":0},{"$f":"_xlfn.XLOOKUP(C1386,Data!C:C,Data!F:F)","v":{"$error":"#N/A"}},{"$f":"_xlfn.XLOOKUP(C1386,Data!C:C,Data!H:H,0)","v":0},{"$error":"#N/A"},{"$error":"#N/A"},{"$error":"#N/A"},{"$error":"#N/A"},{"$error":"#N/A"},0,{"$error":"#N/A"},"","","",null,{"$error":"#N/A"}]
["2021-03-24","11:04:00","2021-03-24T11:04:00",null,{"$f":"_xlfn.XLOOKUP(C1387,Data!C:C,Data!I:I)","v":{"$error":"#N/A"}},{"$error":"#N/A"},{"$f":"_xlfn.XLOOKUP(C1387,Data!C:C,Data!G:G,0)","v":0},{"$f":"_xlfn.XLOOKUP(C1387,Data!C:C,Data!F:F)","v":{"$error":"#N/A"}},{"$f":"_xlfn.XLOOKUP(C1387,Data!C:C,Data!H:H,0)","v":0},{"$error":"#N/A"},{"$error":"#N/A"},{"$error":"#N/A"},{"$error":"#N/A"},{"$error":"#N/A"},0,{"$error":"#N/A"},"","","",null,{"$error":"#N/A"}]
["2021-03-24","11:05:00","2021-03-24T11:05:00",null,{"$f":"_xlfn.XLOOKUP(C1388,Data!C:C,Data!I:I)","v":{"$error":"#N/A"}},{"$error":"#N/A"},{"$f":"_xlfn.XLOOKUP(C1388,Data!C:C,Data!G:G,0)","v":0},{"$f":"_xlfn.XLOOKUP(C1388,Data!C:C,Data!F:F)","v":{"$error":"#N/A"}},{"$f":"_xlfn.XLOOKUP(C1388,Data!C:C,Data!H:H,0)","v":0},{"$error":"#N/A"},{"$error":"#N/A"},{"$error":"#N/A"},{"$error":"#N/A"},{"$error":"#N/A"},0,{"$error":"#N/A"},"","","",null,{"$error":"#N/A"}]
["2021-03-24","11:06:00","2021-03-24T11:06:00",null,{"$f":"_xlfn.XLOOKUP(C1389,Data!C:C,Data!I:I)","v":{"$error":"#N/A"}},{"$error":"#N/A"},{"$f":"_xlfn.XLOOKUP(C1389,Data!C:C,Data!G:G,0)","v":0},{"$f":"_xlfn.XLOOKUP(C1389,Data!C:C,Data!F:F)","v":{"$error":"#N/A"}},{"$f":"_xlfn.XLOOKUP(C1389,Data!C:C,Data!H:H,0)","v":0},{"$error":"#N/A"},{"$error":"#N/A"},{"$error":"#N/A"},{"$error":"#N/A"},{"$error":"#N/A"},0,{"$error":"#N/A"},"","","",null,{"$error":"#N/A"}]
["2021-03-24","11:07:00","2021-03-24T11:07:00",null,{"$f":"_xlfn.XLOOKUP(C1390,Data!C:C,Data!I:I)","v":{"$error":"#N/A"}},{"$error":"#N/A"},{"$f":"_xlfn.XLOOKUP(C1390,Data!C:C,Data!G:G,0)","v":0},{"$f":"_xlfn.XLOOKUP(C1390,Data!C:C,Data!F:F)","v":{"$error":"#N/A"}},{"$f":"_xlfn.XLOOKUP(C1390,Data!C:C,Data!H:H,0)","v":0},{"$error":"#N/A"},{"$error":"#N/A"},{"$error":"#N/A"},{"$error":"#N/A"},{"$error":"#N/A"},0,{"$error":"#N/A"},"",{"$f":"IF(Q1390=\"\",\"\",AVERAGE(Q1386:Q1394))","v":""},"",null,{"$error":"#N/A"}]
["2021-03-24","11:08:00","2021-03-24T11:08:00",null,{"$f":"_xlfn.XLOOKUP(C1391,Data!C:C,Data!I:I)","v":{"$error":"#N/A"}},{"$error":"#N/A"},{"$f":"_xlfn.XLOOKUP(C1391,Data!C:C,Data!G:G,0)","v":0},{"$f":"_xlfn.XLOOKUP(C1391,Data!C:C,Data!F:F)","v":{"$error":"#N/A"}},{"$f":"_xlfn.XLOOKUP(C1391,Data!C:C,Data!H:H,0)","v":0},{"$error":"#N/A"},{"$error":"#N/A"},{"$error":"#N/A"},{"$error":"#N/A"},{"$error":"#N/A"},0,{"$error":"#N/A"},"","","",null,{"$error":"#N/A"}]
["2021-03-24","11:09:00","2021-03-24T11:09:00",null,{"$f":"_xlfn.XLOOKUP(C1392,Data!C:C,Data!I:I)","v":{"$error":"#N/A"}},{"$error":"#N/A"},{"$f":"_xlfn.XLOOKUP(C1392,Data!C:C,Data!G:G,0)","v":0},{"$f":"_xlfn.XLOOKUP(C1392,Data!C:C,Data!F:F)","v":{"$error":"#N/A"}},{"$f":"_xlfn.XLOOKUP(C1392,Data!C:C,Data!H:H,0)","v":0},{"$error":"#N/A"},{"$error":"#N/A"},{"$error":"#N/A"},{"$error":"#N/A"},{"$error":"#N/A"},0,{"$error":"#N/A"},"","","",null,{"$error":"#N/A"}]
["2021-03-24","11:10:00","2021-03-24T11:10:00",null,{"$f":"_xlfn.XLOOKUP(C1393,Data!C:C,Data!I:I)","v":{"$error":"#N/A"}},{"$error":"#N/A"},{"$f":"_xlfn.XLOOKUP(C1393,Data!C:C,Data!G:G,0)","v":0},{"$f":"_xlfn.XLOOKUP(C1393,Data!C:C,Data!F:F)","v":{"$error":"#N/A"}},{"$f":"_xlfn.XLOOKUP(C1393,Data!C:C,Data!H:H,0)","v":0},{"$error":"#N/A"},{"$error":"#N/A"},{"$error":"#N/A"},{"$error":"#N/A"},{"$error":"#N/A"},0,{"$error":"#N/A"},"","","",null,{"$error":"#N/A"}]
["2021-03-24","11:11:00","2021-03-24T11:11:00",null,{"$f":"_xlfn.XLOOKUP(C1394,Data!C:C,Data!I:I)","v":{"$error":"#N/A"}},{"$error":"#N/A"},{"$f":"_xlfn.XLOOKUP(C1394,Data!C:C,Data!G:G,0)","v":0},{"$f":"_xlfn.XLOOKUP(C1394,Data!C:C,Data!F:F)","v":{"$error":"#N/A"}},{"$f":"_xlfn.XLOOKUP(C1394,Data!C:C,Data!H:H,0)","v":0},{"$error":"#N/A"},{"$error":"#N/A"},{"$error":"#N/A"},{"$error":"#N/A"},{"$error":"#N/A"},0,{"$error":"#N/A"},"","","",null,{"$error":"#N/A"}]
["2021-03-24","11:12:00","2021-03-24T11:12:00",null,{"$f":"_xlfn.XLOOKUP(C1395,Data!C:C,Data!I:I)","v":{"$error":"#N/A"}},{"$error":"#N/A"},{"$f":"_xlfn.XLOOKUP(C1395,Data!C:C,Data!G:G,0)","v":0},{"$f":"_xlfn.XLOOKUP(C1395,Data!C:C,Data!F:F)","v":{"$error":"#N/A"}},{"$f":"_xlfn.XLOOKUP(C1395,Data!C:C,Data!H:H,0)","v":0},{"$error":"#N/A"},{"$error":"#N/A"},{"$error":"#N/A"},{"$error":"#N/A"},{"$error":"#N/A"},0,{"$error":"#N/A"},"","","",null,{"$error":"#N/A"}]
["2021-03-24","11:13:00","2021-03-24T11:13:00",null,{"$f":"_xlfn.XLOOKUP(C1396,Data!C:C,Data!I:I)","v":{"$error":"#N/A"}},{"$error":"#N/A"},{"$f":"_xlfn.XLOOKUP(C1396,Data!C:C,Data!G:G,0)","v":0},{"$f":"_xlfn.XLOOKUP(C1396,Data!C:C,Data!F:F)","v":{"$error":"#N/A"}},{"$f":"_xlfn.XLOOKUP(C1396,Data!C:C,Data!H:H,0)","v":0},{"$error":"#N/A"},{"$error":"#N/A"},{"$error":"#N/A"},{"$error":"#N/A"},{"$error":"#N/A"},0,{"$error":"#N/A"},"","","",null,{"$error":"#N/A"}]
["2021-03-24","11:14:00","2021-03-24T11:14:00",null,{"$f":"_xlfn.XLOOKUP(C1397,Data!C:C,Data!I:I)","v":{"$error":"#N/A"}},{"$error":"#N/A"},{"$f":"_xlfn.XLOOKUP(C1397,Data!C:C,Data!G:G,0)","v":0},{"$f":"_xlfn.XLOOKUP(C1397,Data!C:C,Data!F:F)","v":{"$error":"#N/A"}},{"$f":"_xlfn.XLOOKUP(C1397,Data!C:C,Data!H:H,0)","v":0},{"$error":"#N/A"},{"$error":"#N/A"},{"$error":"#N/A"},{"$error":"#N/A"},{"$error":"#N/A"},0,{"$error":"#N/A"},"","","",null,{"$error":"#N/A"}]
["2021-03-24","11:15:00","2021-03-24T11:15:00",null,{"$f":"_xlfn.XLOOKUP(C1398,Data!C:C,Data!I:I)","v":{"$error":"#N/A"}},{"$error":"#N/A"},{"$f":"_xlfn.XLOOKUP(C1398,Data!C:C,Data!G:G,0)","v":0},{"$f":"_xlfn.XLOOKUP(C1398,Data!C:C,Data!F:F)","v":{"$error":"#N/A"}},{"$f":"_xlfn.XLOOKUP(C1398,Data!C:C,Data!H:H,0)","v":0},{"$error":"#N/A"},{"$error":"#N/A"},{"$error":"#N/A"},{"$error":"#N/A"},{"$error":"#N/A"},0,{"$error":"#N/A"},"","","",null,{"$error":"#N/A"}]
["2021-03-24","11:16:00","2021-03-24T11:16:00",null,{"$f":"_xlfn.XLOOKUP(C1399,Data!C:C,Data!I:I)","v":{"$error":"#N/A"}},{"$error":"#N/A"},{"$f":"_xlfn.XLOOKUP(C1399,Data!C:C,Data!G:G,0)","v":0},{"$f":"_xlfn.XLOOKUP(C1399,Data!C:C,Data!F:F)","v":{"$error":"#N/A"}},{"$f":"_xlfn.XLOOKUP(C1399,Data!C:C,Data!H:H,0)","v":0},{"$error":"#N/A"},{"$error":"#N/A"},{"$error":"#N/A"},{"$error":"#N/A"},{"$error":"#N/A"},0,{"$error":"#N/A"},"","","",null,{"$error":"#N/A"}]
["2021-03-24","11:17:00","2021-03-24T11:17:00",null,{"$f":"_xlfn.XLOOKUP(C1400,Data!C:C,Data!I:I)","v":{"$error":"#N/A"}},{"$error":"#N/A"},{"$f":"_xlfn.XLOOKUP(C1400,Data!C:C,Data!G:G,0)","v":0},{"$f":"_xlfn.XLOOKUP(C1400,Data!C:C,Data!F:F)","v":{"$error":"#N/A"}},{"$f":"_xlfn.XLOOKUP(C1400,Data!C:C,Data!H:H,0)","v":0},{"$error":"#N/A"},{"$error":"#N/A"},{"$error":"#N/A"},{"$error":"#N/A"},{"$error":"#N/A"},0,{"$error":"#N/A"},"","","",null,{"$error":"#N/A"}]
["2021-03-24","11:18:00","2021-03-24T11:18:00",null,{"$f":"_xlfn.XLOOKUP(C1401,Data!C:C,Data!I:I)","v":{"$error":"#N/A"}},{"$error":"#N/A"},{"$f":"_xlfn.XLOOKUP(C1401,Data!C:C,Data!G:G,0)","v":0},{"$f":"_xlfn.XLOOKUP(C1401,Data!C:C,Data!F:F)","v":{"$error":"#N/A"}},{"$f":"_xlfn.XLOOKUP(C1401,Data!C:C,Data!H:H,0)","v":0},{"$error":"#N/A"},{"$error":"#N/A"},{"$error":"#N/A"},{"$error":"#N/A"},{"$error":"#N/A"},0,{"$error":"#N/A"},"","","",null,{"$error":"#N/A"}]
["2021-03-24","11:19:00","2021-03-24T11:19:00",null,{"$f":"_xlfn.XLOOKUP(C1402,Data!C:C,Data!I:I)","v":{"$error":"#N/A"}},{"$error":"#N/A"},{"$f":"_xlfn.XLOOKUP(C1402,Data!C:C,Data!G:G,0)","v":0},{"$f":"_xlfn.XLOOKUP(C1402,Data!C:C,Data!F:F)","v":{"$error":"#N/A"}},{"$f":"_xlfn.XLOOKUP(C1402,Data!C:C,Data!H:H,0)","v":0},{"$error":"#N/A"},{"$error":"#N/A"},{"$error":"#N/A"},{"$error":"#N/A"},{"$error":"#N/A"},0,{"$error":"#N/A"},"","","",null,{"$error":"#N/A"}]
["2021-03-24","11:20:00","2021-03-24T11:20:00",null,{"$f":"_xlfn.XLOOKUP(C1403,Data!C:C,Data!I:I)","v":{"$error":"#N/A"}},{"$error":"#N/A"},{"$f":"_xlfn.XLOOKUP(C1403,Data!C:C,Data!G:G,0)","v":0},{"$f":"_xlfn.XLOOKUP(C1403,Data!C:C,Data!F:F)","v":{"$error":"#N/A"}},{"$f":"_xlfn.XLOOKUP(C1403,Data!C:C,Data!H:H,0)","v":0},{"$error":"#N/A"},{"$error":"#N/A"},{"$error":"#N/A"},{"$error":"#N/A"},{"$error":"#N/A"},0,{"$error":"#N/A"},"","","",null,{"$error":"#N/A"}]
["2021-03-24","11:21:00","2021-03-24T11:21:00",null,{"$f":"_xlfn.XLOOKUP(C1404,Data!C:C,Data!I:I)","v":{"$error":"#N/A"}},{"$error":"#N/A"},{"$f":"_xlfn.XLOOKUP(C1404,Data!C:C,Data!G:G,0)","v":0},{"$f":"_xlfn.XLOOKUP(C1404,Data!C:C,Data!F:F)","v":{"$error":"#N/A"}},{"$f":"_xlfn.XLOOKUP(C1404,Data!C:C,Data!H:H,0)","v":0},{"$error":"#N/A"},{"$error":"#N/A"},{"$error":"#N/A"},{"$error":"#N/A"},{"$error":"#N/A"},0,{"$error":"#N/A"},"","","",null,{"$error":"#N/A"}]
["2021-03-24","11:22:00","2021-03-24T11:22:00",null,{"$f":"_xlfn.XLOOKUP(C1405,Data!C:C,Data!I:I)","v":{"$error":"#N/A"}},{"$error":"#N/A"},{"$f":"_xlfn.XLOOKUP(C1405,Data!C:C,Data!G:G,0)","v":0},{"$f":"_xlfn.XLOOKUP(C1405,Data!C:C,Data!F:F)","v":{"$error":"#N/A"}},{"$f":"_xlfn.XLOOKUP(C1405,Data!C:C,Data!H:H,0)","v":0},{"$error":"#N/A"},{"$error":"#N/A"},{"$error":"#N/A"},{"$error":"#N/A"},{"$error":"#N/A"},0,{"$error":"#N/A"},"","","",null,{"$error":"#N/A"}]
["2021-03-24","11:23:00","2021-03-24T11:23:00",null,{"$f":"_xlfn.XLOOKUP(C1406,Data!C:C,Data!I:I)","v":{"$error":"#N/A"}},{"$error":"#N/A"},{"$f":"_xlfn.XLOOKUP(C1406,Data!C:C,Data!G:G,0)","v":0},{"$f":"_xlfn.XLOOKUP(C1406,Data!C:C,Data!F:F)","v":{"$error":"#N/A"}},{"$f":"_xlfn.XLOOKUP(C1406,Data!C:C,Data!H:H,0)","v":0},{"$error":"#N/A"},{"$error":"#N/A"},{"$error":"#N/A"},{"$error":"#N/A"},{"$error":"#N/A"},0,{"$error":"#N/A"},"","","",null,{"$error":"#N/A"}]
["2021-03-24","11:24:00","2021-03-24T11:24:00",null,{"$f":"_xlfn.XLOOKUP(C1407,Data!C:C,Data!I:I)","v":{"$error":"#N/A"}},{"$error":"#N/A"},{"$f":"_xlfn.XLOOKUP(C1407,Data!C:C,Data!G:G,0)","v":0},{"$f":"_xlfn.XLOOKUP(C1407,Data!C:C,Data!F:F)","v":{"$error":"#N/A"}},{"$f":"_xlfn.XLOOKUP(C1407,Data!C:C,Data!H:H,0)","v":0},{"$error":"#N/A"},{"$error":"#N/A"},{"$error":"#N/A"},{"$error":"#N/A"},{"$error":"#N/A"},0,{"$error":"#N/A"},"","","",null,{"$error":"#N/A"}]
["2021-03-24","11:25:00","2021-03-24T11:25:00",null,{"$f":"_xlfn.XLOOKUP(C1408,Data!C:C,Data!I:I)","v":{"$error":"#N/A"}},{"$error":"#N/A"},{"$f":"_xlfn.XLOOKUP(C1408,Data!C:C,Data!G:G,0)","v":0},{"$f":"_xlfn.XLOOKUP(C1408,Data!C:C,Data!F:F)","v":{"$error":"#N/A"}},{"$f":"_xlfn.XLOOKUP(C1408,Data!C:C,Data!H:H,0)","v":0},{"$f":"IF(AND(MAX(E1406:E1407)=255,MAX(E1408:E1409)=255,  E1407+E1408+E1409<3*255, OR(I1408=123,I1408=124,I1408=106,I1408=108)),   I1408,   IF(AND(MAX(E1406:E1407)=255,MAX(E1408:E1409)=255,  E1407+E1408+E1409<3*255, OR(I1408>=80,I1408<100)),106,108))","v":{"$error":"#N/A"}},{"$error":"#N/A"},{"$error":"#N/A"},{"$error":"#N/A"},{"$error":"#N/A"},0,{"$error":"#N/A"},"","","",null,{"$error":"#N/A"}]
["2021-03-24","11:26:00","2021-03-24T11:26:00",null,{"$f":"_xlfn.XLOOKUP(C1409,Data!C:C,Data!I:I)","v":{"$error":"#N/A"}},{"$error":"#N/A"},{"$f":"_xlfn.XLOOKUP(C1409,Data!C:C,Data!G:G,0)","v":0},{"$f":"_xlfn.XLOOKUP(C1409,Data!C:C,Data!F:F)","v":{"$error":"#N/A"}},{"$f":"_xlfn.XLOOKUP(C1409,Data!C:C,Data!H:H,0)","v":0},{"$error":"#N/A"},{"$error":"#N/A"},{"$error":"#N/A"},{"$error":"#N/A"},{"$error":"#N/A"},0,{"$error":"#N/A"},"","","",null,{"$error":"#N/A"}]
["2021-03-24","11:27:00","2021-03-24T11:27:00",null,{"$f":"_xlfn.XLOOKUP(C1410,Data!C:C,Data!I:I)","v":{"$error":"#N/A"}},{"$error":"#N/A"},{"$f":"_xlfn.XLOOKUP(C1410,Data!C:C,Data!G:G,0)","v":0},{"$f":"_xlfn.XLOOKUP(C1410,Data!C:C,Data!F:F)","v":{"$error":"#N/A"}},{"$f":"_xlfn.XLOOKUP(C1410,Data!C:C,Data!H:H,0)","v":0},{"$error":"#N/A"},{"$error":"#N/A"},{"$error":"#N/A"},{"$error":"#N/A"},{"$error":"#N/A"},0,{"$error":"#N/A"},"","","",null,{"$error":"#N/A"}]
["2021-03-24","11:28:00",{"$f":"A1411+B1411","v":"2021-03-24T11:28:00"},null,{"$f":"_xlfn.XLOOKUP(C1411,Data!C:C,Data!I:I)","v":{"$error":"#N/A"}},{"$error":"#N/A"},{"$f":"_xlfn.XLOOKUP(C1411,Data!C:C,Data!G:G,0)","v":0},{"$f":"_xlfn.XLOOKUP(C1411,Data!C:C,Data!F:F)","v":{"$error":"#N/A"}},{"$f":"_xlfn.XLOOKUP(C1411,Data!C:C,Data!H:H,0)","v":0},{"$error":"#N/A"},{"$f":"IF(AND(I1411<100,  I1411>=80,  OR(J1411=105, J1411=106,  J1411=123)),  5,  0)","v":{"$error":"#N/A"}},{"$error":"#N/A"},{"$error":"#N/A"},{"$error":"#N/A"},{"$f":"IFERROR(F1411,0)","v":0},{"$error":"#N/A"},"","","",null,{"$error":"#N/A"}]
["2021-03-24","11:29:00","2021-03-24T11:29:00",null,{"$f":"_xlfn.XLOOKUP(C1412,Data!C:C,Data!I:I)","v":{"$error":"#N/A"}},{"$error":"#N/A"},{"$f":"_xlfn.XLOOKUP(C1412,Data!C:C,Data!G:G,0)","v":0},{"$f":"_xlfn.XLOOKUP(C1412,Data!C:C,Data!F:F)","v":{"$error":"#N/A"}},{"$f":"_xlfn.XLOOKUP(C1412,Data!C:C,Data!H:H,0)","v":0},{"$error":"#N/A"},{"$error":"#N/A"},{"$f":"IF(AND(I1412<130,  I1412>104,  OR(J1412=105, J1412=106,  J1412=123),  S1412>$S$1450+$S$1443),  20,  0)","v":{"$error":"#N/A"}},{"$f":"IF(AND(I1412<130,  I1412>104,  OR(J1412=105, J1412=106,  J1412=123),  R1412>$Q$1449,  S1412<=$S$1450+$S$1443),  20,  0)","v":{"$error":"#N/A"}},{"$f":"IF(AND(I1412<130,  I1412>104,  OR(J1412=105, J1412=106,  J1412=123),  R1412<=$Q$1449,  S1412<=$S$1450+$S$1443),  20,  0)","v":{"$error":"#N/A"}},0,{"$f":"IF(Q1412=\"\",F1412,IF(Q1412=0,P1411,Q1412))","v":{"$error":"#N/A"}},{"$f":"IF(I1412>109,IF(O1412*$Q$1451>(O1411+O1413)/2,MIN(O1411:O1413),O1412),\"\")","v":""},"","",null,{"$error":"#N/A"}]
["2021-03-24","11:30:00","2021-03-24T11:30:00",null,{"$f":"_xlfn.XLOOKUP(C1413,Data!C:C,Data!I:I)","v":{"$error":"#N/A"}},{"$f":"IF(E1413=255,IF(MIN(E1412:E1414)=255,#N/A,MIN(E1412:E1414)),E1413)","v":{"$error":"#N/A"}},{"$f":"_xlfn.XLOOKUP(C1413,Data!C:C,Data!G:G,0)","v":0},{"$f":"_xlfn.XLOOKUP(C1413,Data!C:C,Data!F:F)","v":{"$error":"#N/A"}},{"$f":"_xlfn.XLOOKUP(C1413,Data!C:C,Data!H:H,0)","v":0},{"$error":"#N/A"},{"$error":"#N/A"},{"$error":"#N/A"},{"$error":"#N/A"},{"$error":"#N/A"},0,{"$error":"#N/A"},"","","",null,{"$error":"#N/A"}]
["2021-03-24","11:31:00","2021-03-24T11:31:00",null,{"$f":"_xlfn.XLOOKUP(C1414,Data!C:C,Data!I:I)","v":{"$error":"#N/A"}},{"$error":"#N/A"},{"$f":"_xlfn.XLOOKUP(C1414,Data!C:C,Data!G:G,0)","v":0},{"$f":"_xlfn.XLOOKUP(C1414,Data!C:C,Data!F:F)","v":{"$error":"#N/A"}},{"$f":"_xlfn.XLOOKUP(C1414,Data!C:C,Data!H:H,0)","v":0},{"$error":"#N/A"},{"$error":"#N/A"},{"$error":"#N/A"},{"$error":"#N/A"},{"$error":"#N/A"},0,{"$error":"#N/A"},"","","",null,{"$error":"#N/A"}]
["2021-03-24","11:32:00","2021-03-24T11:32:00",null,{"$f":"_xlfn.XLOOKUP(C1415,Data!C:C,Data!I:I)","v":{"$error":"#N/A"}},{"$error":"#N/A"},{"$f":"_xlfn.XLOOKUP(C1415,Data!C:C,Data!G:G,0)","v":0},{"$f":"_xlfn.XLOOKUP(C1415,Data!C:C,Data!F:F)","v":{"$error":"#N/A"}},{"$f":"_xlfn.XLOOKUP(C1415,Data!C:C,Data!H:H,0)","v":0},{"$error":"#N/A"},{"$error":"#N/A"},{"$error":"#N/A"},{"$error":"#N/A"},{"$error":"#N/A"},0,{"$error":"#N/A"},"","","",null,{"$f":"IF(F1415=\"\",\"\",AVERAGE(F1411:F1419))","v":{"$error":"#N/A"}}]
["2021-03-24","11:33:00","2021-03-24T11:33:00",null,{"$f":"_xlfn.XLOOKUP(C1416,Data!C:C,Data!I:I)","v":{"$error":"#N/A"}},{"$error":"#N/A"},{"$f":"_xlfn.XLOOKUP(C1416,Data!C:C,Data!G:G,0)","v":0},{"$f":"_xlfn.XLOOKUP(C1416,Data!C:C,Data!F:F)","v":{"$error":"#N/A"}},{"$f":"_xlfn.XLOOKUP(C1416,Data!C:C,Data!H:H,0)","v":0},{"$error":"#N/A"},{"$error":"#N/A"},{"$error":"#N/A"},{"$error":"#N/A"},{"$error":"#N/A"},0,{"$error":"#N/A"},"",{"$f":"IF(Q1416=\"\",\"\",AVERAGE(Q1412:Q1420))","v":""},{"$f":"IF(Q1416=\"\",\"\",MAX(Q1412:Q1420)-MIN(Q1412:Q1420))","v":""},null,{"$error":"#N/A"}]
["2021-03-24","11:34:00","2021-03-24T11:34:00",null,{"$f":"_xlfn.XLOOKUP(C1417,Data!C:C,Data!I:I)","v":{"$error":"#N/A"}},{"$error":"#N/A"},{"$f":"_xlfn.XLOOKUP(C1417,Data!C:C,Data!G:G,0)","v":0},{"$f":"_xlfn.XLOOKUP(C1417,Data!C:C,Data!F:F)","v":{"$error":"#N/A"}},{"$f":"_xlfn.XLOOKUP(C1417,Data!C:C,Data!H:H,0)","v":0},{"$error":"#N/A"},{"$error":"#N/A"},{"$error":"#N/A"},{"$error":"#N/A"},{"$error":"#N/A"},0,{"$error":"#N/A"},"","","",null,{"$error":"#N/A"}]
["2021-03-24","11:35:00","2021-03-24T11:35:00",null,{"$f":"_xlfn.XLOOKUP(C1418,Data!C:C,Data!I:I)","v":{"$error":"#N/A"}},{"$error":"#N/A"},{"$f":"_xlfn.XLOOKUP(C1418,Data!C:C,Data!G:G,0)","v":0},{"$f":"_xlfn.XLOOKUP(C1418,Data!C:C,Data!F:F)","v":{"$error":"#N/A"}},{"$f":"_xlfn.XLOOKUP(C1418,Data!C:C,Data!H:H,0)","v":0},{"$error":"#N/A"},{"$error":"#N/A"},{"$error":"#N/A"},{"$error":"#N/A"},{"$error":"#N/A"},0,{"$error":"#N/A"},"","","",null,{"$error":"#N/A"}]
["2021-03-24","11:36:00","2021-03-24T11:36:00",null,{"$f":"_xlfn.XLOOKUP(C1419,Data!C:C,Data!I:I)","v":{"$error":"#N/A"}},{"$error":"#N/A"},{"$f":"_xlfn.XLOOKUP(C1419,Data!C:C,Data!G:G,0)","v":0},{"$f":"_xlfn.XLOOKUP(C1419,Data!C:C,Data!F:F)","v":{"$error":"#N/A"}},{"$f":"_xlfn.XLOOKUP(C1419,Data!C:C,Data!H:H,0)","v":0},{"$error":"#N/A"},{"$error":"#N/A"},{"$error":"#N/A"},{"$error":"#N/A"},{"$error":"#N/A"},0,{"$error":"#N/A"},"","","",null,{"$error":"#N/A"}]
["2021-03-24","11:37:00","2021-03-24T11:37:00",null,{"$f":"_xlfn.XLOOKUP(C1420,Data!C:C,Data!I:I)","v":{"$error":"#N/A"}},{"$error":"#N/A"},{"$f":"_xlfn.XLOOKUP(C1420,Data!C:C,Data!G:G,0)","v":0},{"$f":"_xlfn.XLOOKUP(C1420,Data!C:C,Data!F:F)","v":{"$error":"#N/A"}},{"$f":"_xlfn.XLOOKUP(C1420,Data!C:C,Data!H:H,0)","v":0},{"$error":"#N/A"},{"$error":"#N/A"},{"$error":"#N/A"},{"$error":"#N/A"},{"$error":"#N/A"},0,{"$error":"#N/A"},"","","",null,{"$error":"#N/A"}]
["2021-03-24","11:38:00","2021-03-24T11:38:00",null,{"$f":"_xlfn.XLOOKUP(C1421,Data!C:C,Data!I:I)","v":{"$error":"#N/A"}},{"$error":"#N/A"},{"$f":"_xlfn.XLOOKUP(C1421,Data!C:C,Data!G:G,0)","v":0},{"$f":"_xlfn.XLOOKUP(C1421,Data!C:C,Data!F:F)","v":{"$error":"#N/A"}},{"$f":"_xlfn.XLOOKUP(C1421,Data!C:C,Data!H:H,0)","v":0},{"$error":"#N/A"},{"$error":"#N/A"},{"$error":"#N/A"},{"$error":"#N/A"},{"$error":"#N/A"},0,{"$error":"#N/A"},"","","",null,{"$error":"#N/A"}]
["2021-03-24","11:39:00","2021-03-24T11:39:00",null,{"$f":"_xlfn.XLOOKUP(C1422,Data!C:C,Data!I:I)","v":{"$error":"#N/A"}},{"$error":"#N/A"},{"$f":"_xlfn.XLOOKUP(C1422,Data!C:C,Data!G:G,0)","v":0},{"$f":"_xlfn.XLOOKUP(C1422,Data!C:C,Data!F:F)","v":{"$error":"#N/A"}},{"$f":"_xlfn.XLOOKUP(C1422,Data!C:C,Data!H:H,0)","v":0},{"$error":"#N/A"},{"$error":"#N/A"},{"$error":"#N/A"},{"$error":"#N/A"},{"$error":"#N/A"},0,{"$error":"#N/A"},"","","",null,{"$error":"#N/A"}]
["2021-03-24","11:40:00","2021-03-24T11:40:00",null,{"$f":"_xlfn.XLOOKUP(C1423,Data!C:C,Data!I:I)","v":{"$error":"#N/A"}},{"$error":"#N/A"},{"$f":"_xlfn.XLOOKUP(C1423,Data!C:C,Data!G:G,0)","v":0},{"$f":"_xlfn.XLOOKUP(C1423,Data!C:C,Data!F:F)","v":{"$error":"#N/A"}},{"$f":"_xlfn.XLOOKUP(C1423,Data!C:C,Data!H:H,0)","v":0},{"$error":"#N/A"},{"$error":"#N/A"},{"$error":"#N/A"},{"$error":"#N/A"},{"$error":"#N/A"},0,{"$error":"#N/A"},"","","",null,{"$error":"#N/A"}]
["2021-03-24","11:41:00","2021-03-24T11:41:00",null,{"$f":"_xlfn.XLOOKUP(C1424,Data!C:C,Data!I:I)","v":{"$error":"#N/A"}},{"$error":"#N/A"},{"$f":"_xlfn.XLOOKUP(C1424,Data!C:C,Data!G:G,0)","v":0},{"$f":"_xlfn.XLOOKUP(C1424,Data!C:C,Data!F:F)","v":{"$error":"#N/A"}},{"$f":"_xlfn.XLOOKUP(C1424,Data!C:C,Data!H:H,0)","v":0},{"$error":"#N/A"},{"$error":"#N/A"},{"$error":"#N/A"},{"$error":"#N/A"},{"$error":"#N/A"},0,{"$error":"#N/A"},"","","",null,{"$error":"#N/A"}]
["2021-03-24","11:42:00","2021-03-24T11:42:00",null,{"$f":"_xlfn.XLOOKUP(C1425,Data!C:C,Data!I:I)","v":{"$error":"#N/A"}},{"$error":"#N/A"},{"$f":"_xlfn.XLOOKUP(C1425,Data!C:C,Data!G:G,0)","v":0},{"$f":"_xlfn.XLOOKUP(C1425,Data!C:C,Data!F:F)","v":{"$error":"#N/A"}},{"$f":"_xlfn.XLOOKUP(C1425,Data!C:C,Data!H:H,0)","v":0},{"$error":"#N/A"},{"$error":"#N/A"},{"$error":"#N/A"},{"$error":"#N/A"},{"$error":"#N/A"},0,{"$error":"#N/A"},"","","",null,{"$error":"#N/A"}]
["2021-03-24","11:43:00","2021-03-24T11:43:00",null,{"$f":"_xlfn.XLOOKUP(C1426,Data!C:C,Data!I:I)","v":{"$error":"#N/A"}},{"$error":"#N/A"},{"$f":"_xlfn.XLOOKUP(C1426,Data!C:C,Data!G:G,0)","v":0},{"$f":"_xlfn.XLOOKUP(C1426,Data!C:C,Data!F:F)","v":{"$error":"#N/A"}},{"$f":"_xlfn.XLOOKUP(C1426,Data!C:C,Data!H:H,0)","v":0},{"$error":"#N/A"},{"$error":"#N/A"},{"$error":"#N/A"},{"$error":"#N/A"},{"$error":"#N/A"},0,{"$error":"#N/A"},"","","",null,{"$error":"#N/A"}]
["2021-03-24","11:44:00","2021-03-24T11:44:00",null,{"$f":"_xlfn.XLOOKUP(C1427,Data!C:C,Data!I:I)","v":{"$error":"#N/A"}},{"$error":"#N/A"},{"$f":"_xlfn.XLOOKUP(C1427,Data!C:C,Data!G:G,0)","v":0},{"$f":"_xlfn.XLOOKUP(C1427,Data!C:C,Data!F:F)","v":{"$error":"#N/A"}},{"$f":"_xlfn.XLOOKUP(C1427,Data!C:C,Data!H:H,0)","v":0},{"$error":"#N/A"},{"$error":"#N/A"},{"$error":"#N/A"},{"$error":"#N/A"},{"$error":"#N/A"},0,{"$error":"#N/A"},"","","",null,{"$error":"#N/A"}]
["2021-03-24","11:45:00","2021-03-24T11:45:00",null,{"$f":"_xlfn.XLOOKUP(C1428,Data!C:C,Data!I:I)","v":{"$error":"#N/A"}},{"$error":"#N/A"},{"$f":"_xlfn.XLOOKUP(C1428,Data!C:C,Data!G:G,0)","v":0},{"$f":"_xlfn.XLOOKUP(C1428,Data!C:C,Data!F:F)","v":{"$error":"#N/A"}},{"$f":"_xlfn.XLOOKUP(C1428,Data!C:C,Data!H:H,0)","v":0},{"$error":"#N/A"},{"$error":"#N/A"},{"$error":"#N/A"},{"$error":"#N/A"},{"$error":"#N/A"},0,{"$error":"#N/A"},"","","",null,{"$error":"#N/A"}]
[{"$f":"$A$723","v":"2021-03-24"},"11:46:00","2021-03-24T11:46:00",null,{"$f":"_xlfn.XLOOKUP(C1429,Data!C:C,Data!I:I)","v":{"$error":"#N/A"}},{"$error":"#N/A"},{"$f":"_xlfn.XLOOKUP(C1429,Data!C:C,Data!G:G,0)","v":0},{"$f":"_xlfn.XLOOKUP(C1429,Data!C:C,Data!F:F)","v":{"$error":"#N/A"}},{"$f":"_xlfn.XLOOKUP(C1429,Data!C:C,Data!H:H,0)","v":0},{"$error":"#N/A"},{"$error":"#N/A"},{"$error":"#N/A"},{"$error":"#N/A"},{"$error":"#N/A"},0,{"$error":"#N/A"},"","","",null,{"$error":"#N/A"}]
["2021-03-24","11:47:00","2021-03-24T11:47:00",null,{"$f":"_xlfn.XLOOKUP(C1430,Data!C:C,Data!I:I)","v":{"$error":"#N/A"}},{"$error":"#N/A"},{"$f":"_xlfn.XLOOKUP(C1430,Data!C:C,Data!G:G,0)","v":0},{"$f":"_xlfn.XLOOKUP(C1430,Data!C:C,Data!F:F)","v":{"$error":"#N/A"}},{"$f":"_xlfn.XLOOKUP(C1430,Data!C:C,Data!H:H,0)","v":0},{"$error":"#N/A"},{"$error":"#N/A"},{"$error":"#N/A"},{"$error":"#N/A"},{"$error":"#N/A"},0,{"$error":"#N/A"},"","","",null,{"$error":"#N/A"}]
["2021-03-24","11:48:00","2021-03-24T11:48:00",null,{"$f":"_xlfn.XLOOKUP(C1431,Data!C:C,Data!I:I)","v":{"$error":"#N/A"}},{"$error":"#N/A"},{"$f":"_xlfn.XLOOKUP(C1431,Data!C:C,Data!G:G,0)","v":0},{"$f":"_xlfn.XLOOKUP(C1431,Data!C:C,Data!F:F)","v":{"$error":"#N/A"}},{"$f":"_xlfn.XLOOKUP(C1431,Data!C:C,Data!H:H,0)","v":0},{"$error":"#N/A"},{"$error":"#N/A"},{"$error":"#N/A"},{"$error":"#N/A"},{"$error":"#N/A"},0,{"$error":"#N/A"},"","","",null,{"$error":"#N/A"}]
["2021-03-24","11:49:00","2021-03-24T11:49:00",null,{"$f":"_xlfn.XLOOKUP(C1432,Data!C:C,Data!I:I)","v":{"$error":"#N/A"}},{"$error":"#N/A"},{"$f":"_xlfn.XLOOKUP(C1432,Data!C:C,Data!G:G,0)","v":0},{"$f":"_xlfn.XLOOKUP(C1432,Data!C:C,Data!F:F)","v":{"$error":"#N/A"}},{"$f":"_xlfn.XLOOKUP(C1432,Data!C:C,Data!H:H,0)","v":0},{"$error":"#N/A"},{"$error":"#N/A"},{"$error":"#N/A"},{"$error":"#N/A"},{"$error":"#N/A"},0,{"$error":"#N/A"},"","","",null,{"$error":"#N/A"}]
["2021-03-24","11:50:00","2021-03-24T11:50:00",null,{"$f":"_xlfn.XLOOKUP(C1433,Data!C:C,Data!I:I)","v":{"$error":"#N/A"}},{"$error":"#N/A"},{"$f":"_xlfn.XLOOKUP(C1433,Data!C:C,Data!G:G,0)","v":0},{"$f":"_xlfn.XLOOKUP(C1433,Data!C:C,Data!F:F)","v":{"$error":"#N/A"}},{"$f":"_xlfn.XLOOKUP(C1433,Data!C:C,Data!H:H,0)","v":0},{"$error":"#N/A"},{"$error":"#N/A"},{"$error":"#N/A"},{"$error":"#N/A"},{"$error":"#N/A"},0,{"$error":"#N/A"},"","","",null,{"$error":"#N/A"}]
["2021-03-24","11:51:00","2021-03-24T11:51:00",null,{"$f":"_xlfn.XLOOKUP(C1434,Data!C:C,Data!I:I)","v":{"$error":"#N/A"}},{"$error":"#N/A"},{"$f":"_xlfn.XLOOKUP(C1434,Data!C:C,Data!G:G,0)","v":0},{"$f":"_xlfn.XLOOKUP(C1434,Data!C:C,Data!F:F)","v":{"$error":"#N/A"}},{"$f":"_xlfn.XLOOKUP(C1434,Data!C:C,Data!H:H,0)","v":0},{"$error":"#N/A"},{"$error":"#N/A"},{"$error":"#N/A"},{"$error":"#N/A"},{"$error":"#N/A"},0,{"$error":"#N/A"},"","","",null,{"$error":"#N/A"}]
["2021-03-24","11:52:00","2021-03-24T11:52:00",null,{"$f":"_xlfn.XLOOKUP(C1435,Data!C:C,Data!I:I)","v":{"$error":"#N/A"}},{"$error":"#N/A"},{"$f":"_xlfn.XLOOKUP(C1435,Data!C:C,Data!G:G,0)","v":0},{"$f":"_xlfn.XLOOKUP(C1435,Data!C:C,Data!F:F)","v":{"$error":"#N/A"}},{"$f":"_xlfn.XLOOKUP(C1435,Data!C:C,Data!H:H,0)","v":0},{"$error":"#N/A"},{"$error":"#N/A"},{"$error":"#N/A"},{"$error":"#N/A"},{"$error":"#N/A"},0,{"$error":"#N/A"},"","","",null,{"$error":"#N/A"}]
["2021-03-24","11:53:00","2021-03-24T11:53:00",null,{"$f":"_xlfn.XLOOKUP(C1436,Data!C:C,Data!I:I)","v":{"$error":"#N/A"}},{"$error":"#N/A"},{"$f":"_xlfn.XLOOKUP(C1436,Data!C:C,Data!G:G,0)","v":0},{"$f":"_xlfn.XLOOKUP(C1436,Data!C:C,Data!F:F)","v":{"$error":"#N/A"}},{"$f":"_xlfn.XLOOKUP(C1436,Data!C:C,Data!H:H,0)","v":0},{"$error":"#N/A"},{"$error":"#N/A"},{"$error":"#N/A"},{"$error":"#N/A"},{"$error":"#N/A"},0,{"$error":"#N/A"},"","","",null,{"$error":"#N/A"}]
["2021-03-24","11:54:00","2021-03-24T11:54:00",null,{"$f":"_xlfn.XLOOKUP(C1437,Data!C:C,Data!I:I)","v":{"$error":"#N/A"}},{"$error":"#N/A"},{"$f":"_xlfn.XLOOKUP(C1437,Data!C:C,Data!G:G,0)","v":0},{"$f":"_xlfn.XLOOKUP(C1437,Data!C:C,Data!F:F)","v":{"$error":"#N/A"}},{"$f":"_xlfn.XLOOKUP(C1437,Data!C:C,Data!H:H,0)","v":0},{"$error":"#N/A"},{"$error":"#N/A"},{"$error":"#N/A"},{"$error":"#N/A"},{"$error":"#N/A"},0,{"$error":"#N/A"},"","","",null,{"$error":"#N/A"}]
["2021-03-24","11:55:00","2021-03-24T11:55:00",null,{"$f":"_xlfn.XLOOKUP(C1438,Data!C:C,Data!I:I)","v":{"$error":"#N/A"}},{"$error":"#N/A"},{"$f":"_xlfn.XLOOKUP(C1438,Data!C:C,Data!G:G,0)","v":0},{"$f":"_xlfn.XLOOKUP(C1438,Data!C:C,Data!F:F)","v":{"$error":"#N/A"}},{"$f":"_xlfn.XLOOKUP(C1438,Data!C:C,Data!H:H,0)","v":0},{"$error":"#N/A"},{"$error":"#N/A"},{"$error":"#N/A"},{"$error":"#N/A"},{"$error":"#N/A"},0,{"$error":"#N/A"},"","","",null,{"$error":"#N/A"}]
["2021-03-24","11:56:00","2021-03-24T11:56:00",null,{"$f":"_xlfn.XLOOKUP(C1439,Data!C:C,Data!I:I)","v":{"$error":"#N/A"}},{"$error":"#N/A"},{"$f":"_xlfn.XLOOKUP(C1439,Data!C:C,Data!G:G,0)","v":0},{"$f":"_xlfn.XLOOKUP(C1439,Data!C:C,Data!F:F)","v":{"$error":"#N/A"}},{"$f":"_xlfn.XLOOKUP(C1439,Data!C:C,Data!H:H,0)","v":0},{"$error":"#N/A"},{"$error":"#N/A"},{"$error":"#N/A"},{"$error":"#N/A"},{"$error":"#N/A"},0,{"$error":"#N/A"},"",{"$f":"IF(Q1439=\"\",\"\",AVERAGE(Q1435:Q1442))","v":""},{"$f":"IF(Q1439=\"\",\"\",MAX(Q1435:Q1442)-MIN(Q1435:Q1442))","v":""},null,{"$f":"IF(F1439=\"\",\"\",AVERAGE(F1435:F1442))","v":{"$error":"#N/A"}}]
["2021-03-24","11:57:00","2021-03-24T11:57:00",null,{"$f":"_xlfn.XLOOKUP(C1440,Data!C:C,Data!I:I)","v":{"$error":"#N/A"}},{"$error":"#N/A"},{"$f":"_xlfn.XLOOKUP(C1440,Data!C:C,Data!G:G,0)","v":0},{"$f":"_xlfn.XLOOKUP(C1440,Data!C:C,Data!F:F)","v":{"$error":"#N/A"}},{"$f":"_xlfn.XLOOKUP(C1440,Data!C:C,Data!H:H,0)","v":0},{"$error":"#N/A"},{"$error":"#N/A"},{"$error":"#N/A"},{"$error":"#N/A"},{"$error":"#N/A"},0,{"$error":"#N/A"},"",{"$f":"IF(Q1440=\"\",\"\",AVERAGE(Q1436:Q1442))","v":""},{"$f":"IF(Q1440=\"\",\"\",MAX(Q1436:Q1442)-MIN(Q1436:Q1442))","v":""},null,{"$f":"IF(F1440=\"\",\"\",AVERAGE(F1436:F1442))","v":{"$error":"#N/A"}}]
["2021-03-24","11:58:00","2021-03-24T11:58:00",null,{"$f":"_xlfn.XLOOKUP(C1441,Data!C:C,Data!I:I)","v":{"$error":"#N/A"}},{"$error":"#N/A"},{"$f":"_xlfn.XLOOKUP(C1441,Data!C:C,Data!G:G,0)","v":0},{"$f":"_xlfn.XLOOKUP(C1441,Data!C:C,Data!F:F)","v":{"$error":"#N/A"}},{"$f":"_xlfn.XLOOKUP(C1441,Data!C:C,Data!H:H,0)","v":0},{"$error":"#N/A"},{"$error":"#N/A"},{"$error":"#N/A"},{"$error":"#N/A"},{"$error":"#N/A"},0,{"$error":"#N/A"},"",{"$f":"IF(Q1441=\"\",\"\",AVERAGE(Q1437:Q1442))","v":""},{"$f":"IF(Q1441=\"\",\"\",MAX(Q1437:Q1442)-MIN(Q1437:Q1442))","v":""},null,{"$f":"IF(F1441=\"\",\"\",AVERAGE(F1437:F1442))","v":{"$error":"#N/A"}}]
["2021-03-24","11:59:00","2021-03-24T11:59:00",null,{"$f":"_xlfn.XLOOKUP(C1442,Data!C:C,Data!I:I)","v":{"$error":"#N/A"}},{"$f":"IF(E1442=255,IF(MIN(E1441:E1442)=255,#N/A,MIN(E1441:E1442)),E1442)","v":{"$error":"#N/A"}},{"$f":"_xlfn.XLOOKUP(C1442,Data!C:C,Data!G:G,0)","v":0},{"$f":"_xlfn.XLOOKUP(C1442,Data!C:C,Data!F:F)","v":{"$error":"#N/A"}},{"$f":"_xlfn.XLOOKUP(C1442,Data!C:C,Data!H:H,0)","v":0},{"$error":"#N/A"},{"$error":"#N/A"},{"$error":"#N/A"},{"$error":"#N/A"},{"$error":"#N/A"},0,{"$error":"#N/A"},{"$f":"IF(I1442>109,IF(O1442*$Q$1451>(O1441+O1441)/2,MIN(O1441:O1442),O1442),\"\")","v":""},{"$f":"IF(Q1442=\"\",\"\",AVERAGE(Q1438:Q1442))","v":""},{"$f":"IF(Q1442=\"\",\"\",MAX(Q1438:Q1442)-MIN(Q1438:Q1442))","v":""},null,{"$f":"IF(F1442=\"\",\"\",AVERAGE(F1438:F1442))","v":{"$error":"#N/A"}}]
[null,null,null,"Average",null,{"$f":"AVERAGEIF(F3:F1442,\">=0\")","v":{"$error":"#DIV/0!"}},null,{"$f":"AVERAGEIF(H3:H1442,\">=0\")","v":{"$error":"#DIV/0!"}},null,null,null,null,null,null,null,null,{"$f":"AVERAGEIF(Q3:Q1442,\">0\")","v":{"$error":"#DIV/0!"}},null,{"$f":"AVERAGEIF(S3:S1442,\">=0\")","v":{"$error":"#DIV/0!"}}]
[null,null,null,"Max.",null,null,null,null,null,null,null,null,null,null,null,null,{"$f":"MAX(Q3:Q1442)","v":0},null,{"$f":"MAX(S3:S1442)","v":0}]
[null,null,null,"Min.",null,null,null,null,null,null,null,null,null,null,null,null,{"$f":"MIN(Q3:Q1442)","v":0},null,{"$f":"MIN(S3:S1442)","v":0}]
[null,null,null,"Sdev",null,null,null,null,null,null,null,null,null,null,null,null,{"$f":"_xlfn.STDEV.P(Q3:Q1442)","v":{"$error":"#DIV/0!"}},null,{"$f":"_xlfn.STDEV.P(S3:S1442)","v":{"$error":"#DIV/0!"}}]
[null,null,null,"Sum all",null,null,{"$f":"SUM(G3:G1442)","v":0},null,{"$f":"COUNTIF(I3:I1442,\">109\")/60","v":0},{"$f":"COUNT(J3:J1442)","v":1},{"$f":"COUNTIF(K3:K1442,\">0\")/60","v":0},{"$f":"COUNTIF(L3:L1442,\">0\")/60","v":0},{"$f":"COUNTIF(M3:M1442,\">0\")/60","v":0},{"$f":"COUNTIF(N3:N1442,\">0\")/60","v":0}]
[null,null,null,"Factor",null,null,null,null,null,null,null,null,null,null,null,null,11,null,4]
[null,null,null,"1443-1446/1448",null,null,null,null,null,null,null,null,null,null,null,null,{"$f":"Q1443+Q1446-Q1446*Q1448/10","v":{"$error":"#DIV/0!"}}]
[null,null,null,"1446/1448",null,null,null,null,null,null,null,null,null,null,null,null,null,null,{"$f":"S1446/S1448","v":{"$error":"#DIV/0!"}}]
[null,null,null,null,null,null,null,null,null,null,null,null,null,null,null,null,0.85]
[null,null,null,"Sum x-y",null,null,null,null,null,null,{"$f":"COUNTIF(INDIRECT(K1453):INDIRECT(K1454),\">0\")/60","v":0},{"$f":"COUNTIF(INDIRECT(L1453):INDIRECT(L1454),\">0\")/60","v":0},{"$f":"COUNTIF(INDIRECT(M1453):INDIRECT(M1454),\">0\")/60","v":0},{"$f":"COUNTIF(INDIRECT(N1453):INDIRECT(N1454),\">0\")/60","v":0}]
[null,null,null,"x",null,null,null,null,null,null,{"$f":"\"K\" & IF(Sleep!$S$34<12,(Sleep!$S$34+12)*60+3+Sleep!$U$34,(Sleep!$S$34-12)*60+3+Sleep!$U$34)","v":"K543"},{"$f":"\"L\" & IF(Sleep!$S$34<12,(Sleep!$S$34+12)*60+3+Sleep!$U$34,(Sleep!$S$34-12)*60+3+Sleep!$U$34)","v":"L543"},{"$f":"\"M\" & IF(Sleep!$S$34<12,(Sleep!$S$34+12)*60+3+Sleep!$U$34,(Sleep!$S$34-12)*60+3+Sleep!$U$34)","v":"M543"},{"$f":"\"N\" & IF(Sleep!$S$34<12,(Sleep!$S$34+12)*60+3+Sleep!$U$34,(Sleep!$S$34-12)*60+3+Sleep!$U$34)","v":"N543"}]
[null,null,null,"y",null,null,null,null,null,null,{"$f":"\"K\" & IF(Sleep!$W$34<12,(Sleep!$W$34+12)*60+3+Sleep!$Y$34,(Sleep!$W$34-12)*60+3+Sleep!$Y$34)","v":"K1143"},{"$f":"\"L\" & IF(Sleep!$W$34<12,(Sleep!$W$34+12)*60+3+Sleep!$Y$34,(Sleep!$W$34-12)*60+3+Sleep!$Y$34)","v":"L1143"},{"$f":"\"M\" & IF(Sleep!$W$34<12,(Sleep!$W$34+12)*60+3+Sleep!$Y$34,(Sleep!$W$34-12)*60+3+Sleep!$Y$34)","v":"M1143"},{"$f":"\"N\" & IF(Sleep!$W$34<12,(Sleep!$W$34+12)*60+3+Sleep!$Y$34,(Sleep!$W$34-12)*60+3+Sleep!$Y$34)","v":"N1143"}]

{"sheet":"Udregning","index":7,"n_rows":7,"n_cols":5,"rows_kept":7,"cut":false,"hidden":true,"merged":[]}
[null,"Timer & minuter","Timer","Minutter","Decimaltimer"]
[null,3.46,{"$f":"INT(B2)","v":3},{"$f":"B2-C2","v":0.45999999999999996},{"$f":"D2*100/60+C2","v":3.7666666666666666}]
[null,5,{"$f":"INT(B3)","v":5},{"$f":"B3-C3","v":0},{"$f":"D3*100/60+C3","v":5}]
[null,8.4600000000000009,{"$f":"INT(B4)","v":8},{"$f":"B4-C4","v":0.46000000000000085},{"$f":"D4*100/60+C4","v":8.7666666666666675}]
[null,{"$f":"D5*60/100+C5","v":7.54},{"$f":"INT(E5)","v":7},{"$f":"E5-C5","v":0.90000000000000036},7.9]
[null,{"$f":"D6*60/100+C6","v":9.1319999999999997},{"$f":"INT(E6)","v":9},{"$f":"E6-C6","v":0.22000000000000064},9.2200000000000006]
[null,{"$f":"D7*60/100+C7","v":3.5220000000000002},{"$f":"INT(E7)","v":3},{"$f":"E7-C7","v":0.87000000000000011},3.87]